{"text_format":"1","workbook":"xlsx","n_sheets":8,"sheets":["Team Ratings","South","East","Midwest","West","Final 4","TreeDT","Sheet1DT"],"not_rendered":{"charts":0,"images":0,"macros":1,"external_links":0,"defined_names":25,"comments":2,"pivot_tables":0},"unopened":[],"bounds":{"document_bytes":16777216,"sheet_cells":100000,"rows_first":2000,"rows_last":500,"rows_between":2000,"halvings":0,"cell_chars":16384,"cell_head_chars":4096},"cells_cut":0,"cells_raw":0,"read":"whole","date_system":"1900"}

{"sheet":"Team Ratings","index":0,"n_rows":70,"n_cols":74,"rows_kept":70,"cut":false,"hidden":false,"merged":[]}
[]
[null,"Team","Index","Rating",null,"Prob of beating",1,2,3,4,5,6,7,8,9,10,11,12,13,14,15,16,17,18,19,20,21,22,23,24,25,26,27,28,29,30,31,32,33,34,35,36,37,38,39,40,41,42,43,44,45,46,47,48,49,50,51,52,53,54,55,56,57,58,59,60,61,62,63,64,65,66,67,68]
[null,"Alabama",1,92.93,null,1,{"$f":"IF($F3<>G$2,1-_xlfn.NORM.DIST(0,INDEX(Rating,$F3)-INDEX(Rating,G$2),10,1),\"\")","v":""},{"$f":"IF($F3<>H$2,1-_xlfn.NORM.DIST(0,INDEX(Rating,$F3)-INDEX(Rating,H$2),10,1),\"\")","v":0.98836583706541337},{"$f":"IF($F3<>I$2,1-_xlfn.NORM.DIST(0,INDEX(Rating,$F3)-INDEX(Rating,I$2),10,1),\"\")","v":0.9955906026244794},{"$f":"IF($F3<>J$2,1-_xlfn.NORM.DIST(0,INDEX(Rating,$F3)-INDEX(Rating,J$2),10,1),\"\")","v":0.77216629248110025},{"$f":"IF($F3<>K$2,1-_xlfn.NORM.DIST(0,INDEX(Rating,$F3)-INDEX(Rating,K$2),10,1),\"\")","v":0.76021676110667258},{"$f":"IF($F3<>L$2,1-_xlfn.NORM.DIST(0,INDEX(Rating,$F3)-INDEX(Rating,L$2),10,1),\"\")","v":0.7805346043715653},{"$f":"IF($F3<>M$2,1-_xlfn.NORM.DIST(0,INDEX(Rating,$F3)-INDEX(Rating,M$2),10,1),\"\")","v":0.88952388623447565},{"$f":"IF($F3<>N$2,1-_xlfn.NORM.DIST(0,INDEX(Rating,$F3)-INDEX(Rating,N$2),10,1),\"\")","v":0.78377321570242464},{"$f":"IF($F3<>O$2,1-_xlfn.NORM.DIST(0,INDEX(Rating,$F3)-INDEX(Rating,O$2),10,1),\"\")","v":0.91068738271566296},{"$f":"IF($F3<>P$2,1-_xlfn.NORM.DIST(0,INDEX(Rating,$F3)-INDEX(Rating,P$2),10,1),\"\")","v":0.701944034605124},{"$f":"IF($F3<>Q$2,1-_xlfn.NORM.DIST(0,INDEX(Rating,$F3)-INDEX(Rating,Q$2),10,1),\"\")","v":0.83347781514982977},{"$f":"IF($F3<>R$2,1-_xlfn.NORM.DIST(0,INDEX(Rating,$F3)-INDEX(Rating,R$2),10,1),\"\")","v":0.71123628540484773},{"$f":"IF($F3<>S$2,1-_xlfn.NORM.DIST(0,INDEX(Rating,$F3)-INDEX(Rating,S$2),10,1),\"\")","v":0.95073272457612845},{"$f":"IF($F3<>T$2,1-_xlfn.NORM.DIST(0,INDEX(Rating,$F3)-INDEX(Rating,T$2),10,1),\"\")","v":0.85428733762723619},{"$f":"IF($F3<>U$2,1-_xlfn.NORM.DIST(0,INDEX(Rating,$F3)-INDEX(Rating,U$2),10,1),\"\")","v":0.81084109000477633},{"$f":"IF($F3<>V$2,1-_xlfn.NORM.DIST(0,INDEX(Rating,$F3)-INDEX(Rating,V$2),10,1),\"\")","v":0.62057831388974383},{"$f":"IF($F3<>W$2,1-_xlfn.NORM.DIST(0,INDEX(Rating,$F3)-INDEX(Rating,W$2),10,1),\"\")","v":0.9517436127588691},{"$f":"IF($F3<>X$2,1-_xlfn.NORM.DIST(0,INDEX(Rating,$F3)-INDEX(Rating,X$2),10,1),\"\")","v":0.64691319754332544},{"$f":"IF($F3<>Y$2,1-_xlfn.NORM.DIST(0,INDEX(Rating,$F3)-INDEX(Rating,Y$2),10,1),\"\")","v":0.99716257325975211},{"$f":"IF($F3<>Z$2,1-_xlfn.NORM.DIST(0,INDEX(Rating,$F3)-INDEX(Rating,Z$2),10,1),\"\")","v":0.99817543401132502},{"$f":"IF($F3<>AA$2,1-_xlfn.NORM.DIST(0,INDEX(Rating,$F3)-INDEX(Rating,AA$2),10,1),\"\")","v":0.73891370030713865},{"$f":"IF($F3<>AB$2,1-_xlfn.NORM.DIST(0,INDEX(Rating,$F3)-INDEX(Rating,AB$2),10,1),\"\")","v":0.82303673285858292},{"$f":"IF($F3<>AC$2,1-_xlfn.NORM.DIST(0,INDEX(Rating,$F3)-INDEX(Rating,AC$2),10,1),\"\")","v":0.71191913990855893},{"$f":"IF($F3<>AD$2,1-_xlfn.NORM.DIST(0,INDEX(Rating,$F3)-INDEX(Rating,AD$2),10,1),\"\")","v":0.89325021853551478},{"$f":"IF($F3<>AE$2,1-_xlfn.NORM.DIST(0,INDEX(Rating,$F3)-INDEX(Rating,AE$2),10,1),\"\")","v":0.64244429687697102},{"$f":"IF($F3<>AF$2,1-_xlfn.NORM.DIST(0,INDEX(Rating,$F3)-INDEX(Rating,AF$2),10,1),\"\")","v":0.93954915801971928},{"$f":"IF($F3<>AG$2,1-_xlfn.NORM.DIST(0,INDEX(Rating,$F3)-INDEX(Rating,AG$2),10,1),\"\")","v":0.75741140296738529},{"$f":"IF($F3<>AH$2,1-_xlfn.NORM.DIST(0,INDEX(Rating,$F3)-INDEX(Rating,AH$2),10,1),\"\")","v":0.81084109000477633},{"$f":"IF($F3<>AI$2,1-_xlfn.NORM.DIST(0,INDEX(Rating,$F3)-INDEX(Rating,AI$2),10,1),\"\")","v":0.77607372160617416},{"$f":"IF($F3<>AJ$2,1-_xlfn.NORM.DIST(0,INDEX(Rating,$F3)-INDEX(Rating,AJ$2),10,1),\"\")","v":0.96569657156677102},{"$f":"IF($F3<>AK$2,1-_xlfn.NORM.DIST(0,INDEX(Rating,$F3)-INDEX(Rating,AK$2),10,1),\"\")","v":0.78814460141660336},{"$f":"IF($F3<>AL$2,1-_xlfn.NORM.DIST(0,INDEX(Rating,$F3)-INDEX(Rating,AL$2),10,1),\"\")","v":0.81084109000477633},{"$f":"IF($F3<>AM$2,1-_xlfn.NORM.DIST(0,INDEX(Rating,$F3)-INDEX(Rating,AM$2),10,1),\"\")","v":0.70609074705838337},{"$f":"IF($F3<>AN$2,1-_xlfn.NORM.DIST(0,INDEX(Rating,$F3)-INDEX(Rating,AN$2),10,1),\"\")","v":0.94727636844263807},{"$f":"IF($F3<>AO$2,1-_xlfn.NORM.DIST(0,INDEX(Rating,$F3)-INDEX(Rating,AO$2),10,1),\"\")","v":0.54300215389471718},{"$f":"IF($F3<>AP$2,1-_xlfn.NORM.DIST(0,INDEX(Rating,$F3)-INDEX(Rating,AP$2),10,1),\"\")","v":0.97887250269899262},{"$f":"IF($F3<>AQ$2,1-_xlfn.NORM.DIST(0,INDEX(Rating,$F3)-INDEX(Rating,AQ$2),10,1),\"\")","v":0.79045470892892955},{"$f":"IF($F3<>AR$2,1-_xlfn.NORM.DIST(0,INDEX(Rating,$F3)-INDEX(Rating,AR$2),10,1),\"\")","v":0.7766714663756451},{"$f":"IF($F3<>AS$2,1-_xlfn.NORM.DIST(0,INDEX(Rating,$F3)-INDEX(Rating,AS$2),10,1),\"\")","v":0.80921304714748943},{"$f":"IF($F3<>AT$2,1-_xlfn.NORM.DIST(0,INDEX(Rating,$F3)-INDEX(Rating,AT$2),10,1),\"\")","v":0.86498641742375548},{"$f":"IF($F3<>AU$2,1-_xlfn.NORM.DIST(0,INDEX(Rating,$F3)-INDEX(Rating,AU$2),10,1),\"\")","v":0.74920815184003076},{"$f":"IF($F3<>AV$2,1-_xlfn.NORM.DIST(0,INDEX(Rating,$F3)-INDEX(Rating,AV$2),10,1),\"\")","v":0.88179346859088104},{"$f":"IF($F3<>AW$2,1-_xlfn.NORM.DIST(0,INDEX(Rating,$F3)-INDEX(Rating,AW$2),10,1),\"\")","v":0.8026153236070277},{"$f":"IF($F3<>AX$2,1-_xlfn.NORM.DIST(0,INDEX(Rating,$F3)-INDEX(Rating,AX$2),10,1),\"\")","v":0.85701408202937512},{"$f":"IF($F3<>AY$2,1-_xlfn.NORM.DIST(0,INDEX(Rating,$F3)-INDEX(Rating,AY$2),10,1),\"\")","v":0.8726484229013296},{"$f":"IF($F3<>AZ$2,1-_xlfn.NORM.DIST(0,INDEX(Rating,$F3)-INDEX(Rating,AZ$2),10,1),\"\")","v":0.73988795005826424},{"$f":"IF($F3<>BA$2,1-_xlfn.NORM.DIST(0,INDEX(Rating,$F3)-INDEX(Rating,BA$2),10,1),\"\")","v":0.97631628523041025},{"$f":"IF($F3<>BB$2,1-_xlfn.NORM.DIST(0,INDEX(Rating,$F3)-INDEX(Rating,BB$2),10,1),\"\")","v":0.75332803951365834},{"$f":"IF($F3<>BC$2,1-_xlfn.NORM.DIST(0,INDEX(Rating,$F3)-INDEX(Rating,BC$2),10,1),\"\")","v":0.81726730640406842},{"$f":"IF($F3<>BD$2,1-_xlfn.NORM.DIST(0,INDEX(Rating,$F3)-INDEX(Rating,BD$2),10,1),\"\")","v":0.59754588796309671},{"$f":"IF($F3<>BE$2,1-_xlfn.NORM.DIST(0,INDEX(Rating,$F3)-INDEX(Rating,BE$2),10,1),\"\")","v":0.95352134213628004},{"$f":"IF($F3<>BF$2,1-_xlfn.NORM.DIST(0,INDEX(Rating,$F3)-INDEX(Rating,BF$2),10,1),\"\")","v":0.61714841818831467},{"$f":"IF($F3<>BG$2,1-_xlfn.NORM.DIST(0,INDEX(Rating,$F3)-INDEX(Rating,BG$2),10,1),\"\")","v":0.99164437945626305},{"$f":"IF($F3<>BH$2,1-_xlfn.NORM.DIST(0,INDEX(Rating,$F3)-INDEX(Rating,BH$2),10,1),\"\")","v":0.76331295167028701},{"$f":"IF($F3<>BI$2,1-_xlfn.NORM.DIST(0,INDEX(Rating,$F3)-INDEX(Rating,BI$2),10,1),\"\")","v":0.77726830206986119},{"$f":"IF($F3<>BJ$2,1-_xlfn.NORM.DIST(0,INDEX(Rating,$F3)-INDEX(Rating,BJ$2),10,1),\"\")","v":0.74215388919413527},{"$f":"IF($F3<>BK$2,1-_xlfn.NORM.DIST(0,INDEX(Rating,$F3)-INDEX(Rating,BK$2),10,1),\"\")","v":0.82843527289973784},{"$f":"IF($F3<>BL$2,1-_xlfn.NORM.DIST(0,INDEX(Rating,$F3)-INDEX(Rating,BL$2),10,1),\"\")","v":0.61256093922287858},{"$f":"IF($F3<>BM$2,1-_xlfn.NORM.DIST(0,INDEX(Rating,$F3)-INDEX(Rating,BM$2),10,1),\"\")","v":0.90724847764324745},{"$f":"IF($F3<>BN$2,1-_xlfn.NORM.DIST(0,INDEX(Rating,$F3)-INDEX(Rating,BN$2),10,1),\"\")","v":0.75741140296738529},{"$f":"IF($F3<>BO$2,1-_xlfn.NORM.DIST(0,INDEX(Rating,$F3)-INDEX(Rating,BO$2),10,1),\"\")","v":0.88376101597337264},{"$f":"IF($F3<>BP$2,1-_xlfn.NORM.DIST(0,INDEX(Rating,$F3)-INDEX(Rating,BP$2),10,1),\"\")","v":0.91496828109343653},{"$f":"IF($F3<>BQ$2,1-_xlfn.NORM.DIST(0,INDEX(Rating,$F3)-INDEX(Rating,BQ$2),10,1),\"\")","v":0.59715888374918047},{"$f":"IF($F3<>BR$2,1-_xlfn.NORM.DIST(0,INDEX(Rating,$F3)-INDEX(Rating,BR$2),10,1),\"\")","v":0.95477226639605195},{"$f":"IF($F3<>BS$2,1-_xlfn.NORM.DIST(0,INDEX(Rating,$F3)-INDEX(Rating,BS$2),10,1),\"\")","v":0.81593987465324047},{"$f":"IF($F3<>BT$2,1-_xlfn.NORM.DIST(0,INDEX(Rating,$F3)-INDEX(Rating,BT$2),10,1),\"\")","v":0.86520343115514886},{"$f":"IF($F3<>BU$2,1-_xlfn.NORM.DIST(0,INDEX(Rating,$F3)-INDEX(Rating,BU$2),10,1),\"\")","v":0.56828123550082776},{"$f":"IF($F3<>BV$2,1-_xlfn.NORM.DIST(0,INDEX(Rating,$F3)-INDEX(Rating,BV$2),10,1),\"\")","v":0.97773143313220756}]
[null,"Texas A&M-CC",2,70.239999999999995,null,2,{"$f":"IF($F4<>G$2,1-_xlfn.NORM.DIST(0,INDEX(Rating,$F4)-INDEX(Rating,G$2),10,1),\"\")","v":1.1634162934586634E-2},{"$f":"IF($F4<>H$2,1-_xlfn.NORM.DIST(0,INDEX(Rating,$F4)-INDEX(Rating,H$2),10,1),\"\")","v":""},{"$f":"IF($F4<>I$2,1-_xlfn.NORM.DIST(0,INDEX(Rating,$F4)-INDEX(Rating,I$2),10,1),\"\")","v":0.6368306511756191},{"$f":"IF($F4<>J$2,1-_xlfn.NORM.DIST(0,INDEX(Rating,$F4)-INDEX(Rating,J$2),10,1),\"\")","v":6.387935271322176E-2},{"$f":"IF($F4<>K$2,1-_xlfn.NORM.DIST(0,INDEX(Rating,$F4)-INDEX(Rating,K$2),10,1),\"\")","v":5.9143994429511237E-2},{"$f":"IF($F4<>L$2,1-_xlfn.NORM.DIST(0,INDEX(Rating,$F4)-INDEX(Rating,L$2),10,1),\"\")","v":6.7457221071147488E-2},{"$f":"IF($F4<>M$2,1-_xlfn.NORM.DIST(0,INDEX(Rating,$F4)-INDEX(Rating,M$2),10,1),\"\")","v":0.14801148476136594},{"$f":"IF($F4<>N$2,1-_xlfn.NORM.DIST(0,INDEX(Rating,$F4)-INDEX(Rating,N$2),10,1),\"\")","v":6.8904460295518999E-2},{"$f":"IF($F4<>O$2,1-_xlfn.NORM.DIST(0,INDEX(Rating,$F4)-INDEX(Rating,O$2),10,1),\"\")","v":0.17774315789912298},{"$f":"IF($F4<>P$2,1-_xlfn.NORM.DIST(0,INDEX(Rating,$F4)-INDEX(Rating,P$2),10,1),\"\")","v":4.1017381461669111E-2},{"$f":"IF($F4<>Q$2,1-_xlfn.NORM.DIST(0,INDEX(Rating,$F4)-INDEX(Rating,Q$2),10,1),\"\")","v":9.6629227363427717E-2},{"$f":"IF($F4<>R$2,1-_xlfn.NORM.DIST(0,INDEX(Rating,$F4)-INDEX(Rating,R$2),10,1),\"\")","v":4.3448334230266172E-2},{"$f":"IF($F4<>S$2,1-_xlfn.NORM.DIST(0,INDEX(Rating,$F4)-INDEX(Rating,S$2),10,1),\"\")","v":0.26861736286083926},{"$f":"IF($F4<>T$2,1-_xlfn.NORM.DIST(0,INDEX(Rating,$F4)-INDEX(Rating,T$2),10,1),\"\")","v":0.11237386207783873},{"$f":"IF($F4<>U$2,1-_xlfn.NORM.DIST(0,INDEX(Rating,$F4)-INDEX(Rating,U$2),10,1),\"\")","v":8.2568522556703217E-2},{"$f":"IF($F4<>V$2,1-_xlfn.NORM.DIST(0,INDEX(Rating,$F4)-INDEX(Rating,V$2),10,1),\"\")","v":2.4881242126698622E-2},{"$f":"IF($F4<>W$2,1-_xlfn.NORM.DIST(0,INDEX(Rating,$F4)-INDEX(Rating,W$2),10,1),\"\")","v":0.27192545607022112},{"$f":"IF($F4<>X$2,1-_xlfn.NORM.DIST(0,INDEX(Rating,$F4)-INDEX(Rating,X$2),10,1),\"\")","v":2.9245490402569518E-2},{"$f":"IF($F4<>Y$2,1-_xlfn.NORM.DIST(0,INDEX(Rating,$F4)-INDEX(Rating,Y$2),10,1),\"\")","v":0.69040547433658817},{"$f":"IF($F4<>Z$2,1-_xlfn.NORM.DIST(0,INDEX(Rating,$F4)-INDEX(Rating,Z$2),10,1),\"\")","v":0.73826315995552039},{"$f":"IF($F4<>AA$2,1-_xlfn.NORM.DIST(0,INDEX(Rating,$F4)-INDEX(Rating,AA$2),10,1),\"\")","v":5.1656509475104806E-2},{"$f":"IF($F4<>AB$2,1-_xlfn.NORM.DIST(0,INDEX(Rating,$F4)-INDEX(Rating,AB$2),10,1),\"\")","v":8.9797997828936271E-2},{"$f":"IF($F4<>AC$2,1-_xlfn.NORM.DIST(0,INDEX(Rating,$F4)-INDEX(Rating,AC$2),10,1),\"\")","v":4.3632936524031773E-2},{"$f":"IF($F4<>AD$2,1-_xlfn.NORM.DIST(0,INDEX(Rating,$F4)-INDEX(Rating,AD$2),10,1),\"\")","v":0.15268159383311031},{"$f":"IF($F4<>AE$2,1-_xlfn.NORM.DIST(0,INDEX(Rating,$F4)-INDEX(Rating,AE$2),10,1),\"\")","v":2.8455092091357659E-2},{"$f":"IF($F4<>AF$2,1-_xlfn.NORM.DIST(0,INDEX(Rating,$F4)-INDEX(Rating,AF$2),10,1),\"\")","v":0.23637864340795756},{"$f":"IF($F4<>AG$2,1-_xlfn.NORM.DIST(0,INDEX(Rating,$F4)-INDEX(Rating,AG$2),10,1),\"\")","v":5.8091324395440291E-2},{"$f":"IF($F4<>AH$2,1-_xlfn.NORM.DIST(0,INDEX(Rating,$F4)-INDEX(Rating,AH$2),10,1),\"\")","v":8.2568522556703217E-2},{"$f":"IF($F4<>AI$2,1-_xlfn.NORM.DIST(0,INDEX(Rating,$F4)-INDEX(Rating,AI$2),10,1),\"\")","v":6.5521712088916439E-2},{"$f":"IF($F4<>AJ$2,1-_xlfn.NORM.DIST(0,INDEX(Rating,$F4)-INDEX(Rating,AJ$2),10,1),\"\")","v":0.32707659830344671},{"$f":"IF($F4<>AK$2,1-_xlfn.NORM.DIST(0,INDEX(Rating,$F4)-INDEX(Rating,AK$2),10,1),\"\")","v":7.0916394611728828E-2},{"$f":"IF($F4<>AL$2,1-_xlfn.NORM.DIST(0,INDEX(Rating,$F4)-INDEX(Rating,AL$2),10,1),\"\")","v":8.2568522556703217E-2},{"$f":"IF($F4<>AM$2,1-_xlfn.NORM.DIST(0,INDEX(Rating,$F4)-INDEX(Rating,AM$2),10,1),\"\")","v":4.2083831739666344E-2},{"$f":"IF($F4<>AN$2,1-_xlfn.NORM.DIST(0,INDEX(Rating,$F4)-INDEX(Rating,AN$2),10,1),\"\")","v":0.25784611080586473},{"$f":"IF($F4<>AO$2,1-_xlfn.NORM.DIST(0,INDEX(Rating,$F4)-INDEX(Rating,AO$2),10,1),\"\")","v":1.534766970754109E-2},{"$f":"IF($F4<>AP$2,1-_xlfn.NORM.DIST(0,INDEX(Rating,$F4)-INDEX(Rating,AP$2),10,1),\"\")","v":0.40594054710119365},{"$f":"IF($F4<>AQ$2,1-_xlfn.NORM.DIST(0,INDEX(Rating,$F4)-INDEX(Rating,AQ$2),10,1),\"\")","v":7.2007720714761136E-2},{"$f":"IF($F4<>AR$2,1-_xlfn.NORM.DIST(0,INDEX(Rating,$F4)-INDEX(Rating,AR$2),10,1),\"\")","v":6.5777263508237427E-2},{"$f":"IF($F4<>AS$2,1-_xlfn.NORM.DIST(0,INDEX(Rating,$F4)-INDEX(Rating,AS$2),10,1),\"\")","v":8.1658802322480684E-2},{"$f":"IF($F4<>AT$2,1-_xlfn.NORM.DIST(0,INDEX(Rating,$F4)-INDEX(Rating,AT$2),10,1),\"\")","v":0.12180722273837896},{"$f":"IF($F4<>AU$2,1-_xlfn.NORM.DIST(0,INDEX(Rating,$F4)-INDEX(Rating,AU$2),10,1),\"\")","v":5.5132853612005484E-2},{"$f":"IF($F4<>AV$2,1-_xlfn.NORM.DIST(0,INDEX(Rating,$F4)-INDEX(Rating,AV$2),10,1),\"\")","v":0.13896082763391082},{"$f":"IF($F4<>AW$2,1-_xlfn.NORM.DIST(0,INDEX(Rating,$F4)-INDEX(Rating,AW$2),10,1),\"\")","v":7.8095382385883094E-2},{"$f":"IF($F4<>AX$2,1-_xlfn.NORM.DIST(0,INDEX(Rating,$F4)-INDEX(Rating,AX$2),10,1),\"\")","v":0.1146817640441089},{"$f":"IF($F4<>AY$2,1-_xlfn.NORM.DIST(0,INDEX(Rating,$F4)-INDEX(Rating,AY$2),10,1),\"\")","v":0.12923811224001758},{"$f":"IF($F4<>AZ$2,1-_xlfn.NORM.DIST(0,INDEX(Rating,$F4)-INDEX(Rating,AZ$2),10,1),\"\")","v":5.1974827680297597E-2},{"$f":"IF($F4<>BA$2,1-_xlfn.NORM.DIST(0,INDEX(Rating,$F4)-INDEX(Rating,BA$2),10,1),\"\")","v":0.38743906077712187},{"$f":"IF($F4<>BB$2,1-_xlfn.NORM.DIST(0,INDEX(Rating,$F4)-INDEX(Rating,BB$2),10,1),\"\")","v":5.659685954874627E-2},{"$f":"IF($F4<>BC$2,1-_xlfn.NORM.DIST(0,INDEX(Rating,$F4)-INDEX(Rating,BC$2),10,1),\"\")","v":8.62837828347921E-2},{"$f":"IF($F4<>BD$2,1-_xlfn.NORM.DIST(0,INDEX(Rating,$F4)-INDEX(Rating,BD$2),10,1),\"\")","v":2.1588175930192355E-2},{"$f":"IF($F4<>BE$2,1-_xlfn.NORM.DIST(0,INDEX(Rating,$F4)-INDEX(Rating,BE$2),10,1),\"\")","v":0.277930636804403},{"$f":"IF($F4<>BF$2,1-_xlfn.NORM.DIST(0,INDEX(Rating,$F4)-INDEX(Rating,BF$2),10,1),\"\")","v":2.4361937908025211E-2},{"$f":"IF($F4<>BG$2,1-_xlfn.NORM.DIST(0,INDEX(Rating,$F4)-INDEX(Rating,BG$2),10,1),\"\")","v":0.54934236246826074},{"$f":"IF($F4<>BH$2,1-_xlfn.NORM.DIST(0,INDEX(Rating,$F4)-INDEX(Rating,BH$2),10,1),\"\")","v":6.0331111804076354E-2},{"$f":"IF($F4<>BI$2,1-_xlfn.NORM.DIST(0,INDEX(Rating,$F4)-INDEX(Rating,BI$2),10,1),\"\")","v":6.6033586833831204E-2},{"$f":"IF($F4<>BJ$2,1-_xlfn.NORM.DIST(0,INDEX(Rating,$F4)-INDEX(Rating,BJ$2),10,1),\"\")","v":5.2723631557361927E-2},{"$f":"IF($F4<>BK$2,1-_xlfn.NORM.DIST(0,INDEX(Rating,$F4)-INDEX(Rating,BK$2),10,1),\"\")","v":9.3250682109510263E-2},{"$f":"IF($F4<>BL$2,1-_xlfn.NORM.DIST(0,INDEX(Rating,$F4)-INDEX(Rating,BL$2),10,1),\"\")","v":2.3683714769589859E-2},{"$f":"IF($F4<>BM$2,1-_xlfn.NORM.DIST(0,INDEX(Rating,$F4)-INDEX(Rating,BM$2),10,1),\"\")","v":0.17232943801287182},{"$f":"IF($F4<>BN$2,1-_xlfn.NORM.DIST(0,INDEX(Rating,$F4)-INDEX(Rating,BN$2),10,1),\"\")","v":5.8091324395440291E-2},{"$f":"IF($F4<>BO$2,1-_xlfn.NORM.DIST(0,INDEX(Rating,$F4)-INDEX(Rating,BO$2),10,1),\"\")","v":0.14118736416512889},{"$f":"IF($F4<>BP$2,1-_xlfn.NORM.DIST(0,INDEX(Rating,$F4)-INDEX(Rating,BP$2),10,1),\"\")","v":0.18485945851244434},{"$f":"IF($F4<>BQ$2,1-_xlfn.NORM.DIST(0,INDEX(Rating,$F4)-INDEX(Rating,BQ$2),10,1),\"\")","v":2.1536573758970334E-2},{"$f":"IF($F4<>BR$2,1-_xlfn.NORM.DIST(0,INDEX(Rating,$F4)-INDEX(Rating,BR$2),10,1),\"\")","v":0.28230759079654533},{"$f":"IF($F4<>BS$2,1-_xlfn.NORM.DIST(0,INDEX(Rating,$F4)-INDEX(Rating,BS$2),10,1),\"\")","v":8.549963745491973E-2},{"$f":"IF($F4<>BT$2,1-_xlfn.NORM.DIST(0,INDEX(Rating,$F4)-INDEX(Rating,BT$2),10,1),\"\")","v":0.12200949641914915},{"$f":"IF($F4<>BU$2,1-_xlfn.NORM.DIST(0,INDEX(Rating,$F4)-INDEX(Rating,BU$2),10,1),\"\")","v":1.799678767110735E-2},{"$f":"IF($F4<>BV$2,1-_xlfn.NORM.DIST(0,INDEX(Rating,$F4)-INDEX(Rating,BV$2),10,1),\"\")","v":0.39743188679823915}]
[null,"SE Missouri St",3,66.739999999999995,null,3,{"$f":"IF($F5<>G$2,1-_xlfn.NORM.DIST(0,INDEX(Rating,$F5)-INDEX(Rating,G$2),10,1),\"\")","v":4.4093973755205962E-3},{"$f":"IF($F5<>H$2,1-_xlfn.NORM.DIST(0,INDEX(Rating,$F5)-INDEX(Rating,H$2),10,1),\"\")","v":0.3631693488243809},{"$f":"IF($F5<>I$2,1-_xlfn.NORM.DIST(0,INDEX(Rating,$F5)-INDEX(Rating,I$2),10,1),\"\")","v":""},{"$f":"IF($F5<>J$2,1-_xlfn.NORM.DIST(0,INDEX(Rating,$F5)-INDEX(Rating,J$2),10,1),\"\")","v":3.0534192496213919E-2},{"$f":"IF($F5<>K$2,1-_xlfn.NORM.DIST(0,INDEX(Rating,$F5)-INDEX(Rating,K$2),10,1),\"\")","v":2.7938097026538822E-2},{"$f":"IF($F5<>L$2,1-_xlfn.NORM.DIST(0,INDEX(Rating,$F5)-INDEX(Rating,L$2),10,1),\"\")","v":3.2518769305993844E-2},{"$f":"IF($F5<>M$2,1-_xlfn.NORM.DIST(0,INDEX(Rating,$F5)-INDEX(Rating,M$2),10,1),\"\")","v":8.1507919781451332E-2},{"$f":"IF($F5<>N$2,1-_xlfn.NORM.DIST(0,INDEX(Rating,$F5)-INDEX(Rating,N$2),10,1),\"\")","v":3.3326997075365572E-2},{"$f":"IF($F5<>O$2,1-_xlfn.NORM.DIST(0,INDEX(Rating,$F5)-INDEX(Rating,O$2),10,1),\"\")","v":0.10133170808582104},{"$f":"IF($F5<>P$2,1-_xlfn.NORM.DIST(0,INDEX(Rating,$F5)-INDEX(Rating,P$2),10,1),\"\")","v":1.835386158514507E-2},{"$f":"IF($F5<>Q$2,1-_xlfn.NORM.DIST(0,INDEX(Rating,$F5)-INDEX(Rating,Q$2),10,1),\"\")","v":4.9369287448286281E-2},{"$f":"IF($F5<>R$2,1-_xlfn.NORM.DIST(0,INDEX(Rating,$F5)-INDEX(Rating,R$2),10,1),\"\")","v":1.9603867987219359E-2},{"$f":"IF($F5<>S$2,1-_xlfn.NORM.DIST(0,INDEX(Rating,$F5)-INDEX(Rating,S$2),10,1),\"\")","v":0.16677201683171883},{"$f":"IF($F5<>T$2,1-_xlfn.NORM.DIST(0,INDEX(Rating,$F5)-INDEX(Rating,T$2),10,1),\"\")","v":5.8908784209659282E-2},{"$f":"IF($F5<>U$2,1-_xlfn.NORM.DIST(0,INDEX(Rating,$F5)-INDEX(Rating,U$2),10,1),\"\")","v":4.1105406887711249E-2},{"$f":"IF($F5<>V$2,1-_xlfn.NORM.DIST(0,INDEX(Rating,$F5)-INDEX(Rating,V$2),10,1),\"\")","v":1.0388841656554182E-2},{"$f":"IF($F5<>W$2,1-_xlfn.NORM.DIST(0,INDEX(Rating,$F5)-INDEX(Rating,W$2),10,1),\"\")","v":0.16928362750321002},{"$f":"IF($F5<>X$2,1-_xlfn.NORM.DIST(0,INDEX(Rating,$F5)-INDEX(Rating,X$2),10,1),\"\")","v":1.2480686152863907E-2},{"$f":"IF($F5<>Y$2,1-_xlfn.NORM.DIST(0,INDEX(Rating,$F5)-INDEX(Rating,Y$2),10,1),\"\")","v":0.55843398983977877},{"$f":"IF($F5<>Z$2,1-_xlfn.NORM.DIST(0,INDEX(Rating,$F5)-INDEX(Rating,Z$2),10,1),\"\")","v":0.61332663066644255},{"$f":"IF($F5<>AA$2,1-_xlfn.NORM.DIST(0,INDEX(Rating,$F5)-INDEX(Rating,AA$2),10,1),\"\")","v":2.3908003132073308E-2},{"$f":"IF($F5<>AB$2,1-_xlfn.NORM.DIST(0,INDEX(Rating,$F5)-INDEX(Rating,AB$2),10,1),\"\")","v":4.5322986812446953E-2},{"$f":"IF($F5<>AC$2,1-_xlfn.NORM.DIST(0,INDEX(Rating,$F5)-INDEX(Rating,AC$2),10,1),\"\")","v":1.9699270409376801E-2},{"$f":"IF($F5<>AD$2,1-_xlfn.NORM.DIST(0,INDEX(Rating,$F5)-INDEX(Rating,AD$2),10,1),\"\")","v":8.4565722351335637E-2},{"$f":"IF($F5<>AE$2,1-_xlfn.NORM.DIST(0,INDEX(Rating,$F5)-INDEX(Rating,AE$2),10,1),\"\")","v":1.2098083987621688E-2},{"$f":"IF($F5<>AF$2,1-_xlfn.NORM.DIST(0,INDEX(Rating,$F5)-INDEX(Rating,AF$2),10,1),\"\")","v":0.14276025589795471},{"$f":"IF($F5<>AG$2,1-_xlfn.NORM.DIST(0,INDEX(Rating,$F5)-INDEX(Rating,AG$2),10,1),\"\")","v":2.7365853744426683E-2},{"$f":"IF($F5<>AH$2,1-_xlfn.NORM.DIST(0,INDEX(Rating,$F5)-INDEX(Rating,AH$2),10,1),\"\")","v":4.1105406887711249E-2},{"$f":"IF($F5<>AI$2,1-_xlfn.NORM.DIST(0,INDEX(Rating,$F5)-INDEX(Rating,AI$2),10,1),\"\")","v":3.1442762980752659E-2},{"$f":"IF($F5<>AJ$2,1-_xlfn.NORM.DIST(0,INDEX(Rating,$F5)-INDEX(Rating,AJ$2),10,1),\"\")","v":0.21243524505598732},{"$f":"IF($F5<>AK$2,1-_xlfn.NORM.DIST(0,INDEX(Rating,$F5)-INDEX(Rating,AK$2),10,1),\"\")","v":3.4455715039312551E-2},{"$f":"IF($F5<>AL$2,1-_xlfn.NORM.DIST(0,INDEX(Rating,$F5)-INDEX(Rating,AL$2),10,1),\"\")","v":4.1105406887711249E-2},{"$f":"IF($F5<>AM$2,1-_xlfn.NORM.DIST(0,INDEX(Rating,$F5)-INDEX(Rating,AM$2),10,1),\"\")","v":1.8900779610336649E-2},{"$f":"IF($F5<>AN$2,1-_xlfn.NORM.DIST(0,INDEX(Rating,$F5)-INDEX(Rating,AN$2),10,1),\"\")","v":0.15865525393145696},{"$f":"IF($F5<>AO$2,1-_xlfn.NORM.DIST(0,INDEX(Rating,$F5)-INDEX(Rating,AO$2),10,1),\"\")","v":6.0194848486718744E-3},{"$f":"IF($F5<>AP$2,1-_xlfn.NORM.DIST(0,INDEX(Rating,$F5)-INDEX(Rating,AP$2),10,1),\"\")","v":0.2782661464122973},{"$f":"IF($F5<>AQ$2,1-_xlfn.NORM.DIST(0,INDEX(Rating,$F5)-INDEX(Rating,AQ$2),10,1),\"\")","v":3.5070425834428542E-2},{"$f":"IF($F5<>AR$2,1-_xlfn.NORM.DIST(0,INDEX(Rating,$F5)-INDEX(Rating,AR$2),10,1),\"\")","v":3.1584507153961328E-2},{"$f":"IF($F5<>AS$2,1-_xlfn.NORM.DIST(0,INDEX(Rating,$F5)-INDEX(Rating,AS$2),10,1),\"\")","v":4.0579544918885935E-2},{"$f":"IF($F5<>AT$2,1-_xlfn.NORM.DIST(0,INDEX(Rating,$F5)-INDEX(Rating,AT$2),10,1),\"\")","v":6.4759676203154481E-2},{"$f":"IF($F5<>AU$2,1-_xlfn.NORM.DIST(0,INDEX(Rating,$F5)-INDEX(Rating,AU$2),10,1),\"\")","v":2.5767367335268632E-2},{"$f":"IF($F5<>AV$2,1-_xlfn.NORM.DIST(0,INDEX(Rating,$F5)-INDEX(Rating,AV$2),10,1),\"\")","v":7.5643548798879801E-2},{"$f":"IF($F5<>AW$2,1-_xlfn.NORM.DIST(0,INDEX(Rating,$F5)-INDEX(Rating,AW$2),10,1),\"\")","v":3.8530451829749235E-2},{"$f":"IF($F5<>AX$2,1-_xlfn.NORM.DIST(0,INDEX(Rating,$F5)-INDEX(Rating,AX$2),10,1),\"\")","v":6.0331111804076354E-2},{"$f":"IF($F5<>AY$2,1-_xlfn.NORM.DIST(0,INDEX(Rating,$F5)-INDEX(Rating,AY$2),10,1),\"\")","v":6.943662333333156E-2},{"$f":"IF($F5<>AZ$2,1-_xlfn.NORM.DIST(0,INDEX(Rating,$F5)-INDEX(Rating,AZ$2),10,1),\"\")","v":2.4077388601338678E-2},{"$f":"IF($F5<>BA$2,1-_xlfn.NORM.DIST(0,INDEX(Rating,$F5)-INDEX(Rating,BA$2),10,1),\"\")","v":0.26238821101513154},{"$f":"IF($F5<>BB$2,1-_xlfn.NORM.DIST(0,INDEX(Rating,$F5)-INDEX(Rating,BB$2),10,1),\"\")","v":2.6556563924221788E-2},{"$f":"IF($F5<>BC$2,1-_xlfn.NORM.DIST(0,INDEX(Rating,$F5)-INDEX(Rating,BC$2),10,1),\"\")","v":4.3264362933660538E-2},{"$f":"IF($F5<>BD$2,1-_xlfn.NORM.DIST(0,INDEX(Rating,$F5)-INDEX(Rating,BD$2),10,1),\"\")","v":8.8460453573455666E-3},{"$f":"IF($F5<>BE$2,1-_xlfn.NORM.DIST(0,INDEX(Rating,$F5)-INDEX(Rating,BE$2),10,1),\"\")","v":0.17386537216956177},{"$f":"IF($F5<>BF$2,1-_xlfn.NORM.DIST(0,INDEX(Rating,$F5)-INDEX(Rating,BF$2),10,1),\"\")","v":1.0143421925218554E-2},{"$f":"IF($F5<>BG$2,1-_xlfn.NORM.DIST(0,INDEX(Rating,$F5)-INDEX(Rating,BG$2),10,1),\"\")","v":0.41060071016398281},{"$f":"IF($F5<>BH$2,1-_xlfn.NORM.DIST(0,INDEX(Rating,$F5)-INDEX(Rating,BH$2),10,1),\"\")","v":2.8585577298256282E-2},{"$f":"IF($F5<>BI$2,1-_xlfn.NORM.DIST(0,INDEX(Rating,$F5)-INDEX(Rating,BI$2),10,1),\"\")","v":3.1726779028202867E-2},{"$f":"IF($F5<>BJ$2,1-_xlfn.NORM.DIST(0,INDEX(Rating,$F5)-INDEX(Rating,BJ$2),10,1),\"\")","v":2.4476545540892181E-2},{"$f":"IF($F5<>BK$2,1-_xlfn.NORM.DIST(0,INDEX(Rating,$F5)-INDEX(Rating,BK$2),10,1),\"\")","v":4.7360838905482927E-2},{"$f":"IF($F5<>BL$2,1-_xlfn.NORM.DIST(0,INDEX(Rating,$F5)-INDEX(Rating,BL$2),10,1),\"\")","v":9.8240726581965143E-3},{"$f":"IF($F5<>BM$2,1-_xlfn.NORM.DIST(0,INDEX(Rating,$F5)-INDEX(Rating,BM$2),10,1),\"\")","v":9.7660114741274451E-2},{"$f":"IF($F5<>BN$2,1-_xlfn.NORM.DIST(0,INDEX(Rating,$F5)-INDEX(Rating,BN$2),10,1),\"\")","v":2.7365853744426683E-2},{"$f":"IF($F5<>BO$2,1-_xlfn.NORM.DIST(0,INDEX(Rating,$F5)-INDEX(Rating,BO$2),10,1),\"\")","v":7.707860055207183E-2},{"$f":"IF($F5<>BP$2,1-_xlfn.NORM.DIST(0,INDEX(Rating,$F5)-INDEX(Rating,BP$2),10,1),\"\")","v":0.10619874878534907},{"$f":"IF($F5<>BQ$2,1-_xlfn.NORM.DIST(0,INDEX(Rating,$F5)-INDEX(Rating,BQ$2),10,1),\"\")","v":8.8221319611151428E-3},{"$f":"IF($F5<>BR$2,1-_xlfn.NORM.DIST(0,INDEX(Rating,$F5)-INDEX(Rating,BR$2),10,1),\"\")","v":0.17722299012489962},{"$f":"IF($F5<>BS$2,1-_xlfn.NORM.DIST(0,INDEX(Rating,$F5)-INDEX(Rating,BS$2),10,1),\"\")","v":4.28071859628123E-2},{"$f":"IF($F5<>BT$2,1-_xlfn.NORM.DIST(0,INDEX(Rating,$F5)-INDEX(Rating,BT$2),10,1),\"\")","v":6.4886202058176412E-2},{"$f":"IF($F5<>BU$2,1-_xlfn.NORM.DIST(0,INDEX(Rating,$F5)-INDEX(Rating,BU$2),10,1),\"\")","v":7.2025419523352729E-3},{"$f":"IF($F5<>BV$2,1-_xlfn.NORM.DIST(0,INDEX(Rating,$F5)-INDEX(Rating,BV$2),10,1),\"\")","v":0.27093090378300533}]
[null,"Maryland",4,85.47,null,4,{"$f":"IF($F6<>G$2,1-_xlfn.NORM.DIST(0,INDEX(Rating,$F6)-INDEX(Rating,G$2),10,1),\"\")","v":0.22783370751889975},{"$f":"IF($F6<>H$2,1-_xlfn.NORM.DIST(0,INDEX(Rating,$F6)-INDEX(Rating,H$2),10,1),\"\")","v":0.93612064728677824},{"$f":"IF($F6<>I$2,1-_xlfn.NORM.DIST(0,INDEX(Rating,$F6)-INDEX(Rating,I$2),10,1),\"\")","v":0.96946580750378608},{"$f":"IF($F6<>J$2,1-_xlfn.NORM.DIST(0,INDEX(Rating,$F6)-INDEX(Rating,J$2),10,1),\"\")","v":""},{"$f":"IF($F6<>K$2,1-_xlfn.NORM.DIST(0,INDEX(Rating,$F6)-INDEX(Rating,K$2),10,1),\"\")","v":0.48444519430750599},{"$f":"IF($F6<>L$2,1-_xlfn.NORM.DIST(0,INDEX(Rating,$F6)-INDEX(Rating,L$2),10,1),\"\")","v":0.51116892442604955},{"$f":"IF($F6<>M$2,1-_xlfn.NORM.DIST(0,INDEX(Rating,$F6)-INDEX(Rating,M$2),10,1),\"\")","v":0.68367489748067689},{"$f":"IF($F6<>N$2,1-_xlfn.NORM.DIST(0,INDEX(Rating,$F6)-INDEX(Rating,N$2),10,1),\"\")","v":0.51555480569249401},{"$f":"IF($F6<>O$2,1-_xlfn.NORM.DIST(0,INDEX(Rating,$F6)-INDEX(Rating,O$2),10,1),\"\")","v":0.72541355771521965},{"$f":"IF($F6<>P$2,1-_xlfn.NORM.DIST(0,INDEX(Rating,$F6)-INDEX(Rating,P$2),10,1),\"\")","v":0.41449387378244418},{"$f":"IF($F6<>Q$2,1-_xlfn.NORM.DIST(0,INDEX(Rating,$F6)-INDEX(Rating,Q$2),10,1),\"\")","v":0.58784305833432171},{"$f":"IF($F6<>R$2,1-_xlfn.NORM.DIST(0,INDEX(Rating,$F6)-INDEX(Rating,R$2),10,1),\"\")","v":0.42504640839500107},{"$f":"IF($F6<>S$2,1-_xlfn.NORM.DIST(0,INDEX(Rating,$F6)-INDEX(Rating,S$2),10,1),\"\")","v":0.81753207377986126},{"$f":"IF($F6<>T$2,1-_xlfn.NORM.DIST(0,INDEX(Rating,$F6)-INDEX(Rating,T$2),10,1),\"\")","v":0.62133923658947854},{"$f":"IF($F6<>U$2,1-_xlfn.NORM.DIST(0,INDEX(Rating,$F6)-INDEX(Rating,U$2),10,1),\"\")","v":0.5536940628343815},{"$f":"IF($F6<>V$2,1-_xlfn.NORM.DIST(0,INDEX(Rating,$F6)-INDEX(Rating,V$2),10,1),\"\")","v":0.33033076816399132},{"$f":"IF($F6<>W$2,1-_xlfn.NORM.DIST(0,INDEX(Rating,$F6)-INDEX(Rating,W$2),10,1),\"\")","v":0.82016655254706938},{"$f":"IF($F6<>X$2,1-_xlfn.NORM.DIST(0,INDEX(Rating,$F6)-INDEX(Rating,X$2),10,1),\"\")","v":0.35606386238663279},{"$f":"IF($F6<>Y$2,1-_xlfn.NORM.DIST(0,INDEX(Rating,$F6)-INDEX(Rating,Y$2),10,1),\"\")","v":0.97830830623235321},{"$f":"IF($F6<>Z$2,1-_xlfn.NORM.DIST(0,INDEX(Rating,$F6)-INDEX(Rating,Z$2),10,1),\"\")","v":0.98465233029245891},{"$f":"IF($F6<>AA$2,1-_xlfn.NORM.DIST(0,INDEX(Rating,$F6)-INDEX(Rating,AA$2),10,1),\"\")","v":0.45779117609359832},{"$f":"IF($F6<>AB$2,1-_xlfn.NORM.DIST(0,INDEX(Rating,$F6)-INDEX(Rating,AB$2),10,1),\"\")","v":0.57181621199289423},{"$f":"IF($F6<>AC$2,1-_xlfn.NORM.DIST(0,INDEX(Rating,$F6)-INDEX(Rating,AC$2),10,1),\"\")","v":0.42583031647263558},{"$f":"IF($F6<>AD$2,1-_xlfn.NORM.DIST(0,INDEX(Rating,$F6)-INDEX(Rating,AD$2),10,1),\"\")","v":0.69075797890754587},{"$f":"IF($F6<>AE$2,1-_xlfn.NORM.DIST(0,INDEX(Rating,$F6)-INDEX(Rating,AE$2),10,1),\"\")","v":0.35160162426862451},{"$f":"IF($F6<>AF$2,1-_xlfn.NORM.DIST(0,INDEX(Rating,$F6)-INDEX(Rating,AF$2),10,1),\"\")","v":0.78959016010643623},{"$f":"IF($F6<>AG$2,1-_xlfn.NORM.DIST(0,INDEX(Rating,$F6)-INDEX(Rating,AG$2),10,1),\"\")","v":0.48085812130423844},{"$f":"IF($F6<>AH$2,1-_xlfn.NORM.DIST(0,INDEX(Rating,$F6)-INDEX(Rating,AH$2),10,1),\"\")","v":0.5536940628343815},{"$f":"IF($F6<>AI$2,1-_xlfn.NORM.DIST(0,INDEX(Rating,$F6)-INDEX(Rating,AI$2),10,1),\"\")","v":0.5051861035695564},{"$f":"IF($F6<>AJ$2,1-_xlfn.NORM.DIST(0,INDEX(Rating,$F6)-INDEX(Rating,AJ$2),10,1),\"\")","v":0.85881263583487111},{"$f":"IF($F6<>AK$2,1-_xlfn.NORM.DIST(0,INDEX(Rating,$F6)-INDEX(Rating,AK$2),10,1),\"\")","v":0.52153241787838944},{"$f":"IF($F6<>AL$2,1-_xlfn.NORM.DIST(0,INDEX(Rating,$F6)-INDEX(Rating,AL$2),10,1),\"\")","v":0.5536940628343815},{"$f":"IF($F6<>AM$2,1-_xlfn.NORM.DIST(0,INDEX(Rating,$F6)-INDEX(Rating,AM$2),10,1),\"\")","v":0.41917674945510397},{"$f":"IF($F6<>AN$2,1-_xlfn.NORM.DIST(0,INDEX(Rating,$F6)-INDEX(Rating,AN$2),10,1),\"\")","v":0.80866846113985713},{"$f":"IF($F6<>AO$2,1-_xlfn.NORM.DIST(0,INDEX(Rating,$F6)-INDEX(Rating,AO$2),10,1),\"\")","v":0.26173684004447961},{"$f":"IF($F6<>AP$2,1-_xlfn.NORM.DIST(0,INDEX(Rating,$F6)-INDEX(Rating,AP$2),10,1),\"\")","v":0.90060385798489428},{"$f":"IF($F6<>AQ$2,1-_xlfn.NORM.DIST(0,INDEX(Rating,$F6)-INDEX(Rating,AQ$2),10,1),\"\")","v":0.52471858399851168},{"$f":"IF($F6<>AR$2,1-_xlfn.NORM.DIST(0,INDEX(Rating,$F6)-INDEX(Rating,AR$2),10,1),\"\")","v":0.50598390980856245},{"$f":"IF($F6<>AS$2,1-_xlfn.NORM.DIST(0,INDEX(Rating,$F6)-INDEX(Rating,AS$2),10,1),\"\")","v":0.55132117558549387},{"$f":"IF($F6<>AT$2,1-_xlfn.NORM.DIST(0,INDEX(Rating,$F6)-INDEX(Rating,AT$2),10,1),\"\")","v":0.63945409713252632},{"$f":"IF($F6<>AU$2,1-_xlfn.NORM.DIST(0,INDEX(Rating,$F6)-INDEX(Rating,AU$2),10,1),\"\")","v":0.47050519263109725},{"$f":"IF($F6<>AV$2,1-_xlfn.NORM.DIST(0,INDEX(Rating,$F6)-INDEX(Rating,AV$2),10,1),\"\")","v":0.66930685828554881},{"$f":"IF($F6<>AW$2,1-_xlfn.NORM.DIST(0,INDEX(Rating,$F6)-INDEX(Rating,AW$2),10,1),\"\")","v":0.54181209563970456},{"$f":"IF($F6<>AX$2,1-_xlfn.NORM.DIST(0,INDEX(Rating,$F6)-INDEX(Rating,AX$2),10,1),\"\")","v":0.62589480454790003},{"$f":"IF($F6<>AY$2,1-_xlfn.NORM.DIST(0,INDEX(Rating,$F6)-INDEX(Rating,AY$2),10,1),\"\")","v":0.65284025930690381},{"$f":"IF($F6<>AZ$2,1-_xlfn.NORM.DIST(0,INDEX(Rating,$F6)-INDEX(Rating,AZ$2),10,1),\"\")","v":0.45898148547720696},{"$f":"IF($F6<>BA$2,1-_xlfn.NORM.DIST(0,INDEX(Rating,$F6)-INDEX(Rating,BA$2),10,1),\"\")","v":0.89195645868622853},{"$f":"IF($F6<>BB$2,1-_xlfn.NORM.DIST(0,INDEX(Rating,$F6)-INDEX(Rating,BB$2),10,1),\"\")","v":0.47567960452857139},{"$f":"IF($F6<>BC$2,1-_xlfn.NORM.DIST(0,INDEX(Rating,$F6)-INDEX(Rating,BC$2),10,1),\"\")","v":0.56316556308436749},{"$f":"IF($F6<>BD$2,1-_xlfn.NORM.DIST(0,INDEX(Rating,$F6)-INDEX(Rating,BD$2),10,1),\"\")","v":0.30888969202505467},{"$f":"IF($F6<>BE$2,1-_xlfn.NORM.DIST(0,INDEX(Rating,$F6)-INDEX(Rating,BE$2),10,1),\"\")","v":0.82484805350281487},{"$f":"IF($F6<>BF$2,1-_xlfn.NORM.DIST(0,INDEX(Rating,$F6)-INDEX(Rating,BF$2),10,1),\"\")","v":0.32707659830344671},{"$f":"IF($F6<>BG$2,1-_xlfn.NORM.DIST(0,INDEX(Rating,$F6)-INDEX(Rating,BG$2),10,1),\"\")","v":0.95022097708307329},{"$f":"IF($F6<>BH$2,1-_xlfn.NORM.DIST(0,INDEX(Rating,$F6)-INDEX(Rating,BH$2),10,1),\"\")","v":0.48843229529768895},{"$f":"IF($F6<>BI$2,1-_xlfn.NORM.DIST(0,INDEX(Rating,$F6)-INDEX(Rating,BI$2),10,1),\"\")","v":0.50678169211374768},{"$f":"IF($F6<>BJ$2,1-_xlfn.NORM.DIST(0,INDEX(Rating,$F6)-INDEX(Rating,BJ$2),10,1),\"\")","v":0.46176028628184174},{"$f":"IF($F6<>BK$2,1-_xlfn.NORM.DIST(0,INDEX(Rating,$F6)-INDEX(Rating,BK$2),10,1),\"\")","v":0.58004163790959617},{"$f":"IF($F6<>BL$2,1-_xlfn.NORM.DIST(0,INDEX(Rating,$F6)-INDEX(Rating,BL$2),10,1),\"\")","v":0.32275811025034784},{"$f":"IF($F6<>BM$2,1-_xlfn.NORM.DIST(0,INDEX(Rating,$F6)-INDEX(Rating,BM$2),10,1),\"\")","v":0.71836794038374008},{"$f":"IF($F6<>BN$2,1-_xlfn.NORM.DIST(0,INDEX(Rating,$F6)-INDEX(Rating,BN$2),10,1),\"\")","v":0.48085812130423844},{"$f":"IF($F6<>BO$2,1-_xlfn.NORM.DIST(0,INDEX(Rating,$F6)-INDEX(Rating,BO$2),10,1),\"\")","v":0.67292340169655329},{"$f":"IF($F6<>BP$2,1-_xlfn.NORM.DIST(0,INDEX(Rating,$F6)-INDEX(Rating,BP$2),10,1),\"\")","v":0.73434252933624089},{"$f":"IF($F6<>BQ$2,1-_xlfn.NORM.DIST(0,INDEX(Rating,$F6)-INDEX(Rating,BQ$2),10,1),\"\")","v":0.30853753872598688},{"$f":"IF($F6<>BR$2,1-_xlfn.NORM.DIST(0,INDEX(Rating,$F6)-INDEX(Rating,BR$2),10,1),\"\")","v":0.82818061053282199},{"$f":"IF($F6<>BS$2,1-_xlfn.NORM.DIST(0,INDEX(Rating,$F6)-INDEX(Rating,BS$2),10,1),\"\")","v":0.56119513220746109},{"$f":"IF($F6<>BT$2,1-_xlfn.NORM.DIST(0,INDEX(Rating,$F6)-INDEX(Rating,BT$2),10,1),\"\")","v":0.63982834322580218},{"$f":"IF($F6<>BU$2,1-_xlfn.NORM.DIST(0,INDEX(Rating,$F6)-INDEX(Rating,BU$2),10,1),\"\")","v":0.28298390063691348},{"$f":"IF($F6<>BV$2,1-_xlfn.NORM.DIST(0,INDEX(Rating,$F6)-INDEX(Rating,BV$2),10,1),\"\")","v":0.89670541014190452}]
[null,"West Virginia",5,85.86,null,5,{"$f":"IF($F7<>G$2,1-_xlfn.NORM.DIST(0,INDEX(Rating,$F7)-INDEX(Rating,G$2),10,1),\"\")","v":0.23978323889332742},{"$f":"IF($F7<>H$2,1-_xlfn.NORM.DIST(0,INDEX(Rating,$F7)-INDEX(Rating,H$2),10,1),\"\")","v":0.94085600557048876},{"$f":"IF($F7<>I$2,1-_xlfn.NORM.DIST(0,INDEX(Rating,$F7)-INDEX(Rating,I$2),10,1),\"\")","v":0.97206190297346118},{"$f":"IF($F7<>J$2,1-_xlfn.NORM.DIST(0,INDEX(Rating,$F7)-INDEX(Rating,J$2),10,1),\"\")","v":0.51555480569249401},{"$f":"IF($F7<>K$2,1-_xlfn.NORM.DIST(0,INDEX(Rating,$F7)-INDEX(Rating,K$2),10,1),\"\")","v":""},{"$f":"IF($F7<>L$2,1-_xlfn.NORM.DIST(0,INDEX(Rating,$F7)-INDEX(Rating,L$2),10,1),\"\")","v":0.52670914839907279},{"$f":"IF($F7<>M$2,1-_xlfn.NORM.DIST(0,INDEX(Rating,$F7)-INDEX(Rating,M$2),10,1),\"\")","v":0.69742192058811614},{"$f":"IF($F7<>N$2,1-_xlfn.NORM.DIST(0,INDEX(Rating,$F7)-INDEX(Rating,N$2),10,1),\"\")","v":0.53108597350302467},{"$f":"IF($F7<>O$2,1-_xlfn.NORM.DIST(0,INDEX(Rating,$F7)-INDEX(Rating,O$2),10,1),\"\")","v":0.73826315995552039},{"$f":"IF($F7<>P$2,1-_xlfn.NORM.DIST(0,INDEX(Rating,$F7)-INDEX(Rating,P$2),10,1),\"\")","v":0.42975419478909604},{"$f":"IF($F7<>Q$2,1-_xlfn.NORM.DIST(0,INDEX(Rating,$F7)-INDEX(Rating,Q$2),10,1),\"\")","v":0.60295374637219135},{"$f":"IF($F7<>R$2,1-_xlfn.NORM.DIST(0,INDEX(Rating,$F7)-INDEX(Rating,R$2),10,1),\"\")","v":0.4403823076297575},{"$f":"IF($F7<>S$2,1-_xlfn.NORM.DIST(0,INDEX(Rating,$F7)-INDEX(Rating,S$2),10,1),\"\")","v":0.82767056198712818},{"$f":"IF($F7<>T$2,1-_xlfn.NORM.DIST(0,INDEX(Rating,$F7)-INDEX(Rating,T$2),10,1),\"\")","v":0.63607990825282545},{"$f":"IF($F7<>U$2,1-_xlfn.NORM.DIST(0,INDEX(Rating,$F7)-INDEX(Rating,U$2),10,1),\"\")","v":0.56906726888470849},{"$f":"IF($F7<>V$2,1-_xlfn.NORM.DIST(0,INDEX(Rating,$F7)-INDEX(Rating,V$2),10,1),\"\")","v":0.34457825838967571},{"$f":"IF($F7<>W$2,1-_xlfn.NORM.DIST(0,INDEX(Rating,$F7)-INDEX(Rating,W$2),10,1),\"\")","v":0.83021115151968394},{"$f":"IF($F7<>X$2,1-_xlfn.NORM.DIST(0,INDEX(Rating,$F7)-INDEX(Rating,X$2),10,1),\"\")","v":0.37069998105934654},{"$f":"IF($F7<>Y$2,1-_xlfn.NORM.DIST(0,INDEX(Rating,$F7)-INDEX(Rating,Y$2),10,1),\"\")","v":0.98025288075633332},{"$f":"IF($F7<>Z$2,1-_xlfn.NORM.DIST(0,INDEX(Rating,$F7)-INDEX(Rating,Z$2),10,1),\"\")","v":0.98609655248650141},{"$f":"IF($F7<>AA$2,1-_xlfn.NORM.DIST(0,INDEX(Rating,$F7)-INDEX(Rating,AA$2),10,1),\"\")","v":0.47329085160092721},{"$f":"IF($F7<>AB$2,1-_xlfn.NORM.DIST(0,INDEX(Rating,$F7)-INDEX(Rating,AB$2),10,1),\"\")","v":0.58706442264821468},{"$f":"IF($F7<>AC$2,1-_xlfn.NORM.DIST(0,INDEX(Rating,$F7)-INDEX(Rating,AC$2),10,1),\"\")","v":0.44117138412111712},{"$f":"IF($F7<>AD$2,1-_xlfn.NORM.DIST(0,INDEX(Rating,$F7)-INDEX(Rating,AD$2),10,1),\"\")","v":0.70436619297315262},{"$f":"IF($F7<>AE$2,1-_xlfn.NORM.DIST(0,INDEX(Rating,$F7)-INDEX(Rating,AE$2),10,1),\"\")","v":0.36617544612934161},{"$f":"IF($F7<>AF$2,1-_xlfn.NORM.DIST(0,INDEX(Rating,$F7)-INDEX(Rating,AF$2),10,1),\"\")","v":0.80066529719790713},{"$f":"IF($F7<>AG$2,1-_xlfn.NORM.DIST(0,INDEX(Rating,$F7)-INDEX(Rating,AG$2),10,1),\"\")","v":0.49640956794728508},{"$f":"IF($F7<>AH$2,1-_xlfn.NORM.DIST(0,INDEX(Rating,$F7)-INDEX(Rating,AH$2),10,1),\"\")","v":0.56906726888470849},{"$f":"IF($F7<>AI$2,1-_xlfn.NORM.DIST(0,INDEX(Rating,$F7)-INDEX(Rating,AI$2),10,1),\"\")","v":0.52073565329228022},{"$f":"IF($F7<>AJ$2,1-_xlfn.NORM.DIST(0,INDEX(Rating,$F7)-INDEX(Rating,AJ$2),10,1),\"\")","v":0.86736040667377878},{"$f":"IF($F7<>AK$2,1-_xlfn.NORM.DIST(0,INDEX(Rating,$F7)-INDEX(Rating,AK$2),10,1),\"\")","v":0.53704821938818803},{"$f":"IF($F7<>AL$2,1-_xlfn.NORM.DIST(0,INDEX(Rating,$F7)-INDEX(Rating,AL$2),10,1),\"\")","v":0.56906726888470849},{"$f":"IF($F7<>AM$2,1-_xlfn.NORM.DIST(0,INDEX(Rating,$F7)-INDEX(Rating,AM$2),10,1),\"\")","v":0.43447199102806455},{"$f":"IF($F7<>AN$2,1-_xlfn.NORM.DIST(0,INDEX(Rating,$F7)-INDEX(Rating,AN$2),10,1),\"\")","v":0.81911564122010394},{"$f":"IF($F7<>AO$2,1-_xlfn.NORM.DIST(0,INDEX(Rating,$F7)-INDEX(Rating,AO$2),10,1),\"\")","v":0.27458644228478035},{"$f":"IF($F7<>AP$2,1-_xlfn.NORM.DIST(0,INDEX(Rating,$F7)-INDEX(Rating,AP$2),10,1),\"\")","v":0.90724847764324712},{"$f":"IF($F7<>AQ$2,1-_xlfn.NORM.DIST(0,INDEX(Rating,$F7)-INDEX(Rating,AQ$2),10,1),\"\")","v":0.54022476991138668},{"$f":"IF($F7<>AR$2,1-_xlfn.NORM.DIST(0,INDEX(Rating,$F7)-INDEX(Rating,AR$2),10,1),\"\")","v":0.52153241787839},{"$f":"IF($F7<>AS$2,1-_xlfn.NORM.DIST(0,INDEX(Rating,$F7)-INDEX(Rating,AS$2),10,1),\"\")","v":0.56670836046058426},{"$f":"IF($F7<>AT$2,1-_xlfn.NORM.DIST(0,INDEX(Rating,$F7)-INDEX(Rating,AT$2),10,1),\"\")","v":0.65394748588881813},{"$f":"IF($F7<>AU$2,1-_xlfn.NORM.DIST(0,INDEX(Rating,$F7)-INDEX(Rating,AU$2),10,1),\"\")","v":0.48603987043724195},{"$f":"IF($F7<>AV$2,1-_xlfn.NORM.DIST(0,INDEX(Rating,$F7)-INDEX(Rating,AV$2),10,1),\"\")","v":0.68331893918087194},{"$f":"IF($F7<>AW$2,1-_xlfn.NORM.DIST(0,INDEX(Rating,$F7)-INDEX(Rating,AW$2),10,1),\"\")","v":0.55724976518176994},{"$f":"IF($F7<>AX$2,1-_xlfn.NORM.DIST(0,INDEX(Rating,$F7)-INDEX(Rating,AX$2),10,1),\"\")","v":0.64057643321799107},{"$f":"IF($F7<>AY$2,1-_xlfn.NORM.DIST(0,INDEX(Rating,$F7)-INDEX(Rating,AY$2),10,1),\"\")","v":0.66712929341660299},{"$f":"IF($F7<>AZ$2,1-_xlfn.NORM.DIST(0,INDEX(Rating,$F7)-INDEX(Rating,AZ$2),10,1),\"\")","v":0.47448511340469501},{"$f":"IF($F7<>BA$2,1-_xlfn.NORM.DIST(0,INDEX(Rating,$F7)-INDEX(Rating,BA$2),10,1),\"\")","v":0.89902224045250567},{"$f":"IF($F7<>BB$2,1-_xlfn.NORM.DIST(0,INDEX(Rating,$F7)-INDEX(Rating,BB$2),10,1),\"\")","v":0.49122397776933835},{"$f":"IF($F7<>BC$2,1-_xlfn.NORM.DIST(0,INDEX(Rating,$F7)-INDEX(Rating,BC$2),10,1),\"\")","v":0.57847746813476331},{"$f":"IF($F7<>BD$2,1-_xlfn.NORM.DIST(0,INDEX(Rating,$F7)-INDEX(Rating,BD$2),10,1),\"\")","v":0.32275811025034784},{"$f":"IF($F7<>BE$2,1-_xlfn.NORM.DIST(0,INDEX(Rating,$F7)-INDEX(Rating,BE$2),10,1),\"\")","v":0.83472334895061373},{"$f":"IF($F7<>BF$2,1-_xlfn.NORM.DIST(0,INDEX(Rating,$F7)-INDEX(Rating,BF$2),10,1),\"\")","v":0.34126983057412863},{"$f":"IF($F7<>BG$2,1-_xlfn.NORM.DIST(0,INDEX(Rating,$F7)-INDEX(Rating,BG$2),10,1),\"\")","v":0.95410210032031351},{"$f":"IF($F7<>BH$2,1-_xlfn.NORM.DIST(0,INDEX(Rating,$F7)-INDEX(Rating,BH$2),10,1),\"\")","v":0.50398935631463138},{"$f":"IF($F7<>BI$2,1-_xlfn.NORM.DIST(0,INDEX(Rating,$F7)-INDEX(Rating,BI$2),10,1),\"\")","v":0.52232909641859926},{"$f":"IF($F7<>BJ$2,1-_xlfn.NORM.DIST(0,INDEX(Rating,$F7)-INDEX(Rating,BJ$2),10,1),\"\")","v":0.47727259757138407},{"$f":"IF($F7<>BK$2,1-_xlfn.NORM.DIST(0,INDEX(Rating,$F7)-INDEX(Rating,BK$2),10,1),\"\")","v":0.59522244173805672},{"$f":"IF($F7<>BL$2,1-_xlfn.NORM.DIST(0,INDEX(Rating,$F7)-INDEX(Rating,BL$2),10,1),\"\")","v":0.33687754093090905},{"$f":"IF($F7<>BM$2,1-_xlfn.NORM.DIST(0,INDEX(Rating,$F7)-INDEX(Rating,BM$2),10,1),\"\")","v":0.73138263713916074},{"$f":"IF($F7<>BN$2,1-_xlfn.NORM.DIST(0,INDEX(Rating,$F7)-INDEX(Rating,BN$2),10,1),\"\")","v":0.49640956794728508},{"$f":"IF($F7<>BO$2,1-_xlfn.NORM.DIST(0,INDEX(Rating,$F7)-INDEX(Rating,BO$2),10,1),\"\")","v":0.68687083452633213},{"$f":"IF($F7<>BP$2,1-_xlfn.NORM.DIST(0,INDEX(Rating,$F7)-INDEX(Rating,BP$2),10,1),\"\")","v":0.74697475346246234},{"$f":"IF($F7<>BQ$2,1-_xlfn.NORM.DIST(0,INDEX(Rating,$F7)-INDEX(Rating,BQ$2),10,1),\"\")","v":0.32239930255122007},{"$f":"IF($F7<>BR$2,1-_xlfn.NORM.DIST(0,INDEX(Rating,$F7)-INDEX(Rating,BR$2),10,1),\"\")","v":0.83793344357105481},{"$f":"IF($F7<>BS$2,1-_xlfn.NORM.DIST(0,INDEX(Rating,$F7)-INDEX(Rating,BS$2),10,1),\"\")","v":0.57652051595550513},{"$f":"IF($F7<>BT$2,1-_xlfn.NORM.DIST(0,INDEX(Rating,$F7)-INDEX(Rating,BT$2),10,1),\"\")","v":0.65431626969663315},{"$f":"IF($F7<>BU$2,1-_xlfn.NORM.DIST(0,INDEX(Rating,$F7)-INDEX(Rating,BU$2),10,1),\"\")","v":0.29632492864234461},{"$f":"IF($F7<>BV$2,1-_xlfn.NORM.DIST(0,INDEX(Rating,$F7)-INDEX(Rating,BV$2),10,1),\"\")","v":0.90354180719799937}]
[null,"San Diego St",6,85.19,null,6,{"$f":"IF($F8<>G$2,1-_xlfn.NORM.DIST(0,INDEX(Rating,$F8)-INDEX(Rating,G$2),10,1),\"\")","v":0.2194653956284347},{"$f":"IF($F8<>H$2,1-_xlfn.NORM.DIST(0,INDEX(Rating,$F8)-INDEX(Rating,H$2),10,1),\"\")","v":0.93254277892885251},{"$f":"IF($F8<>I$2,1-_xlfn.NORM.DIST(0,INDEX(Rating,$F8)-INDEX(Rating,I$2),10,1),\"\")","v":0.96748123069400616},{"$f":"IF($F8<>J$2,1-_xlfn.NORM.DIST(0,INDEX(Rating,$F8)-INDEX(Rating,J$2),10,1),\"\")","v":0.48883107557395045},{"$f":"IF($F8<>K$2,1-_xlfn.NORM.DIST(0,INDEX(Rating,$F8)-INDEX(Rating,K$2),10,1),\"\")","v":0.47329085160092721},{"$f":"IF($F8<>L$2,1-_xlfn.NORM.DIST(0,INDEX(Rating,$F8)-INDEX(Rating,L$2),10,1),\"\")","v":""},{"$f":"IF($F8<>M$2,1-_xlfn.NORM.DIST(0,INDEX(Rating,$F8)-INDEX(Rating,M$2),10,1),\"\")","v":0.67364477971208003},{"$f":"IF($F8<>N$2,1-_xlfn.NORM.DIST(0,INDEX(Rating,$F8)-INDEX(Rating,N$2),10,1),\"\")","v":0.5043882765873261},{"$f":"IF($F8<>O$2,1-_xlfn.NORM.DIST(0,INDEX(Rating,$F8)-INDEX(Rating,O$2),10,1),\"\")","v":0.71600017857831499},{"$f":"IF($F8<>P$2,1-_xlfn.NORM.DIST(0,INDEX(Rating,$F8)-INDEX(Rating,P$2),10,1),\"\")","v":0.40361540995910228},{"$f":"IF($F8<>Q$2,1-_xlfn.NORM.DIST(0,INDEX(Rating,$F8)-INDEX(Rating,Q$2),10,1),\"\")","v":0.57691205904841825},{"$f":"IF($F8<>R$2,1-_xlfn.NORM.DIST(0,INDEX(Rating,$F8)-INDEX(Rating,R$2),10,1),\"\")","v":0.41410417246965192},{"$f":"IF($F8<>S$2,1-_xlfn.NORM.DIST(0,INDEX(Rating,$F8)-INDEX(Rating,S$2),10,1),\"\")","v":0.81002814064093043},{"$f":"IF($F8<>T$2,1-_xlfn.NORM.DIST(0,INDEX(Rating,$F8)-INDEX(Rating,T$2),10,1),\"\")","v":0.61064480008416111},{"$f":"IF($F8<>U$2,1-_xlfn.NORM.DIST(0,INDEX(Rating,$F8)-INDEX(Rating,U$2),10,1),\"\")","v":0.54260551012213432},{"$f":"IF($F8<>V$2,1-_xlfn.NORM.DIST(0,INDEX(Rating,$F8)-INDEX(Rating,V$2),10,1),\"\")","v":0.32024993903580834},{"$f":"IF($F8<>W$2,1-_xlfn.NORM.DIST(0,INDEX(Rating,$F8)-INDEX(Rating,W$2),10,1),\"\")","v":0.81272962434423179},{"$f":"IF($F8<>X$2,1-_xlfn.NORM.DIST(0,INDEX(Rating,$F8)-INDEX(Rating,X$2),10,1),\"\")","v":0.34568373030336685},{"$f":"IF($F8<>Y$2,1-_xlfn.NORM.DIST(0,INDEX(Rating,$F8)-INDEX(Rating,Y$2),10,1),\"\")","v":0.97681447105781616},{"$f":"IF($F8<>Z$2,1-_xlfn.NORM.DIST(0,INDEX(Rating,$F8)-INDEX(Rating,Z$2),10,1),\"\")","v":0.98353763689992557},{"$f":"IF($F8<>AA$2,1-_xlfn.NORM.DIST(0,INDEX(Rating,$F8)-INDEX(Rating,AA$2),10,1),\"\")","v":0.44670128721754643},{"$f":"IF($F8<>AB$2,1-_xlfn.NORM.DIST(0,INDEX(Rating,$F8)-INDEX(Rating,AB$2),10,1),\"\")","v":0.56080086235479887},{"$f":"IF($F8<>AC$2,1-_xlfn.NORM.DIST(0,INDEX(Rating,$F8)-INDEX(Rating,AC$2),10,1),\"\")","v":0.41488365927980397},{"$f":"IF($F8<>AD$2,1-_xlfn.NORM.DIST(0,INDEX(Rating,$F8)-INDEX(Rating,AD$2),10,1),\"\")","v":0.68082249121744431},{"$f":"IF($F8<>AE$2,1-_xlfn.NORM.DIST(0,INDEX(Rating,$F8)-INDEX(Rating,AE$2),10,1),\"\")","v":0.34126983057412863},{"$f":"IF($F8<>AF$2,1-_xlfn.NORM.DIST(0,INDEX(Rating,$F8)-INDEX(Rating,AF$2),10,1),\"\")","v":0.78142061483472458},{"$f":"IF($F8<>AG$2,1-_xlfn.NORM.DIST(0,INDEX(Rating,$F8)-INDEX(Rating,AG$2),10,1),\"\")","v":0.46970954909974316},{"$f":"IF($F8<>AH$2,1-_xlfn.NORM.DIST(0,INDEX(Rating,$F8)-INDEX(Rating,AH$2),10,1),\"\")","v":0.54260551012213432},{"$f":"IF($F8<>AI$2,1-_xlfn.NORM.DIST(0,INDEX(Rating,$F8)-INDEX(Rating,AI$2),10,1),\"\")","v":0.49401609019143755},{"$f":"IF($F8<>AJ$2,1-_xlfn.NORM.DIST(0,INDEX(Rating,$F8)-INDEX(Rating,AJ$2),10,1),\"\")","v":0.85245021090445039},{"$f":"IF($F8<>AK$2,1-_xlfn.NORM.DIST(0,INDEX(Rating,$F8)-INDEX(Rating,AK$2),10,1),\"\")","v":0.51037133077400687},{"$f":"IF($F8<>AL$2,1-_xlfn.NORM.DIST(0,INDEX(Rating,$F8)-INDEX(Rating,AL$2),10,1),\"\")","v":0.54260551012213432},{"$f":"IF($F8<>AM$2,1-_xlfn.NORM.DIST(0,INDEX(Rating,$F8)-INDEX(Rating,AM$2),10,1),\"\")","v":0.40826900690096946},{"$f":"IF($F8<>AN$2,1-_xlfn.NORM.DIST(0,INDEX(Rating,$F8)-INDEX(Rating,AN$2),10,1),\"\")","v":0.8009445804783577},{"$f":"IF($F8<>AO$2,1-_xlfn.NORM.DIST(0,INDEX(Rating,$F8)-INDEX(Rating,AO$2),10,1),\"\")","v":0.25270555020079977},{"$f":"IF($F8<>AP$2,1-_xlfn.NORM.DIST(0,INDEX(Rating,$F8)-INDEX(Rating,AP$2),10,1),\"\")","v":0.8956231822086701},{"$f":"IF($F8<>AQ$2,1-_xlfn.NORM.DIST(0,INDEX(Rating,$F8)-INDEX(Rating,AQ$2),10,1),\"\")","v":0.51356142464884114},{"$f":"IF($F8<>AR$2,1-_xlfn.NORM.DIST(0,INDEX(Rating,$F8)-INDEX(Rating,AR$2),10,1),\"\")","v":0.4948138964304436},{"$f":"IF($F8<>AS$2,1-_xlfn.NORM.DIST(0,INDEX(Rating,$F8)-INDEX(Rating,AS$2),10,1),\"\")","v":0.54022476991138602},{"$f":"IF($F8<>AT$2,1-_xlfn.NORM.DIST(0,INDEX(Rating,$F8)-INDEX(Rating,AT$2),10,1),\"\")","v":0.6289221559831355},{"$f":"IF($F8<>AU$2,1-_xlfn.NORM.DIST(0,INDEX(Rating,$F8)-INDEX(Rating,AU$2),10,1),\"\")","v":0.45937833754242452},{"$f":"IF($F8<>AV$2,1-_xlfn.NORM.DIST(0,INDEX(Rating,$F8)-INDEX(Rating,AV$2),10,1),\"\")","v":0.65909702622767719},{"$f":"IF($F8<>AW$2,1-_xlfn.NORM.DIST(0,INDEX(Rating,$F8)-INDEX(Rating,AW$2),10,1),\"\")","v":0.53068822751544931},{"$f":"IF($F8<>AX$2,1-_xlfn.NORM.DIST(0,INDEX(Rating,$F8)-INDEX(Rating,AX$2),10,1),\"\")","v":0.61523892415389181},{"$f":"IF($F8<>AY$2,1-_xlfn.NORM.DIST(0,INDEX(Rating,$F8)-INDEX(Rating,AY$2),10,1),\"\")","v":0.64244429687697047},{"$f":"IF($F8<>AZ$2,1-_xlfn.NORM.DIST(0,INDEX(Rating,$F8)-INDEX(Rating,AZ$2),10,1),\"\")","v":0.44788765370246364},{"$f":"IF($F8<>BA$2,1-_xlfn.NORM.DIST(0,INDEX(Rating,$F8)-INDEX(Rating,BA$2),10,1),\"\")","v":0.88666857731109006},{"$f":"IF($F8<>BB$2,1-_xlfn.NORM.DIST(0,INDEX(Rating,$F8)-INDEX(Rating,BB$2),10,1),\"\")","v":0.46454095506055926},{"$f":"IF($F8<>BC$2,1-_xlfn.NORM.DIST(0,INDEX(Rating,$F8)-INDEX(Rating,BC$2),10,1),\"\")","v":0.55211234629753636},{"$f":"IF($F8<>BD$2,1-_xlfn.NORM.DIST(0,INDEX(Rating,$F8)-INDEX(Rating,BD$2),10,1),\"\")","v":0.2990967942379148},{"$f":"IF($F8<>BE$2,1-_xlfn.NORM.DIST(0,INDEX(Rating,$F8)-INDEX(Rating,BE$2),10,1),\"\")","v":0.81753207377986126},{"$f":"IF($F8<>BF$2,1-_xlfn.NORM.DIST(0,INDEX(Rating,$F8)-INDEX(Rating,BF$2),10,1),\"\")","v":0.3170371889515291},{"$f":"IF($F8<>BG$2,1-_xlfn.NORM.DIST(0,INDEX(Rating,$F8)-INDEX(Rating,BG$2),10,1),\"\")","v":0.94727636844263796},{"$f":"IF($F8<>BH$2,1-_xlfn.NORM.DIST(0,INDEX(Rating,$F8)-INDEX(Rating,BH$2),10,1),\"\")","v":0.47727259757138407},{"$f":"IF($F8<>BI$2,1-_xlfn.NORM.DIST(0,INDEX(Rating,$F8)-INDEX(Rating,BI$2),10,1),\"\")","v":0.4956117234126739},{"$f":"IF($F8<>BJ$2,1-_xlfn.NORM.DIST(0,INDEX(Rating,$F8)-INDEX(Rating,BJ$2),10,1),\"\")","v":0.4506576375317386},{"$f":"IF($F8<>BK$2,1-_xlfn.NORM.DIST(0,INDEX(Rating,$F8)-INDEX(Rating,BK$2),10,1),\"\")","v":0.56906726888470849},{"$f":"IF($F8<>BL$2,1-_xlfn.NORM.DIST(0,INDEX(Rating,$F8)-INDEX(Rating,BL$2),10,1),\"\")","v":0.31277492053570777},{"$f":"IF($F8<>BM$2,1-_xlfn.NORM.DIST(0,INDEX(Rating,$F8)-INDEX(Rating,BM$2),10,1),\"\")","v":0.70884031321165364},{"$f":"IF($F8<>BN$2,1-_xlfn.NORM.DIST(0,INDEX(Rating,$F8)-INDEX(Rating,BN$2),10,1),\"\")","v":0.46970954909974316},{"$f":"IF($F8<>BO$2,1-_xlfn.NORM.DIST(0,INDEX(Rating,$F8)-INDEX(Rating,BO$2),10,1),\"\")","v":0.66275727315175059},{"$f":"IF($F8<>BP$2,1-_xlfn.NORM.DIST(0,INDEX(Rating,$F8)-INDEX(Rating,BP$2),10,1),\"\")","v":0.72508003345932304},{"$f":"IF($F8<>BQ$2,1-_xlfn.NORM.DIST(0,INDEX(Rating,$F8)-INDEX(Rating,BQ$2),10,1),\"\")","v":0.2987496679726146},{"$f":"IF($F8<>BR$2,1-_xlfn.NORM.DIST(0,INDEX(Rating,$F8)-INDEX(Rating,BR$2),10,1),\"\")","v":0.82095221389939055},{"$f":"IF($F8<>BS$2,1-_xlfn.NORM.DIST(0,INDEX(Rating,$F8)-INDEX(Rating,BS$2),10,1),\"\")","v":0.55013403771226588},{"$f":"IF($F8<>BT$2,1-_xlfn.NORM.DIST(0,INDEX(Rating,$F8)-INDEX(Rating,BT$2),10,1),\"\")","v":0.62930001894065346},{"$f":"IF($F8<>BU$2,1-_xlfn.NORM.DIST(0,INDEX(Rating,$F8)-INDEX(Rating,BU$2),10,1),\"\")","v":0.27358706869781324},{"$f":"IF($F8<>BV$2,1-_xlfn.NORM.DIST(0,INDEX(Rating,$F8)-INDEX(Rating,BV$2),10,1),\"\")","v":0.89158474793019593}]
[null,"Charleston",7,80.69,null,7,{"$f":"IF($F9<>G$2,1-_xlfn.NORM.DIST(0,INDEX(Rating,$F9)-INDEX(Rating,G$2),10,1),\"\")","v":0.11047611376552435},{"$f":"IF($F9<>H$2,1-_xlfn.NORM.DIST(0,INDEX(Rating,$F9)-INDEX(Rating,H$2),10,1),\"\")","v":0.85198851523863406},{"$f":"IF($F9<>I$2,1-_xlfn.NORM.DIST(0,INDEX(Rating,$F9)-INDEX(Rating,I$2),10,1),\"\")","v":0.91849208021854867},{"$f":"IF($F9<>J$2,1-_xlfn.NORM.DIST(0,INDEX(Rating,$F9)-INDEX(Rating,J$2),10,1),\"\")","v":0.31632510251932311},{"$f":"IF($F9<>K$2,1-_xlfn.NORM.DIST(0,INDEX(Rating,$F9)-INDEX(Rating,K$2),10,1),\"\")","v":0.30257807941188386},{"$f":"IF($F9<>L$2,1-_xlfn.NORM.DIST(0,INDEX(Rating,$F9)-INDEX(Rating,L$2),10,1),\"\")","v":0.32635522028791997},{"$f":"IF($F9<>M$2,1-_xlfn.NORM.DIST(0,INDEX(Rating,$F9)-INDEX(Rating,M$2),10,1),\"\")","v":""},{"$f":"IF($F9<>N$2,1-_xlfn.NORM.DIST(0,INDEX(Rating,$F9)-INDEX(Rating,N$2),10,1),\"\")","v":0.33033076816399132},{"$f":"IF($F9<>O$2,1-_xlfn.NORM.DIST(0,INDEX(Rating,$F9)-INDEX(Rating,O$2),10,1),\"\")","v":0.54815448240250775},{"$f":"IF($F9<>P$2,1-_xlfn.NORM.DIST(0,INDEX(Rating,$F9)-INDEX(Rating,P$2),10,1),\"\")","v":0.24384110446023199},{"$f":"IF($F9<>Q$2,1-_xlfn.NORM.DIST(0,INDEX(Rating,$F9)-INDEX(Rating,Q$2),10,1),\"\")","v":0.39897541865743413},{"$f":"IF($F9<>R$2,1-_xlfn.NORM.DIST(0,INDEX(Rating,$F9)-INDEX(Rating,R$2),10,1),\"\")","v":0.25238606671091823},{"$f":"IF($F9<>S$2,1-_xlfn.NORM.DIST(0,INDEX(Rating,$F9)-INDEX(Rating,S$2),10,1),\"\")","v":0.66567443980567598},{"$f":"IF($F9<>T$2,1-_xlfn.NORM.DIST(0,INDEX(Rating,$F9)-INDEX(Rating,T$2),10,1),\"\")","v":0.43289832069955758},{"$f":"IF($F9<>U$2,1-_xlfn.NORM.DIST(0,INDEX(Rating,$F9)-INDEX(Rating,U$2),10,1),\"\")","v":0.36579923007762405},{"$f":"IF($F9<>V$2,1-_xlfn.NORM.DIST(0,INDEX(Rating,$F9)-INDEX(Rating,V$2),10,1),\"\")","v":0.17957132006105847},{"$f":"IF($F9<>W$2,1-_xlfn.NORM.DIST(0,INDEX(Rating,$F9)-INDEX(Rating,W$2),10,1),\"\")","v":0.66930685828554881},{"$f":"IF($F9<>X$2,1-_xlfn.NORM.DIST(0,INDEX(Rating,$F9)-INDEX(Rating,X$2),10,1),\"\")","v":0.19849756072432445},{"$f":"IF($F9<>Y$2,1-_xlfn.NORM.DIST(0,INDEX(Rating,$F9)-INDEX(Rating,Y$2),10,1),\"\")","v":0.93846320320240695},{"$f":"IF($F9<>Z$2,1-_xlfn.NORM.DIST(0,INDEX(Rating,$F9)-INDEX(Rating,Z$2),10,1),\"\")","v":0.95381245428820738},{"$f":"IF($F9<>AA$2,1-_xlfn.NORM.DIST(0,INDEX(Rating,$F9)-INDEX(Rating,AA$2),10,1),\"\")","v":0.27961015601934913},{"$f":"IF($F9<>AB$2,1-_xlfn.NORM.DIST(0,INDEX(Rating,$F9)-INDEX(Rating,AB$2),10,1),\"\")","v":0.383233254568075},{"$f":"IF($F9<>AC$2,1-_xlfn.NORM.DIST(0,INDEX(Rating,$F9)-INDEX(Rating,AC$2),10,1),\"\")","v":0.25302524653753766},{"$f":"IF($F9<>AD$2,1-_xlfn.NORM.DIST(0,INDEX(Rating,$F9)-INDEX(Rating,AD$2),10,1),\"\")","v":0.50797831371690205},{"$f":"IF($F9<>AE$2,1-_xlfn.NORM.DIST(0,INDEX(Rating,$F9)-INDEX(Rating,AE$2),10,1),\"\")","v":0.19517025800282384},{"$f":"IF($F9<>AF$2,1-_xlfn.NORM.DIST(0,INDEX(Rating,$F9)-INDEX(Rating,AF$2),10,1),\"\")","v":0.62816605739323272},{"$f":"IF($F9<>AG$2,1-_xlfn.NORM.DIST(0,INDEX(Rating,$F9)-INDEX(Rating,AG$2),10,1),\"\")","v":0.29944410348695294},{"$f":"IF($F9<>AH$2,1-_xlfn.NORM.DIST(0,INDEX(Rating,$F9)-INDEX(Rating,AH$2),10,1),\"\")","v":0.36579923007762405},{"$f":"IF($F9<>AI$2,1-_xlfn.NORM.DIST(0,INDEX(Rating,$F9)-INDEX(Rating,AI$2),10,1),\"\")","v":0.32096572829712178},{"$f":"IF($F9<>AJ$2,1-_xlfn.NORM.DIST(0,INDEX(Rating,$F9)-INDEX(Rating,AJ$2),10,1),\"\")","v":0.72474630969629084},{"$f":"IF($F9<>AK$2,1-_xlfn.NORM.DIST(0,INDEX(Rating,$F9)-INDEX(Rating,AK$2),10,1),\"\")","v":0.33578290664457089},{"$f":"IF($F9<>AL$2,1-_xlfn.NORM.DIST(0,INDEX(Rating,$F9)-INDEX(Rating,AL$2),10,1),\"\")","v":0.36579923007762405},{"$f":"IF($F9<>AM$2,1-_xlfn.NORM.DIST(0,INDEX(Rating,$F9)-INDEX(Rating,AM$2),10,1),\"\")","v":0.24761947543107254},{"$f":"IF($F9<>AN$2,1-_xlfn.NORM.DIST(0,INDEX(Rating,$F9)-INDEX(Rating,AN$2),10,1),\"\")","v":0.6535785560137084},{"$f":"IF($F9<>AO$2,1-_xlfn.NORM.DIST(0,INDEX(Rating,$F9)-INDEX(Rating,AO$2),10,1),\"\")","v":0.13221106730312449},{"$f":"IF($F9<>AP$2,1-_xlfn.NORM.DIST(0,INDEX(Rating,$F9)-INDEX(Rating,AP$2),10,1),\"\")","v":0.79016675842434592},{"$f":"IF($F9<>AQ$2,1-_xlfn.NORM.DIST(0,INDEX(Rating,$F9)-INDEX(Rating,AQ$2),10,1),\"\")","v":0.338705001607847},{"$f":"IF($F9<>AR$2,1-_xlfn.NORM.DIST(0,INDEX(Rating,$F9)-INDEX(Rating,AR$2),10,1),\"\")","v":0.32168218355186573},{"$f":"IF($F9<>AS$2,1-_xlfn.NORM.DIST(0,INDEX(Rating,$F9)-INDEX(Rating,AS$2),10,1),\"\")","v":0.36354465478346354},{"$f":"IF($F9<>AT$2,1-_xlfn.NORM.DIST(0,INDEX(Rating,$F9)-INDEX(Rating,AT$2),10,1),\"\")","v":0.4518455175974917},{"$f":"IF($F9<>AU$2,1-_xlfn.NORM.DIST(0,INDEX(Rating,$F9)-INDEX(Rating,AU$2),10,1),\"\")","v":0.29047417663514674},{"$f":"IF($F9<>AV$2,1-_xlfn.NORM.DIST(0,INDEX(Rating,$F9)-INDEX(Rating,AV$2),10,1),\"\")","v":0.48404656314716898},{"$f":"IF($F9<>AW$2,1-_xlfn.NORM.DIST(0,INDEX(Rating,$F9)-INDEX(Rating,AW$2),10,1),\"\")","v":0.35457422197998634},{"$f":"IF($F9<>AX$2,1-_xlfn.NORM.DIST(0,INDEX(Rating,$F9)-INDEX(Rating,AX$2),10,1),\"\")","v":0.43762242405082841},{"$f":"IF($F9<>AY$2,1-_xlfn.NORM.DIST(0,INDEX(Rating,$F9)-INDEX(Rating,AY$2),10,1),\"\")","v":0.46613069535537044},{"$f":"IF($F9<>AZ$2,1-_xlfn.NORM.DIST(0,INDEX(Rating,$F9)-INDEX(Rating,AZ$2),10,1),\"\")","v":0.28062022677419596},{"$f":"IF($F9<>BA$2,1-_xlfn.NORM.DIST(0,INDEX(Rating,$F9)-INDEX(Rating,BA$2),10,1),\"\")","v":0.77607372160617416},{"$f":"IF($F9<>BB$2,1-_xlfn.NORM.DIST(0,INDEX(Rating,$F9)-INDEX(Rating,BB$2),10,1),\"\")","v":0.29494342727726519},{"$f":"IF($F9<>BC$2,1-_xlfn.NORM.DIST(0,INDEX(Rating,$F9)-INDEX(Rating,BC$2),10,1),\"\")","v":0.37486325639099927},{"$f":"IF($F9<>BD$2,1-_xlfn.NORM.DIST(0,INDEX(Rating,$F9)-INDEX(Rating,BD$2),10,1),\"\")","v":0.1642845761835996},{"$f":"IF($F9<>BE$2,1-_xlfn.NORM.DIST(0,INDEX(Rating,$F9)-INDEX(Rating,BE$2),10,1),\"\")","v":0.67580501089227585},{"$f":"IF($F9<>BF$2,1-_xlfn.NORM.DIST(0,INDEX(Rating,$F9)-INDEX(Rating,BF$2),10,1),\"\")","v":0.17722299012489962},{"$f":"IF($F9<>BG$2,1-_xlfn.NORM.DIST(0,INDEX(Rating,$F9)-INDEX(Rating,BG$2),10,1),\"\")","v":0.87879818431396883},{"$f":"IF($F9<>BH$2,1-_xlfn.NORM.DIST(0,INDEX(Rating,$F9)-INDEX(Rating,BH$2),10,1),\"\")","v":0.30607740928518434},{"$f":"IF($F9<>BI$2,1-_xlfn.NORM.DIST(0,INDEX(Rating,$F9)-INDEX(Rating,BI$2),10,1),\"\")","v":0.32239930255122007},{"$f":"IF($F9<>BJ$2,1-_xlfn.NORM.DIST(0,INDEX(Rating,$F9)-INDEX(Rating,BJ$2),10,1),\"\")","v":0.28298390063691303},{"$f":"IF($F9<>BK$2,1-_xlfn.NORM.DIST(0,INDEX(Rating,$F9)-INDEX(Rating,BK$2),10,1),\"\")","v":0.39127403311656861},{"$f":"IF($F9<>BL$2,1-_xlfn.NORM.DIST(0,INDEX(Rating,$F9)-INDEX(Rating,BL$2),10,1),\"\")","v":0.17412220505336484},{"$f":"IF($F9<>BM$2,1-_xlfn.NORM.DIST(0,INDEX(Rating,$F9)-INDEX(Rating,BM$2),10,1),\"\")","v":0.53982783727702899},{"$f":"IF($F9<>BN$2,1-_xlfn.NORM.DIST(0,INDEX(Rating,$F9)-INDEX(Rating,BN$2),10,1),\"\")","v":0.29944410348695294},{"$f":"IF($F9<>BO$2,1-_xlfn.NORM.DIST(0,INDEX(Rating,$F9)-INDEX(Rating,BO$2),10,1),\"\")","v":0.4880335265858875},{"$f":"IF($F9<>BP$2,1-_xlfn.NORM.DIST(0,INDEX(Rating,$F9)-INDEX(Rating,BP$2),10,1),\"\")","v":0.55882861587888288},{"$f":"IF($F9<>BQ$2,1-_xlfn.NORM.DIST(0,INDEX(Rating,$F9)-INDEX(Rating,BQ$2),10,1),\"\")","v":0.16403716204206731},{"$f":"IF($F9<>BR$2,1-_xlfn.NORM.DIST(0,INDEX(Rating,$F9)-INDEX(Rating,BR$2),10,1),\"\")","v":0.68046518199067207},{"$f":"IF($F9<>BS$2,1-_xlfn.NORM.DIST(0,INDEX(Rating,$F9)-INDEX(Rating,BS$2),10,1),\"\")","v":0.37296901711544905},{"$f":"IF($F9<>BT$2,1-_xlfn.NORM.DIST(0,INDEX(Rating,$F9)-INDEX(Rating,BT$2),10,1),\"\")","v":0.45224157397941611},{"$f":"IF($F9<>BU$2,1-_xlfn.NORM.DIST(0,INDEX(Rating,$F9)-INDEX(Rating,BU$2),10,1),\"\")","v":0.14639977481530053},{"$f":"IF($F9<>BV$2,1-_xlfn.NORM.DIST(0,INDEX(Rating,$F9)-INDEX(Rating,BV$2),10,1),\"\")","v":0.78377321570242431}]
[null,"Virginia",8,85.08,null,8,{"$f":"IF($F10<>G$2,1-_xlfn.NORM.DIST(0,INDEX(Rating,$F10)-INDEX(Rating,G$2),10,1),\"\")","v":0.21622678429757536},{"$f":"IF($F10<>H$2,1-_xlfn.NORM.DIST(0,INDEX(Rating,$F10)-INDEX(Rating,H$2),10,1),\"\")","v":0.931095539704481},{"$f":"IF($F10<>I$2,1-_xlfn.NORM.DIST(0,INDEX(Rating,$F10)-INDEX(Rating,I$2),10,1),\"\")","v":0.96667300292463443},{"$f":"IF($F10<>J$2,1-_xlfn.NORM.DIST(0,INDEX(Rating,$F10)-INDEX(Rating,J$2),10,1),\"\")","v":0.48444519430750599},{"$f":"IF($F10<>K$2,1-_xlfn.NORM.DIST(0,INDEX(Rating,$F10)-INDEX(Rating,K$2),10,1),\"\")","v":0.46891402649697533},{"$f":"IF($F10<>L$2,1-_xlfn.NORM.DIST(0,INDEX(Rating,$F10)-INDEX(Rating,L$2),10,1),\"\")","v":0.4956117234126739},{"$f":"IF($F10<>M$2,1-_xlfn.NORM.DIST(0,INDEX(Rating,$F10)-INDEX(Rating,M$2),10,1),\"\")","v":0.66966923183600868},{"$f":"IF($F10<>N$2,1-_xlfn.NORM.DIST(0,INDEX(Rating,$F10)-INDEX(Rating,N$2),10,1),\"\")","v":""},{"$f":"IF($F10<>O$2,1-_xlfn.NORM.DIST(0,INDEX(Rating,$F10)-INDEX(Rating,O$2),10,1),\"\")","v":0.71226028115097284},{"$f":"IF($F10<>P$2,1-_xlfn.NORM.DIST(0,INDEX(Rating,$F10)-INDEX(Rating,P$2),10,1),\"\")","v":0.39936154961561754},{"$f":"IF($F10<>Q$2,1-_xlfn.NORM.DIST(0,INDEX(Rating,$F10)-INDEX(Rating,Q$2),10,1),\"\")","v":0.57260099069130987},{"$f":"IF($F10<>R$2,1-_xlfn.NORM.DIST(0,INDEX(Rating,$F10)-INDEX(Rating,R$2),10,1),\"\")","v":0.40982312026096579},{"$f":"IF($F10<>S$2,1-_xlfn.NORM.DIST(0,INDEX(Rating,$F10)-INDEX(Rating,S$2),10,1),\"\")","v":0.8070289951524563},{"$f":"IF($F10<>T$2,1-_xlfn.NORM.DIST(0,INDEX(Rating,$F10)-INDEX(Rating,T$2),10,1),\"\")","v":0.60641987319803969},{"$f":"IF($F10<>U$2,1-_xlfn.NORM.DIST(0,INDEX(Rating,$F10)-INDEX(Rating,U$2),10,1),\"\")","v":0.5382397137181576},{"$f":"IF($F10<>V$2,1-_xlfn.NORM.DIST(0,INDEX(Rating,$F10)-INDEX(Rating,V$2),10,1),\"\")","v":0.31632510251932311},{"$f":"IF($F10<>W$2,1-_xlfn.NORM.DIST(0,INDEX(Rating,$F10)-INDEX(Rating,W$2),10,1),\"\")","v":0.80975668096333653},{"$f":"IF($F10<>X$2,1-_xlfn.NORM.DIST(0,INDEX(Rating,$F10)-INDEX(Rating,X$2),10,1),\"\")","v":0.34163683745104256},{"$f":"IF($F10<>Y$2,1-_xlfn.NORM.DIST(0,INDEX(Rating,$F10)-INDEX(Rating,Y$2),10,1),\"\")","v":0.97620436320642678},{"$f":"IF($F10<>Z$2,1-_xlfn.NORM.DIST(0,INDEX(Rating,$F10)-INDEX(Rating,Z$2),10,1),\"\")","v":0.98308113097836847},{"$f":"IF($F10<>AA$2,1-_xlfn.NORM.DIST(0,INDEX(Rating,$F10)-INDEX(Rating,AA$2),10,1),\"\")","v":0.44235543589507631},{"$f":"IF($F10<>AB$2,1-_xlfn.NORM.DIST(0,INDEX(Rating,$F10)-INDEX(Rating,AB$2),10,1),\"\")","v":0.55645999715678685},{"$f":"IF($F10<>AC$2,1-_xlfn.NORM.DIST(0,INDEX(Rating,$F10)-INDEX(Rating,AC$2),10,1),\"\")","v":0.41060071016398281},{"$f":"IF($F10<>AD$2,1-_xlfn.NORM.DIST(0,INDEX(Rating,$F10)-INDEX(Rating,AD$2),10,1),\"\")","v":0.67688291696102931},{"$f":"IF($F10<>AE$2,1-_xlfn.NORM.DIST(0,INDEX(Rating,$F10)-INDEX(Rating,AE$2),10,1),\"\")","v":0.33724272684824941},{"$f":"IF($F10<>AF$2,1-_xlfn.NORM.DIST(0,INDEX(Rating,$F10)-INDEX(Rating,AF$2),10,1),\"\")","v":0.77816184890748163},{"$f":"IF($F10<>AG$2,1-_xlfn.NORM.DIST(0,INDEX(Rating,$F10)-INDEX(Rating,AG$2),10,1),\"\")","v":0.46533575605428523},{"$f":"IF($F10<>AH$2,1-_xlfn.NORM.DIST(0,INDEX(Rating,$F10)-INDEX(Rating,AH$2),10,1),\"\")","v":0.5382397137181576},{"$f":"IF($F10<>AI$2,1-_xlfn.NORM.DIST(0,INDEX(Rating,$F10)-INDEX(Rating,AI$2),10,1),\"\")","v":0.48962866922599257},{"$f":"IF($F10<>AJ$2,1-_xlfn.NORM.DIST(0,INDEX(Rating,$F10)-INDEX(Rating,AJ$2),10,1),\"\")","v":0.84989892874172257},{"$f":"IF($F10<>AK$2,1-_xlfn.NORM.DIST(0,INDEX(Rating,$F10)-INDEX(Rating,AK$2),10,1),\"\")","v":0.50598390980856189},{"$f":"IF($F10<>AL$2,1-_xlfn.NORM.DIST(0,INDEX(Rating,$F10)-INDEX(Rating,AL$2),10,1),\"\")","v":0.5382397137181576},{"$f":"IF($F10<>AM$2,1-_xlfn.NORM.DIST(0,INDEX(Rating,$F10)-INDEX(Rating,AM$2),10,1),\"\")","v":0.40400269872565175},{"$f":"IF($F10<>AN$2,1-_xlfn.NORM.DIST(0,INDEX(Rating,$F10)-INDEX(Rating,AN$2),10,1),\"\")","v":0.79785950807647843},{"$f":"IF($F10<>AO$2,1-_xlfn.NORM.DIST(0,INDEX(Rating,$F10)-INDEX(Rating,AO$2),10,1),\"\")","v":0.24920297718325579},{"$f":"IF($F10<>AP$2,1-_xlfn.NORM.DIST(0,INDEX(Rating,$F10)-INDEX(Rating,AP$2),10,1),\"\")","v":0.89361780240834709},{"$f":"IF($F10<>AQ$2,1-_xlfn.NORM.DIST(0,INDEX(Rating,$F10)-INDEX(Rating,AQ$2),10,1),\"\")","v":0.50917486352496799},{"$f":"IF($F10<>AR$2,1-_xlfn.NORM.DIST(0,INDEX(Rating,$F10)-INDEX(Rating,AR$2),10,1),\"\")","v":0.49042630435396961},{"$f":"IF($F10<>AS$2,1-_xlfn.NORM.DIST(0,INDEX(Rating,$F10)-INDEX(Rating,AS$2),10,1),\"\")","v":0.53585639258517181},{"$f":"IF($F10<>AT$2,1-_xlfn.NORM.DIST(0,INDEX(Rating,$F10)-INDEX(Rating,AT$2),10,1),\"\")","v":0.62475753154533542},{"$f":"IF($F10<>AU$2,1-_xlfn.NORM.DIST(0,INDEX(Rating,$F10)-INDEX(Rating,AU$2),10,1),\"\")","v":0.45501527760722782},{"$f":"IF($F10<>AV$2,1-_xlfn.NORM.DIST(0,INDEX(Rating,$F10)-INDEX(Rating,AV$2),10,1),\"\")","v":0.65505339786756789},{"$f":"IF($F10<>AW$2,1-_xlfn.NORM.DIST(0,INDEX(Rating,$F10)-INDEX(Rating,AW$2),10,1),\"\")","v":0.52631108727192277},{"$f":"IF($F10<>AX$2,1-_xlfn.NORM.DIST(0,INDEX(Rating,$F10)-INDEX(Rating,AX$2),10,1),\"\")","v":0.61102824484941443},{"$f":"IF($F10<>AY$2,1-_xlfn.NORM.DIST(0,INDEX(Rating,$F10)-INDEX(Rating,AY$2),10,1),\"\")","v":0.63833055838210384},{"$f":"IF($F10<>AZ$2,1-_xlfn.NORM.DIST(0,INDEX(Rating,$F10)-INDEX(Rating,AZ$2),10,1),\"\")","v":0.44354000284321315},{"$f":"IF($F10<>BA$2,1-_xlfn.NORM.DIST(0,INDEX(Rating,$F10)-INDEX(Rating,BA$2),10,1),\"\")","v":0.88454149150811345},{"$f":"IF($F10<>BB$2,1-_xlfn.NORM.DIST(0,INDEX(Rating,$F10)-INDEX(Rating,BB$2),10,1),\"\")","v":0.46017216272297101},{"$f":"IF($F10<>BC$2,1-_xlfn.NORM.DIST(0,INDEX(Rating,$F10)-INDEX(Rating,BC$2),10,1),\"\")","v":0.54775842602058389},{"$f":"IF($F10<>BD$2,1-_xlfn.NORM.DIST(0,INDEX(Rating,$F10)-INDEX(Rating,BD$2),10,1),\"\")","v":0.29528852429599017},{"$f":"IF($F10<>BE$2,1-_xlfn.NORM.DIST(0,INDEX(Rating,$F10)-INDEX(Rating,BE$2),10,1),\"\")","v":0.81460645601160553},{"$f":"IF($F10<>BF$2,1-_xlfn.NORM.DIST(0,INDEX(Rating,$F10)-INDEX(Rating,BF$2),10,1),\"\")","v":0.31312916547366787},{"$f":"IF($F10<>BG$2,1-_xlfn.NORM.DIST(0,INDEX(Rating,$F10)-INDEX(Rating,BG$2),10,1),\"\")","v":0.94608241061007503},{"$f":"IF($F10<>BH$2,1-_xlfn.NORM.DIST(0,INDEX(Rating,$F10)-INDEX(Rating,BH$2),10,1),\"\")","v":0.47289281714297693},{"$f":"IF($F10<>BI$2,1-_xlfn.NORM.DIST(0,INDEX(Rating,$F10)-INDEX(Rating,BI$2),10,1),\"\")","v":0.49122397776933835},{"$f":"IF($F10<>BJ$2,1-_xlfn.NORM.DIST(0,INDEX(Rating,$F10)-INDEX(Rating,BJ$2),10,1),\"\")","v":0.44630593716561795},{"$f":"IF($F10<>BK$2,1-_xlfn.NORM.DIST(0,INDEX(Rating,$F10)-INDEX(Rating,BK$2),10,1),\"\")","v":0.56474078266451888},{"$f":"IF($F10<>BL$2,1-_xlfn.NORM.DIST(0,INDEX(Rating,$F10)-INDEX(Rating,BL$2),10,1),\"\")","v":0.30888969202505467},{"$f":"IF($F10<>BM$2,1-_xlfn.NORM.DIST(0,INDEX(Rating,$F10)-INDEX(Rating,BM$2),10,1),\"\")","v":0.70505657272273481},{"$f":"IF($F10<>BN$2,1-_xlfn.NORM.DIST(0,INDEX(Rating,$F10)-INDEX(Rating,BN$2),10,1),\"\")","v":0.46533575605428523},{"$f":"IF($F10<>BO$2,1-_xlfn.NORM.DIST(0,INDEX(Rating,$F10)-INDEX(Rating,BO$2),10,1),\"\")","v":0.65873016942587137},{"$f":"IF($F10<>BP$2,1-_xlfn.NORM.DIST(0,INDEX(Rating,$F10)-INDEX(Rating,BP$2),10,1),\"\")","v":0.7213981466421634},{"$f":"IF($F10<>BQ$2,1-_xlfn.NORM.DIST(0,INDEX(Rating,$F10)-INDEX(Rating,BQ$2),10,1),\"\")","v":0.29494342727726519},{"$f":"IF($F10<>BR$2,1-_xlfn.NORM.DIST(0,INDEX(Rating,$F10)-INDEX(Rating,BR$2),10,1),\"\")","v":0.81806088917252329},{"$f":"IF($F10<>BS$2,1-_xlfn.NORM.DIST(0,INDEX(Rating,$F10)-INDEX(Rating,BS$2),10,1),\"\")","v":0.54577743897780995},{"$f":"IF($F10<>BT$2,1-_xlfn.NORM.DIST(0,INDEX(Rating,$F10)-INDEX(Rating,BT$2),10,1),\"\")","v":0.62513674360900073},{"$f":"IF($F10<>BU$2,1-_xlfn.NORM.DIST(0,INDEX(Rating,$F10)-INDEX(Rating,BU$2),10,1),\"\")","v":0.26993816986080055},{"$f":"IF($F10<>BV$2,1-_xlfn.NORM.DIST(0,INDEX(Rating,$F10)-INDEX(Rating,BV$2),10,1),\"\")","v":0.88952388623447542}]
[null,"Furman",9,79.48,null,9,{"$f":"IF($F11<>G$2,1-_xlfn.NORM.DIST(0,INDEX(Rating,$F11)-INDEX(Rating,G$2),10,1),\"\")","v":8.9312617284337037E-2},{"$f":"IF($F11<>H$2,1-_xlfn.NORM.DIST(0,INDEX(Rating,$F11)-INDEX(Rating,H$2),10,1),\"\")","v":0.82225684210087702},{"$f":"IF($F11<>I$2,1-_xlfn.NORM.DIST(0,INDEX(Rating,$F11)-INDEX(Rating,I$2),10,1),\"\")","v":0.89866829191417896},{"$f":"IF($F11<>J$2,1-_xlfn.NORM.DIST(0,INDEX(Rating,$F11)-INDEX(Rating,J$2),10,1),\"\")","v":0.27458644228478035},{"$f":"IF($F11<>K$2,1-_xlfn.NORM.DIST(0,INDEX(Rating,$F11)-INDEX(Rating,K$2),10,1),\"\")","v":0.26173684004447961},{"$f":"IF($F11<>L$2,1-_xlfn.NORM.DIST(0,INDEX(Rating,$F11)-INDEX(Rating,L$2),10,1),\"\")","v":0.28399982142168501},{"$f":"IF($F11<>M$2,1-_xlfn.NORM.DIST(0,INDEX(Rating,$F11)-INDEX(Rating,M$2),10,1),\"\")","v":0.45184551759749225},{"$f":"IF($F11<>N$2,1-_xlfn.NORM.DIST(0,INDEX(Rating,$F11)-INDEX(Rating,N$2),10,1),\"\")","v":0.28773971884902716},{"$f":"IF($F11<>O$2,1-_xlfn.NORM.DIST(0,INDEX(Rating,$F11)-INDEX(Rating,O$2),10,1),\"\")","v":""},{"$f":"IF($F11<>P$2,1-_xlfn.NORM.DIST(0,INDEX(Rating,$F11)-INDEX(Rating,P$2),10,1),\"\")","v":0.207536155041388},{"$f":"IF($F11<>Q$2,1-_xlfn.NORM.DIST(0,INDEX(Rating,$F11)-INDEX(Rating,Q$2),10,1),\"\")","v":0.35308680245667512},{"$f":"IF($F11<>R$2,1-_xlfn.NORM.DIST(0,INDEX(Rating,$F11)-INDEX(Rating,R$2),10,1),\"\")","v":0.21534835294194943},{"$f":"IF($F11<>S$2,1-_xlfn.NORM.DIST(0,INDEX(Rating,$F11)-INDEX(Rating,S$2),10,1),\"\")","v":0.62057831388974383},{"$f":"IF($F11<>T$2,1-_xlfn.NORM.DIST(0,INDEX(Rating,$F11)-INDEX(Rating,T$2),10,1),\"\")","v":0.38590811880112297},{"$f":"IF($F11<>U$2,1-_xlfn.NORM.DIST(0,INDEX(Rating,$F11)-INDEX(Rating,U$2),10,1),\"\")","v":0.32132387281569263},{"$f":"IF($F11<>V$2,1-_xlfn.NORM.DIST(0,INDEX(Rating,$F11)-INDEX(Rating,V$2),10,1),\"\")","v":0.1496350275432029},{"$f":"IF($F11<>W$2,1-_xlfn.NORM.DIST(0,INDEX(Rating,$F11)-INDEX(Rating,W$2),10,1),\"\")","v":0.62437819887306878},{"$f":"IF($F11<>X$2,1-_xlfn.NORM.DIST(0,INDEX(Rating,$F11)-INDEX(Rating,X$2),10,1),\"\")","v":0.16652218485017056},{"$f":"IF($F11<>Y$2,1-_xlfn.NORM.DIST(0,INDEX(Rating,$F11)-INDEX(Rating,Y$2),10,1),\"\")","v":0.92234162027762578},{"$f":"IF($F11<>Z$2,1-_xlfn.NORM.DIST(0,INDEX(Rating,$F11)-INDEX(Rating,Z$2),10,1),\"\")","v":0.94085600557048876},{"$f":"IF($F11<>AA$2,1-_xlfn.NORM.DIST(0,INDEX(Rating,$F11)-INDEX(Rating,AA$2),10,1),\"\")","v":0.24040511808156451},{"$f":"IF($F11<>AB$2,1-_xlfn.NORM.DIST(0,INDEX(Rating,$F11)-INDEX(Rating,AB$2),10,1),\"\")","v":0.33797355861274336},{"$f":"IF($F11<>AC$2,1-_xlfn.NORM.DIST(0,INDEX(Rating,$F11)-INDEX(Rating,AC$2),10,1),\"\")","v":0.21593374356897488},{"$f":"IF($F11<>AD$2,1-_xlfn.NORM.DIST(0,INDEX(Rating,$F11)-INDEX(Rating,AD$2),10,1),\"\")","v":0.45977523008861398},{"$f":"IF($F11<>AE$2,1-_xlfn.NORM.DIST(0,INDEX(Rating,$F11)-INDEX(Rating,AE$2),10,1),\"\")","v":0.16354305932769242},{"$f":"IF($F11<>AF$2,1-_xlfn.NORM.DIST(0,INDEX(Rating,$F11)-INDEX(Rating,AF$2),10,1),\"\")","v":0.58160454434739284},{"$f":"IF($F11<>AG$2,1-_xlfn.NORM.DIST(0,INDEX(Rating,$F11)-INDEX(Rating,AG$2),10,1),\"\")","v":0.2588159717378703},{"$f":"IF($F11<>AH$2,1-_xlfn.NORM.DIST(0,INDEX(Rating,$F11)-INDEX(Rating,AH$2),10,1),\"\")","v":0.32132387281569263},{"$f":"IF($F11<>AI$2,1-_xlfn.NORM.DIST(0,INDEX(Rating,$F11)-INDEX(Rating,AI$2),10,1),\"\")","v":0.27893775742118487},{"$f":"IF($F11<>AJ$2,1-_xlfn.NORM.DIST(0,INDEX(Rating,$F11)-INDEX(Rating,AJ$2),10,1),\"\")","v":0.6829628110484709},{"$f":"IF($F11<>AK$2,1-_xlfn.NORM.DIST(0,INDEX(Rating,$F11)-INDEX(Rating,AK$2),10,1),\"\")","v":0.29287675880580499},{"$f":"IF($F11<>AL$2,1-_xlfn.NORM.DIST(0,INDEX(Rating,$F11)-INDEX(Rating,AL$2),10,1),\"\")","v":0.32132387281569263},{"$f":"IF($F11<>AM$2,1-_xlfn.NORM.DIST(0,INDEX(Rating,$F11)-INDEX(Rating,AM$2),10,1),\"\")","v":0.21098736728215672},{"$f":"IF($F11<>AN$2,1-_xlfn.NORM.DIST(0,INDEX(Rating,$F11)-INDEX(Rating,AN$2),10,1),\"\")","v":0.60795768917118287},{"$f":"IF($F11<>AO$2,1-_xlfn.NORM.DIST(0,INDEX(Rating,$F11)-INDEX(Rating,AO$2),10,1),\"\")","v":0.1080435413137717},{"$f":"IF($F11<>AP$2,1-_xlfn.NORM.DIST(0,INDEX(Rating,$F11)-INDEX(Rating,AP$2),10,1),\"\")","v":0.75364344579780118},{"$f":"IF($F11<>AQ$2,1-_xlfn.NORM.DIST(0,INDEX(Rating,$F11)-INDEX(Rating,AQ$2),10,1),\"\")","v":0.29563380702684794},{"$f":"IF($F11<>AR$2,1-_xlfn.NORM.DIST(0,INDEX(Rating,$F11)-INDEX(Rating,AR$2),10,1),\"\")","v":0.27961015601934947},{"$f":"IF($F11<>AS$2,1-_xlfn.NORM.DIST(0,INDEX(Rating,$F11)-INDEX(Rating,AS$2),10,1),\"\")","v":0.31917750878255569},{"$f":"IF($F11<>AT$2,1-_xlfn.NORM.DIST(0,INDEX(Rating,$F11)-INDEX(Rating,AT$2),10,1),\"\")","v":0.40439008161479972},{"$f":"IF($F11<>AU$2,1-_xlfn.NORM.DIST(0,INDEX(Rating,$F11)-INDEX(Rating,AU$2),10,1),\"\")","v":0.25047364546096984},{"$f":"IF($F11<>AV$2,1-_xlfn.NORM.DIST(0,INDEX(Rating,$F11)-INDEX(Rating,AV$2),10,1),\"\")","v":0.43604670032042403},{"$f":"IF($F11<>AW$2,1-_xlfn.NORM.DIST(0,INDEX(Rating,$F11)-INDEX(Rating,AW$2),10,1),\"\")","v":0.31065308974264472},{"$f":"IF($F11<>AX$2,1-_xlfn.NORM.DIST(0,INDEX(Rating,$F11)-INDEX(Rating,AX$2),10,1),\"\")","v":0.39050617937644894},{"$f":"IF($F11<>AY$2,1-_xlfn.NORM.DIST(0,INDEX(Rating,$F11)-INDEX(Rating,AY$2),10,1),\"\")","v":0.41839545565260716},{"$f":"IF($F11<>AZ$2,1-_xlfn.NORM.DIST(0,INDEX(Rating,$F11)-INDEX(Rating,AZ$2),10,1),\"\")","v":0.2413395817238132},{"$f":"IF($F11<>BA$2,1-_xlfn.NORM.DIST(0,INDEX(Rating,$F11)-INDEX(Rating,BA$2),10,1),\"\")","v":0.73826315995552083},{"$f":"IF($F11<>BB$2,1-_xlfn.NORM.DIST(0,INDEX(Rating,$F11)-INDEX(Rating,BB$2),10,1),\"\")","v":0.25462691467133625},{"$f":"IF($F11<>BC$2,1-_xlfn.NORM.DIST(0,INDEX(Rating,$F11)-INDEX(Rating,BC$2),10,1),\"\")","v":0.32996855366059397},{"$f":"IF($F11<>BD$2,1-_xlfn.NORM.DIST(0,INDEX(Rating,$F11)-INDEX(Rating,BD$2),10,1),\"\")","v":0.13610224463594989},{"$f":"IF($F11<>BE$2,1-_xlfn.NORM.DIST(0,INDEX(Rating,$F11)-INDEX(Rating,BE$2),10,1),\"\")","v":0.63118745689121514},{"$f":"IF($F11<>BF$2,1-_xlfn.NORM.DIST(0,INDEX(Rating,$F11)-INDEX(Rating,BF$2),10,1),\"\")","v":0.14754978909554961},{"$f":"IF($F11<>BG$2,1-_xlfn.NORM.DIST(0,INDEX(Rating,$F11)-INDEX(Rating,BG$2),10,1),\"\")","v":0.85268069655912848},{"$f":"IF($F11<>BH$2,1-_xlfn.NORM.DIST(0,INDEX(Rating,$F11)-INDEX(Rating,BH$2),10,1),\"\")","v":0.26500196999384551},{"$f":"IF($F11<>BI$2,1-_xlfn.NORM.DIST(0,INDEX(Rating,$F11)-INDEX(Rating,BI$2),10,1),\"\")","v":0.28028334043764414},{"$f":"IF($F11<>BJ$2,1-_xlfn.NORM.DIST(0,INDEX(Rating,$F11)-INDEX(Rating,BJ$2),10,1),\"\")","v":0.24352765077984084},{"$f":"IF($F11<>BK$2,1-_xlfn.NORM.DIST(0,INDEX(Rating,$F11)-INDEX(Rating,BK$2),10,1),\"\")","v":0.34568373030336685},{"$f":"IF($F11<>BL$2,1-_xlfn.NORM.DIST(0,INDEX(Rating,$F11)-INDEX(Rating,BL$2),10,1),\"\")","v":0.14479988985993941},{"$f":"IF($F11<>BM$2,1-_xlfn.NORM.DIST(0,INDEX(Rating,$F11)-INDEX(Rating,BM$2),10,1),\"\")","v":0.49162282783824907},{"$f":"IF($F11<>BN$2,1-_xlfn.NORM.DIST(0,INDEX(Rating,$F11)-INDEX(Rating,BN$2),10,1),\"\")","v":0.2588159717378703},{"$f":"IF($F11<>BO$2,1-_xlfn.NORM.DIST(0,INDEX(Rating,$F11)-INDEX(Rating,BO$2),10,1),\"\")","v":0.4399878579490597},{"$f":"IF($F11<>BP$2,1-_xlfn.NORM.DIST(0,INDEX(Rating,$F11)-INDEX(Rating,BP$2),10,1),\"\")","v":0.51077013298378549},{"$f":"IF($F11<>BQ$2,1-_xlfn.NORM.DIST(0,INDEX(Rating,$F11)-INDEX(Rating,BQ$2),10,1),\"\")","v":0.13588403294971962},{"$f":"IF($F11<>BR$2,1-_xlfn.NORM.DIST(0,INDEX(Rating,$F11)-INDEX(Rating,BR$2),10,1),\"\")","v":0.63607990825282545},{"$f":"IF($F11<>BS$2,1-_xlfn.NORM.DIST(0,INDEX(Rating,$F11)-INDEX(Rating,BS$2),10,1),\"\")","v":0.32815987706258465},{"$f":"IF($F11<>BT$2,1-_xlfn.NORM.DIST(0,INDEX(Rating,$F11)-INDEX(Rating,BT$2),10,1),\"\")","v":0.40477755826194328},{"$f":"IF($F11<>BU$2,1-_xlfn.NORM.DIST(0,INDEX(Rating,$F11)-INDEX(Rating,BU$2),10,1),\"\")","v":0.12039790284679608},{"$f":"IF($F11<>BV$2,1-_xlfn.NORM.DIST(0,INDEX(Rating,$F11)-INDEX(Rating,BV$2),10,1),\"\")","v":0.74665484445697328}]
[null,"Creighton",10,87.63,null,10,{"$f":"IF($F12<>G$2,1-_xlfn.NORM.DIST(0,INDEX(Rating,$F12)-INDEX(Rating,G$2),10,1),\"\")","v":0.298055965394876},{"$f":"IF($F12<>H$2,1-_xlfn.NORM.DIST(0,INDEX(Rating,$F12)-INDEX(Rating,H$2),10,1),\"\")","v":0.95898261853833089},{"$f":"IF($F12<>I$2,1-_xlfn.NORM.DIST(0,INDEX(Rating,$F12)-INDEX(Rating,I$2),10,1),\"\")","v":0.98164613841485493},{"$f":"IF($F12<>J$2,1-_xlfn.NORM.DIST(0,INDEX(Rating,$F12)-INDEX(Rating,J$2),10,1),\"\")","v":0.58550612621755582},{"$f":"IF($F12<>K$2,1-_xlfn.NORM.DIST(0,INDEX(Rating,$F12)-INDEX(Rating,K$2),10,1),\"\")","v":0.57024580521090396},{"$f":"IF($F12<>L$2,1-_xlfn.NORM.DIST(0,INDEX(Rating,$F12)-INDEX(Rating,L$2),10,1),\"\")","v":0.59638459004089772},{"$f":"IF($F12<>M$2,1-_xlfn.NORM.DIST(0,INDEX(Rating,$F12)-INDEX(Rating,M$2),10,1),\"\")","v":0.75615889553976801},{"$f":"IF($F12<>N$2,1-_xlfn.NORM.DIST(0,INDEX(Rating,$F12)-INDEX(Rating,N$2),10,1),\"\")","v":0.60063845038438246},{"$f":"IF($F12<>O$2,1-_xlfn.NORM.DIST(0,INDEX(Rating,$F12)-INDEX(Rating,O$2),10,1),\"\")","v":0.792463844958612},{"$f":"IF($F12<>P$2,1-_xlfn.NORM.DIST(0,INDEX(Rating,$F12)-INDEX(Rating,P$2),10,1),\"\")","v":""},{"$f":"IF($F12<>Q$2,1-_xlfn.NORM.DIST(0,INDEX(Rating,$F12)-INDEX(Rating,Q$2),10,1),\"\")","v":0.66930685828554881},{"$f":"IF($F12<>R$2,1-_xlfn.NORM.DIST(0,INDEX(Rating,$F12)-INDEX(Rating,R$2),10,1),\"\")","v":0.51077013298378482},{"$f":"IF($F12<>S$2,1-_xlfn.NORM.DIST(0,INDEX(Rating,$F12)-INDEX(Rating,S$2),10,1),\"\")","v":0.86906878004848254},{"$f":"IF($F12<>T$2,1-_xlfn.NORM.DIST(0,INDEX(Rating,$F12)-INDEX(Rating,T$2),10,1),\"\")","v":0.70020840453130417},{"$f":"IF($F12<>U$2,1-_xlfn.NORM.DIST(0,INDEX(Rating,$F12)-INDEX(Rating,U$2),10,1),\"\")","v":0.6372058258006118},{"$f":"IF($F12<>V$2,1-_xlfn.NORM.DIST(0,INDEX(Rating,$F12)-INDEX(Rating,V$2),10,1),\"\")","v":0.41176775325165438},{"$f":"IF($F12<>W$2,1-_xlfn.NORM.DIST(0,INDEX(Rating,$F12)-INDEX(Rating,W$2),10,1),\"\")","v":0.87118278279216554},{"$f":"IF($F12<>X$2,1-_xlfn.NORM.DIST(0,INDEX(Rating,$F12)-INDEX(Rating,X$2),10,1),\"\")","v":0.43919913764520113},{"$f":"IF($F12<>Y$2,1-_xlfn.NORM.DIST(0,INDEX(Rating,$F12)-INDEX(Rating,Y$2),10,1),\"\")","v":0.98732411442088885},{"$f":"IF($F12<>Z$2,1-_xlfn.NORM.DIST(0,INDEX(Rating,$F12)-INDEX(Rating,Z$2),10,1),\"\")","v":0.99127295593638176},{"$f":"IF($F12<>AA$2,1-_xlfn.NORM.DIST(0,INDEX(Rating,$F12)-INDEX(Rating,AA$2),10,1),\"\")","v":0.5437953125423165},{"$f":"IF($F12<>AB$2,1-_xlfn.NORM.DIST(0,INDEX(Rating,$F12)-INDEX(Rating,AB$2),10,1),\"\")","v":0.65431626969663315},{"$f":"IF($F12<>AC$2,1-_xlfn.NORM.DIST(0,INDEX(Rating,$F12)-INDEX(Rating,AC$2),10,1),\"\")","v":0.51156770470231039},{"$f":"IF($F12<>AD$2,1-_xlfn.NORM.DIST(0,INDEX(Rating,$F12)-INDEX(Rating,AD$2),10,1),\"\")","v":0.76238641027269571},{"$f":"IF($F12<>AE$2,1-_xlfn.NORM.DIST(0,INDEX(Rating,$F12)-INDEX(Rating,AE$2),10,1),\"\")","v":0.43447199102806455},{"$f":"IF($F12<>AF$2,1-_xlfn.NORM.DIST(0,INDEX(Rating,$F12)-INDEX(Rating,AF$2),10,1),\"\")","v":0.84637278064360533},{"$f":"IF($F12<>AG$2,1-_xlfn.NORM.DIST(0,INDEX(Rating,$F12)-INDEX(Rating,AG$2),10,1),\"\")","v":0.56670836046058426},{"$f":"IF($F12<>AH$2,1-_xlfn.NORM.DIST(0,INDEX(Rating,$F12)-INDEX(Rating,AH$2),10,1),\"\")","v":0.6372058258006118},{"$f":"IF($F12<>AI$2,1-_xlfn.NORM.DIST(0,INDEX(Rating,$F12)-INDEX(Rating,AI$2),10,1),\"\")","v":0.59056554193724264},{"$f":"IF($F12<>AJ$2,1-_xlfn.NORM.DIST(0,INDEX(Rating,$F12)-INDEX(Rating,AJ$2),10,1),\"\")","v":0.90164816124304514},{"$f":"IF($F12<>AK$2,1-_xlfn.NORM.DIST(0,INDEX(Rating,$F12)-INDEX(Rating,AK$2),10,1),\"\")","v":0.60641987319803903},{"$f":"IF($F12<>AL$2,1-_xlfn.NORM.DIST(0,INDEX(Rating,$F12)-INDEX(Rating,AL$2),10,1),\"\")","v":0.6372058258006118},{"$f":"IF($F12<>AM$2,1-_xlfn.NORM.DIST(0,INDEX(Rating,$F12)-INDEX(Rating,AM$2),10,1),\"\")","v":0.50478719247192183},{"$f":"IF($F12<>AN$2,1-_xlfn.NORM.DIST(0,INDEX(Rating,$F12)-INDEX(Rating,AN$2),10,1),\"\")","v":0.86192305715772699},{"$f":"IF($F12<>AO$2,1-_xlfn.NORM.DIST(0,INDEX(Rating,$F12)-INDEX(Rating,AO$2),10,1),\"\")","v":0.33651250872446836},{"$f":"IF($F12<>AP$2,1-_xlfn.NORM.DIST(0,INDEX(Rating,$F12)-INDEX(Rating,AP$2),10,1),\"\")","v":0.93332221921559988},{"$f":"IF($F12<>AQ$2,1-_xlfn.NORM.DIST(0,INDEX(Rating,$F12)-INDEX(Rating,AQ$2),10,1),\"\")","v":0.60949382062355106},{"$f":"IF($F12<>AR$2,1-_xlfn.NORM.DIST(0,INDEX(Rating,$F12)-INDEX(Rating,AR$2),10,1),\"\")","v":0.59134259898521624},{"$f":"IF($F12<>AS$2,1-_xlfn.NORM.DIST(0,INDEX(Rating,$F12)-INDEX(Rating,AS$2),10,1),\"\")","v":0.63495281463419806},{"$f":"IF($F12<>AT$2,1-_xlfn.NORM.DIST(0,INDEX(Rating,$F12)-INDEX(Rating,AT$2),10,1),\"\")","v":0.71667765301092801},{"$f":"IF($F12<>AU$2,1-_xlfn.NORM.DIST(0,INDEX(Rating,$F12)-INDEX(Rating,AU$2),10,1),\"\")","v":0.55645999715678685},{"$f":"IF($F12<>AV$2,1-_xlfn.NORM.DIST(0,INDEX(Rating,$F12)-INDEX(Rating,AV$2),10,1),\"\")","v":0.74344409719280025},{"$f":"IF($F12<>AW$2,1-_xlfn.NORM.DIST(0,INDEX(Rating,$F12)-INDEX(Rating,AW$2),10,1),\"\")","v":0.62589480454790003},{"$f":"IF($F12<>AX$2,1-_xlfn.NORM.DIST(0,INDEX(Rating,$F12)-INDEX(Rating,AX$2),10,1),\"\")","v":0.70436619297315206},{"$f":"IF($F12<>AY$2,1-_xlfn.NORM.DIST(0,INDEX(Rating,$F12)-INDEX(Rating,AY$2),10,1),\"\")","v":0.72873778055100913},{"$f":"IF($F12<>AZ$2,1-_xlfn.NORM.DIST(0,INDEX(Rating,$F12)-INDEX(Rating,AZ$2),10,1),\"\")","v":0.54498472239277218},{"$f":"IF($F12<>BA$2,1-_xlfn.NORM.DIST(0,INDEX(Rating,$F12)-INDEX(Rating,BA$2),10,1),\"\")","v":0.92688812299760248},{"$f":"IF($F12<>BB$2,1-_xlfn.NORM.DIST(0,INDEX(Rating,$F12)-INDEX(Rating,BB$2),10,1),\"\")","v":0.56158934134724681},{"$f":"IF($F12<>BC$2,1-_xlfn.NORM.DIST(0,INDEX(Rating,$F12)-INDEX(Rating,BC$2),10,1),\"\")","v":0.64616976667272386},{"$f":"IF($F12<>BD$2,1-_xlfn.NORM.DIST(0,INDEX(Rating,$F12)-INDEX(Rating,BD$2),10,1),\"\")","v":0.3885884185015015},{"$f":"IF($F12<>BE$2,1-_xlfn.NORM.DIST(0,INDEX(Rating,$F12)-INDEX(Rating,BE$2),10,1),\"\")","v":0.87492806436284976},{"$f":"IF($F12<>BF$2,1-_xlfn.NORM.DIST(0,INDEX(Rating,$F12)-INDEX(Rating,BF$2),10,1),\"\")","v":0.40826900690096946},{"$f":"IF($F12<>BG$2,1-_xlfn.NORM.DIST(0,INDEX(Rating,$F12)-INDEX(Rating,BG$2),10,1),\"\")","v":0.96876886688528885},{"$f":"IF($F12<>BH$2,1-_xlfn.NORM.DIST(0,INDEX(Rating,$F12)-INDEX(Rating,BH$2),10,1),\"\")","v":0.57416968352736375},{"$f":"IF($F12<>BI$2,1-_xlfn.NORM.DIST(0,INDEX(Rating,$F12)-INDEX(Rating,BI$2),10,1),\"\")","v":0.59211929711586908},{"$f":"IF($F12<>BJ$2,1-_xlfn.NORM.DIST(0,INDEX(Rating,$F12)-INDEX(Rating,BJ$2),10,1),\"\")","v":0.54775842602058344},{"$f":"IF($F12<>BK$2,1-_xlfn.NORM.DIST(0,INDEX(Rating,$F12)-INDEX(Rating,BK$2),10,1),\"\")","v":0.66202644138725664},{"$f":"IF($F12<>BL$2,1-_xlfn.NORM.DIST(0,INDEX(Rating,$F12)-INDEX(Rating,BL$2),10,1),\"\")","v":0.40361540995910228},{"$f":"IF($F12<>BM$2,1-_xlfn.NORM.DIST(0,INDEX(Rating,$F12)-INDEX(Rating,BM$2),10,1),\"\")","v":0.78640228432561976},{"$f":"IF($F12<>BN$2,1-_xlfn.NORM.DIST(0,INDEX(Rating,$F12)-INDEX(Rating,BN$2),10,1),\"\")","v":0.56670836046058426},{"$f":"IF($F12<>BO$2,1-_xlfn.NORM.DIST(0,INDEX(Rating,$F12)-INDEX(Rating,BO$2),10,1),\"\")","v":0.74665484445697328},{"$f":"IF($F12<>BP$2,1-_xlfn.NORM.DIST(0,INDEX(Rating,$F12)-INDEX(Rating,BP$2),10,1),\"\")","v":0.8001060232739432},{"$f":"IF($F12<>BQ$2,1-_xlfn.NORM.DIST(0,INDEX(Rating,$F12)-INDEX(Rating,BQ$2),10,1),\"\")","v":0.38820519032133083},{"$f":"IF($F12<>BR$2,1-_xlfn.NORM.DIST(0,INDEX(Rating,$F12)-INDEX(Rating,BR$2),10,1),\"\")","v":0.87758524878879329},{"$f":"IF($F12<>BS$2,1-_xlfn.NORM.DIST(0,INDEX(Rating,$F12)-INDEX(Rating,BS$2),10,1),\"\")","v":0.64430875480054639},{"$f":"IF($F12<>BT$2,1-_xlfn.NORM.DIST(0,INDEX(Rating,$F12)-INDEX(Rating,BT$2),10,1),\"\")","v":0.71701609936308652},{"$f":"IF($F12<>BU$2,1-_xlfn.NORM.DIST(0,INDEX(Rating,$F12)-INDEX(Rating,BU$2),10,1),\"\")","v":0.36017165677419782},{"$f":"IF($F12<>BV$2,1-_xlfn.NORM.DIST(0,INDEX(Rating,$F12)-INDEX(Rating,BV$2),10,1),\"\")","v":0.93042984259412542}]
[null,"NC State",11,83.25,null,11,{"$f":"IF($F13<>G$2,1-_xlfn.NORM.DIST(0,INDEX(Rating,$F13)-INDEX(Rating,G$2),10,1),\"\")","v":0.16652218485017023},{"$f":"IF($F13<>H$2,1-_xlfn.NORM.DIST(0,INDEX(Rating,$F13)-INDEX(Rating,H$2),10,1),\"\")","v":0.90337077263657228},{"$f":"IF($F13<>I$2,1-_xlfn.NORM.DIST(0,INDEX(Rating,$F13)-INDEX(Rating,I$2),10,1),\"\")","v":0.95063071255171372},{"$f":"IF($F13<>J$2,1-_xlfn.NORM.DIST(0,INDEX(Rating,$F13)-INDEX(Rating,J$2),10,1),\"\")","v":0.41215694166567829},{"$f":"IF($F13<>K$2,1-_xlfn.NORM.DIST(0,INDEX(Rating,$F13)-INDEX(Rating,K$2),10,1),\"\")","v":0.39704625362780865},{"$f":"IF($F13<>L$2,1-_xlfn.NORM.DIST(0,INDEX(Rating,$F13)-INDEX(Rating,L$2),10,1),\"\")","v":0.42308794095158175},{"$f":"IF($F13<>M$2,1-_xlfn.NORM.DIST(0,INDEX(Rating,$F13)-INDEX(Rating,M$2),10,1),\"\")","v":0.60102458134256587},{"$f":"IF($F13<>N$2,1-_xlfn.NORM.DIST(0,INDEX(Rating,$F13)-INDEX(Rating,N$2),10,1),\"\")","v":0.42739900930869013},{"$f":"IF($F13<>O$2,1-_xlfn.NORM.DIST(0,INDEX(Rating,$F13)-INDEX(Rating,O$2),10,1),\"\")","v":0.64691319754332488},{"$f":"IF($F13<>P$2,1-_xlfn.NORM.DIST(0,INDEX(Rating,$F13)-INDEX(Rating,P$2),10,1),\"\")","v":0.33069314171445119},{"$f":"IF($F13<>Q$2,1-_xlfn.NORM.DIST(0,INDEX(Rating,$F13)-INDEX(Rating,Q$2),10,1),\"\")","v":""},{"$f":"IF($F13<>R$2,1-_xlfn.NORM.DIST(0,INDEX(Rating,$F13)-INDEX(Rating,R$2),10,1),\"\")","v":0.34053626735096265},{"$f":"IF($F13<>S$2,1-_xlfn.NORM.DIST(0,INDEX(Rating,$F13)-INDEX(Rating,S$2),10,1),\"\")","v":0.75301241710221323},{"$f":"IF($F13<>T$2,1-_xlfn.NORM.DIST(0,INDEX(Rating,$F13)-INDEX(Rating,T$2),10,1),\"\")","v":0.53466424394571477},{"$f":"IF($F13<>U$2,1-_xlfn.NORM.DIST(0,INDEX(Rating,$F13)-INDEX(Rating,U$2),10,1),\"\")","v":0.46533575605428523},{"$f":"IF($F13<>V$2,1-_xlfn.NORM.DIST(0,INDEX(Rating,$F13)-INDEX(Rating,V$2),10,1),\"\")","v":0.25430615678278023},{"$f":"IF($F13<>W$2,1-_xlfn.NORM.DIST(0,INDEX(Rating,$F13)-INDEX(Rating,W$2),10,1),\"\")","v":0.75615889553976801},{"$f":"IF($F13<>X$2,1-_xlfn.NORM.DIST(0,INDEX(Rating,$F13)-INDEX(Rating,X$2),10,1),\"\")","v":0.27726021047827076},{"$f":"IF($F13<>Y$2,1-_xlfn.NORM.DIST(0,INDEX(Rating,$F13)-INDEX(Rating,Y$2),10,1),\"\")","v":0.96391149611408211},{"$f":"IF($F13<>Z$2,1-_xlfn.NORM.DIST(0,INDEX(Rating,$F13)-INDEX(Rating,Z$2),10,1),\"\")","v":0.97374933092038674},{"$f":"IF($F13<>AA$2,1-_xlfn.NORM.DIST(0,INDEX(Rating,$F13)-INDEX(Rating,AA$2),10,1),\"\")","v":0.37145583131173698},{"$f":"IF($F13<>AB$2,1-_xlfn.NORM.DIST(0,INDEX(Rating,$F13)-INDEX(Rating,AB$2),10,1),\"\")","v":0.4836479479317588},{"$f":"IF($F13<>AC$2,1-_xlfn.NORM.DIST(0,INDEX(Rating,$F13)-INDEX(Rating,AC$2),10,1),\"\")","v":0.34126983057412863},{"$f":"IF($F13<>AD$2,1-_xlfn.NORM.DIST(0,INDEX(Rating,$F13)-INDEX(Rating,AD$2),10,1),\"\")","v":0.60872596688343139},{"$f":"IF($F13<>AE$2,1-_xlfn.NORM.DIST(0,INDEX(Rating,$F13)-INDEX(Rating,AE$2),10,1),\"\")","v":0.27325434460573073},{"$f":"IF($F13<>AF$2,1-_xlfn.NORM.DIST(0,INDEX(Rating,$F13)-INDEX(Rating,AF$2),10,1),\"\")","v":0.72005334988812142},{"$f":"IF($F13<>AG$2,1-_xlfn.NORM.DIST(0,INDEX(Rating,$F13)-INDEX(Rating,AG$2),10,1),\"\")","v":0.39358012680196031},{"$f":"IF($F13<>AH$2,1-_xlfn.NORM.DIST(0,INDEX(Rating,$F13)-INDEX(Rating,AH$2),10,1),\"\")","v":0.46533575605428523},{"$f":"IF($F13<>AI$2,1-_xlfn.NORM.DIST(0,INDEX(Rating,$F13)-INDEX(Rating,AI$2),10,1),\"\")","v":0.41722411930834258},{"$f":"IF($F13<>AJ$2,1-_xlfn.NORM.DIST(0,INDEX(Rating,$F13)-INDEX(Rating,AJ$2),10,1),\"\")","v":0.8031703478981933},{"$f":"IF($F13<>AK$2,1-_xlfn.NORM.DIST(0,INDEX(Rating,$F13)-INDEX(Rating,AK$2),10,1),\"\")","v":0.43329163953941519},{"$f":"IF($F13<>AL$2,1-_xlfn.NORM.DIST(0,INDEX(Rating,$F13)-INDEX(Rating,AL$2),10,1),\"\")","v":0.46533575605428523},{"$f":"IF($F13<>AM$2,1-_xlfn.NORM.DIST(0,INDEX(Rating,$F13)-INDEX(Rating,AM$2),10,1),\"\")","v":0.33505392300477577},{"$f":"IF($F13<>AN$2,1-_xlfn.NORM.DIST(0,INDEX(Rating,$F13)-INDEX(Rating,AN$2),10,1),\"\")","v":0.74247675655672296},{"$f":"IF($F13<>AO$2,1-_xlfn.NORM.DIST(0,INDEX(Rating,$F13)-INDEX(Rating,AO$2),10,1),\"\")","v":0.19489452125180851},{"$f":"IF($F13<>AP$2,1-_xlfn.NORM.DIST(0,INDEX(Rating,$F13)-INDEX(Rating,AP$2),10,1),\"\")","v":0.85610902433136005},{"$f":"IF($F13<>AQ$2,1-_xlfn.NORM.DIST(0,INDEX(Rating,$F13)-INDEX(Rating,AQ$2),10,1),\"\")","v":0.43644053710856734},{"$f":"IF($F13<>AR$2,1-_xlfn.NORM.DIST(0,INDEX(Rating,$F13)-INDEX(Rating,AR$2),10,1),\"\")","v":0.41800492924938215},{"$f":"IF($F13<>AS$2,1-_xlfn.NORM.DIST(0,INDEX(Rating,$F13)-INDEX(Rating,AS$2),10,1),\"\")","v":0.46295178061181141},{"$f":"IF($F13<>AT$2,1-_xlfn.NORM.DIST(0,INDEX(Rating,$F13)-INDEX(Rating,AT$2),10,1),\"\")","v":0.5536940628343815},{"$f":"IF($F13<>AU$2,1-_xlfn.NORM.DIST(0,INDEX(Rating,$F13)-INDEX(Rating,AU$2),10,1),\"\")","v":0.38361504069809893},{"$f":"IF($F13<>AV$2,1-_xlfn.NORM.DIST(0,INDEX(Rating,$F13)-INDEX(Rating,AV$2),10,1),\"\")","v":0.58550612621755582},{"$f":"IF($F13<>AW$2,1-_xlfn.NORM.DIST(0,INDEX(Rating,$F13)-INDEX(Rating,AW$2),10,1),\"\")","v":0.45343002674093991},{"$f":"IF($F13<>AX$2,1-_xlfn.NORM.DIST(0,INDEX(Rating,$F13)-INDEX(Rating,AX$2),10,1),\"\")","v":0.53943086494742643},{"$f":"IF($F13<>AY$2,1-_xlfn.NORM.DIST(0,INDEX(Rating,$F13)-INDEX(Rating,AY$2),10,1),\"\")","v":0.56788811720241816},{"$f":"IF($F13<>AZ$2,1-_xlfn.NORM.DIST(0,INDEX(Rating,$F13)-INDEX(Rating,AZ$2),10,1),\"\")","v":0.37259053584671598},{"$f":"IF($F13<>BA$2,1-_xlfn.NORM.DIST(0,INDEX(Rating,$F13)-INDEX(Rating,BA$2),10,1),\"\")","v":0.84494708624755055},{"$f":"IF($F13<>BB$2,1-_xlfn.NORM.DIST(0,INDEX(Rating,$F13)-INDEX(Rating,BB$2),10,1),\"\")","v":0.3885884185015015},{"$f":"IF($F13<>BC$2,1-_xlfn.NORM.DIST(0,INDEX(Rating,$F13)-INDEX(Rating,BC$2),10,1),\"\")","v":0.4748832521613271},{"$f":"IF($F13<>BD$2,1-_xlfn.NORM.DIST(0,INDEX(Rating,$F13)-INDEX(Rating,BD$2),10,1),\"\")","v":0.23545475736992239},{"$f":"IF($F13<>BE$2,1-_xlfn.NORM.DIST(0,INDEX(Rating,$F13)-INDEX(Rating,BE$2),10,1),\"\")","v":0.76176761198943033},{"$f":"IF($F13<>BF$2,1-_xlfn.NORM.DIST(0,INDEX(Rating,$F13)-INDEX(Rating,BF$2),10,1),\"\")","v":0.25142889509530997},{"$f":"IF($F13<>BG$2,1-_xlfn.NORM.DIST(0,INDEX(Rating,$F13)-INDEX(Rating,BG$2),10,1),\"\")","v":0.92292139944792817},{"$f":"IF($F13<>BH$2,1-_xlfn.NORM.DIST(0,INDEX(Rating,$F13)-INDEX(Rating,BH$2),10,1),\"\")","v":0.40090705459419285},{"$f":"IF($F13<>BI$2,1-_xlfn.NORM.DIST(0,INDEX(Rating,$F13)-INDEX(Rating,BI$2),10,1),\"\")","v":0.4187860625125519},{"$f":"IF($F13<>BJ$2,1-_xlfn.NORM.DIST(0,INDEX(Rating,$F13)-INDEX(Rating,BJ$2),10,1),\"\")","v":0.37524246845466402},{"$f":"IF($F13<>BK$2,1-_xlfn.NORM.DIST(0,INDEX(Rating,$F13)-INDEX(Rating,BK$2),10,1),\"\")","v":0.49202168628309795},{"$f":"IF($F13<>BL$2,1-_xlfn.NORM.DIST(0,INDEX(Rating,$F13)-INDEX(Rating,BL$2),10,1),\"\")","v":0.24761947543107299},{"$f":"IF($F13<>BM$2,1-_xlfn.NORM.DIST(0,INDEX(Rating,$F13)-INDEX(Rating,BM$2),10,1),\"\")","v":0.63907971740955538},{"$f":"IF($F13<>BN$2,1-_xlfn.NORM.DIST(0,INDEX(Rating,$F13)-INDEX(Rating,BN$2),10,1),\"\")","v":0.39358012680196031},{"$f":"IF($F13<>BO$2,1-_xlfn.NORM.DIST(0,INDEX(Rating,$F13)-INDEX(Rating,BO$2),10,1),\"\")","v":0.58939928983601719},{"$f":"IF($F13<>BP$2,1-_xlfn.NORM.DIST(0,INDEX(Rating,$F13)-INDEX(Rating,BP$2),10,1),\"\")","v":0.65689364041185727},{"$f":"IF($F13<>BQ$2,1-_xlfn.NORM.DIST(0,INDEX(Rating,$F13)-INDEX(Rating,BQ$2),10,1),\"\")","v":0.2351472387614415},{"$f":"IF($F13<>BR$2,1-_xlfn.NORM.DIST(0,INDEX(Rating,$F13)-INDEX(Rating,BR$2),10,1),\"\")","v":0.76577398478730507},{"$f":"IF($F13<>BS$2,1-_xlfn.NORM.DIST(0,INDEX(Rating,$F13)-INDEX(Rating,BS$2),10,1),\"\")","v":0.47289281714297693},{"$f":"IF($F13<>BT$2,1-_xlfn.NORM.DIST(0,INDEX(Rating,$F13)-INDEX(Rating,BT$2),10,1),\"\")","v":0.55408935951765992},{"$f":"IF($F13<>BU$2,1-_xlfn.NORM.DIST(0,INDEX(Rating,$F13)-INDEX(Rating,BU$2),10,1),\"\")","v":0.21301601770212986},{"$f":"IF($F13<>BV$2,1-_xlfn.NORM.DIST(0,INDEX(Rating,$F13)-INDEX(Rating,BV$2),10,1),\"\")","v":0.85106222588249802}]
[null,"Baylor",12,87.36,null,12,{"$f":"IF($F14<>G$2,1-_xlfn.NORM.DIST(0,INDEX(Rating,$F14)-INDEX(Rating,G$2),10,1),\"\")","v":0.28876371459515227},{"$f":"IF($F14<>H$2,1-_xlfn.NORM.DIST(0,INDEX(Rating,$F14)-INDEX(Rating,H$2),10,1),\"\")","v":0.95655166576973383},{"$f":"IF($F14<>I$2,1-_xlfn.NORM.DIST(0,INDEX(Rating,$F14)-INDEX(Rating,I$2),10,1),\"\")","v":0.98039613201278064},{"$f":"IF($F14<>J$2,1-_xlfn.NORM.DIST(0,INDEX(Rating,$F14)-INDEX(Rating,J$2),10,1),\"\")","v":0.57495359160499893},{"$f":"IF($F14<>K$2,1-_xlfn.NORM.DIST(0,INDEX(Rating,$F14)-INDEX(Rating,K$2),10,1),\"\")","v":0.5596176923702425},{"$f":"IF($F14<>L$2,1-_xlfn.NORM.DIST(0,INDEX(Rating,$F14)-INDEX(Rating,L$2),10,1),\"\")","v":0.58589582753034808},{"$f":"IF($F14<>M$2,1-_xlfn.NORM.DIST(0,INDEX(Rating,$F14)-INDEX(Rating,M$2),10,1),\"\")","v":0.74761393328908177},{"$f":"IF($F14<>N$2,1-_xlfn.NORM.DIST(0,INDEX(Rating,$F14)-INDEX(Rating,N$2),10,1),\"\")","v":0.59017687973903421},{"$f":"IF($F14<>O$2,1-_xlfn.NORM.DIST(0,INDEX(Rating,$F14)-INDEX(Rating,O$2),10,1),\"\")","v":0.78465164705805057},{"$f":"IF($F14<>P$2,1-_xlfn.NORM.DIST(0,INDEX(Rating,$F14)-INDEX(Rating,P$2),10,1),\"\")","v":0.48922986701621518},{"$f":"IF($F14<>Q$2,1-_xlfn.NORM.DIST(0,INDEX(Rating,$F14)-INDEX(Rating,Q$2),10,1),\"\")","v":0.65946373264903735},{"$f":"IF($F14<>R$2,1-_xlfn.NORM.DIST(0,INDEX(Rating,$F14)-INDEX(Rating,R$2),10,1),\"\")","v":""},{"$f":"IF($F14<>S$2,1-_xlfn.NORM.DIST(0,INDEX(Rating,$F14)-INDEX(Rating,S$2),10,1),\"\")","v":0.86324168175910354},{"$f":"IF($F14<>T$2,1-_xlfn.NORM.DIST(0,INDEX(Rating,$F14)-INDEX(Rating,T$2),10,1),\"\")","v":0.69075797890754587},{"$f":"IF($F14<>U$2,1-_xlfn.NORM.DIST(0,INDEX(Rating,$F14)-INDEX(Rating,U$2),10,1),\"\")","v":0.62703098288455039},{"$f":"IF($F14<>V$2,1-_xlfn.NORM.DIST(0,INDEX(Rating,$F14)-INDEX(Rating,V$2),10,1),\"\")","v":0.4012936743170763},{"$f":"IF($F14<>W$2,1-_xlfn.NORM.DIST(0,INDEX(Rating,$F14)-INDEX(Rating,W$2),10,1),\"\")","v":0.86542020543560383},{"$f":"IF($F14<>X$2,1-_xlfn.NORM.DIST(0,INDEX(Rating,$F14)-INDEX(Rating,X$2),10,1),\"\")","v":0.42857628409909942},{"$f":"IF($F14<>Y$2,1-_xlfn.NORM.DIST(0,INDEX(Rating,$F14)-INDEX(Rating,Y$2),10,1),\"\")","v":0.98641267954761891},{"$f":"IF($F14<>Z$2,1-_xlfn.NORM.DIST(0,INDEX(Rating,$F14)-INDEX(Rating,Z$2),10,1),\"\")","v":0.99061329446516144},{"$f":"IF($F14<>AA$2,1-_xlfn.NORM.DIST(0,INDEX(Rating,$F14)-INDEX(Rating,AA$2),10,1),\"\")","v":0.53307423019242006},{"$f":"IF($F14<>AB$2,1-_xlfn.NORM.DIST(0,INDEX(Rating,$F14)-INDEX(Rating,AB$2),10,1),\"\")","v":0.64430875480054683},{"$f":"IF($F14<>AC$2,1-_xlfn.NORM.DIST(0,INDEX(Rating,$F14)-INDEX(Rating,AC$2),10,1),\"\")","v":0.50079788402888004},{"$f":"IF($F14<>AD$2,1-_xlfn.NORM.DIST(0,INDEX(Rating,$F14)-INDEX(Rating,AD$2),10,1),\"\")","v":0.75395863578744904},{"$f":"IF($F14<>AE$2,1-_xlfn.NORM.DIST(0,INDEX(Rating,$F14)-INDEX(Rating,AE$2),10,1),\"\")","v":0.42387110271251094},{"$f":"IF($F14<>AF$2,1-_xlfn.NORM.DIST(0,INDEX(Rating,$F14)-INDEX(Rating,AF$2),10,1),\"\")","v":0.83988856627455077},{"$f":"IF($F14<>AG$2,1-_xlfn.NORM.DIST(0,INDEX(Rating,$F14)-INDEX(Rating,AG$2),10,1),\"\")","v":0.55606502882857445},{"$f":"IF($F14<>AH$2,1-_xlfn.NORM.DIST(0,INDEX(Rating,$F14)-INDEX(Rating,AH$2),10,1),\"\")","v":0.62703098288455039},{"$f":"IF($F14<>AI$2,1-_xlfn.NORM.DIST(0,INDEX(Rating,$F14)-INDEX(Rating,AI$2),10,1),\"\")","v":0.58004163790959617},{"$f":"IF($F14<>AJ$2,1-_xlfn.NORM.DIST(0,INDEX(Rating,$F14)-INDEX(Rating,AJ$2),10,1),\"\")","v":0.89688498652421877},{"$f":"IF($F14<>AK$2,1-_xlfn.NORM.DIST(0,INDEX(Rating,$F14)-INDEX(Rating,AK$2),10,1),\"\")","v":0.59599730127434758},{"$f":"IF($F14<>AL$2,1-_xlfn.NORM.DIST(0,INDEX(Rating,$F14)-INDEX(Rating,AL$2),10,1),\"\")","v":0.62703098288455039},{"$f":"IF($F14<>AM$2,1-_xlfn.NORM.DIST(0,INDEX(Rating,$F14)-INDEX(Rating,AM$2),10,1),\"\")","v":0.49401609019143755},{"$f":"IF($F14<>AN$2,1-_xlfn.NORM.DIST(0,INDEX(Rating,$F14)-INDEX(Rating,AN$2),10,1),\"\")","v":0.85588215740317297},{"$f":"IF($F14<>AO$2,1-_xlfn.NORM.DIST(0,INDEX(Rating,$F14)-INDEX(Rating,AO$2),10,1),\"\")","v":0.32671582832100943},{"$f":"IF($F14<>AP$2,1-_xlfn.NORM.DIST(0,INDEX(Rating,$F14)-INDEX(Rating,AP$2),10,1),\"\")","v":0.929759204416855},{"$f":"IF($F14<>AQ$2,1-_xlfn.NORM.DIST(0,INDEX(Rating,$F14)-INDEX(Rating,AQ$2),10,1),\"\")","v":0.59909294540580715},{"$f":"IF($F14<>AR$2,1-_xlfn.NORM.DIST(0,INDEX(Rating,$F14)-INDEX(Rating,AR$2),10,1),\"\")","v":0.58082325054489603},{"$f":"IF($F14<>AS$2,1-_xlfn.NORM.DIST(0,INDEX(Rating,$F14)-INDEX(Rating,AS$2),10,1),\"\")","v":0.62475753154533542},{"$f":"IF($F14<>AT$2,1-_xlfn.NORM.DIST(0,INDEX(Rating,$F14)-INDEX(Rating,AT$2),10,1),\"\")","v":0.70746703139553957},{"$f":"IF($F14<>AU$2,1-_xlfn.NORM.DIST(0,INDEX(Rating,$F14)-INDEX(Rating,AU$2),10,1),\"\")","v":0.5457774389778105},{"$f":"IF($F14<>AV$2,1-_xlfn.NORM.DIST(0,INDEX(Rating,$F14)-INDEX(Rating,AV$2),10,1),\"\")","v":0.73467038242091554},{"$f":"IF($F14<>AW$2,1-_xlfn.NORM.DIST(0,INDEX(Rating,$F14)-INDEX(Rating,AW$2),10,1),\"\")","v":0.61562104831416908},{"$f":"IF($F14<>AX$2,1-_xlfn.NORM.DIST(0,INDEX(Rating,$F14)-INDEX(Rating,AX$2),10,1),\"\")","v":0.69497426910248039},{"$f":"IF($F14<>AY$2,1-_xlfn.NORM.DIST(0,INDEX(Rating,$F14)-INDEX(Rating,AY$2),10,1),\"\")","v":0.71971665956235586},{"$f":"IF($F14<>AZ$2,1-_xlfn.NORM.DIST(0,INDEX(Rating,$F14)-INDEX(Rating,AZ$2),10,1),\"\")","v":0.53426679138636535},{"$f":"IF($F14<>BA$2,1-_xlfn.NORM.DIST(0,INDEX(Rating,$F14)-INDEX(Rating,BA$2),10,1),\"\")","v":0.92306582897169509},{"$f":"IF($F14<>BB$2,1-_xlfn.NORM.DIST(0,INDEX(Rating,$F14)-INDEX(Rating,BB$2),10,1),\"\")","v":0.55092551347931173},{"$f":"IF($F14<>BC$2,1-_xlfn.NORM.DIST(0,INDEX(Rating,$F14)-INDEX(Rating,BC$2),10,1),\"\")","v":0.63607990825282545},{"$f":"IF($F14<>BD$2,1-_xlfn.NORM.DIST(0,INDEX(Rating,$F14)-INDEX(Rating,BD$2),10,1),\"\")","v":0.37828047817798094},{"$f":"IF($F14<>BE$2,1-_xlfn.NORM.DIST(0,INDEX(Rating,$F14)-INDEX(Rating,BE$2),10,1),\"\")","v":0.86928125277442303},{"$f":"IF($F14<>BF$2,1-_xlfn.NORM.DIST(0,INDEX(Rating,$F14)-INDEX(Rating,BF$2),10,1),\"\")","v":0.39781762024632172},{"$f":"IF($F14<>BG$2,1-_xlfn.NORM.DIST(0,INDEX(Rating,$F14)-INDEX(Rating,BG$2),10,1),\"\")","v":0.96682117167373727},{"$f":"IF($F14<>BH$2,1-_xlfn.NORM.DIST(0,INDEX(Rating,$F14)-INDEX(Rating,BH$2),10,1),\"\")","v":0.56355946289143266},{"$f":"IF($F14<>BI$2,1-_xlfn.NORM.DIST(0,INDEX(Rating,$F14)-INDEX(Rating,BI$2),10,1),\"\")","v":0.58160454434739284},{"$f":"IF($F14<>BJ$2,1-_xlfn.NORM.DIST(0,INDEX(Rating,$F14)-INDEX(Rating,BJ$2),10,1),\"\")","v":0.53704821938818803},{"$f":"IF($F14<>BK$2,1-_xlfn.NORM.DIST(0,INDEX(Rating,$F14)-INDEX(Rating,BK$2),10,1),\"\")","v":0.6521013820709638},{"$f":"IF($F14<>BL$2,1-_xlfn.NORM.DIST(0,INDEX(Rating,$F14)-INDEX(Rating,BL$2),10,1),\"\")","v":0.3931955161295454},{"$f":"IF($F14<>BM$2,1-_xlfn.NORM.DIST(0,INDEX(Rating,$F14)-INDEX(Rating,BM$2),10,1),\"\")","v":0.77845924223674523},{"$f":"IF($F14<>BN$2,1-_xlfn.NORM.DIST(0,INDEX(Rating,$F14)-INDEX(Rating,BN$2),10,1),\"\")","v":0.55606502882857445},{"$f":"IF($F14<>BO$2,1-_xlfn.NORM.DIST(0,INDEX(Rating,$F14)-INDEX(Rating,BO$2),10,1),\"\")","v":0.73793757820100958},{"$f":"IF($F14<>BP$2,1-_xlfn.NORM.DIST(0,INDEX(Rating,$F14)-INDEX(Rating,BP$2),10,1),\"\")","v":0.79246384495861233},{"$f":"IF($F14<>BQ$2,1-_xlfn.NORM.DIST(0,INDEX(Rating,$F14)-INDEX(Rating,BQ$2),10,1),\"\")","v":0.37790031081558118},{"$f":"IF($F14<>BR$2,1-_xlfn.NORM.DIST(0,INDEX(Rating,$F14)-INDEX(Rating,BR$2),10,1),\"\")","v":0.87202171784858462},{"$f":"IF($F14<>BS$2,1-_xlfn.NORM.DIST(0,INDEX(Rating,$F14)-INDEX(Rating,BS$2),10,1),\"\")","v":0.6342007699223754},{"$f":"IF($F14<>BT$2,1-_xlfn.NORM.DIST(0,INDEX(Rating,$F14)-INDEX(Rating,BT$2),10,1),\"\")","v":0.70781063393868571},{"$f":"IF($F14<>BU$2,1-_xlfn.NORM.DIST(0,INDEX(Rating,$F14)-INDEX(Rating,BU$2),10,1),\"\")","v":0.35011870776527587},{"$f":"IF($F14<>BV$2,1-_xlfn.NORM.DIST(0,INDEX(Rating,$F14)-INDEX(Rating,BV$2),10,1),\"\")","v":0.92674919737968331}]
[null,"UCSB",13,76.41,null,13,{"$f":"IF($F15<>G$2,1-_xlfn.NORM.DIST(0,INDEX(Rating,$F15)-INDEX(Rating,G$2),10,1),\"\")","v":4.9267275423871548E-2},{"$f":"IF($F15<>H$2,1-_xlfn.NORM.DIST(0,INDEX(Rating,$F15)-INDEX(Rating,H$2),10,1),\"\")","v":0.73138263713916074},{"$f":"IF($F15<>I$2,1-_xlfn.NORM.DIST(0,INDEX(Rating,$F15)-INDEX(Rating,I$2),10,1),\"\")","v":0.83322798316828117},{"$f":"IF($F15<>J$2,1-_xlfn.NORM.DIST(0,INDEX(Rating,$F15)-INDEX(Rating,J$2),10,1),\"\")","v":0.18246792622013874},{"$f":"IF($F15<>K$2,1-_xlfn.NORM.DIST(0,INDEX(Rating,$F15)-INDEX(Rating,K$2),10,1),\"\")","v":0.17232943801287182},{"$f":"IF($F15<>L$2,1-_xlfn.NORM.DIST(0,INDEX(Rating,$F15)-INDEX(Rating,L$2),10,1),\"\")","v":0.18997185935906957},{"$f":"IF($F15<>M$2,1-_xlfn.NORM.DIST(0,INDEX(Rating,$F15)-INDEX(Rating,M$2),10,1),\"\")","v":0.33432556019432402},{"$f":"IF($F15<>N$2,1-_xlfn.NORM.DIST(0,INDEX(Rating,$F15)-INDEX(Rating,N$2),10,1),\"\")","v":0.1929710048475437},{"$f":"IF($F15<>O$2,1-_xlfn.NORM.DIST(0,INDEX(Rating,$F15)-INDEX(Rating,O$2),10,1),\"\")","v":0.37942168611025617},{"$f":"IF($F15<>P$2,1-_xlfn.NORM.DIST(0,INDEX(Rating,$F15)-INDEX(Rating,P$2),10,1),\"\")","v":0.13093121995151746},{"$f":"IF($F15<>Q$2,1-_xlfn.NORM.DIST(0,INDEX(Rating,$F15)-INDEX(Rating,Q$2),10,1),\"\")","v":0.24698758289778677},{"$f":"IF($F15<>R$2,1-_xlfn.NORM.DIST(0,INDEX(Rating,$F15)-INDEX(Rating,R$2),10,1),\"\")","v":0.13675831824089646},{"$f":"IF($F15<>S$2,1-_xlfn.NORM.DIST(0,INDEX(Rating,$F15)-INDEX(Rating,S$2),10,1),\"\")","v":""},{"$f":"IF($F15<>T$2,1-_xlfn.NORM.DIST(0,INDEX(Rating,$F15)-INDEX(Rating,T$2),10,1),\"\")","v":0.27525369030370916},{"$f":"IF($F15<>U$2,1-_xlfn.NORM.DIST(0,INDEX(Rating,$F15)-INDEX(Rating,U$2),10,1),\"\")","v":0.22035346579673731},{"$f":"IF($F15<>V$2,1-_xlfn.NORM.DIST(0,INDEX(Rating,$F15)-INDEX(Rating,V$2),10,1),\"\")","v":8.9312617284337037E-2},{"$f":"IF($F15<>W$2,1-_xlfn.NORM.DIST(0,INDEX(Rating,$F15)-INDEX(Rating,W$2),10,1),\"\")","v":0.50398935631463138},{"$f":"IF($F15<>X$2,1-_xlfn.NORM.DIST(0,INDEX(Rating,$F15)-INDEX(Rating,X$2),10,1),\"\")","v":0.10115462099558592},{"$f":"IF($F15<>Y$2,1-_xlfn.NORM.DIST(0,INDEX(Rating,$F15)-INDEX(Rating,Y$2),10,1),\"\")","v":0.86736040667377878},{"$f":"IF($F15<>Z$2,1-_xlfn.NORM.DIST(0,INDEX(Rating,$F15)-INDEX(Rating,Z$2),10,1),\"\")","v":0.89526062001707762},{"$f":"IF($F15<>AA$2,1-_xlfn.NORM.DIST(0,INDEX(Rating,$F15)-INDEX(Rating,AA$2),10,1),\"\")","v":0.15576902671227666},{"$f":"IF($F15<>AB$2,1-_xlfn.NORM.DIST(0,INDEX(Rating,$F15)-INDEX(Rating,AB$2),10,1),\"\")","v":0.23422601521269493},{"$f":"IF($F15<>AC$2,1-_xlfn.NORM.DIST(0,INDEX(Rating,$F15)-INDEX(Rating,AC$2),10,1),\"\")","v":0.13719689987409867},{"$f":"IF($F15<>AD$2,1-_xlfn.NORM.DIST(0,INDEX(Rating,$F15)-INDEX(Rating,AD$2),10,1),\"\")","v":0.34163683745104256},{"$f":"IF($F15<>AE$2,1-_xlfn.NORM.DIST(0,INDEX(Rating,$F15)-INDEX(Rating,AE$2),10,1),\"\")","v":9.9047144069627224E-2},{"$f":"IF($F15<>AF$2,1-_xlfn.NORM.DIST(0,INDEX(Rating,$F15)-INDEX(Rating,AF$2),10,1),\"\")","v":0.45977523008861332},{"$f":"IF($F15<>AG$2,1-_xlfn.NORM.DIST(0,INDEX(Rating,$F15)-INDEX(Rating,AG$2),10,1),\"\")","v":0.17004182119025912},{"$f":"IF($F15<>AH$2,1-_xlfn.NORM.DIST(0,INDEX(Rating,$F15)-INDEX(Rating,AH$2),10,1),\"\")","v":0.22035346579673731},{"$f":"IF($F15<>AI$2,1-_xlfn.NORM.DIST(0,INDEX(Rating,$F15)-INDEX(Rating,AI$2),10,1),\"\")","v":0.18592858633316967},{"$f":"IF($F15<>AJ$2,1-_xlfn.NORM.DIST(0,INDEX(Rating,$F15)-INDEX(Rating,AJ$2),10,1),\"\")","v":0.56710167930044242},{"$f":"IF($F15<>AK$2,1-_xlfn.NORM.DIST(0,INDEX(Rating,$F15)-INDEX(Rating,AK$2),10,1),\"\")","v":0.19710704602723217},{"$f":"IF($F15<>AL$2,1-_xlfn.NORM.DIST(0,INDEX(Rating,$F15)-INDEX(Rating,AL$2),10,1),\"\")","v":0.22035346579673731},{"$f":"IF($F15<>AM$2,1-_xlfn.NORM.DIST(0,INDEX(Rating,$F15)-INDEX(Rating,AM$2),10,1),\"\")","v":0.133499513242747},{"$f":"IF($F15<>AN$2,1-_xlfn.NORM.DIST(0,INDEX(Rating,$F15)-INDEX(Rating,AN$2),10,1),\"\")","v":0.48683729382127283},{"$f":"IF($F15<>AO$2,1-_xlfn.NORM.DIST(0,INDEX(Rating,$F15)-INDEX(Rating,AO$2),10,1),\"\")","v":6.1294166310569165E-2},{"$f":"IF($F15<>AP$2,1-_xlfn.NORM.DIST(0,INDEX(Rating,$F15)-INDEX(Rating,AP$2),10,1),\"\")","v":0.64765606807850928},{"$f":"IF($F15<>AQ$2,1-_xlfn.NORM.DIST(0,INDEX(Rating,$F15)-INDEX(Rating,AQ$2),10,1),\"\")","v":0.19933470280209287},{"$f":"IF($F15<>AR$2,1-_xlfn.NORM.DIST(0,INDEX(Rating,$F15)-INDEX(Rating,AR$2),10,1),\"\")","v":0.18646458511710018},{"$f":"IF($F15<>AS$2,1-_xlfn.NORM.DIST(0,INDEX(Rating,$F15)-INDEX(Rating,AS$2),10,1),\"\")","v":0.21857938516527498},{"$f":"IF($F15<>AT$2,1-_xlfn.NORM.DIST(0,INDEX(Rating,$F15)-INDEX(Rating,AT$2),10,1),\"\")","v":0.29150272491303708},{"$f":"IF($F15<>AU$2,1-_xlfn.NORM.DIST(0,INDEX(Rating,$F15)-INDEX(Rating,AU$2),10,1),\"\")","v":0.16354305932769242},{"$f":"IF($F15<>AV$2,1-_xlfn.NORM.DIST(0,INDEX(Rating,$F15)-INDEX(Rating,AV$2),10,1),\"\")","v":0.3198922948534163},{"$f":"IF($F15<>AW$2,1-_xlfn.NORM.DIST(0,INDEX(Rating,$F15)-INDEX(Rating,AW$2),10,1),\"\")","v":0.2115658229246149},{"$f":"IF($F15<>AX$2,1-_xlfn.NORM.DIST(0,INDEX(Rating,$F15)-INDEX(Rating,AX$2),10,1),\"\")","v":0.27927385838198271},{"$f":"IF($F15<>AY$2,1-_xlfn.NORM.DIST(0,INDEX(Rating,$F15)-INDEX(Rating,AY$2),10,1),\"\")","v":0.30397566034627244},{"$f":"IF($F15<>AZ$2,1-_xlfn.NORM.DIST(0,INDEX(Rating,$F15)-INDEX(Rating,AZ$2),10,1),\"\")","v":0.1564873170930694},{"$f":"IF($F15<>BA$2,1-_xlfn.NORM.DIST(0,INDEX(Rating,$F15)-INDEX(Rating,BA$2),10,1),\"\")","v":0.62967775722397823},{"$f":"IF($F15<>BB$2,1-_xlfn.NORM.DIST(0,INDEX(Rating,$F15)-INDEX(Rating,BB$2),10,1),\"\")","v":0.16677201683171883},{"$f":"IF($F15<>BC$2,1-_xlfn.NORM.DIST(0,INDEX(Rating,$F15)-INDEX(Rating,BC$2),10,1),\"\")","v":0.22753178041744371},{"$f":"IF($F15<>BD$2,1-_xlfn.NORM.DIST(0,INDEX(Rating,$F15)-INDEX(Rating,BD$2),10,1),\"\")","v":8.0010639136033679E-2},{"$f":"IF($F15<>BE$2,1-_xlfn.NORM.DIST(0,INDEX(Rating,$F15)-INDEX(Rating,BE$2),10,1),\"\")","v":0.51116892442604955},{"$f":"IF($F15<>BF$2,1-_xlfn.NORM.DIST(0,INDEX(Rating,$F15)-INDEX(Rating,BF$2),10,1),\"\")","v":8.7868188858160057E-2},{"$f":"IF($F15<>BG$2,1-_xlfn.NORM.DIST(0,INDEX(Rating,$F15)-INDEX(Rating,BG$2),10,1),\"\")","v":0.77065327984207799},{"$f":"IF($F15<>BH$2,1-_xlfn.NORM.DIST(0,INDEX(Rating,$F15)-INDEX(Rating,BH$2),10,1),\"\")","v":0.1748941497132217},{"$f":"IF($F15<>BI$2,1-_xlfn.NORM.DIST(0,INDEX(Rating,$F15)-INDEX(Rating,BI$2),10,1),\"\")","v":0.18700153990208868},{"$f":"IF($F15<>BJ$2,1-_xlfn.NORM.DIST(0,INDEX(Rating,$F15)-INDEX(Rating,BJ$2),10,1),\"\")","v":0.15817179642354506},{"$f":"IF($F15<>BK$2,1-_xlfn.NORM.DIST(0,INDEX(Rating,$F15)-INDEX(Rating,BK$2),10,1),\"\")","v":0.24071638680444118},{"$f":"IF($F15<>BL$2,1-_xlfn.NORM.DIST(0,INDEX(Rating,$F15)-INDEX(Rating,BL$2),10,1),\"\")","v":8.5969481695011174E-2},{"$f":"IF($F15<>BM$2,1-_xlfn.NORM.DIST(0,INDEX(Rating,$F15)-INDEX(Rating,BM$2),10,1),\"\")","v":0.37145583131173698},{"$f":"IF($F15<>BN$2,1-_xlfn.NORM.DIST(0,INDEX(Rating,$F15)-INDEX(Rating,BN$2),10,1),\"\")","v":0.17004182119025912},{"$f":"IF($F15<>BO$2,1-_xlfn.NORM.DIST(0,INDEX(Rating,$F15)-INDEX(Rating,BO$2),10,1),\"\")","v":0.32347622063391035},{"$f":"IF($F15<>BP$2,1-_xlfn.NORM.DIST(0,INDEX(Rating,$F15)-INDEX(Rating,BP$2),10,1),\"\")","v":0.38973875244420286},{"$f":"IF($F15<>BQ$2,1-_xlfn.NORM.DIST(0,INDEX(Rating,$F15)-INDEX(Rating,BQ$2),10,1),\"\")","v":7.986206238578486E-2},{"$f":"IF($F15<>BR$2,1-_xlfn.NORM.DIST(0,INDEX(Rating,$F15)-INDEX(Rating,BR$2),10,1),\"\")","v":0.5163520520682412},{"$f":"IF($F15<>BS$2,1-_xlfn.NORM.DIST(0,INDEX(Rating,$F15)-INDEX(Rating,BS$2),10,1),\"\")","v":0.226025529394003},{"$f":"IF($F15<>BT$2,1-_xlfn.NORM.DIST(0,INDEX(Rating,$F15)-INDEX(Rating,BT$2),10,1),\"\")","v":0.29184595141734859},{"$f":"IF($F15<>BU$2,1-_xlfn.NORM.DIST(0,INDEX(Rating,$F15)-INDEX(Rating,BU$2),10,1),\"\")","v":6.9436623333331782E-2},{"$f":"IF($F15<>BV$2,1-_xlfn.NORM.DIST(0,INDEX(Rating,$F15)-INDEX(Rating,BV$2),10,1),\"\")","v":0.63945409713252632}]
[null,"Missouri",14,82.38,null,14,{"$f":"IF($F16<>G$2,1-_xlfn.NORM.DIST(0,INDEX(Rating,$F16)-INDEX(Rating,G$2),10,1),\"\")","v":0.14571266237276381},{"$f":"IF($F16<>H$2,1-_xlfn.NORM.DIST(0,INDEX(Rating,$F16)-INDEX(Rating,H$2),10,1),\"\")","v":0.88762613792216127},{"$f":"IF($F16<>I$2,1-_xlfn.NORM.DIST(0,INDEX(Rating,$F16)-INDEX(Rating,I$2),10,1),\"\")","v":0.94109121579034072},{"$f":"IF($F16<>J$2,1-_xlfn.NORM.DIST(0,INDEX(Rating,$F16)-INDEX(Rating,J$2),10,1),\"\")","v":0.37866076341052146},{"$f":"IF($F16<>K$2,1-_xlfn.NORM.DIST(0,INDEX(Rating,$F16)-INDEX(Rating,K$2),10,1),\"\")","v":0.36392009174717455},{"$f":"IF($F16<>L$2,1-_xlfn.NORM.DIST(0,INDEX(Rating,$F16)-INDEX(Rating,L$2),10,1),\"\")","v":0.38935519991583889},{"$f":"IF($F16<>M$2,1-_xlfn.NORM.DIST(0,INDEX(Rating,$F16)-INDEX(Rating,M$2),10,1),\"\")","v":0.56710167930044242},{"$f":"IF($F16<>N$2,1-_xlfn.NORM.DIST(0,INDEX(Rating,$F16)-INDEX(Rating,N$2),10,1),\"\")","v":0.39358012680196031},{"$f":"IF($F16<>O$2,1-_xlfn.NORM.DIST(0,INDEX(Rating,$F16)-INDEX(Rating,O$2),10,1),\"\")","v":0.61409188119887703},{"$f":"IF($F16<>P$2,1-_xlfn.NORM.DIST(0,INDEX(Rating,$F16)-INDEX(Rating,P$2),10,1),\"\")","v":0.29979159546869583},{"$f":"IF($F16<>Q$2,1-_xlfn.NORM.DIST(0,INDEX(Rating,$F16)-INDEX(Rating,Q$2),10,1),\"\")","v":0.46533575605428523},{"$f":"IF($F16<>R$2,1-_xlfn.NORM.DIST(0,INDEX(Rating,$F16)-INDEX(Rating,R$2),10,1),\"\")","v":0.30924202109245413},{"$f":"IF($F16<>S$2,1-_xlfn.NORM.DIST(0,INDEX(Rating,$F16)-INDEX(Rating,S$2),10,1),\"\")","v":0.72474630969629084},{"$f":"IF($F16<>T$2,1-_xlfn.NORM.DIST(0,INDEX(Rating,$F16)-INDEX(Rating,T$2),10,1),\"\")","v":""},{"$f":"IF($F16<>U$2,1-_xlfn.NORM.DIST(0,INDEX(Rating,$F16)-INDEX(Rating,U$2),10,1),\"\")","v":0.43093273111529096},{"$f":"IF($F16<>V$2,1-_xlfn.NORM.DIST(0,INDEX(Rating,$F16)-INDEX(Rating,V$2),10,1),\"\")","v":0.22723007877129542},{"$f":"IF($F16<>W$2,1-_xlfn.NORM.DIST(0,INDEX(Rating,$F16)-INDEX(Rating,W$2),10,1),\"\")","v":0.72807454392977855},{"$f":"IF($F16<>X$2,1-_xlfn.NORM.DIST(0,INDEX(Rating,$F16)-INDEX(Rating,X$2),10,1),\"\")","v":0.2488858466080488},{"$f":"IF($F16<>Y$2,1-_xlfn.NORM.DIST(0,INDEX(Rating,$F16)-INDEX(Rating,Y$2),10,1),\"\")","v":0.95645944358645618},{"$f":"IF($F16<>Z$2,1-_xlfn.NORM.DIST(0,INDEX(Rating,$F16)-INDEX(Rating,Z$2),10,1),\"\")","v":0.96798708854575555},{"$f":"IF($F16<>AA$2,1-_xlfn.NORM.DIST(0,INDEX(Rating,$F16)-INDEX(Rating,AA$2),10,1),\"\")","v":0.33907095156183098},{"$f":"IF($F16<>AB$2,1-_xlfn.NORM.DIST(0,INDEX(Rating,$F16)-INDEX(Rating,AB$2),10,1),\"\")","v":0.44907448652068827},{"$f":"IF($F16<>AC$2,1-_xlfn.NORM.DIST(0,INDEX(Rating,$F16)-INDEX(Rating,AC$2),10,1),\"\")","v":0.3099472054726693},{"$f":"IF($F16<>AD$2,1-_xlfn.NORM.DIST(0,INDEX(Rating,$F16)-INDEX(Rating,AD$2),10,1),\"\")","v":0.57495359160499893},{"$f":"IF($F16<>AE$2,1-_xlfn.NORM.DIST(0,INDEX(Rating,$F16)-INDEX(Rating,AE$2),10,1),\"\")","v":0.24509709367430932},{"$f":"IF($F16<>AF$2,1-_xlfn.NORM.DIST(0,INDEX(Rating,$F16)-INDEX(Rating,AF$2),10,1),\"\")","v":0.69005279452733015},{"$f":"IF($F16<>AG$2,1-_xlfn.NORM.DIST(0,INDEX(Rating,$F16)-INDEX(Rating,AG$2),10,1),\"\")","v":0.36054590286747312},{"$f":"IF($F16<>AH$2,1-_xlfn.NORM.DIST(0,INDEX(Rating,$F16)-INDEX(Rating,AH$2),10,1),\"\")","v":0.43093273111529096},{"$f":"IF($F16<>AI$2,1-_xlfn.NORM.DIST(0,INDEX(Rating,$F16)-INDEX(Rating,AI$2),10,1),\"\")","v":0.38361504069809849},{"$f":"IF($F16<>AJ$2,1-_xlfn.NORM.DIST(0,INDEX(Rating,$F16)-INDEX(Rating,AJ$2),10,1),\"\")","v":0.77816184890748163},{"$f":"IF($F16<>AK$2,1-_xlfn.NORM.DIST(0,INDEX(Rating,$F16)-INDEX(Rating,AK$2),10,1),\"\")","v":0.3993615496156171},{"$f":"IF($F16<>AL$2,1-_xlfn.NORM.DIST(0,INDEX(Rating,$F16)-INDEX(Rating,AL$2),10,1),\"\")","v":0.43093273111529096},{"$f":"IF($F16<>AM$2,1-_xlfn.NORM.DIST(0,INDEX(Rating,$F16)-INDEX(Rating,AM$2),10,1),\"\")","v":0.30397566034627244},{"$f":"IF($F16<>AN$2,1-_xlfn.NORM.DIST(0,INDEX(Rating,$F16)-INDEX(Rating,AN$2),10,1),\"\")","v":0.71362293392883669},{"$f":"IF($F16<>AO$2,1-_xlfn.NORM.DIST(0,INDEX(Rating,$F16)-INDEX(Rating,AO$2),10,1),\"\")","v":0.17181938946717801},{"$f":"IF($F16<>AP$2,1-_xlfn.NORM.DIST(0,INDEX(Rating,$F16)-INDEX(Rating,AP$2),10,1),\"\")","v":0.83546776783315158},{"$f":"IF($F16<>AQ$2,1-_xlfn.NORM.DIST(0,INDEX(Rating,$F16)-INDEX(Rating,AQ$2),10,1),\"\")","v":0.40245411203690384},{"$f":"IF($F16<>AR$2,1-_xlfn.NORM.DIST(0,INDEX(Rating,$F16)-INDEX(Rating,AR$2),10,1),\"\")","v":0.38437895168583092},{"$f":"IF($F16<>AS$2,1-_xlfn.NORM.DIST(0,INDEX(Rating,$F16)-INDEX(Rating,AS$2),10,1),\"\")","v":0.42857628409909876},{"$f":"IF($F16<>AT$2,1-_xlfn.NORM.DIST(0,INDEX(Rating,$F16)-INDEX(Rating,AT$2),10,1),\"\")","v":0.51914187869576101},{"$f":"IF($F16<>AU$2,1-_xlfn.NORM.DIST(0,INDEX(Rating,$F16)-INDEX(Rating,AU$2),10,1),\"\")","v":0.35085988203854834},{"$f":"IF($F16<>AV$2,1-_xlfn.NORM.DIST(0,INDEX(Rating,$F16)-INDEX(Rating,AV$2),10,1),\"\")","v":0.55132117558549387},{"$f":"IF($F16<>AW$2,1-_xlfn.NORM.DIST(0,INDEX(Rating,$F16)-INDEX(Rating,AW$2),10,1),\"\")","v":0.41917674945510397},{"$f":"IF($F16<>AX$2,1-_xlfn.NORM.DIST(0,INDEX(Rating,$F16)-INDEX(Rating,AX$2),10,1),\"\")","v":0.50478719247192183},{"$f":"IF($F16<>AY$2,1-_xlfn.NORM.DIST(0,INDEX(Rating,$F16)-INDEX(Rating,AY$2),10,1),\"\")","v":0.53347178411508633},{"$f":"IF($F16<>AZ$2,1-_xlfn.NORM.DIST(0,INDEX(Rating,$F16)-INDEX(Rating,AZ$2),10,1),\"\")","v":0.34016971161496101},{"$f":"IF($F16<>BA$2,1-_xlfn.NORM.DIST(0,INDEX(Rating,$F16)-INDEX(Rating,BA$2),10,1),\"\")","v":0.82329621519043872},{"$f":"IF($F16<>BB$2,1-_xlfn.NORM.DIST(0,INDEX(Rating,$F16)-INDEX(Rating,BB$2),10,1),\"\")","v":0.35569124519945317},{"$f":"IF($F16<>BC$2,1-_xlfn.NORM.DIST(0,INDEX(Rating,$F16)-INDEX(Rating,BC$2),10,1),\"\")","v":0.4403823076297575},{"$f":"IF($F16<>BD$2,1-_xlfn.NORM.DIST(0,INDEX(Rating,$F16)-INDEX(Rating,BD$2),10,1),\"\")","v":0.20954529107107089},{"$f":"IF($F16<>BE$2,1-_xlfn.NORM.DIST(0,INDEX(Rating,$F16)-INDEX(Rating,BE$2),10,1),\"\")","v":0.73401447095129946},{"$f":"IF($F16<>BF$2,1-_xlfn.NORM.DIST(0,INDEX(Rating,$F16)-INDEX(Rating,BF$2),10,1),\"\")","v":0.22452493122860107},{"$f":"IF($F16<>BG$2,1-_xlfn.NORM.DIST(0,INDEX(Rating,$F16)-INDEX(Rating,BG$2),10,1),\"\")","v":0.90955178160528516},{"$f":"IF($F16<>BH$2,1-_xlfn.NORM.DIST(0,INDEX(Rating,$F16)-INDEX(Rating,BH$2),10,1),\"\")","v":0.36768159388864952},{"$f":"IF($F16<>BI$2,1-_xlfn.NORM.DIST(0,INDEX(Rating,$F16)-INDEX(Rating,BI$2),10,1),\"\")","v":0.38514331198515861},{"$f":"IF($F16<>BJ$2,1-_xlfn.NORM.DIST(0,INDEX(Rating,$F16)-INDEX(Rating,BJ$2),10,1),\"\")","v":0.3427387554726733},{"$f":"IF($F16<>BK$2,1-_xlfn.NORM.DIST(0,INDEX(Rating,$F16)-INDEX(Rating,BK$2),10,1),\"\")","v":0.45739448987786524},{"$f":"IF($F16<>BL$2,1-_xlfn.NORM.DIST(0,INDEX(Rating,$F16)-INDEX(Rating,BL$2),10,1),\"\")","v":0.22094665526647739},{"$f":"IF($F16<>BM$2,1-_xlfn.NORM.DIST(0,INDEX(Rating,$F16)-INDEX(Rating,BM$2),10,1),\"\")","v":0.60603515866673097},{"$f":"IF($F16<>BN$2,1-_xlfn.NORM.DIST(0,INDEX(Rating,$F16)-INDEX(Rating,BN$2),10,1),\"\")","v":0.36054590286747312},{"$f":"IF($F16<>BO$2,1-_xlfn.NORM.DIST(0,INDEX(Rating,$F16)-INDEX(Rating,BO$2),10,1),\"\")","v":0.55527492547600832},{"$f":"IF($F16<>BP$2,1-_xlfn.NORM.DIST(0,INDEX(Rating,$F16)-INDEX(Rating,BP$2),10,1),\"\")","v":0.62437819887306878},{"$f":"IF($F16<>BQ$2,1-_xlfn.NORM.DIST(0,INDEX(Rating,$F16)-INDEX(Rating,BQ$2),10,1),\"\")","v":0.20925757313650495},{"$f":"IF($F16<>BR$2,1-_xlfn.NORM.DIST(0,INDEX(Rating,$F16)-INDEX(Rating,BR$2),10,1),\"\")","v":0.73826315995552039},{"$f":"IF($F16<>BS$2,1-_xlfn.NORM.DIST(0,INDEX(Rating,$F16)-INDEX(Rating,BS$2),10,1),\"\")","v":0.43841065865275275},{"$f":"IF($F16<>BT$2,1-_xlfn.NORM.DIST(0,INDEX(Rating,$F16)-INDEX(Rating,BT$2),10,1),\"\")","v":0.5195403520294235},{"$f":"IF($F16<>BU$2,1-_xlfn.NORM.DIST(0,INDEX(Rating,$F16)-INDEX(Rating,BU$2),10,1),\"\")","v":0.18861813575583675},{"$f":"IF($F16<>BV$2,1-_xlfn.NORM.DIST(0,INDEX(Rating,$F16)-INDEX(Rating,BV$2),10,1),\"\")","v":0.82995817880974054}]
[null,"Utah St",15,84.12,null,15,{"$f":"IF($F17<>G$2,1-_xlfn.NORM.DIST(0,INDEX(Rating,$F17)-INDEX(Rating,G$2),10,1),\"\")","v":0.18915890999522367},{"$f":"IF($F17<>H$2,1-_xlfn.NORM.DIST(0,INDEX(Rating,$F17)-INDEX(Rating,H$2),10,1),\"\")","v":0.91743147744329678},{"$f":"IF($F17<>I$2,1-_xlfn.NORM.DIST(0,INDEX(Rating,$F17)-INDEX(Rating,I$2),10,1),\"\")","v":0.95889459311228875},{"$f":"IF($F17<>J$2,1-_xlfn.NORM.DIST(0,INDEX(Rating,$F17)-INDEX(Rating,J$2),10,1),\"\")","v":0.4463059371656185},{"$f":"IF($F17<>K$2,1-_xlfn.NORM.DIST(0,INDEX(Rating,$F17)-INDEX(Rating,K$2),10,1),\"\")","v":0.43093273111529151},{"$f":"IF($F17<>L$2,1-_xlfn.NORM.DIST(0,INDEX(Rating,$F17)-INDEX(Rating,L$2),10,1),\"\")","v":0.45739448987786568},{"$f":"IF($F17<>M$2,1-_xlfn.NORM.DIST(0,INDEX(Rating,$F17)-INDEX(Rating,M$2),10,1),\"\")","v":0.63420076992237595},{"$f":"IF($F17<>N$2,1-_xlfn.NORM.DIST(0,INDEX(Rating,$F17)-INDEX(Rating,N$2),10,1),\"\")","v":0.4617602862818424},{"$f":"IF($F17<>O$2,1-_xlfn.NORM.DIST(0,INDEX(Rating,$F17)-INDEX(Rating,O$2),10,1),\"\")","v":0.67867612718430737},{"$f":"IF($F17<>P$2,1-_xlfn.NORM.DIST(0,INDEX(Rating,$F17)-INDEX(Rating,P$2),10,1),\"\")","v":0.3627941741993882},{"$f":"IF($F17<>Q$2,1-_xlfn.NORM.DIST(0,INDEX(Rating,$F17)-INDEX(Rating,Q$2),10,1),\"\")","v":0.53466424394571477},{"$f":"IF($F17<>R$2,1-_xlfn.NORM.DIST(0,INDEX(Rating,$F17)-INDEX(Rating,R$2),10,1),\"\")","v":0.37296901711544961},{"$f":"IF($F17<>S$2,1-_xlfn.NORM.DIST(0,INDEX(Rating,$F17)-INDEX(Rating,S$2),10,1),\"\")","v":0.77964653420326269},{"$f":"IF($F17<>T$2,1-_xlfn.NORM.DIST(0,INDEX(Rating,$F17)-INDEX(Rating,T$2),10,1),\"\")","v":0.56906726888470904},{"$f":"IF($F17<>U$2,1-_xlfn.NORM.DIST(0,INDEX(Rating,$F17)-INDEX(Rating,U$2),10,1),\"\")","v":""},{"$f":"IF($F17<>V$2,1-_xlfn.NORM.DIST(0,INDEX(Rating,$F17)-INDEX(Rating,V$2),10,1),\"\")","v":0.28298390063691348},{"$f":"IF($F17<>W$2,1-_xlfn.NORM.DIST(0,INDEX(Rating,$F17)-INDEX(Rating,W$2),10,1),\"\")","v":0.78259875264590817},{"$f":"IF($F17<>X$2,1-_xlfn.NORM.DIST(0,INDEX(Rating,$F17)-INDEX(Rating,X$2),10,1),\"\")","v":0.30713068849159131},{"$f":"IF($F17<>Y$2,1-_xlfn.NORM.DIST(0,INDEX(Rating,$F17)-INDEX(Rating,Y$2),10,1),\"\")","v":0.97028508109168943},{"$f":"IF($F17<>Z$2,1-_xlfn.NORM.DIST(0,INDEX(Rating,$F17)-INDEX(Rating,Z$2),10,1),\"\")","v":0.97861760767805395},{"$f":"IF($F17<>AA$2,1-_xlfn.NORM.DIST(0,INDEX(Rating,$F17)-INDEX(Rating,AA$2),10,1),\"\")","v":0.40477755826194328},{"$f":"IF($F17<>AB$2,1-_xlfn.NORM.DIST(0,INDEX(Rating,$F17)-INDEX(Rating,AB$2),10,1),\"\")","v":0.51834487504449811},{"$f":"IF($F17<>AC$2,1-_xlfn.NORM.DIST(0,INDEX(Rating,$F17)-INDEX(Rating,AC$2),10,1),\"\")","v":0.37372634725730047},{"$f":"IF($F17<>AD$2,1-_xlfn.NORM.DIST(0,INDEX(Rating,$F17)-INDEX(Rating,AD$2),10,1),\"\")","v":0.64169755783570293},{"$f":"IF($F17<>AE$2,1-_xlfn.NORM.DIST(0,INDEX(Rating,$F17)-INDEX(Rating,AE$2),10,1),\"\")","v":0.3029272046094752},{"$f":"IF($F17<>AF$2,1-_xlfn.NORM.DIST(0,INDEX(Rating,$F17)-INDEX(Rating,AF$2),10,1),\"\")","v":0.74857110490469003},{"$f":"IF($F17<>AG$2,1-_xlfn.NORM.DIST(0,INDEX(Rating,$F17)-INDEX(Rating,AG$2),10,1),\"\")","v":0.42739900930869013},{"$f":"IF($F17<>AH$2,1-_xlfn.NORM.DIST(0,INDEX(Rating,$F17)-INDEX(Rating,AH$2),10,1),\"\")","v":0.5},{"$f":"IF($F17<>AI$2,1-_xlfn.NORM.DIST(0,INDEX(Rating,$F17)-INDEX(Rating,AI$2),10,1),\"\")","v":0.45144950913548698},{"$f":"IF($F17<>AJ$2,1-_xlfn.NORM.DIST(0,INDEX(Rating,$F17)-INDEX(Rating,AJ$2),10,1),\"\")","v":0.82639121966137563},{"$f":"IF($F17<>AK$2,1-_xlfn.NORM.DIST(0,INDEX(Rating,$F17)-INDEX(Rating,AK$2),10,1),\"\")","v":0.46772097625305897},{"$f":"IF($F17<>AL$2,1-_xlfn.NORM.DIST(0,INDEX(Rating,$F17)-INDEX(Rating,AL$2),10,1),\"\")","v":0.5},{"$f":"IF($F17<>AM$2,1-_xlfn.NORM.DIST(0,INDEX(Rating,$F17)-INDEX(Rating,AM$2),10,1),\"\")","v":0.36730486508160576},{"$f":"IF($F17<>AN$2,1-_xlfn.NORM.DIST(0,INDEX(Rating,$F17)-INDEX(Rating,AN$2),10,1),\"\")","v":0.76974277543492864},{"$f":"IF($F17<>AO$2,1-_xlfn.NORM.DIST(0,INDEX(Rating,$F17)-INDEX(Rating,AO$2),10,1),\"\")","v":0.21976119031998609},{"$f":"IF($F17<>AP$2,1-_xlfn.NORM.DIST(0,INDEX(Rating,$F17)-INDEX(Rating,AP$2),10,1),\"\")","v":0.87492806436284976},{"$f":"IF($F17<>AQ$2,1-_xlfn.NORM.DIST(0,INDEX(Rating,$F17)-INDEX(Rating,AQ$2),10,1),\"\")","v":0.47090305875609073},{"$f":"IF($F17<>AR$2,1-_xlfn.NORM.DIST(0,INDEX(Rating,$F17)-INDEX(Rating,AR$2),10,1),\"\")","v":0.45224157397941656},{"$f":"IF($F17<>AS$2,1-_xlfn.NORM.DIST(0,INDEX(Rating,$F17)-INDEX(Rating,AS$2),10,1),\"\")","v":0.49760636067943587},{"$f":"IF($F17<>AT$2,1-_xlfn.NORM.DIST(0,INDEX(Rating,$F17)-INDEX(Rating,AT$2),10,1),\"\")","v":0.58784305833432171},{"$f":"IF($F17<>AU$2,1-_xlfn.NORM.DIST(0,INDEX(Rating,$F17)-INDEX(Rating,AU$2),10,1),\"\")","v":0.41722411930834324},{"$f":"IF($F17<>AV$2,1-_xlfn.NORM.DIST(0,INDEX(Rating,$F17)-INDEX(Rating,AV$2),10,1),\"\")","v":0.61905506920112585},{"$f":"IF($F17<>AW$2,1-_xlfn.NORM.DIST(0,INDEX(Rating,$F17)-INDEX(Rating,AW$2),10,1),\"\")","v":0.4880335265858875},{"$f":"IF($F17<>AX$2,1-_xlfn.NORM.DIST(0,INDEX(Rating,$F17)-INDEX(Rating,AX$2),10,1),\"\")","v":0.57377761933572724},{"$f":"IF($F17<>AY$2,1-_xlfn.NORM.DIST(0,INDEX(Rating,$F17)-INDEX(Rating,AY$2),10,1),\"\")","v":0.60179654638770219},{"$f":"IF($F17<>AZ$2,1-_xlfn.NORM.DIST(0,INDEX(Rating,$F17)-INDEX(Rating,AZ$2),10,1),\"\")","v":0.4059405471011942},{"$f":"IF($F17<>BA$2,1-_xlfn.NORM.DIST(0,INDEX(Rating,$F17)-INDEX(Rating,BA$2),10,1),\"\")","v":0.8647691641941776},{"$f":"IF($F17<>BB$2,1-_xlfn.NORM.DIST(0,INDEX(Rating,$F17)-INDEX(Rating,BB$2),10,1),\"\")","v":0.42230508299837211},{"$f":"IF($F17<>BC$2,1-_xlfn.NORM.DIST(0,INDEX(Rating,$F17)-INDEX(Rating,BC$2),10,1),\"\")","v":0.50957369564603094},{"$f":"IF($F17<>BD$2,1-_xlfn.NORM.DIST(0,INDEX(Rating,$F17)-INDEX(Rating,BD$2),10,1),\"\")","v":0.2630404110565594},{"$f":"IF($F17<>BE$2,1-_xlfn.NORM.DIST(0,INDEX(Rating,$F17)-INDEX(Rating,BE$2),10,1),\"\")","v":0.78785479400462521},{"$f":"IF($F17<>BF$2,1-_xlfn.NORM.DIST(0,INDEX(Rating,$F17)-INDEX(Rating,BF$2),10,1),\"\")","v":0.27994665011187858},{"$f":"IF($F17<>BG$2,1-_xlfn.NORM.DIST(0,INDEX(Rating,$F17)-INDEX(Rating,BG$2),10,1),\"\")","v":0.93473306872956796},{"$f":"IF($F17<>BH$2,1-_xlfn.NORM.DIST(0,INDEX(Rating,$F17)-INDEX(Rating,BH$2),10,1),\"\")","v":0.43486557190549702},{"$f":"IF($F17<>BI$2,1-_xlfn.NORM.DIST(0,INDEX(Rating,$F17)-INDEX(Rating,BI$2),10,1),\"\")","v":0.453033828941658},{"$f":"IF($F17<>BJ$2,1-_xlfn.NORM.DIST(0,INDEX(Rating,$F17)-INDEX(Rating,BJ$2),10,1),\"\")","v":0.40865740101478376},{"$f":"IF($F17<>BK$2,1-_xlfn.NORM.DIST(0,INDEX(Rating,$F17)-INDEX(Rating,BK$2),10,1),\"\")","v":0.52670914839907279},{"$f":"IF($F17<>BL$2,1-_xlfn.NORM.DIST(0,INDEX(Rating,$F17)-INDEX(Rating,BL$2),10,1),\"\")","v":0.27592173549232291},{"$f":"IF($F17<>BM$2,1-_xlfn.NORM.DIST(0,INDEX(Rating,$F17)-INDEX(Rating,BM$2),10,1),\"\")","v":0.67111713264697415},{"$f":"IF($F17<>BN$2,1-_xlfn.NORM.DIST(0,INDEX(Rating,$F17)-INDEX(Rating,BN$2),10,1),\"\")","v":0.42739900930869013},{"$f":"IF($F17<>BO$2,1-_xlfn.NORM.DIST(0,INDEX(Rating,$F17)-INDEX(Rating,BO$2),10,1),\"\")","v":0.62285966892507605},{"$f":"IF($F17<>BP$2,1-_xlfn.NORM.DIST(0,INDEX(Rating,$F17)-INDEX(Rating,BP$2),10,1),\"\")","v":0.68828677622428647},{"$f":"IF($F17<>BQ$2,1-_xlfn.NORM.DIST(0,INDEX(Rating,$F17)-INDEX(Rating,BQ$2),10,1),\"\")","v":0.26271420749910102},{"$f":"IF($F17<>BR$2,1-_xlfn.NORM.DIST(0,INDEX(Rating,$F17)-INDEX(Rating,BR$2),10,1),\"\")","v":0.79160418425336898},{"$f":"IF($F17<>BS$2,1-_xlfn.NORM.DIST(0,INDEX(Rating,$F17)-INDEX(Rating,BS$2),10,1),\"\")","v":0.50757944729480475},{"$f":"IF($F17<>BT$2,1-_xlfn.NORM.DIST(0,INDEX(Rating,$F17)-INDEX(Rating,BT$2),10,1),\"\")","v":0.58823224674834562},{"$f":"IF($F17<>BU$2,1-_xlfn.NORM.DIST(0,INDEX(Rating,$F17)-INDEX(Rating,BU$2),10,1),\"\")","v":0.23916223842057216},{"$f":"IF($F17<>BV$2,1-_xlfn.NORM.DIST(0,INDEX(Rating,$F17)-INDEX(Rating,BV$2),10,1),\"\")","v":0.87034004042965185}]
[null,"Arizona",16,89.86,null,16,{"$f":"IF($F18<>G$2,1-_xlfn.NORM.DIST(0,INDEX(Rating,$F18)-INDEX(Rating,G$2),10,1),\"\")","v":0.37942168611025617},{"$f":"IF($F18<>H$2,1-_xlfn.NORM.DIST(0,INDEX(Rating,$F18)-INDEX(Rating,H$2),10,1),\"\")","v":0.97511875787330138},{"$f":"IF($F18<>I$2,1-_xlfn.NORM.DIST(0,INDEX(Rating,$F18)-INDEX(Rating,I$2),10,1),\"\")","v":0.98961115834344582},{"$f":"IF($F18<>J$2,1-_xlfn.NORM.DIST(0,INDEX(Rating,$F18)-INDEX(Rating,J$2),10,1),\"\")","v":0.66966923183600868},{"$f":"IF($F18<>K$2,1-_xlfn.NORM.DIST(0,INDEX(Rating,$F18)-INDEX(Rating,K$2),10,1),\"\")","v":0.65542174161032429},{"$f":"IF($F18<>L$2,1-_xlfn.NORM.DIST(0,INDEX(Rating,$F18)-INDEX(Rating,L$2),10,1),\"\")","v":0.67975006096419166},{"$f":"IF($F18<>M$2,1-_xlfn.NORM.DIST(0,INDEX(Rating,$F18)-INDEX(Rating,M$2),10,1),\"\")","v":0.82042867993894153},{"$f":"IF($F18<>N$2,1-_xlfn.NORM.DIST(0,INDEX(Rating,$F18)-INDEX(Rating,N$2),10,1),\"\")","v":0.68367489748067689},{"$f":"IF($F18<>O$2,1-_xlfn.NORM.DIST(0,INDEX(Rating,$F18)-INDEX(Rating,O$2),10,1),\"\")","v":0.8503649724567971},{"$f":"IF($F18<>P$2,1-_xlfn.NORM.DIST(0,INDEX(Rating,$F18)-INDEX(Rating,P$2),10,1),\"\")","v":0.58823224674834562},{"$f":"IF($F18<>Q$2,1-_xlfn.NORM.DIST(0,INDEX(Rating,$F18)-INDEX(Rating,Q$2),10,1),\"\")","v":0.74569384321721977},{"$f":"IF($F18<>R$2,1-_xlfn.NORM.DIST(0,INDEX(Rating,$F18)-INDEX(Rating,R$2),10,1),\"\")","v":0.5987063256829237},{"$f":"IF($F18<>S$2,1-_xlfn.NORM.DIST(0,INDEX(Rating,$F18)-INDEX(Rating,S$2),10,1),\"\")","v":0.91068738271566296},{"$f":"IF($F18<>T$2,1-_xlfn.NORM.DIST(0,INDEX(Rating,$F18)-INDEX(Rating,T$2),10,1),\"\")","v":0.77276992122870458},{"$f":"IF($F18<>U$2,1-_xlfn.NORM.DIST(0,INDEX(Rating,$F18)-INDEX(Rating,U$2),10,1),\"\")","v":0.71701609936308652},{"$f":"IF($F18<>V$2,1-_xlfn.NORM.DIST(0,INDEX(Rating,$F18)-INDEX(Rating,V$2),10,1),\"\")","v":""},{"$f":"IF($F18<>W$2,1-_xlfn.NORM.DIST(0,INDEX(Rating,$F18)-INDEX(Rating,W$2),10,1),\"\")","v":0.91229122148551389},{"$f":"IF($F18<>X$2,1-_xlfn.NORM.DIST(0,INDEX(Rating,$F18)-INDEX(Rating,X$2),10,1),\"\")","v":0.52790317018052124},{"$f":"IF($F18<>Y$2,1-_xlfn.NORM.DIST(0,INDEX(Rating,$F18)-INDEX(Rating,Y$2),10,1),\"\")","v":0.99303376911012087},{"$f":"IF($F18<>Z$2,1-_xlfn.NORM.DIST(0,INDEX(Rating,$F18)-INDEX(Rating,Z$2),10,1),\"\")","v":0.99533881197628127},{"$f":"IF($F18<>AA$2,1-_xlfn.NORM.DIST(0,INDEX(Rating,$F18)-INDEX(Rating,AA$2),10,1),\"\")","v":0.63043285842249785},{"$f":"IF($F18<>AB$2,1-_xlfn.NORM.DIST(0,INDEX(Rating,$F18)-INDEX(Rating,AB$2),10,1),\"\")","v":0.73237110653101711},{"$f":"IF($F18<>AC$2,1-_xlfn.NORM.DIST(0,INDEX(Rating,$F18)-INDEX(Rating,AC$2),10,1),\"\")","v":0.59947946809932529},{"$f":"IF($F18<>AD$2,1-_xlfn.NORM.DIST(0,INDEX(Rating,$F18)-INDEX(Rating,AD$2),10,1),\"\")","v":0.8256207210405857},{"$f":"IF($F18<>AE$2,1-_xlfn.NORM.DIST(0,INDEX(Rating,$F18)-INDEX(Rating,AE$2),10,1),\"\")","v":0.5231256857358384},{"$f":"IF($F18<>AF$2,1-_xlfn.NORM.DIST(0,INDEX(Rating,$F18)-INDEX(Rating,AF$2),10,1),\"\")","v":0.89325021853551456},{"$f":"IF($F18<>AG$2,1-_xlfn.NORM.DIST(0,INDEX(Rating,$F18)-INDEX(Rating,AG$2),10,1),\"\")","v":0.6521013820709638},{"$f":"IF($F18<>AH$2,1-_xlfn.NORM.DIST(0,INDEX(Rating,$F18)-INDEX(Rating,AH$2),10,1),\"\")","v":0.71701609936308652},{"$f":"IF($F18<>AI$2,1-_xlfn.NORM.DIST(0,INDEX(Rating,$F18)-INDEX(Rating,AI$2),10,1),\"\")","v":0.67436550877967938},{"$f":"IF($F18<>AJ$2,1-_xlfn.NORM.DIST(0,INDEX(Rating,$F18)-INDEX(Rating,AJ$2),10,1),\"\")","v":0.93498708025487121},{"$f":"IF($F18<>AK$2,1-_xlfn.NORM.DIST(0,INDEX(Rating,$F18)-INDEX(Rating,AK$2),10,1),\"\")","v":0.68899370632956258},{"$f":"IF($F18<>AL$2,1-_xlfn.NORM.DIST(0,INDEX(Rating,$F18)-INDEX(Rating,AL$2),10,1),\"\")","v":0.71701609936308652},{"$f":"IF($F18<>AM$2,1-_xlfn.NORM.DIST(0,INDEX(Rating,$F18)-INDEX(Rating,AM$2),10,1),\"\")","v":0.5928956333896328},{"$f":"IF($F18<>AN$2,1-_xlfn.NORM.DIST(0,INDEX(Rating,$F18)-INDEX(Rating,AN$2),10,1),\"\")","v":0.90523993272374159},{"$f":"IF($F18<>AO$2,1-_xlfn.NORM.DIST(0,INDEX(Rating,$F18)-INDEX(Rating,AO$2),10,1),\"\")","v":0.4211313722965655},{"$f":"IF($F18<>AP$2,1-_xlfn.NORM.DIST(0,INDEX(Rating,$F18)-INDEX(Rating,AP$2),10,1),\"\")","v":0.95764607841856231},{"$f":"IF($F18<>AQ$2,1-_xlfn.NORM.DIST(0,INDEX(Rating,$F18)-INDEX(Rating,AQ$2),10,1),\"\")","v":0.69181443854045799},{"$f":"IF($F18<>AR$2,1-_xlfn.NORM.DIST(0,INDEX(Rating,$F18)-INDEX(Rating,AR$2),10,1),\"\")","v":0.67508558660282603},{"$f":"IF($F18<>AS$2,1-_xlfn.NORM.DIST(0,INDEX(Rating,$F18)-INDEX(Rating,AS$2),10,1),\"\")","v":0.71498251603115193},{"$f":"IF($F18<>AT$2,1-_xlfn.NORM.DIST(0,INDEX(Rating,$F18)-INDEX(Rating,AT$2),10,1),\"\")","v":0.78698398229787014},{"$f":"IF($F18<>AU$2,1-_xlfn.NORM.DIST(0,INDEX(Rating,$F18)-INDEX(Rating,AU$2),10,1),\"\")","v":0.64244429687697102},{"$f":"IF($F18<>AV$2,1-_xlfn.NORM.DIST(0,INDEX(Rating,$F18)-INDEX(Rating,AV$2),10,1),\"\")","v":0.80975668096333653},{"$f":"IF($F18<>AW$2,1-_xlfn.NORM.DIST(0,INDEX(Rating,$F18)-INDEX(Rating,AW$2),10,1),\"\")","v":0.7067792635761394},{"$f":"IF($F18<>AX$2,1-_xlfn.NORM.DIST(0,INDEX(Rating,$F18)-INDEX(Rating,AX$2),10,1),\"\")","v":0.7763727075624004},{"$f":"IF($F18<>AY$2,1-_xlfn.NORM.DIST(0,INDEX(Rating,$F18)-INDEX(Rating,AY$2),10,1),\"\")","v":0.79729552774630019},{"$f":"IF($F18<>AZ$2,1-_xlfn.NORM.DIST(0,INDEX(Rating,$F18)-INDEX(Rating,AZ$2),10,1),\"\")","v":0.63156456676364725},{"$f":"IF($F18<>BA$2,1-_xlfn.NORM.DIST(0,INDEX(Rating,$F18)-INDEX(Rating,BA$2),10,1),\"\")","v":0.95313090369450537},{"$f":"IF($F18<>BB$2,1-_xlfn.NORM.DIST(0,INDEX(Rating,$F18)-INDEX(Rating,BB$2),10,1),\"\")","v":0.64728470301217622},{"$f":"IF($F18<>BC$2,1-_xlfn.NORM.DIST(0,INDEX(Rating,$F18)-INDEX(Rating,BC$2),10,1),\"\")","v":0.72508003345932304},{"$f":"IF($F18<>BD$2,1-_xlfn.NORM.DIST(0,INDEX(Rating,$F18)-INDEX(Rating,BD$2),10,1),\"\")","v":0.47607781734589338},{"$f":"IF($F18<>BE$2,1-_xlfn.NORM.DIST(0,INDEX(Rating,$F18)-INDEX(Rating,BE$2),10,1),\"\")","v":0.9151238266500985},{"$f":"IF($F18<>BF$2,1-_xlfn.NORM.DIST(0,INDEX(Rating,$F18)-INDEX(Rating,BF$2),10,1),\"\")","v":0.49640956794728508},{"$f":"IF($F18<>BG$2,1-_xlfn.NORM.DIST(0,INDEX(Rating,$F18)-INDEX(Rating,BG$2),10,1),\"\")","v":0.98151068846903022},{"$f":"IF($F18<>BH$2,1-_xlfn.NORM.DIST(0,INDEX(Rating,$F18)-INDEX(Rating,BH$2),10,1),\"\")","v":0.65909702622767719},{"$f":"IF($F18<>BI$2,1-_xlfn.NORM.DIST(0,INDEX(Rating,$F18)-INDEX(Rating,BI$2),10,1),\"\")","v":0.67580501089227585},{"$f":"IF($F18<>BJ$2,1-_xlfn.NORM.DIST(0,INDEX(Rating,$F18)-INDEX(Rating,BJ$2),10,1),\"\")","v":0.6342007699223754},{"$f":"IF($F18<>BK$2,1-_xlfn.NORM.DIST(0,INDEX(Rating,$F18)-INDEX(Rating,BK$2),10,1),\"\")","v":0.73923865851933424},{"$f":"IF($F18<>BL$2,1-_xlfn.NORM.DIST(0,INDEX(Rating,$F18)-INDEX(Rating,BL$2),10,1),\"\")","v":0.49162282783824907},{"$f":"IF($F18<>BM$2,1-_xlfn.NORM.DIST(0,INDEX(Rating,$F18)-INDEX(Rating,BM$2),10,1),\"\")","v":0.84542328529403743},{"$f":"IF($F18<>BN$2,1-_xlfn.NORM.DIST(0,INDEX(Rating,$F18)-INDEX(Rating,BN$2),10,1),\"\")","v":0.6521013820709638},{"$f":"IF($F18<>BO$2,1-_xlfn.NORM.DIST(0,INDEX(Rating,$F18)-INDEX(Rating,BO$2),10,1),\"\")","v":0.81246054975839743},{"$f":"IF($F18<>BP$2,1-_xlfn.NORM.DIST(0,INDEX(Rating,$F18)-INDEX(Rating,BP$2),10,1),\"\")","v":0.85656203512324913},{"$f":"IF($F18<>BQ$2,1-_xlfn.NORM.DIST(0,INDEX(Rating,$F18)-INDEX(Rating,BQ$2),10,1),\"\")","v":0.47567960452857139},{"$f":"IF($F18<>BR$2,1-_xlfn.NORM.DIST(0,INDEX(Rating,$F18)-INDEX(Rating,BR$2),10,1),\"\")","v":0.91712654825494933},{"$f":"IF($F18<>BS$2,1-_xlfn.NORM.DIST(0,INDEX(Rating,$F18)-INDEX(Rating,BS$2),10,1),\"\")","v":0.72340942387235774},{"$f":"IF($F18<>BT$2,1-_xlfn.NORM.DIST(0,INDEX(Rating,$F18)-INDEX(Rating,BT$2),10,1),\"\")","v":0.78727448433987546},{"$f":"IF($F18<>BU$2,1-_xlfn.NORM.DIST(0,INDEX(Rating,$F18)-INDEX(Rating,BU$2),10,1),\"\")","v":0.4463059371656185},{"$f":"IF($F18<>BV$2,1-_xlfn.NORM.DIST(0,INDEX(Rating,$F18)-INDEX(Rating,BV$2),10,1),\"\")","v":0.95562231586636281}]
[null,"Princeton",17,76.31,null,17,{"$f":"IF($F19<>G$2,1-_xlfn.NORM.DIST(0,INDEX(Rating,$F19)-INDEX(Rating,G$2),10,1),\"\")","v":4.8256387241130905E-2},{"$f":"IF($F19<>H$2,1-_xlfn.NORM.DIST(0,INDEX(Rating,$F19)-INDEX(Rating,H$2),10,1),\"\")","v":0.72807454392977888},{"$f":"IF($F19<>I$2,1-_xlfn.NORM.DIST(0,INDEX(Rating,$F19)-INDEX(Rating,I$2),10,1),\"\")","v":0.83071637249678998},{"$f":"IF($F19<>J$2,1-_xlfn.NORM.DIST(0,INDEX(Rating,$F19)-INDEX(Rating,J$2),10,1),\"\")","v":0.17983344745293062},{"$f":"IF($F19<>K$2,1-_xlfn.NORM.DIST(0,INDEX(Rating,$F19)-INDEX(Rating,K$2),10,1),\"\")","v":0.16978884848031606},{"$f":"IF($F19<>L$2,1-_xlfn.NORM.DIST(0,INDEX(Rating,$F19)-INDEX(Rating,L$2),10,1),\"\")","v":0.18727037565576821},{"$f":"IF($F19<>M$2,1-_xlfn.NORM.DIST(0,INDEX(Rating,$F19)-INDEX(Rating,M$2),10,1),\"\")","v":0.33069314171445119},{"$f":"IF($F19<>N$2,1-_xlfn.NORM.DIST(0,INDEX(Rating,$F19)-INDEX(Rating,N$2),10,1),\"\")","v":0.19024331903666347},{"$f":"IF($F19<>O$2,1-_xlfn.NORM.DIST(0,INDEX(Rating,$F19)-INDEX(Rating,O$2),10,1),\"\")","v":0.37562180112693122},{"$f":"IF($F19<>P$2,1-_xlfn.NORM.DIST(0,INDEX(Rating,$F19)-INDEX(Rating,P$2),10,1),\"\")","v":0.12881721720783446},{"$f":"IF($F19<>Q$2,1-_xlfn.NORM.DIST(0,INDEX(Rating,$F19)-INDEX(Rating,Q$2),10,1),\"\")","v":0.24384110446023199},{"$f":"IF($F19<>R$2,1-_xlfn.NORM.DIST(0,INDEX(Rating,$F19)-INDEX(Rating,R$2),10,1),\"\")","v":0.13457979456439617},{"$f":"IF($F19<>S$2,1-_xlfn.NORM.DIST(0,INDEX(Rating,$F19)-INDEX(Rating,S$2),10,1),\"\")","v":0.49601064368536862},{"$f":"IF($F19<>T$2,1-_xlfn.NORM.DIST(0,INDEX(Rating,$F19)-INDEX(Rating,T$2),10,1),\"\")","v":0.27192545607022145},{"$f":"IF($F19<>U$2,1-_xlfn.NORM.DIST(0,INDEX(Rating,$F19)-INDEX(Rating,U$2),10,1),\"\")","v":0.21740124735409183},{"$f":"IF($F19<>V$2,1-_xlfn.NORM.DIST(0,INDEX(Rating,$F19)-INDEX(Rating,V$2),10,1),\"\")","v":8.7708778514486108E-2},{"$f":"IF($F19<>W$2,1-_xlfn.NORM.DIST(0,INDEX(Rating,$F19)-INDEX(Rating,W$2),10,1),\"\")","v":""},{"$f":"IF($F19<>X$2,1-_xlfn.NORM.DIST(0,INDEX(Rating,$F19)-INDEX(Rating,X$2),10,1),\"\")","v":9.9396142015105715E-2},{"$f":"IF($F19<>Y$2,1-_xlfn.NORM.DIST(0,INDEX(Rating,$F19)-INDEX(Rating,Y$2),10,1),\"\")","v":0.86520343115514886},{"$f":"IF($F19<>Z$2,1-_xlfn.NORM.DIST(0,INDEX(Rating,$F19)-INDEX(Rating,Z$2),10,1),\"\")","v":0.89343412488238705},{"$f":"IF($F19<>AA$2,1-_xlfn.NORM.DIST(0,INDEX(Rating,$F19)-INDEX(Rating,AA$2),10,1),\"\")","v":0.15339045020478892},{"$f":"IF($F19<>AB$2,1-_xlfn.NORM.DIST(0,INDEX(Rating,$F19)-INDEX(Rating,AB$2),10,1),\"\")","v":0.23116974706066507},{"$f":"IF($F19<>AC$2,1-_xlfn.NORM.DIST(0,INDEX(Rating,$F19)-INDEX(Rating,AC$2),10,1),\"\")","v":0.13501358257624452},{"$f":"IF($F19<>AD$2,1-_xlfn.NORM.DIST(0,INDEX(Rating,$F19)-INDEX(Rating,AD$2),10,1),\"\")","v":0.33797355861274336},{"$f":"IF($F19<>AE$2,1-_xlfn.NORM.DIST(0,INDEX(Rating,$F19)-INDEX(Rating,AE$2),10,1),\"\")","v":9.7315593399130318E-2},{"$f":"IF($F19<>AF$2,1-_xlfn.NORM.DIST(0,INDEX(Rating,$F19)-INDEX(Rating,AF$2),10,1),\"\")","v":0.45580817336639989},{"$f":"IF($F19<>AG$2,1-_xlfn.NORM.DIST(0,INDEX(Rating,$F19)-INDEX(Rating,AG$2),10,1),\"\")","v":0.1675229629360746},{"$f":"IF($F19<>AH$2,1-_xlfn.NORM.DIST(0,INDEX(Rating,$F19)-INDEX(Rating,AH$2),10,1),\"\")","v":0.21740124735409183},{"$f":"IF($F19<>AI$2,1-_xlfn.NORM.DIST(0,INDEX(Rating,$F19)-INDEX(Rating,AI$2),10,1),\"\")","v":0.18326294746805871},{"$f":"IF($F19<>AJ$2,1-_xlfn.NORM.DIST(0,INDEX(Rating,$F19)-INDEX(Rating,AJ$2),10,1),\"\")","v":0.56316556308436749},{"$f":"IF($F19<>AK$2,1-_xlfn.NORM.DIST(0,INDEX(Rating,$F19)-INDEX(Rating,AK$2),10,1),\"\")","v":0.19434375891622391},{"$f":"IF($F19<>AL$2,1-_xlfn.NORM.DIST(0,INDEX(Rating,$F19)-INDEX(Rating,AL$2),10,1),\"\")","v":0.21740124735409183},{"$f":"IF($F19<>AM$2,1-_xlfn.NORM.DIST(0,INDEX(Rating,$F19)-INDEX(Rating,AM$2),10,1),\"\")","v":0.13135688104273058},{"$f":"IF($F19<>AN$2,1-_xlfn.NORM.DIST(0,INDEX(Rating,$F19)-INDEX(Rating,AN$2),10,1),\"\")","v":0.48285076692751228},{"$f":"IF($F19<>AO$2,1-_xlfn.NORM.DIST(0,INDEX(Rating,$F19)-INDEX(Rating,AO$2),10,1),\"\")","v":6.0092208314365347E-2},{"$f":"IF($F19<>AP$2,1-_xlfn.NORM.DIST(0,INDEX(Rating,$F19)-INDEX(Rating,AP$2),10,1),\"\")","v":0.64393613761336721},{"$f":"IF($F19<>AQ$2,1-_xlfn.NORM.DIST(0,INDEX(Rating,$F19)-INDEX(Rating,AQ$2),10,1),\"\")","v":0.19655249469249136},{"$f":"IF($F19<>AR$2,1-_xlfn.NORM.DIST(0,INDEX(Rating,$F19)-INDEX(Rating,AR$2),10,1),\"\")","v":0.18379415984362768},{"$f":"IF($F19<>AS$2,1-_xlfn.NORM.DIST(0,INDEX(Rating,$F19)-INDEX(Rating,AS$2),10,1),\"\")","v":0.21564093307987164},{"$f":"IF($F19<>AT$2,1-_xlfn.NORM.DIST(0,INDEX(Rating,$F19)-INDEX(Rating,AT$2),10,1),\"\")","v":0.28808086009144107},{"$f":"IF($F19<>AU$2,1-_xlfn.NORM.DIST(0,INDEX(Rating,$F19)-INDEX(Rating,AU$2),10,1),\"\")","v":0.16108705951083113},{"$f":"IF($F19<>AV$2,1-_xlfn.NORM.DIST(0,INDEX(Rating,$F19)-INDEX(Rating,AV$2),10,1),\"\")","v":0.31632510251932311},{"$f":"IF($F19<>AW$2,1-_xlfn.NORM.DIST(0,INDEX(Rating,$F19)-INDEX(Rating,AW$2),10,1),\"\")","v":0.20868283537545906},{"$f":"IF($F19<>AX$2,1-_xlfn.NORM.DIST(0,INDEX(Rating,$F19)-INDEX(Rating,AX$2),10,1),\"\")","v":0.27592173549232235},{"$f":"IF($F19<>AY$2,1-_xlfn.NORM.DIST(0,INDEX(Rating,$F19)-INDEX(Rating,AY$2),10,1),\"\")","v":0.30048712662366917},{"$f":"IF($F19<>AZ$2,1-_xlfn.NORM.DIST(0,INDEX(Rating,$F19)-INDEX(Rating,AZ$2),10,1),\"\")","v":0.15410148326362672},{"$f":"IF($F19<>BA$2,1-_xlfn.NORM.DIST(0,INDEX(Rating,$F19)-INDEX(Rating,BA$2),10,1),\"\")","v":0.62589480454790047},{"$f":"IF($F19<>BB$2,1-_xlfn.NORM.DIST(0,INDEX(Rating,$F19)-INDEX(Rating,BB$2),10,1),\"\")","v":0.1642845761835996},{"$f":"IF($F19<>BC$2,1-_xlfn.NORM.DIST(0,INDEX(Rating,$F19)-INDEX(Rating,BC$2),10,1),\"\")","v":0.2245249312286014},{"$f":"IF($F19<>BD$2,1-_xlfn.NORM.DIST(0,INDEX(Rating,$F19)-INDEX(Rating,BD$2),10,1),\"\")","v":7.8534248017048225E-2},{"$f":"IF($F19<>BE$2,1-_xlfn.NORM.DIST(0,INDEX(Rating,$F19)-INDEX(Rating,BE$2),10,1),\"\")","v":0.50718057329417454},{"$f":"IF($F19<>BF$2,1-_xlfn.NORM.DIST(0,INDEX(Rating,$F19)-INDEX(Rating,BF$2),10,1),\"\")","v":8.62837828347921E-2},{"$f":"IF($F19<>BG$2,1-_xlfn.NORM.DIST(0,INDEX(Rating,$F19)-INDEX(Rating,BG$2),10,1),\"\")","v":0.767610423531358},{"$f":"IF($F19<>BH$2,1-_xlfn.NORM.DIST(0,INDEX(Rating,$F19)-INDEX(Rating,BH$2),10,1),\"\")","v":0.17232943801287182},{"$f":"IF($F19<>BI$2,1-_xlfn.NORM.DIST(0,INDEX(Rating,$F19)-INDEX(Rating,BI$2),10,1),\"\")","v":0.18432633032657297},{"$f":"IF($F19<>BJ$2,1-_xlfn.NORM.DIST(0,INDEX(Rating,$F19)-INDEX(Rating,BJ$2),10,1),\"\")","v":0.15576902671227666},{"$f":"IF($F19<>BK$2,1-_xlfn.NORM.DIST(0,INDEX(Rating,$F19)-INDEX(Rating,BK$2),10,1),\"\")","v":0.23761358972730429},{"$f":"IF($F19<>BL$2,1-_xlfn.NORM.DIST(0,INDEX(Rating,$F19)-INDEX(Rating,BL$2),10,1),\"\")","v":8.4410816633790575E-2},{"$f":"IF($F19<>BM$2,1-_xlfn.NORM.DIST(0,INDEX(Rating,$F19)-INDEX(Rating,BM$2),10,1),\"\")","v":0.36768159388865007},{"$f":"IF($F19<>BN$2,1-_xlfn.NORM.DIST(0,INDEX(Rating,$F19)-INDEX(Rating,BN$2),10,1),\"\")","v":0.1675229629360746},{"$f":"IF($F19<>BO$2,1-_xlfn.NORM.DIST(0,INDEX(Rating,$F19)-INDEX(Rating,BO$2),10,1),\"\")","v":0.31989229485341675},{"$f":"IF($F19<>BP$2,1-_xlfn.NORM.DIST(0,INDEX(Rating,$F19)-INDEX(Rating,BP$2),10,1),\"\")","v":0.38590811880112297},{"$f":"IF($F19<>BQ$2,1-_xlfn.NORM.DIST(0,INDEX(Rating,$F19)-INDEX(Rating,BQ$2),10,1),\"\")","v":7.8387752231186214E-2},{"$f":"IF($F19<>BR$2,1-_xlfn.NORM.DIST(0,INDEX(Rating,$F19)-INDEX(Rating,BR$2),10,1),\"\")","v":0.5123652301630337},{"$f":"IF($F19<>BS$2,1-_xlfn.NORM.DIST(0,INDEX(Rating,$F19)-INDEX(Rating,BS$2),10,1),\"\")","v":0.2230300020800623},{"$f":"IF($F19<>BT$2,1-_xlfn.NORM.DIST(0,INDEX(Rating,$F19)-INDEX(Rating,BT$2),10,1),\"\")","v":0.288422192085104},{"$f":"IF($F19<>BU$2,1-_xlfn.NORM.DIST(0,INDEX(Rating,$F19)-INDEX(Rating,BU$2),10,1),\"\")","v":6.8112117966725561E-2},{"$f":"IF($F19<>BV$2,1-_xlfn.NORM.DIST(0,INDEX(Rating,$F19)-INDEX(Rating,BV$2),10,1),\"\")","v":0.6357043406143259}]
[null,"Purdue",18,89.16,null,18,{"$f":"IF($F20<>G$2,1-_xlfn.NORM.DIST(0,INDEX(Rating,$F20)-INDEX(Rating,G$2),10,1),\"\")","v":0.35308680245667456},{"$f":"IF($F20<>H$2,1-_xlfn.NORM.DIST(0,INDEX(Rating,$F20)-INDEX(Rating,H$2),10,1),\"\")","v":0.97075450959743048},{"$f":"IF($F20<>I$2,1-_xlfn.NORM.DIST(0,INDEX(Rating,$F20)-INDEX(Rating,I$2),10,1),\"\")","v":0.98751931384713609},{"$f":"IF($F20<>J$2,1-_xlfn.NORM.DIST(0,INDEX(Rating,$F20)-INDEX(Rating,J$2),10,1),\"\")","v":0.64393613761336721},{"$f":"IF($F20<>K$2,1-_xlfn.NORM.DIST(0,INDEX(Rating,$F20)-INDEX(Rating,K$2),10,1),\"\")","v":0.62930001894065346},{"$f":"IF($F20<>L$2,1-_xlfn.NORM.DIST(0,INDEX(Rating,$F20)-INDEX(Rating,L$2),10,1),\"\")","v":0.65431626969663315},{"$f":"IF($F20<>M$2,1-_xlfn.NORM.DIST(0,INDEX(Rating,$F20)-INDEX(Rating,M$2),10,1),\"\")","v":0.80150243927567555},{"$f":"IF($F20<>N$2,1-_xlfn.NORM.DIST(0,INDEX(Rating,$F20)-INDEX(Rating,N$2),10,1),\"\")","v":0.65836316254895744},{"$f":"IF($F20<>O$2,1-_xlfn.NORM.DIST(0,INDEX(Rating,$F20)-INDEX(Rating,O$2),10,1),\"\")","v":0.83347781514982944},{"$f":"IF($F20<>P$2,1-_xlfn.NORM.DIST(0,INDEX(Rating,$F20)-INDEX(Rating,P$2),10,1),\"\")","v":0.56080086235479887},{"$f":"IF($F20<>Q$2,1-_xlfn.NORM.DIST(0,INDEX(Rating,$F20)-INDEX(Rating,Q$2),10,1),\"\")","v":0.72273978952172924},{"$f":"IF($F20<>R$2,1-_xlfn.NORM.DIST(0,INDEX(Rating,$F20)-INDEX(Rating,R$2),10,1),\"\")","v":0.57142371590090058},{"$f":"IF($F20<>S$2,1-_xlfn.NORM.DIST(0,INDEX(Rating,$F20)-INDEX(Rating,S$2),10,1),\"\")","v":0.89884537900441408},{"$f":"IF($F20<>T$2,1-_xlfn.NORM.DIST(0,INDEX(Rating,$F20)-INDEX(Rating,T$2),10,1),\"\")","v":0.7511141533919512},{"$f":"IF($F20<>U$2,1-_xlfn.NORM.DIST(0,INDEX(Rating,$F20)-INDEX(Rating,U$2),10,1),\"\")","v":0.69286931150840869},{"$f":"IF($F20<>V$2,1-_xlfn.NORM.DIST(0,INDEX(Rating,$F20)-INDEX(Rating,V$2),10,1),\"\")","v":0.47209682981947876},{"$f":"IF($F20<>W$2,1-_xlfn.NORM.DIST(0,INDEX(Rating,$F20)-INDEX(Rating,W$2),10,1),\"\")","v":0.90060385798489428},{"$f":"IF($F20<>X$2,1-_xlfn.NORM.DIST(0,INDEX(Rating,$F20)-INDEX(Rating,X$2),10,1),\"\")","v":""},{"$f":"IF($F20<>Y$2,1-_xlfn.NORM.DIST(0,INDEX(Rating,$F20)-INDEX(Rating,Y$2),10,1),\"\")","v":0.99155284881883832},{"$f":"IF($F20<>Z$2,1-_xlfn.NORM.DIST(0,INDEX(Rating,$F20)-INDEX(Rating,Z$2),10,1),\"\")","v":0.99429687366704933},{"$f":"IF($F20<>AA$2,1-_xlfn.NORM.DIST(0,INDEX(Rating,$F20)-INDEX(Rating,AA$2),10,1),\"\")","v":0.60372471044253806},{"$f":"IF($F20<>AB$2,1-_xlfn.NORM.DIST(0,INDEX(Rating,$F20)-INDEX(Rating,AB$2),10,1),\"\")","v":0.70884031321165364},{"$f":"IF($F20<>AC$2,1-_xlfn.NORM.DIST(0,INDEX(Rating,$F20)-INDEX(Rating,AC$2),10,1),\"\")","v":0.57220863704952962},{"$f":"IF($F20<>AD$2,1-_xlfn.NORM.DIST(0,INDEX(Rating,$F20)-INDEX(Rating,AD$2),10,1),\"\")","v":0.8070289951524563},{"$f":"IF($F20<>AE$2,1-_xlfn.NORM.DIST(0,INDEX(Rating,$F20)-INDEX(Rating,AE$2),10,1),\"\")","v":0.49521280752807773},{"$f":"IF($F20<>AF$2,1-_xlfn.NORM.DIST(0,INDEX(Rating,$F20)-INDEX(Rating,AF$2),10,1),\"\")","v":0.87980248718701459},{"$f":"IF($F20<>AG$2,1-_xlfn.NORM.DIST(0,INDEX(Rating,$F20)-INDEX(Rating,AG$2),10,1),\"\")","v":0.62589480454790003},{"$f":"IF($F20<>AH$2,1-_xlfn.NORM.DIST(0,INDEX(Rating,$F20)-INDEX(Rating,AH$2),10,1),\"\")","v":0.69286931150840869},{"$f":"IF($F20<>AI$2,1-_xlfn.NORM.DIST(0,INDEX(Rating,$F20)-INDEX(Rating,AI$2),10,1),\"\")","v":0.64876931768278956},{"$f":"IF($F20<>AJ$2,1-_xlfn.NORM.DIST(0,INDEX(Rating,$F20)-INDEX(Rating,AJ$2),10,1),\"\")","v":0.92563051232974136},{"$f":"IF($F20<>AK$2,1-_xlfn.NORM.DIST(0,INDEX(Rating,$F20)-INDEX(Rating,AK$2),10,1),\"\")","v":0.66385236947089221},{"$f":"IF($F20<>AL$2,1-_xlfn.NORM.DIST(0,INDEX(Rating,$F20)-INDEX(Rating,AL$2),10,1),\"\")","v":0.69286931150840869},{"$f":"IF($F20<>AM$2,1-_xlfn.NORM.DIST(0,INDEX(Rating,$F20)-INDEX(Rating,AM$2),10,1),\"\")","v":0.56552800897193489},{"$f":"IF($F20<>AN$2,1-_xlfn.NORM.DIST(0,INDEX(Rating,$F20)-INDEX(Rating,AN$2),10,1),\"\")","v":0.89288171897566937},{"$f":"IF($F20<>AO$2,1-_xlfn.NORM.DIST(0,INDEX(Rating,$F20)-INDEX(Rating,AO$2),10,1),\"\")","v":0.39396484133326903},{"$f":"IF($F20<>AP$2,1-_xlfn.NORM.DIST(0,INDEX(Rating,$F20)-INDEX(Rating,AP$2),10,1),\"\")","v":0.95093624364704532},{"$f":"IF($F20<>AQ$2,1-_xlfn.NORM.DIST(0,INDEX(Rating,$F20)-INDEX(Rating,AQ$2),10,1),\"\")","v":0.66676581475709995},{"$f":"IF($F20<>AR$2,1-_xlfn.NORM.DIST(0,INDEX(Rating,$F20)-INDEX(Rating,AR$2),10,1),\"\")","v":0.64951077625081155},{"$f":"IF($F20<>AS$2,1-_xlfn.NORM.DIST(0,INDEX(Rating,$F20)-INDEX(Rating,AS$2),10,1),\"\")","v":0.69075797890754531},{"$f":"IF($F20<>AT$2,1-_xlfn.NORM.DIST(0,INDEX(Rating,$F20)-INDEX(Rating,AT$2),10,1),\"\")","v":0.76608061472353595},{"$f":"IF($F20<>AU$2,1-_xlfn.NORM.DIST(0,INDEX(Rating,$F20)-INDEX(Rating,AU$2),10,1),\"\")","v":0.61600306014646555},{"$f":"IF($F20<>AV$2,1-_xlfn.NORM.DIST(0,INDEX(Rating,$F20)-INDEX(Rating,AV$2),10,1),\"\")","v":0.79016675842434592},{"$f":"IF($F20<>AW$2,1-_xlfn.NORM.DIST(0,INDEX(Rating,$F20)-INDEX(Rating,AW$2),10,1),\"\")","v":0.68225004638742126},{"$f":"IF($F20<>AX$2,1-_xlfn.NORM.DIST(0,INDEX(Rating,$F20)-INDEX(Rating,AX$2),10,1),\"\")","v":0.75490290632569024},{"$f":"IF($F20<>AY$2,1-_xlfn.NORM.DIST(0,INDEX(Rating,$F20)-INDEX(Rating,AY$2),10,1),\"\")","v":0.77696999791993726},{"$f":"IF($F20<>AZ$2,1-_xlfn.NORM.DIST(0,INDEX(Rating,$F20)-INDEX(Rating,AZ$2),10,1),\"\")","v":0.604880395488685},{"$f":"IF($F20<>BA$2,1-_xlfn.NORM.DIST(0,INDEX(Rating,$F20)-INDEX(Rating,BA$2),10,1),\"\")","v":0.94586304502196916},{"$f":"IF($F20<>BB$2,1-_xlfn.NORM.DIST(0,INDEX(Rating,$F20)-INDEX(Rating,BB$2),10,1),\"\")","v":0.62095883383065331},{"$f":"IF($F20<>BC$2,1-_xlfn.NORM.DIST(0,INDEX(Rating,$F20)-INDEX(Rating,BC$2),10,1),\"\")","v":0.7012503320273854},{"$f":"IF($F20<>BD$2,1-_xlfn.NORM.DIST(0,INDEX(Rating,$F20)-INDEX(Rating,BD$2),10,1),\"\")","v":0.44828321334543897},{"$f":"IF($F20<>BE$2,1-_xlfn.NORM.DIST(0,INDEX(Rating,$F20)-INDEX(Rating,BE$2),10,1),\"\")","v":0.90371261921735258},{"$f":"IF($F20<>BF$2,1-_xlfn.NORM.DIST(0,INDEX(Rating,$F20)-INDEX(Rating,BF$2),10,1),\"\")","v":0.4685163115323745},{"$f":"IF($F20<>BG$2,1-_xlfn.NORM.DIST(0,INDEX(Rating,$F20)-INDEX(Rating,BG$2),10,1),\"\")","v":0.97810001210490483},{"$f":"IF($F20<>BH$2,1-_xlfn.NORM.DIST(0,INDEX(Rating,$F20)-INDEX(Rating,BH$2),10,1),\"\")","v":0.63307173603602773},{"$f":"IF($F20<>BI$2,1-_xlfn.NORM.DIST(0,INDEX(Rating,$F20)-INDEX(Rating,BI$2),10,1),\"\")","v":0.65025166559745151},{"$f":"IF($F20<>BJ$2,1-_xlfn.NORM.DIST(0,INDEX(Rating,$F20)-INDEX(Rating,BJ$2),10,1),\"\")","v":0.60757339221303652},{"$f":"IF($F20<>BK$2,1-_xlfn.NORM.DIST(0,INDEX(Rating,$F20)-INDEX(Rating,BK$2),10,1),\"\")","v":0.71600017857831499},{"$f":"IF($F20<>BL$2,1-_xlfn.NORM.DIST(0,INDEX(Rating,$F20)-INDEX(Rating,BL$2),10,1),\"\")","v":0.46374629552877256},{"$f":"IF($F20<>BM$2,1-_xlfn.NORM.DIST(0,INDEX(Rating,$F20)-INDEX(Rating,BM$2),10,1),\"\")","v":0.82818061053282199},{"$f":"IF($F20<>BN$2,1-_xlfn.NORM.DIST(0,INDEX(Rating,$F20)-INDEX(Rating,BN$2),10,1),\"\")","v":0.62589480454790003},{"$f":"IF($F20<>BO$2,1-_xlfn.NORM.DIST(0,INDEX(Rating,$F20)-INDEX(Rating,BO$2),10,1),\"\")","v":0.79303578597659419},{"$f":"IF($F20<>BP$2,1-_xlfn.NORM.DIST(0,INDEX(Rating,$F20)-INDEX(Rating,BP$2),10,1),\"\")","v":0.84013186782450611},{"$f":"IF($F20<>BQ$2,1-_xlfn.NORM.DIST(0,INDEX(Rating,$F20)-INDEX(Rating,BQ$2),10,1),\"\")","v":0.44788765370246364},{"$f":"IF($F20<>BR$2,1-_xlfn.NORM.DIST(0,INDEX(Rating,$F20)-INDEX(Rating,BR$2),10,1),\"\")","v":0.90591297866539944},{"$f":"IF($F20<>BS$2,1-_xlfn.NORM.DIST(0,INDEX(Rating,$F20)-INDEX(Rating,BS$2),10,1),\"\")","v":0.69951287337633039},{"$f":"IF($F20<>BT$2,1-_xlfn.NORM.DIST(0,INDEX(Rating,$F20)-INDEX(Rating,BT$2),10,1),\"\")","v":0.76638702212724108},{"$f":"IF($F20<>BU$2,1-_xlfn.NORM.DIST(0,INDEX(Rating,$F20)-INDEX(Rating,BU$2),10,1),\"\")","v":0.4187860625125519},{"$f":"IF($F20<>BV$2,1-_xlfn.NORM.DIST(0,INDEX(Rating,$F20)-INDEX(Rating,BV$2),10,1),\"\")","v":0.94866025690515554}]
[null,"Texas Southern",19,65.27,null,19,{"$f":"IF($F21<>G$2,1-_xlfn.NORM.DIST(0,INDEX(Rating,$F21)-INDEX(Rating,G$2),10,1),\"\")","v":2.8374267402478948E-3},{"$f":"IF($F21<>H$2,1-_xlfn.NORM.DIST(0,INDEX(Rating,$F21)-INDEX(Rating,H$2),10,1),\"\")","v":0.30959452566341183},{"$f":"IF($F21<>I$2,1-_xlfn.NORM.DIST(0,INDEX(Rating,$F21)-INDEX(Rating,I$2),10,1),\"\")","v":0.44156601016022123},{"$f":"IF($F21<>J$2,1-_xlfn.NORM.DIST(0,INDEX(Rating,$F21)-INDEX(Rating,J$2),10,1),\"\")","v":2.1691693767646791E-2},{"$f":"IF($F21<>K$2,1-_xlfn.NORM.DIST(0,INDEX(Rating,$F21)-INDEX(Rating,K$2),10,1),\"\")","v":1.9747119243666678E-2},{"$f":"IF($F21<>L$2,1-_xlfn.NORM.DIST(0,INDEX(Rating,$F21)-INDEX(Rating,L$2),10,1),\"\")","v":2.3185528942183842E-2},{"$f":"IF($F21<>M$2,1-_xlfn.NORM.DIST(0,INDEX(Rating,$F21)-INDEX(Rating,M$2),10,1),\"\")","v":6.1536796797593052E-2},{"$f":"IF($F21<>N$2,1-_xlfn.NORM.DIST(0,INDEX(Rating,$F21)-INDEX(Rating,N$2),10,1),\"\")","v":2.3795636793573216E-2},{"$f":"IF($F21<>O$2,1-_xlfn.NORM.DIST(0,INDEX(Rating,$F21)-INDEX(Rating,O$2),10,1),\"\")","v":7.7658379722374216E-2},{"$f":"IF($F21<>P$2,1-_xlfn.NORM.DIST(0,INDEX(Rating,$F21)-INDEX(Rating,P$2),10,1),\"\")","v":1.2675885579111146E-2},{"$f":"IF($F21<>Q$2,1-_xlfn.NORM.DIST(0,INDEX(Rating,$F21)-INDEX(Rating,Q$2),10,1),\"\")","v":3.6088503885917889E-2},{"$f":"IF($F21<>R$2,1-_xlfn.NORM.DIST(0,INDEX(Rating,$F21)-INDEX(Rating,R$2),10,1),\"\")","v":1.3587320452381091E-2},{"$f":"IF($F21<>S$2,1-_xlfn.NORM.DIST(0,INDEX(Rating,$F21)-INDEX(Rating,S$2),10,1),\"\")","v":0.13263959332622122},{"$f":"IF($F21<>T$2,1-_xlfn.NORM.DIST(0,INDEX(Rating,$F21)-INDEX(Rating,T$2),10,1),\"\")","v":4.3540556413543818E-2},{"$f":"IF($F21<>U$2,1-_xlfn.NORM.DIST(0,INDEX(Rating,$F21)-INDEX(Rating,U$2),10,1),\"\")","v":2.9714918908310572E-2},{"$f":"IF($F21<>V$2,1-_xlfn.NORM.DIST(0,INDEX(Rating,$F21)-INDEX(Rating,V$2),10,1),\"\")","v":6.9662308898791325E-3},{"$f":"IF($F21<>W$2,1-_xlfn.NORM.DIST(0,INDEX(Rating,$F21)-INDEX(Rating,W$2),10,1),\"\")","v":0.13479656884485114},{"$f":"IF($F21<>X$2,1-_xlfn.NORM.DIST(0,INDEX(Rating,$F21)-INDEX(Rating,X$2),10,1),\"\")","v":8.4471511811616828E-3},{"$f":"IF($F21<>Y$2,1-_xlfn.NORM.DIST(0,INDEX(Rating,$F21)-INDEX(Rating,Y$2),10,1),\"\")","v":""},{"$f":"IF($F21<>Z$2,1-_xlfn.NORM.DIST(0,INDEX(Rating,$F21)-INDEX(Rating,Z$2),10,1),\"\")","v":0.55606502882857445},{"$f":"IF($F21<>AA$2,1-_xlfn.NORM.DIST(0,INDEX(Rating,$F21)-INDEX(Rating,AA$2),10,1),\"\")","v":1.6751629767298937E-2},{"$f":"IF($F21<>AB$2,1-_xlfn.NORM.DIST(0,INDEX(Rating,$F21)-INDEX(Rating,AB$2),10,1),\"\")","v":3.2957593035201849E-2},{"$f":"IF($F21<>AC$2,1-_xlfn.NORM.DIST(0,INDEX(Rating,$F21)-INDEX(Rating,AC$2),10,1),\"\")","v":1.3657029671125698E-2},{"$f":"IF($F21<>AD$2,1-_xlfn.NORM.DIST(0,INDEX(Rating,$F21)-INDEX(Rating,AD$2),10,1),\"\")","v":6.4004540346204619E-2},{"$f":"IF($F21<>AE$2,1-_xlfn.NORM.DIST(0,INDEX(Rating,$F21)-INDEX(Rating,AE$2),10,1),\"\")","v":8.1751682499774381E-3},{"$f":"IF($F21<>AF$2,1-_xlfn.NORM.DIST(0,INDEX(Rating,$F21)-INDEX(Rating,AF$2),10,1),\"\")","v":0.11218304569093407},{"$f":"IF($F21<>AG$2,1-_xlfn.NORM.DIST(0,INDEX(Rating,$F21)-INDEX(Rating,AG$2),10,1),\"\")","v":1.9320011548942584E-2},{"$f":"IF($F21<>AH$2,1-_xlfn.NORM.DIST(0,INDEX(Rating,$F21)-INDEX(Rating,AH$2),10,1),\"\")","v":2.9714918908310572E-2},{"$f":"IF($F21<>AI$2,1-_xlfn.NORM.DIST(0,INDEX(Rating,$F21)-INDEX(Rating,AI$2),10,1),\"\")","v":2.2374831491335567E-2},{"$f":"IF($F21<>AJ$2,1-_xlfn.NORM.DIST(0,INDEX(Rating,$F21)-INDEX(Rating,AJ$2),10,1),\"\")","v":0.17232943801287182},{"$f":"IF($F21<>AK$2,1-_xlfn.NORM.DIST(0,INDEX(Rating,$F21)-INDEX(Rating,AK$2),10,1),\"\")","v":2.464930530559295E-2},{"$f":"IF($F21<>AL$2,1-_xlfn.NORM.DIST(0,INDEX(Rating,$F21)-INDEX(Rating,AL$2),10,1),\"\")","v":2.9714918908310572E-2},{"$f":"IF($F21<>AM$2,1-_xlfn.NORM.DIST(0,INDEX(Rating,$F21)-INDEX(Rating,AM$2),10,1),\"\")","v":1.3074222121813528E-2},{"$f":"IF($F21<>AN$2,1-_xlfn.NORM.DIST(0,INDEX(Rating,$F21)-INDEX(Rating,AN$2),10,1),\"\")","v":0.12569081046102371},{"$f":"IF($F21<>AO$2,1-_xlfn.NORM.DIST(0,INDEX(Rating,$F21)-INDEX(Rating,AO$2),10,1),\"\")","v":3.9302946518532389E-3},{"$f":"IF($F21<>AP$2,1-_xlfn.NORM.DIST(0,INDEX(Rating,$F21)-INDEX(Rating,AP$2),10,1),\"\")","v":0.23116974706066462},{"$f":"IF($F21<>AQ$2,1-_xlfn.NORM.DIST(0,INDEX(Rating,$F21)-INDEX(Rating,AQ$2),10,1),\"\")","v":2.5115006346874358E-2},{"$f":"IF($F21<>AR$2,1-_xlfn.NORM.DIST(0,INDEX(Rating,$F21)-INDEX(Rating,AR$2),10,1),\"\")","v":2.2481523518159685E-2},{"$f":"IF($F21<>AS$2,1-_xlfn.NORM.DIST(0,INDEX(Rating,$F21)-INDEX(Rating,AS$2),10,1),\"\")","v":2.9312172114287161E-2},{"$f":"IF($F21<>AT$2,1-_xlfn.NORM.DIST(0,INDEX(Rating,$F21)-INDEX(Rating,AT$2),10,1),\"\")","v":4.8156217746822882E-2},{"$f":"IF($F21<>AU$2,1-_xlfn.NORM.DIST(0,INDEX(Rating,$F21)-INDEX(Rating,AU$2),10,1),\"\")","v":1.8129990125074658E-2},{"$f":"IF($F21<>AV$2,1-_xlfn.NORM.DIST(0,INDEX(Rating,$F21)-INDEX(Rating,AV$2),10,1),\"\")","v":5.6824785243883791E-2},{"$f":"IF($F21<>AW$2,1-_xlfn.NORM.DIST(0,INDEX(Rating,$F21)-INDEX(Rating,AW$2),10,1),\"\")","v":2.7746251805307875E-2},{"$f":"IF($F21<>AX$2,1-_xlfn.NORM.DIST(0,INDEX(Rating,$F21)-INDEX(Rating,AX$2),10,1),\"\")","v":4.4659591807260313E-2},{"$f":"IF($F21<>AY$2,1-_xlfn.NORM.DIST(0,INDEX(Rating,$F21)-INDEX(Rating,AY$2),10,1),\"\")","v":5.1868548895235955E-2},{"$f":"IF($F21<>AZ$2,1-_xlfn.NORM.DIST(0,INDEX(Rating,$F21)-INDEX(Rating,AZ$2),10,1),\"\")","v":1.687692592880552E-2},{"$f":"IF($F21<>BA$2,1-_xlfn.NORM.DIST(0,INDEX(Rating,$F21)-INDEX(Rating,BA$2),10,1),\"\")","v":0.21681355602379437},{"$f":"IF($F21<>BB$2,1-_xlfn.NORM.DIST(0,INDEX(Rating,$F21)-INDEX(Rating,BB$2),10,1),\"\")","v":1.8716953028765859E-2},{"$f":"IF($F21<>BC$2,1-_xlfn.NORM.DIST(0,INDEX(Rating,$F21)-INDEX(Rating,BC$2),10,1),\"\")","v":3.1372088346865334E-2},{"$f":"IF($F21<>BD$2,1-_xlfn.NORM.DIST(0,INDEX(Rating,$F21)-INDEX(Rating,BD$2),10,1),\"\")","v":5.884432835368103E-3},{"$f":"IF($F21<>BE$2,1-_xlfn.NORM.DIST(0,INDEX(Rating,$F21)-INDEX(Rating,BE$2),10,1),\"\")","v":0.1387394961227193},{"$f":"IF($F21<>BF$2,1-_xlfn.NORM.DIST(0,INDEX(Rating,$F21)-INDEX(Rating,BF$2),10,1),\"\")","v":6.793515981748377E-3},{"$f":"IF($F21<>BG$2,1-_xlfn.NORM.DIST(0,INDEX(Rating,$F21)-INDEX(Rating,BG$2),10,1),\"\")","v":0.35457422197998634},{"$f":"IF($F21<>BH$2,1-_xlfn.NORM.DIST(0,INDEX(Rating,$F21)-INDEX(Rating,BH$2),10,1),\"\")","v":2.023105746215037E-2},{"$f":"IF($F21<>BI$2,1-_xlfn.NORM.DIST(0,INDEX(Rating,$F21)-INDEX(Rating,BI$2),10,1),\"\")","v":2.2588644238825228E-2},{"$f":"IF($F21<>BJ$2,1-_xlfn.NORM.DIST(0,INDEX(Rating,$F21)-INDEX(Rating,BJ$2),10,1),\"\")","v":1.7172403785760126E-2},{"$f":"IF($F21<>BK$2,1-_xlfn.NORM.DIST(0,INDEX(Rating,$F21)-INDEX(Rating,BK$2),10,1),\"\")","v":3.4532066389592275E-2},{"$f":"IF($F21<>BL$2,1-_xlfn.NORM.DIST(0,INDEX(Rating,$F21)-INDEX(Rating,BL$2),10,1),\"\")","v":6.5691191355468082E-3},{"$f":"IF($F21<>BM$2,1-_xlfn.NORM.DIST(0,INDEX(Rating,$F21)-INDEX(Rating,BM$2),10,1),\"\")","v":7.4651186805956393E-2},{"$f":"IF($F21<>BN$2,1-_xlfn.NORM.DIST(0,INDEX(Rating,$F21)-INDEX(Rating,BN$2),10,1),\"\")","v":1.9320011548942584E-2},{"$f":"IF($F21<>BO$2,1-_xlfn.NORM.DIST(0,INDEX(Rating,$F21)-INDEX(Rating,BO$2),10,1),\"\")","v":5.7975275608238896E-2},{"$f":"IF($F21<>BP$2,1-_xlfn.NORM.DIST(0,INDEX(Rating,$F21)-INDEX(Rating,BP$2),10,1),\"\")","v":8.1658802322480906E-2},{"$f":"IF($F21<>BQ$2,1-_xlfn.NORM.DIST(0,INDEX(Rating,$F21)-INDEX(Rating,BQ$2),10,1),\"\")","v":5.8677417153325528E-3},{"$f":"IF($F21<>BR$2,1-_xlfn.NORM.DIST(0,INDEX(Rating,$F21)-INDEX(Rating,BR$2),10,1),\"\")","v":0.14163555806541483},{"$f":"IF($F21<>BS$2,1-_xlfn.NORM.DIST(0,INDEX(Rating,$F21)-INDEX(Rating,BS$2),10,1),\"\")","v":3.1020682747925132E-2},{"$f":"IF($F21<>BT$2,1-_xlfn.NORM.DIST(0,INDEX(Rating,$F21)-INDEX(Rating,BT$2),10,1),\"\")","v":4.8256387241130905E-2},{"$f":"IF($F21<>BU$2,1-_xlfn.NORM.DIST(0,INDEX(Rating,$F21)-INDEX(Rating,BU$2),10,1),\"\")","v":4.7433243458231411E-3},{"$f":"IF($F21<>BV$2,1-_xlfn.NORM.DIST(0,INDEX(Rating,$F21)-INDEX(Rating,BV$2),10,1),\"\")","v":0.22452493122860107}]
[null,"Fairleigh Dickinson",20,63.86,null,20,{"$f":"IF($F22<>G$2,1-_xlfn.NORM.DIST(0,INDEX(Rating,$F22)-INDEX(Rating,G$2),10,1),\"\")","v":1.8245659886749754E-3},{"$f":"IF($F22<>H$2,1-_xlfn.NORM.DIST(0,INDEX(Rating,$F22)-INDEX(Rating,H$2),10,1),\"\")","v":0.26173684004447961},{"$f":"IF($F22<>I$2,1-_xlfn.NORM.DIST(0,INDEX(Rating,$F22)-INDEX(Rating,I$2),10,1),\"\")","v":0.38667336933355745},{"$f":"IF($F22<>J$2,1-_xlfn.NORM.DIST(0,INDEX(Rating,$F22)-INDEX(Rating,J$2),10,1),\"\")","v":1.534766970754109E-2},{"$f":"IF($F22<>K$2,1-_xlfn.NORM.DIST(0,INDEX(Rating,$F22)-INDEX(Rating,K$2),10,1),\"\")","v":1.390344751349859E-2},{"$f":"IF($F22<>L$2,1-_xlfn.NORM.DIST(0,INDEX(Rating,$F22)-INDEX(Rating,L$2),10,1),\"\")","v":1.6462363100074429E-2},{"$f":"IF($F22<>M$2,1-_xlfn.NORM.DIST(0,INDEX(Rating,$F22)-INDEX(Rating,M$2),10,1),\"\")","v":4.6187545711792621E-2},{"$f":"IF($F22<>N$2,1-_xlfn.NORM.DIST(0,INDEX(Rating,$F22)-INDEX(Rating,N$2),10,1),\"\")","v":1.6918869021631533E-2},{"$f":"IF($F22<>O$2,1-_xlfn.NORM.DIST(0,INDEX(Rating,$F22)-INDEX(Rating,O$2),10,1),\"\")","v":5.9143994429511237E-2},{"$f":"IF($F22<>P$2,1-_xlfn.NORM.DIST(0,INDEX(Rating,$F22)-INDEX(Rating,P$2),10,1),\"\")","v":8.7270440636182389E-3},{"$f":"IF($F22<>Q$2,1-_xlfn.NORM.DIST(0,INDEX(Rating,$F22)-INDEX(Rating,Q$2),10,1),\"\")","v":2.6250669079613265E-2},{"$f":"IF($F22<>R$2,1-_xlfn.NORM.DIST(0,INDEX(Rating,$F22)-INDEX(Rating,R$2),10,1),\"\")","v":9.3867055348385575E-3},{"$f":"IF($F22<>S$2,1-_xlfn.NORM.DIST(0,INDEX(Rating,$F22)-INDEX(Rating,S$2),10,1),\"\")","v":0.10473937998292238},{"$f":"IF($F22<>T$2,1-_xlfn.NORM.DIST(0,INDEX(Rating,$F22)-INDEX(Rating,T$2),10,1),\"\")","v":3.2012911454244453E-2},{"$f":"IF($F22<>U$2,1-_xlfn.NORM.DIST(0,INDEX(Rating,$F22)-INDEX(Rating,U$2),10,1),\"\")","v":2.1382392321946053E-2},{"$f":"IF($F22<>V$2,1-_xlfn.NORM.DIST(0,INDEX(Rating,$F22)-INDEX(Rating,V$2),10,1),\"\")","v":4.661188023718732E-3},{"$f":"IF($F22<>W$2,1-_xlfn.NORM.DIST(0,INDEX(Rating,$F22)-INDEX(Rating,W$2),10,1),\"\")","v":0.10656587511761295},{"$f":"IF($F22<>X$2,1-_xlfn.NORM.DIST(0,INDEX(Rating,$F22)-INDEX(Rating,X$2),10,1),\"\")","v":5.7031263329506698E-3},{"$f":"IF($F22<>Y$2,1-_xlfn.NORM.DIST(0,INDEX(Rating,$F22)-INDEX(Rating,Y$2),10,1),\"\")","v":0.44393497117142555},{"$f":"IF($F22<>Z$2,1-_xlfn.NORM.DIST(0,INDEX(Rating,$F22)-INDEX(Rating,Z$2),10,1),\"\")","v":""},{"$f":"IF($F22<>AA$2,1-_xlfn.NORM.DIST(0,INDEX(Rating,$F22)-INDEX(Rating,AA$2),10,1),\"\")","v":1.1695112859072543E-2},{"$f":"IF($F22<>AB$2,1-_xlfn.NORM.DIST(0,INDEX(Rating,$F22)-INDEX(Rating,AB$2),10,1),\"\")","v":2.3851764341508486E-2},{"$f":"IF($F22<>AC$2,1-_xlfn.NORM.DIST(0,INDEX(Rating,$F22)-INDEX(Rating,AC$2),10,1),\"\")","v":9.4372606524680824E-3},{"$f":"IF($F22<>AD$2,1-_xlfn.NORM.DIST(0,INDEX(Rating,$F22)-INDEX(Rating,AD$2),10,1),\"\")","v":4.8156217746822993E-2},{"$f":"IF($F22<>AE$2,1-_xlfn.NORM.DIST(0,INDEX(Rating,$F22)-INDEX(Rating,AE$2),10,1),\"\")","v":5.5110086756330334E-3},{"$f":"IF($F22<>AF$2,1-_xlfn.NORM.DIST(0,INDEX(Rating,$F22)-INDEX(Rating,AF$2),10,1),\"\")","v":8.7549584025535254E-2},{"$f":"IF($F22<>AG$2,1-_xlfn.NORM.DIST(0,INDEX(Rating,$F22)-INDEX(Rating,AG$2),10,1),\"\")","v":1.3587320452381091E-2},{"$f":"IF($F22<>AH$2,1-_xlfn.NORM.DIST(0,INDEX(Rating,$F22)-INDEX(Rating,AH$2),10,1),\"\")","v":2.1382392321946053E-2},{"$f":"IF($F22<>AI$2,1-_xlfn.NORM.DIST(0,INDEX(Rating,$F22)-INDEX(Rating,AI$2),10,1),\"\")","v":1.5856877730566654E-2},{"$f":"IF($F22<>AJ$2,1-_xlfn.NORM.DIST(0,INDEX(Rating,$F22)-INDEX(Rating,AJ$2),10,1),\"\")","v":0.1387394961227193},{"$f":"IF($F22<>AK$2,1-_xlfn.NORM.DIST(0,INDEX(Rating,$F22)-INDEX(Rating,AK$2),10,1),\"\")","v":1.7558789785931395E-2},{"$f":"IF($F22<>AL$2,1-_xlfn.NORM.DIST(0,INDEX(Rating,$F22)-INDEX(Rating,AL$2),10,1),\"\")","v":2.1382392321946053E-2},{"$f":"IF($F22<>AM$2,1-_xlfn.NORM.DIST(0,INDEX(Rating,$F22)-INDEX(Rating,AM$2),10,1),\"\")","v":9.015035465477883E-3},{"$f":"IF($F22<>AN$2,1-_xlfn.NORM.DIST(0,INDEX(Rating,$F22)-INDEX(Rating,AN$2),10,1),\"\")","v":9.8872981591094589E-2},{"$f":"IF($F22<>AO$2,1-_xlfn.NORM.DIST(0,INDEX(Rating,$F22)-INDEX(Rating,AO$2),10,1),\"\")","v":2.5630568726712211E-3},{"$f":"IF($F22<>AP$2,1-_xlfn.NORM.DIST(0,INDEX(Rating,$F22)-INDEX(Rating,AP$2),10,1),\"\")","v":0.19051501688879868},{"$f":"IF($F22<>AQ$2,1-_xlfn.NORM.DIST(0,INDEX(Rating,$F22)-INDEX(Rating,AQ$2),10,1),\"\")","v":1.7908450366575512E-2},{"$f":"IF($F22<>AR$2,1-_xlfn.NORM.DIST(0,INDEX(Rating,$F22)-INDEX(Rating,AR$2),10,1),\"\")","v":1.5936489347847416E-2},{"$f":"IF($F22<>AS$2,1-_xlfn.NORM.DIST(0,INDEX(Rating,$F22)-INDEX(Rating,AS$2),10,1),\"\")","v":2.1076827973313672E-2},{"$f":"IF($F22<>AT$2,1-_xlfn.NORM.DIST(0,INDEX(Rating,$F22)-INDEX(Rating,AT$2),10,1),\"\")","v":3.5615653475987052E-2},{"$f":"IF($F22<>AU$2,1-_xlfn.NORM.DIST(0,INDEX(Rating,$F22)-INDEX(Rating,AU$2),10,1),\"\")","v":1.2708674372346018E-2},{"$f":"IF($F22<>AV$2,1-_xlfn.NORM.DIST(0,INDEX(Rating,$F22)-INDEX(Rating,AV$2),10,1),\"\")","v":4.244426251850808E-2},{"$f":"IF($F22<>AW$2,1-_xlfn.NORM.DIST(0,INDEX(Rating,$F22)-INDEX(Rating,AW$2),10,1),\"\")","v":1.9891258100992459E-2},{"$f":"IF($F22<>AX$2,1-_xlfn.NORM.DIST(0,INDEX(Rating,$F22)-INDEX(Rating,AX$2),10,1),\"\")","v":3.2884118659163852E-2},{"$f":"IF($F22<>AY$2,1-_xlfn.NORM.DIST(0,INDEX(Rating,$F22)-INDEX(Rating,AY$2),10,1),\"\")","v":3.8530451829749235E-2},{"$f":"IF($F22<>AZ$2,1-_xlfn.NORM.DIST(0,INDEX(Rating,$F22)-INDEX(Rating,AZ$2),10,1),\"\")","v":1.1787057388953026E-2},{"$f":"IF($F22<>BA$2,1-_xlfn.NORM.DIST(0,INDEX(Rating,$F22)-INDEX(Rating,BA$2),10,1),\"\")","v":0.17774315789912332},{"$f":"IF($F22<>BB$2,1-_xlfn.NORM.DIST(0,INDEX(Rating,$F22)-INDEX(Rating,BB$2),10,1),\"\")","v":1.3141652800199632E-2},{"$f":"IF($F22<>BC$2,1-_xlfn.NORM.DIST(0,INDEX(Rating,$F22)-INDEX(Rating,BC$2),10,1),\"\")","v":2.2642365763127059E-2},{"$f":"IF($F22<>BD$2,1-_xlfn.NORM.DIST(0,INDEX(Rating,$F22)-INDEX(Rating,BD$2),10,1),\"\")","v":3.907032574852809E-3},{"$f":"IF($F22<>BE$2,1-_xlfn.NORM.DIST(0,INDEX(Rating,$F22)-INDEX(Rating,BE$2),10,1),\"\")","v":0.10991129545923517},{"$f":"IF($F22<>BF$2,1-_xlfn.NORM.DIST(0,INDEX(Rating,$F22)-INDEX(Rating,BF$2),10,1),\"\")","v":4.5403621176167697E-3},{"$f":"IF($F22<>BG$2,1-_xlfn.NORM.DIST(0,INDEX(Rating,$F22)-INDEX(Rating,BG$2),10,1),\"\")","v":0.3036259953333964},{"$f":"IF($F22<>BH$2,1-_xlfn.NORM.DIST(0,INDEX(Rating,$F22)-INDEX(Rating,BH$2),10,1),\"\")","v":1.4262118410668823E-2},{"$f":"IF($F22<>BI$2,1-_xlfn.NORM.DIST(0,INDEX(Rating,$F22)-INDEX(Rating,BI$2),10,1),\"\")","v":1.6016443392398605E-2},{"$f":"IF($F22<>BJ$2,1-_xlfn.NORM.DIST(0,INDEX(Rating,$F22)-INDEX(Rating,BJ$2),10,1),\"\")","v":1.2004037384041877E-2},{"$f":"IF($F22<>BK$2,1-_xlfn.NORM.DIST(0,INDEX(Rating,$F22)-INDEX(Rating,BK$2),10,1),\"\")","v":2.5056393392360987E-2},{"$f":"IF($F22<>BL$2,1-_xlfn.NORM.DIST(0,INDEX(Rating,$F22)-INDEX(Rating,BL$2),10,1),\"\")","v":4.3836130981033117E-3},{"$f":"IF($F22<>BM$2,1-_xlfn.NORM.DIST(0,INDEX(Rating,$F22)-INDEX(Rating,BM$2),10,1),\"\")","v":5.6710732194747648E-2},{"$f":"IF($F22<>BN$2,1-_xlfn.NORM.DIST(0,INDEX(Rating,$F22)-INDEX(Rating,BN$2),10,1),\"\")","v":1.3587320452381091E-2},{"$f":"IF($F22<>BO$2,1-_xlfn.NORM.DIST(0,INDEX(Rating,$F22)-INDEX(Rating,BO$2),10,1),\"\")","v":4.3356269796281488E-2},{"$f":"IF($F22<>BP$2,1-_xlfn.NORM.DIST(0,INDEX(Rating,$F22)-INDEX(Rating,BP$2),10,1),\"\")","v":6.239191401912314E-2},{"$f":"IF($F22<>BQ$2,1-_xlfn.NORM.DIST(0,INDEX(Rating,$F22)-INDEX(Rating,BQ$2),10,1),\"\")","v":3.8954478561776806E-3},{"$f":"IF($F22<>BR$2,1-_xlfn.NORM.DIST(0,INDEX(Rating,$F22)-INDEX(Rating,BR$2),10,1),\"\")","v":0.11237386207783873},{"$f":"IF($F22<>BS$2,1-_xlfn.NORM.DIST(0,INDEX(Rating,$F22)-INDEX(Rating,BS$2),10,1),\"\")","v":2.2374831491335567E-2},{"$f":"IF($F22<>BT$2,1-_xlfn.NORM.DIST(0,INDEX(Rating,$F22)-INDEX(Rating,BT$2),10,1),\"\")","v":3.5694107338603787E-2},{"$f":"IF($F22<>BU$2,1-_xlfn.NORM.DIST(0,INDEX(Rating,$F22)-INDEX(Rating,BU$2),10,1),\"\")","v":3.1190138030328107E-3},{"$f":"IF($F22<>BV$2,1-_xlfn.NORM.DIST(0,INDEX(Rating,$F22)-INDEX(Rating,BV$2),10,1),\"\")","v":0.18459277473224878}]
[null,"Memphis",21,86.53,null,21,{"$f":"IF($F23<>G$2,1-_xlfn.NORM.DIST(0,INDEX(Rating,$F23)-INDEX(Rating,G$2),10,1),\"\")","v":0.26108629969286135},{"$f":"IF($F23<>H$2,1-_xlfn.NORM.DIST(0,INDEX(Rating,$F23)-INDEX(Rating,H$2),10,1),\"\")","v":0.94834349052489519},{"$f":"IF($F23<>I$2,1-_xlfn.NORM.DIST(0,INDEX(Rating,$F23)-INDEX(Rating,I$2),10,1),\"\")","v":0.97609199686792669},{"$f":"IF($F23<>J$2,1-_xlfn.NORM.DIST(0,INDEX(Rating,$F23)-INDEX(Rating,J$2),10,1),\"\")","v":0.54220882390640168},{"$f":"IF($F23<>K$2,1-_xlfn.NORM.DIST(0,INDEX(Rating,$F23)-INDEX(Rating,K$2),10,1),\"\")","v":0.52670914839907279},{"$f":"IF($F23<>L$2,1-_xlfn.NORM.DIST(0,INDEX(Rating,$F23)-INDEX(Rating,L$2),10,1),\"\")","v":0.55329871278245357},{"$f":"IF($F23<>M$2,1-_xlfn.NORM.DIST(0,INDEX(Rating,$F23)-INDEX(Rating,M$2),10,1),\"\")","v":0.72038984398065087},{"$f":"IF($F23<>N$2,1-_xlfn.NORM.DIST(0,INDEX(Rating,$F23)-INDEX(Rating,N$2),10,1),\"\")","v":0.55764456410492369},{"$f":"IF($F23<>O$2,1-_xlfn.NORM.DIST(0,INDEX(Rating,$F23)-INDEX(Rating,O$2),10,1),\"\")","v":0.75959488191843549},{"$f":"IF($F23<>P$2,1-_xlfn.NORM.DIST(0,INDEX(Rating,$F23)-INDEX(Rating,P$2),10,1),\"\")","v":0.4562046874576835},{"$f":"IF($F23<>Q$2,1-_xlfn.NORM.DIST(0,INDEX(Rating,$F23)-INDEX(Rating,Q$2),10,1),\"\")","v":0.62854416868826302},{"$f":"IF($F23<>R$2,1-_xlfn.NORM.DIST(0,INDEX(Rating,$F23)-INDEX(Rating,R$2),10,1),\"\")","v":0.46692576980757994},{"$f":"IF($F23<>S$2,1-_xlfn.NORM.DIST(0,INDEX(Rating,$F23)-INDEX(Rating,S$2),10,1),\"\")","v":0.84423097328772334},{"$f":"IF($F23<>T$2,1-_xlfn.NORM.DIST(0,INDEX(Rating,$F23)-INDEX(Rating,T$2),10,1),\"\")","v":0.66092904843816902},{"$f":"IF($F23<>U$2,1-_xlfn.NORM.DIST(0,INDEX(Rating,$F23)-INDEX(Rating,U$2),10,1),\"\")","v":0.59522244173805672},{"$f":"IF($F23<>V$2,1-_xlfn.NORM.DIST(0,INDEX(Rating,$F23)-INDEX(Rating,V$2),10,1),\"\")","v":0.36956714157750215},{"$f":"IF($F23<>W$2,1-_xlfn.NORM.DIST(0,INDEX(Rating,$F23)-INDEX(Rating,W$2),10,1),\"\")","v":0.84660954979521108},{"$f":"IF($F23<>X$2,1-_xlfn.NORM.DIST(0,INDEX(Rating,$F23)-INDEX(Rating,X$2),10,1),\"\")","v":0.39627528955746194},{"$f":"IF($F23<>Y$2,1-_xlfn.NORM.DIST(0,INDEX(Rating,$F23)-INDEX(Rating,Y$2),10,1),\"\")","v":0.98324837023270106},{"$f":"IF($F23<>Z$2,1-_xlfn.NORM.DIST(0,INDEX(Rating,$F23)-INDEX(Rating,Z$2),10,1),\"\")","v":0.98830488714092746},{"$f":"IF($F23<>AA$2,1-_xlfn.NORM.DIST(0,INDEX(Rating,$F23)-INDEX(Rating,AA$2),10,1),\"\")","v":""},{"$f":"IF($F23<>AB$2,1-_xlfn.NORM.DIST(0,INDEX(Rating,$F23)-INDEX(Rating,AB$2),10,1),\"\")","v":0.61294383988301671},{"$f":"IF($F23<>AC$2,1-_xlfn.NORM.DIST(0,INDEX(Rating,$F23)-INDEX(Rating,AC$2),10,1),\"\")","v":0.46772097625305897},{"$f":"IF($F23<>AD$2,1-_xlfn.NORM.DIST(0,INDEX(Rating,$F23)-INDEX(Rating,AD$2),10,1),\"\")","v":0.72707817891421955},{"$f":"IF($F23<>AE$2,1-_xlfn.NORM.DIST(0,INDEX(Rating,$F23)-INDEX(Rating,AE$2),10,1),\"\")","v":0.39165811915360516},{"$f":"IF($F23<>AF$2,1-_xlfn.NORM.DIST(0,INDEX(Rating,$F23)-INDEX(Rating,AF$2),10,1),\"\")","v":0.8188523131647244},{"$f":"IF($F23<>AG$2,1-_xlfn.NORM.DIST(0,INDEX(Rating,$F23)-INDEX(Rating,AG$2),10,1),\"\")","v":0.5231256857358384},{"$f":"IF($F23<>AH$2,1-_xlfn.NORM.DIST(0,INDEX(Rating,$F23)-INDEX(Rating,AH$2),10,1),\"\")","v":0.59522244173805672},{"$f":"IF($F23<>AI$2,1-_xlfn.NORM.DIST(0,INDEX(Rating,$F23)-INDEX(Rating,AI$2),10,1),\"\")","v":0.54736232210904612},{"$f":"IF($F23<>AJ$2,1-_xlfn.NORM.DIST(0,INDEX(Rating,$F23)-INDEX(Rating,AJ$2),10,1),\"\")","v":0.88119863834796752},{"$f":"IF($F23<>AK$2,1-_xlfn.NORM.DIST(0,INDEX(Rating,$F23)-INDEX(Rating,AK$2),10,1),\"\")","v":0.56355946289143266},{"$f":"IF($F23<>AL$2,1-_xlfn.NORM.DIST(0,INDEX(Rating,$F23)-INDEX(Rating,AL$2),10,1),\"\")","v":0.59522244173805672},{"$f":"IF($F23<>AM$2,1-_xlfn.NORM.DIST(0,INDEX(Rating,$F23)-INDEX(Rating,AM$2),10,1),\"\")","v":0.46096614668437819},{"$f":"IF($F23<>AN$2,1-_xlfn.NORM.DIST(0,INDEX(Rating,$F23)-INDEX(Rating,AN$2),10,1),\"\")","v":0.83621001024673991},{"$f":"IF($F23<>AO$2,1-_xlfn.NORM.DIST(0,INDEX(Rating,$F23)-INDEX(Rating,AO$2),10,1),\"\")","v":0.29736299775204156},{"$f":"IF($F23<>AP$2,1-_xlfn.NORM.DIST(0,INDEX(Rating,$F23)-INDEX(Rating,AP$2),10,1),\"\")","v":0.91788728662395314},{"$f":"IF($F23<>AQ$2,1-_xlfn.NORM.DIST(0,INDEX(Rating,$F23)-INDEX(Rating,AQ$2),10,1),\"\")","v":0.56670836046058481},{"$f":"IF($F23<>AR$2,1-_xlfn.NORM.DIST(0,INDEX(Rating,$F23)-INDEX(Rating,AR$2),10,1),\"\")","v":0.5481544824025083},{"$f":"IF($F23<>AS$2,1-_xlfn.NORM.DIST(0,INDEX(Rating,$F23)-INDEX(Rating,AS$2),10,1),\"\")","v":0.5928956333896328},{"$f":"IF($F23<>AT$2,1-_xlfn.NORM.DIST(0,INDEX(Rating,$F23)-INDEX(Rating,AT$2),10,1),\"\")","v":0.67831781644813427},{"$f":"IF($F23<>AU$2,1-_xlfn.NORM.DIST(0,INDEX(Rating,$F23)-INDEX(Rating,AU$2),10,1),\"\")","v":0.51276397455068834},{"$f":"IF($F23<>AV$2,1-_xlfn.NORM.DIST(0,INDEX(Rating,$F23)-INDEX(Rating,AV$2),10,1),\"\")","v":0.7067792635761394},{"$f":"IF($F23<>AW$2,1-_xlfn.NORM.DIST(0,INDEX(Rating,$F23)-INDEX(Rating,AW$2),10,1),\"\")","v":0.58355636432245328},{"$f":"IF($F23<>AX$2,1-_xlfn.NORM.DIST(0,INDEX(Rating,$F23)-INDEX(Rating,AX$2),10,1),\"\")","v":0.66531033615317214},{"$f":"IF($F23<>AY$2,1-_xlfn.NORM.DIST(0,INDEX(Rating,$F23)-INDEX(Rating,AY$2),10,1),\"\")","v":0.69111030797494533},{"$f":"IF($F23<>AZ$2,1-_xlfn.NORM.DIST(0,INDEX(Rating,$F23)-INDEX(Rating,AZ$2),10,1),\"\")","v":0.50119682504596652},{"$f":"IF($F23<>BA$2,1-_xlfn.NORM.DIST(0,INDEX(Rating,$F23)-INDEX(Rating,BA$2),10,1),\"\")","v":0.91036401307710479},{"$f":"IF($F23<>BB$2,1-_xlfn.NORM.DIST(0,INDEX(Rating,$F23)-INDEX(Rating,BB$2),10,1),\"\")","v":0.51794634552213914},{"$f":"IF($F23<>BC$2,1-_xlfn.NORM.DIST(0,INDEX(Rating,$F23)-INDEX(Rating,BC$2),10,1),\"\")","v":0.60449526909255424},{"$f":"IF($F23<>BD$2,1-_xlfn.NORM.DIST(0,INDEX(Rating,$F23)-INDEX(Rating,BD$2),10,1),\"\")","v":0.34715974069309619},{"$f":"IF($F23<>BE$2,1-_xlfn.NORM.DIST(0,INDEX(Rating,$F23)-INDEX(Rating,BE$2),10,1),\"\")","v":0.85083004966901865},{"$f":"IF($F23<>BF$2,1-_xlfn.NORM.DIST(0,INDEX(Rating,$F23)-INDEX(Rating,BF$2),10,1),\"\")","v":0.36617544612934161},{"$f":"IF($F23<>BG$2,1-_xlfn.NORM.DIST(0,INDEX(Rating,$F23)-INDEX(Rating,BG$2),10,1),\"\")","v":0.96019899645950513},{"$f":"IF($F23<>BH$2,1-_xlfn.NORM.DIST(0,INDEX(Rating,$F23)-INDEX(Rating,BH$2),10,1),\"\")","v":0.53068822751544931},{"$f":"IF($F23<>BI$2,1-_xlfn.NORM.DIST(0,INDEX(Rating,$F23)-INDEX(Rating,BI$2),10,1),\"\")","v":0.54894645101643691},{"$f":"IF($F23<>BJ$2,1-_xlfn.NORM.DIST(0,INDEX(Rating,$F23)-INDEX(Rating,BJ$2),10,1),\"\")","v":0.50398935631463138},{"$f":"IF($F23<>BK$2,1-_xlfn.NORM.DIST(0,INDEX(Rating,$F23)-INDEX(Rating,BK$2),10,1),\"\")","v":0.62095883383065331},{"$f":"IF($F23<>BL$2,1-_xlfn.NORM.DIST(0,INDEX(Rating,$F23)-INDEX(Rating,BL$2),10,1),\"\")","v":0.36166944161789616},{"$f":"IF($F23<>BM$2,1-_xlfn.NORM.DIST(0,INDEX(Rating,$F23)-INDEX(Rating,BM$2),10,1),\"\")","v":0.75301241710221323},{"$f":"IF($F23<>BN$2,1-_xlfn.NORM.DIST(0,INDEX(Rating,$F23)-INDEX(Rating,BN$2),10,1),\"\")","v":0.5231256857358384},{"$f":"IF($F23<>BO$2,1-_xlfn.NORM.DIST(0,INDEX(Rating,$F23)-INDEX(Rating,BO$2),10,1),\"\")","v":0.71021057713269797},{"$f":"IF($F23<>BP$2,1-_xlfn.NORM.DIST(0,INDEX(Rating,$F23)-INDEX(Rating,BP$2),10,1),\"\")","v":0.76791571611316689},{"$f":"IF($F23<>BQ$2,1-_xlfn.NORM.DIST(0,INDEX(Rating,$F23)-INDEX(Rating,BQ$2),10,1),\"\")","v":0.3467905196174752},{"$f":"IF($F23<>BR$2,1-_xlfn.NORM.DIST(0,INDEX(Rating,$F23)-INDEX(Rating,BR$2),10,1),\"\")","v":0.85382950396061985},{"$f":"IF($F23<>BS$2,1-_xlfn.NORM.DIST(0,INDEX(Rating,$F23)-INDEX(Rating,BS$2),10,1),\"\")","v":0.60256811320176029},{"$f":"IF($F23<>BT$2,1-_xlfn.NORM.DIST(0,INDEX(Rating,$F23)-INDEX(Rating,BT$2),10,1),\"\")","v":0.67867612718430737},{"$f":"IF($F23<>BU$2,1-_xlfn.NORM.DIST(0,INDEX(Rating,$F23)-INDEX(Rating,BU$2),10,1),\"\")","v":0.31989229485341675},{"$f":"IF($F23<>BV$2,1-_xlfn.NORM.DIST(0,INDEX(Rating,$F23)-INDEX(Rating,BV$2),10,1),\"\")","v":0.91450036254508016}]
[null,"Florida Atlantic",22,83.66,null,22,{"$f":"IF($F24<>G$2,1-_xlfn.NORM.DIST(0,INDEX(Rating,$F24)-INDEX(Rating,G$2),10,1),\"\")","v":0.17696326714141708},{"$f":"IF($F24<>H$2,1-_xlfn.NORM.DIST(0,INDEX(Rating,$F24)-INDEX(Rating,H$2),10,1),\"\")","v":0.91020200217106373},{"$f":"IF($F24<>I$2,1-_xlfn.NORM.DIST(0,INDEX(Rating,$F24)-INDEX(Rating,I$2),10,1),\"\")","v":0.95467701318755305},{"$f":"IF($F24<>J$2,1-_xlfn.NORM.DIST(0,INDEX(Rating,$F24)-INDEX(Rating,J$2),10,1),\"\")","v":0.42818378800710577},{"$f":"IF($F24<>K$2,1-_xlfn.NORM.DIST(0,INDEX(Rating,$F24)-INDEX(Rating,K$2),10,1),\"\")","v":0.41293557735178532},{"$f":"IF($F24<>L$2,1-_xlfn.NORM.DIST(0,INDEX(Rating,$F24)-INDEX(Rating,L$2),10,1),\"\")","v":0.43919913764520113},{"$f":"IF($F24<>M$2,1-_xlfn.NORM.DIST(0,INDEX(Rating,$F24)-INDEX(Rating,M$2),10,1),\"\")","v":0.616766745431925},{"$f":"IF($F24<>N$2,1-_xlfn.NORM.DIST(0,INDEX(Rating,$F24)-INDEX(Rating,N$2),10,1),\"\")","v":0.44354000284321315},{"$f":"IF($F24<>O$2,1-_xlfn.NORM.DIST(0,INDEX(Rating,$F24)-INDEX(Rating,O$2),10,1),\"\")","v":0.66202644138725664},{"$f":"IF($F24<>P$2,1-_xlfn.NORM.DIST(0,INDEX(Rating,$F24)-INDEX(Rating,P$2),10,1),\"\")","v":0.34568373030336685},{"$f":"IF($F24<>Q$2,1-_xlfn.NORM.DIST(0,INDEX(Rating,$F24)-INDEX(Rating,Q$2),10,1),\"\")","v":0.5163520520682412},{"$f":"IF($F24<>R$2,1-_xlfn.NORM.DIST(0,INDEX(Rating,$F24)-INDEX(Rating,R$2),10,1),\"\")","v":0.35569124519945317},{"$f":"IF($F24<>S$2,1-_xlfn.NORM.DIST(0,INDEX(Rating,$F24)-INDEX(Rating,S$2),10,1),\"\")","v":0.76577398478730507},{"$f":"IF($F24<>T$2,1-_xlfn.NORM.DIST(0,INDEX(Rating,$F24)-INDEX(Rating,T$2),10,1),\"\")","v":0.55092551347931173},{"$f":"IF($F24<>U$2,1-_xlfn.NORM.DIST(0,INDEX(Rating,$F24)-INDEX(Rating,U$2),10,1),\"\")","v":0.48165512495550189},{"$f":"IF($F24<>V$2,1-_xlfn.NORM.DIST(0,INDEX(Rating,$F24)-INDEX(Rating,V$2),10,1),\"\")","v":0.26762889346898289},{"$f":"IF($F24<>W$2,1-_xlfn.NORM.DIST(0,INDEX(Rating,$F24)-INDEX(Rating,W$2),10,1),\"\")","v":0.76883025293933493},{"$f":"IF($F24<>X$2,1-_xlfn.NORM.DIST(0,INDEX(Rating,$F24)-INDEX(Rating,X$2),10,1),\"\")","v":0.29115968678834636},{"$f":"IF($F24<>Y$2,1-_xlfn.NORM.DIST(0,INDEX(Rating,$F24)-INDEX(Rating,Y$2),10,1),\"\")","v":0.96704240696479815},{"$f":"IF($F24<>Z$2,1-_xlfn.NORM.DIST(0,INDEX(Rating,$F24)-INDEX(Rating,Z$2),10,1),\"\")","v":0.97614823565849151},{"$f":"IF($F24<>AA$2,1-_xlfn.NORM.DIST(0,INDEX(Rating,$F24)-INDEX(Rating,AA$2),10,1),\"\")","v":0.38705616011698329},{"$f":"IF($F24<>AB$2,1-_xlfn.NORM.DIST(0,INDEX(Rating,$F24)-INDEX(Rating,AB$2),10,1),\"\")","v":""},{"$f":"IF($F24<>AC$2,1-_xlfn.NORM.DIST(0,INDEX(Rating,$F24)-INDEX(Rating,AC$2),10,1),\"\")","v":0.3564366170949137},{"$f":"IF($F24<>AD$2,1-_xlfn.NORM.DIST(0,INDEX(Rating,$F24)-INDEX(Rating,AD$2),10,1),\"\")","v":0.62437819887306878},{"$f":"IF($F24<>AE$2,1-_xlfn.NORM.DIST(0,INDEX(Rating,$F24)-INDEX(Rating,AE$2),10,1),\"\")","v":0.28705800955483229},{"$f":"IF($F24<>AF$2,1-_xlfn.NORM.DIST(0,INDEX(Rating,$F24)-INDEX(Rating,AF$2),10,1),\"\")","v":0.73368620746579738},{"$f":"IF($F24<>AG$2,1-_xlfn.NORM.DIST(0,INDEX(Rating,$F24)-INDEX(Rating,AG$2),10,1),\"\")","v":0.4094344580627568},{"$f":"IF($F24<>AH$2,1-_xlfn.NORM.DIST(0,INDEX(Rating,$F24)-INDEX(Rating,AH$2),10,1),\"\")","v":0.48165512495550189},{"$f":"IF($F24<>AI$2,1-_xlfn.NORM.DIST(0,INDEX(Rating,$F24)-INDEX(Rating,AI$2),10,1),\"\")","v":0.43329163953941519},{"$f":"IF($F24<>AJ$2,1-_xlfn.NORM.DIST(0,INDEX(Rating,$F24)-INDEX(Rating,AJ$2),10,1),\"\")","v":0.81433905442116394},{"$f":"IF($F24<>AK$2,1-_xlfn.NORM.DIST(0,INDEX(Rating,$F24)-INDEX(Rating,AK$2),10,1),\"\")","v":0.4494701992748571},{"$f":"IF($F24<>AL$2,1-_xlfn.NORM.DIST(0,INDEX(Rating,$F24)-INDEX(Rating,AL$2),10,1),\"\")","v":0.48165512495550189},{"$f":"IF($F24<>AM$2,1-_xlfn.NORM.DIST(0,INDEX(Rating,$F24)-INDEX(Rating,AM$2),10,1),\"\")","v":0.35011870776527543},{"$f":"IF($F24<>AN$2,1-_xlfn.NORM.DIST(0,INDEX(Rating,$F24)-INDEX(Rating,AN$2),10,1),\"\")","v":0.75553133550478324},{"$f":"IF($F24<>AO$2,1-_xlfn.NORM.DIST(0,INDEX(Rating,$F24)-INDEX(Rating,AO$2),10,1),\"\")","v":0.2063932067936235},{"$f":"IF($F24<>AP$2,1-_xlfn.NORM.DIST(0,INDEX(Rating,$F24)-INDEX(Rating,AP$2),10,1),\"\")","v":0.86520343115514864},{"$f":"IF($F24<>AQ$2,1-_xlfn.NORM.DIST(0,INDEX(Rating,$F24)-INDEX(Rating,AQ$2),10,1),\"\")","v":0.45263767789095388},{"$f":"IF($F24<>AR$2,1-_xlfn.NORM.DIST(0,INDEX(Rating,$F24)-INDEX(Rating,AR$2),10,1),\"\")","v":0.43407847508611475},{"$f":"IF($F24<>AS$2,1-_xlfn.NORM.DIST(0,INDEX(Rating,$F24)-INDEX(Rating,AS$2),10,1),\"\")","v":0.47926434670771934},{"$f":"IF($F24<>AT$2,1-_xlfn.NORM.DIST(0,INDEX(Rating,$F24)-INDEX(Rating,AT$2),10,1),\"\")","v":0.56985302877665367},{"$f":"IF($F24<>AU$2,1-_xlfn.NORM.DIST(0,INDEX(Rating,$F24)-INDEX(Rating,AU$2),10,1),\"\")","v":0.39936154961561754},{"$f":"IF($F24<>AV$2,1-_xlfn.NORM.DIST(0,INDEX(Rating,$F24)-INDEX(Rating,AV$2),10,1),\"\")","v":0.60141061346388347},{"$f":"IF($F24<>AW$2,1-_xlfn.NORM.DIST(0,INDEX(Rating,$F24)-INDEX(Rating,AW$2),10,1),\"\")","v":0.46970954909974316},{"$f":"IF($F24<>AX$2,1-_xlfn.NORM.DIST(0,INDEX(Rating,$F24)-INDEX(Rating,AX$2),10,1),\"\")","v":0.55567000480590611},{"$f":"IF($F24<>AY$2,1-_xlfn.NORM.DIST(0,INDEX(Rating,$F24)-INDEX(Rating,AY$2),10,1),\"\")","v":0.58394648283877904},{"$f":"IF($F24<>AZ$2,1-_xlfn.NORM.DIST(0,INDEX(Rating,$F24)-INDEX(Rating,AZ$2),10,1),\"\")","v":0.38820519032133083},{"$f":"IF($F24<>BA$2,1-_xlfn.NORM.DIST(0,INDEX(Rating,$F24)-INDEX(Rating,BA$2),10,1),\"\")","v":0.85451589256871252},{"$f":"IF($F24<>BB$2,1-_xlfn.NORM.DIST(0,INDEX(Rating,$F24)-INDEX(Rating,BB$2),10,1),\"\")","v":0.40439008161479972},{"$f":"IF($F24<>BC$2,1-_xlfn.NORM.DIST(0,INDEX(Rating,$F24)-INDEX(Rating,BC$2),10,1),\"\")","v":0.49122397776933835},{"$f":"IF($F24<>BD$2,1-_xlfn.NORM.DIST(0,INDEX(Rating,$F24)-INDEX(Rating,BD$2),10,1),\"\")","v":0.24825223045357059},{"$f":"IF($F24<>BE$2,1-_xlfn.NORM.DIST(0,INDEX(Rating,$F24)-INDEX(Rating,BE$2),10,1),\"\")","v":0.77427504298975636},{"$f":"IF($F24<>BF$2,1-_xlfn.NORM.DIST(0,INDEX(Rating,$F24)-INDEX(Rating,BF$2),10,1),\"\")","v":0.26467452810667691},{"$f":"IF($F24<>BG$2,1-_xlfn.NORM.DIST(0,INDEX(Rating,$F24)-INDEX(Rating,BG$2),10,1),\"\")","v":0.92867585657052909},{"$f":"IF($F24<>BH$2,1-_xlfn.NORM.DIST(0,INDEX(Rating,$F24)-INDEX(Rating,BH$2),10,1),\"\")","v":0.41683383651755734},{"$f":"IF($F24<>BI$2,1-_xlfn.NORM.DIST(0,INDEX(Rating,$F24)-INDEX(Rating,BI$2),10,1),\"\")","v":0.43486557190549702},{"$f":"IF($F24<>BJ$2,1-_xlfn.NORM.DIST(0,INDEX(Rating,$F24)-INDEX(Rating,BJ$2),10,1),\"\")","v":0.3908900530726418},{"$f":"IF($F24<>BK$2,1-_xlfn.NORM.DIST(0,INDEX(Rating,$F24)-INDEX(Rating,BK$2),10,1),\"\")","v":0.50837717216175093},{"$f":"IF($F24<>BL$2,1-_xlfn.NORM.DIST(0,INDEX(Rating,$F24)-INDEX(Rating,BL$2),10,1),\"\")","v":0.26076134148066576},{"$f":"IF($F24<>BM$2,1-_xlfn.NORM.DIST(0,INDEX(Rating,$F24)-INDEX(Rating,BM$2),10,1),\"\")","v":0.65431626969663315},{"$f":"IF($F24<>BN$2,1-_xlfn.NORM.DIST(0,INDEX(Rating,$F24)-INDEX(Rating,BN$2),10,1),\"\")","v":0.4094344580627568},{"$f":"IF($F24<>BO$2,1-_xlfn.NORM.DIST(0,INDEX(Rating,$F24)-INDEX(Rating,BO$2),10,1),\"\")","v":0.60526541945482726},{"$f":"IF($F24<>BP$2,1-_xlfn.NORM.DIST(0,INDEX(Rating,$F24)-INDEX(Rating,BP$2),10,1),\"\")","v":0.67184012293741535},{"$f":"IF($F24<>BQ$2,1-_xlfn.NORM.DIST(0,INDEX(Rating,$F24)-INDEX(Rating,BQ$2),10,1),\"\")","v":0.24793574521579209},{"$f":"IF($F24<>BR$2,1-_xlfn.NORM.DIST(0,INDEX(Rating,$F24)-INDEX(Rating,BR$2),10,1),\"\")","v":0.77816184890748163},{"$f":"IF($F24<>BS$2,1-_xlfn.NORM.DIST(0,INDEX(Rating,$F24)-INDEX(Rating,BS$2),10,1),\"\")","v":0.48922986701621451},{"$f":"IF($F24<>BT$2,1-_xlfn.NORM.DIST(0,INDEX(Rating,$F24)-INDEX(Rating,BT$2),10,1),\"\")","v":0.57024580521090396},{"$f":"IF($F24<>BU$2,1-_xlfn.NORM.DIST(0,INDEX(Rating,$F24)-INDEX(Rating,BU$2),10,1),\"\")","v":0.22512449110992705},{"$f":"IF($F24<>BV$2,1-_xlfn.NORM.DIST(0,INDEX(Rating,$F24)-INDEX(Rating,BV$2),10,1),\"\")","v":0.86037373602687017}]
[null,"Duke",23,87.34,null,23,{"$f":"IF($F25<>G$2,1-_xlfn.NORM.DIST(0,INDEX(Rating,$F25)-INDEX(Rating,G$2),10,1),\"\")","v":0.28808086009144107},{"$f":"IF($F25<>H$2,1-_xlfn.NORM.DIST(0,INDEX(Rating,$F25)-INDEX(Rating,H$2),10,1),\"\")","v":0.95636706347596823},{"$f":"IF($F25<>I$2,1-_xlfn.NORM.DIST(0,INDEX(Rating,$F25)-INDEX(Rating,I$2),10,1),\"\")","v":0.9803007295906232},{"$f":"IF($F25<>J$2,1-_xlfn.NORM.DIST(0,INDEX(Rating,$F25)-INDEX(Rating,J$2),10,1),\"\")","v":0.57416968352736442},{"$f":"IF($F25<>K$2,1-_xlfn.NORM.DIST(0,INDEX(Rating,$F25)-INDEX(Rating,K$2),10,1),\"\")","v":0.55882861587888288},{"$f":"IF($F25<>L$2,1-_xlfn.NORM.DIST(0,INDEX(Rating,$F25)-INDEX(Rating,L$2),10,1),\"\")","v":0.58511634072019603},{"$f":"IF($F25<>M$2,1-_xlfn.NORM.DIST(0,INDEX(Rating,$F25)-INDEX(Rating,M$2),10,1),\"\")","v":0.74697475346246234},{"$f":"IF($F25<>N$2,1-_xlfn.NORM.DIST(0,INDEX(Rating,$F25)-INDEX(Rating,N$2),10,1),\"\")","v":0.58939928983601719},{"$f":"IF($F25<>O$2,1-_xlfn.NORM.DIST(0,INDEX(Rating,$F25)-INDEX(Rating,O$2),10,1),\"\")","v":0.78406625643102512},{"$f":"IF($F25<>P$2,1-_xlfn.NORM.DIST(0,INDEX(Rating,$F25)-INDEX(Rating,P$2),10,1),\"\")","v":0.48843229529768961},{"$f":"IF($F25<>Q$2,1-_xlfn.NORM.DIST(0,INDEX(Rating,$F25)-INDEX(Rating,Q$2),10,1),\"\")","v":0.65873016942587137},{"$f":"IF($F25<>R$2,1-_xlfn.NORM.DIST(0,INDEX(Rating,$F25)-INDEX(Rating,R$2),10,1),\"\")","v":0.49920211597111996},{"$f":"IF($F25<>S$2,1-_xlfn.NORM.DIST(0,INDEX(Rating,$F25)-INDEX(Rating,S$2),10,1),\"\")","v":0.86280310012590133},{"$f":"IF($F25<>T$2,1-_xlfn.NORM.DIST(0,INDEX(Rating,$F25)-INDEX(Rating,T$2),10,1),\"\")","v":0.6900527945273307},{"$f":"IF($F25<>U$2,1-_xlfn.NORM.DIST(0,INDEX(Rating,$F25)-INDEX(Rating,U$2),10,1),\"\")","v":0.62627365274269953},{"$f":"IF($F25<>V$2,1-_xlfn.NORM.DIST(0,INDEX(Rating,$F25)-INDEX(Rating,V$2),10,1),\"\")","v":0.40052053190067471},{"$f":"IF($F25<>W$2,1-_xlfn.NORM.DIST(0,INDEX(Rating,$F25)-INDEX(Rating,W$2),10,1),\"\")","v":0.86498641742375548},{"$f":"IF($F25<>X$2,1-_xlfn.NORM.DIST(0,INDEX(Rating,$F25)-INDEX(Rating,X$2),10,1),\"\")","v":0.42779136295047038},{"$f":"IF($F25<>Y$2,1-_xlfn.NORM.DIST(0,INDEX(Rating,$F25)-INDEX(Rating,Y$2),10,1),\"\")","v":0.9863429703288743},{"$f":"IF($F25<>Z$2,1-_xlfn.NORM.DIST(0,INDEX(Rating,$F25)-INDEX(Rating,Z$2),10,1),\"\")","v":0.99056273934753192},{"$f":"IF($F25<>AA$2,1-_xlfn.NORM.DIST(0,INDEX(Rating,$F25)-INDEX(Rating,AA$2),10,1),\"\")","v":0.53227902374694103},{"$f":"IF($F25<>AB$2,1-_xlfn.NORM.DIST(0,INDEX(Rating,$F25)-INDEX(Rating,AB$2),10,1),\"\")","v":0.6435633829050863},{"$f":"IF($F25<>AC$2,1-_xlfn.NORM.DIST(0,INDEX(Rating,$F25)-INDEX(Rating,AC$2),10,1),\"\")","v":""},{"$f":"IF($F25<>AD$2,1-_xlfn.NORM.DIST(0,INDEX(Rating,$F25)-INDEX(Rating,AD$2),10,1),\"\")","v":0.75332803951365834},{"$f":"IF($F25<>AE$2,1-_xlfn.NORM.DIST(0,INDEX(Rating,$F25)-INDEX(Rating,AE$2),10,1),\"\")","v":0.42308794095158175},{"$f":"IF($F25<>AF$2,1-_xlfn.NORM.DIST(0,INDEX(Rating,$F25)-INDEX(Rating,AF$2),10,1),\"\")","v":0.8394012372919295},{"$f":"IF($F25<>AG$2,1-_xlfn.NORM.DIST(0,INDEX(Rating,$F25)-INDEX(Rating,AG$2),10,1),\"\")","v":0.55527492547600832},{"$f":"IF($F25<>AH$2,1-_xlfn.NORM.DIST(0,INDEX(Rating,$F25)-INDEX(Rating,AH$2),10,1),\"\")","v":0.62627365274269953},{"$f":"IF($F25<>AI$2,1-_xlfn.NORM.DIST(0,INDEX(Rating,$F25)-INDEX(Rating,AI$2),10,1),\"\")","v":0.57925970943910299},{"$f":"IF($F25<>AJ$2,1-_xlfn.NORM.DIST(0,INDEX(Rating,$F25)-INDEX(Rating,AJ$2),10,1),\"\")","v":0.89652560681135118},{"$f":"IF($F25<>AK$2,1-_xlfn.NORM.DIST(0,INDEX(Rating,$F25)-INDEX(Rating,AK$2),10,1),\"\")","v":0.59522244173805672},{"$f":"IF($F25<>AL$2,1-_xlfn.NORM.DIST(0,INDEX(Rating,$F25)-INDEX(Rating,AL$2),10,1),\"\")","v":0.62627365274269953},{"$f":"IF($F25<>AM$2,1-_xlfn.NORM.DIST(0,INDEX(Rating,$F25)-INDEX(Rating,AM$2),10,1),\"\")","v":0.49321830788625232},{"$f":"IF($F25<>AN$2,1-_xlfn.NORM.DIST(0,INDEX(Rating,$F25)-INDEX(Rating,AN$2),10,1),\"\")","v":0.85542770033609061},{"$f":"IF($F25<>AO$2,1-_xlfn.NORM.DIST(0,INDEX(Rating,$F25)-INDEX(Rating,AO$2),10,1),\"\")","v":0.32599477449192638},{"$f":"IF($F25<>AP$2,1-_xlfn.NORM.DIST(0,INDEX(Rating,$F25)-INDEX(Rating,AP$2),10,1),\"\")","v":0.92948956121208193},{"$f":"IF($F25<>AQ$2,1-_xlfn.NORM.DIST(0,INDEX(Rating,$F25)-INDEX(Rating,AQ$2),10,1),\"\")","v":0.5983196092930354},{"$f":"IF($F25<>AR$2,1-_xlfn.NORM.DIST(0,INDEX(Rating,$F25)-INDEX(Rating,AR$2),10,1),\"\")","v":0.58004163790959673},{"$f":"IF($F25<>AS$2,1-_xlfn.NORM.DIST(0,INDEX(Rating,$F25)-INDEX(Rating,AS$2),10,1),\"\")","v":0.62399874593329308},{"$f":"IF($F25<>AT$2,1-_xlfn.NORM.DIST(0,INDEX(Rating,$F25)-INDEX(Rating,AT$2),10,1),\"\")","v":0.7067792635761394},{"$f":"IF($F25<>AU$2,1-_xlfn.NORM.DIST(0,INDEX(Rating,$F25)-INDEX(Rating,AU$2),10,1),\"\")","v":0.54498472239277285},{"$f":"IF($F25<>AV$2,1-_xlfn.NORM.DIST(0,INDEX(Rating,$F25)-INDEX(Rating,AV$2),10,1),\"\")","v":0.73401447095129946},{"$f":"IF($F25<>AW$2,1-_xlfn.NORM.DIST(0,INDEX(Rating,$F25)-INDEX(Rating,AW$2),10,1),\"\")","v":0.61485668801484139},{"$f":"IF($F25<>AX$2,1-_xlfn.NORM.DIST(0,INDEX(Rating,$F25)-INDEX(Rating,AX$2),10,1),\"\")","v":0.69427332839348566},{"$f":"IF($F25<>AY$2,1-_xlfn.NORM.DIST(0,INDEX(Rating,$F25)-INDEX(Rating,AY$2),10,1),\"\")","v":0.71904269110143559},{"$f":"IF($F25<>AZ$2,1-_xlfn.NORM.DIST(0,INDEX(Rating,$F25)-INDEX(Rating,AZ$2),10,1),\"\")","v":0.53347178411508689},{"$f":"IF($F25<>BA$2,1-_xlfn.NORM.DIST(0,INDEX(Rating,$F25)-INDEX(Rating,BA$2),10,1),\"\")","v":0.92277676396539643},{"$f":"IF($F25<>BB$2,1-_xlfn.NORM.DIST(0,INDEX(Rating,$F25)-INDEX(Rating,BB$2),10,1),\"\")","v":0.55013403771226654},{"$f":"IF($F25<>BC$2,1-_xlfn.NORM.DIST(0,INDEX(Rating,$F25)-INDEX(Rating,BC$2),10,1),\"\")","v":0.63532864263125366},{"$f":"IF($F25<>BD$2,1-_xlfn.NORM.DIST(0,INDEX(Rating,$F25)-INDEX(Rating,BD$2),10,1),\"\")","v":0.37752026166683872},{"$f":"IF($F25<>BE$2,1-_xlfn.NORM.DIST(0,INDEX(Rating,$F25)-INDEX(Rating,BE$2),10,1),\"\")","v":0.86885606879437449},{"$f":"IF($F25<>BF$2,1-_xlfn.NORM.DIST(0,INDEX(Rating,$F25)-INDEX(Rating,BF$2),10,1),\"\")","v":0.39704625362780865},{"$f":"IF($F25<>BG$2,1-_xlfn.NORM.DIST(0,INDEX(Rating,$F25)-INDEX(Rating,BG$2),10,1),\"\")","v":0.96667300292463443},{"$f":"IF($F25<>BH$2,1-_xlfn.NORM.DIST(0,INDEX(Rating,$F25)-INDEX(Rating,BH$2),10,1),\"\")","v":0.56277160064225851},{"$f":"IF($F25<>BI$2,1-_xlfn.NORM.DIST(0,INDEX(Rating,$F25)-INDEX(Rating,BI$2),10,1),\"\")","v":0.58082325054489603},{"$f":"IF($F25<>BJ$2,1-_xlfn.NORM.DIST(0,INDEX(Rating,$F25)-INDEX(Rating,BJ$2),10,1),\"\")","v":0.53625370447122744},{"$f":"IF($F25<>BK$2,1-_xlfn.NORM.DIST(0,INDEX(Rating,$F25)-INDEX(Rating,BK$2),10,1),\"\")","v":0.65136192680723837},{"$f":"IF($F25<>BL$2,1-_xlfn.NORM.DIST(0,INDEX(Rating,$F25)-INDEX(Rating,BL$2),10,1),\"\")","v":0.39242660778696348},{"$f":"IF($F25<>BM$2,1-_xlfn.NORM.DIST(0,INDEX(Rating,$F25)-INDEX(Rating,BM$2),10,1),\"\")","v":0.77786422768767627},{"$f":"IF($F25<>BN$2,1-_xlfn.NORM.DIST(0,INDEX(Rating,$F25)-INDEX(Rating,BN$2),10,1),\"\")","v":0.55527492547600832},{"$f":"IF($F25<>BO$2,1-_xlfn.NORM.DIST(0,INDEX(Rating,$F25)-INDEX(Rating,BO$2),10,1),\"\")","v":0.73728579250089943},{"$f":"IF($F25<>BP$2,1-_xlfn.NORM.DIST(0,INDEX(Rating,$F25)-INDEX(Rating,BP$2),10,1),\"\")","v":0.79189097091687455},{"$f":"IF($F25<>BQ$2,1-_xlfn.NORM.DIST(0,INDEX(Rating,$F25)-INDEX(Rating,BQ$2),10,1),\"\")","v":0.3771403310749244},{"$f":"IF($F25<>BR$2,1-_xlfn.NORM.DIST(0,INDEX(Rating,$F25)-INDEX(Rating,BR$2),10,1),\"\")","v":0.87160272599618982},{"$f":"IF($F25<>BS$2,1-_xlfn.NORM.DIST(0,INDEX(Rating,$F25)-INDEX(Rating,BS$2),10,1),\"\")","v":0.63344820913105748},{"$f":"IF($F25<>BT$2,1-_xlfn.NORM.DIST(0,INDEX(Rating,$F25)-INDEX(Rating,BT$2),10,1),\"\")","v":0.70712324119419501},{"$f":"IF($F25<>BU$2,1-_xlfn.NORM.DIST(0,INDEX(Rating,$F25)-INDEX(Rating,BU$2),10,1),\"\")","v":0.34937810397633906},{"$f":"IF($F25<>BV$2,1-_xlfn.NORM.DIST(0,INDEX(Rating,$F25)-INDEX(Rating,BV$2),10,1),\"\")","v":0.9264707403903516}]
[null,"Oral Roberts",24,80.489999999999995,null,24,{"$f":"IF($F26<>G$2,1-_xlfn.NORM.DIST(0,INDEX(Rating,$F26)-INDEX(Rating,G$2),10,1),\"\")","v":0.10674978146448522},{"$f":"IF($F26<>H$2,1-_xlfn.NORM.DIST(0,INDEX(Rating,$F26)-INDEX(Rating,H$2),10,1),\"\")","v":0.84731840616688969},{"$f":"IF($F26<>I$2,1-_xlfn.NORM.DIST(0,INDEX(Rating,$F26)-INDEX(Rating,I$2),10,1),\"\")","v":0.91543427764866436},{"$f":"IF($F26<>J$2,1-_xlfn.NORM.DIST(0,INDEX(Rating,$F26)-INDEX(Rating,J$2),10,1),\"\")","v":0.30924202109245413},{"$f":"IF($F26<>K$2,1-_xlfn.NORM.DIST(0,INDEX(Rating,$F26)-INDEX(Rating,K$2),10,1),\"\")","v":0.29563380702684738},{"$f":"IF($F26<>L$2,1-_xlfn.NORM.DIST(0,INDEX(Rating,$F26)-INDEX(Rating,L$2),10,1),\"\")","v":0.31917750878255569},{"$f":"IF($F26<>M$2,1-_xlfn.NORM.DIST(0,INDEX(Rating,$F26)-INDEX(Rating,M$2),10,1),\"\")","v":0.49202168628309795},{"$f":"IF($F26<>N$2,1-_xlfn.NORM.DIST(0,INDEX(Rating,$F26)-INDEX(Rating,N$2),10,1),\"\")","v":0.32311708303897069},{"$f":"IF($F26<>O$2,1-_xlfn.NORM.DIST(0,INDEX(Rating,$F26)-INDEX(Rating,O$2),10,1),\"\")","v":0.54022476991138602},{"$f":"IF($F26<>P$2,1-_xlfn.NORM.DIST(0,INDEX(Rating,$F26)-INDEX(Rating,P$2),10,1),\"\")","v":0.23761358972730429},{"$f":"IF($F26<>Q$2,1-_xlfn.NORM.DIST(0,INDEX(Rating,$F26)-INDEX(Rating,Q$2),10,1),\"\")","v":0.39127403311656861},{"$f":"IF($F26<>R$2,1-_xlfn.NORM.DIST(0,INDEX(Rating,$F26)-INDEX(Rating,R$2),10,1),\"\")","v":0.24604136421255096},{"$f":"IF($F26<>S$2,1-_xlfn.NORM.DIST(0,INDEX(Rating,$F26)-INDEX(Rating,S$2),10,1),\"\")","v":0.65836316254895744},{"$f":"IF($F26<>T$2,1-_xlfn.NORM.DIST(0,INDEX(Rating,$F26)-INDEX(Rating,T$2),10,1),\"\")","v":0.42504640839500107},{"$f":"IF($F26<>U$2,1-_xlfn.NORM.DIST(0,INDEX(Rating,$F26)-INDEX(Rating,U$2),10,1),\"\")","v":0.35830244216429707},{"$f":"IF($F26<>V$2,1-_xlfn.NORM.DIST(0,INDEX(Rating,$F26)-INDEX(Rating,V$2),10,1),\"\")","v":0.1743792789594143},{"$f":"IF($F26<>W$2,1-_xlfn.NORM.DIST(0,INDEX(Rating,$F26)-INDEX(Rating,W$2),10,1),\"\")","v":0.66202644138725664},{"$f":"IF($F26<>X$2,1-_xlfn.NORM.DIST(0,INDEX(Rating,$F26)-INDEX(Rating,X$2),10,1),\"\")","v":0.1929710048475437},{"$f":"IF($F26<>Y$2,1-_xlfn.NORM.DIST(0,INDEX(Rating,$F26)-INDEX(Rating,Y$2),10,1),\"\")","v":0.93599545965379538},{"$f":"IF($F26<>Z$2,1-_xlfn.NORM.DIST(0,INDEX(Rating,$F26)-INDEX(Rating,Z$2),10,1),\"\")","v":0.95184378225317701},{"$f":"IF($F26<>AA$2,1-_xlfn.NORM.DIST(0,INDEX(Rating,$F26)-INDEX(Rating,AA$2),10,1),\"\")","v":0.27292182108578045},{"$f":"IF($F26<>AB$2,1-_xlfn.NORM.DIST(0,INDEX(Rating,$F26)-INDEX(Rating,AB$2),10,1),\"\")","v":0.37562180112693122},{"$f":"IF($F26<>AC$2,1-_xlfn.NORM.DIST(0,INDEX(Rating,$F26)-INDEX(Rating,AC$2),10,1),\"\")","v":0.24667196048634166},{"$f":"IF($F26<>AD$2,1-_xlfn.NORM.DIST(0,INDEX(Rating,$F26)-INDEX(Rating,AD$2),10,1),\"\")","v":""},{"$f":"IF($F26<>AE$2,1-_xlfn.NORM.DIST(0,INDEX(Rating,$F26)-INDEX(Rating,AE$2),10,1),\"\")","v":0.18970063791845126},{"$f":"IF($F26<>AF$2,1-_xlfn.NORM.DIST(0,INDEX(Rating,$F26)-INDEX(Rating,AF$2),10,1),\"\")","v":0.62057831388974316},{"$f":"IF($F26<>AG$2,1-_xlfn.NORM.DIST(0,INDEX(Rating,$F26)-INDEX(Rating,AG$2),10,1),\"\")","v":0.29253296860445999},{"$f":"IF($F26<>AH$2,1-_xlfn.NORM.DIST(0,INDEX(Rating,$F26)-INDEX(Rating,AH$2),10,1),\"\")","v":0.35830244216429707},{"$f":"IF($F26<>AI$2,1-_xlfn.NORM.DIST(0,INDEX(Rating,$F26)-INDEX(Rating,AI$2),10,1),\"\")","v":0.31383817275691084},{"$f":"IF($F26<>AJ$2,1-_xlfn.NORM.DIST(0,INDEX(Rating,$F26)-INDEX(Rating,AJ$2),10,1),\"\")","v":0.7180302722389591},{"$f":"IF($F26<>AK$2,1-_xlfn.NORM.DIST(0,INDEX(Rating,$F26)-INDEX(Rating,AK$2),10,1),\"\")","v":0.32852129195589075},{"$f":"IF($F26<>AL$2,1-_xlfn.NORM.DIST(0,INDEX(Rating,$F26)-INDEX(Rating,AL$2),10,1),\"\")","v":0.35830244216429707},{"$f":"IF($F26<>AM$2,1-_xlfn.NORM.DIST(0,INDEX(Rating,$F26)-INDEX(Rating,AM$2),10,1),\"\")","v":0.24133958172381276},{"$f":"IF($F26<>AN$2,1-_xlfn.NORM.DIST(0,INDEX(Rating,$F26)-INDEX(Rating,AN$2),10,1),\"\")","v":0.64616976667272386},{"$f":"IF($F26<>AO$2,1-_xlfn.NORM.DIST(0,INDEX(Rating,$F26)-INDEX(Rating,AO$2),10,1),\"\")","v":0.12797828215141538},{"$f":"IF($F26<>AP$2,1-_xlfn.NORM.DIST(0,INDEX(Rating,$F26)-INDEX(Rating,AP$2),10,1),\"\")","v":0.78435906692012791},{"$f":"IF($F26<>AQ$2,1-_xlfn.NORM.DIST(0,INDEX(Rating,$F26)-INDEX(Rating,AQ$2),10,1),\"\")","v":0.33141836478532871},{"$f":"IF($F26<>AR$2,1-_xlfn.NORM.DIST(0,INDEX(Rating,$F26)-INDEX(Rating,AR$2),10,1),\"\")","v":0.31454786811065005},{"$f":"IF($F26<>AS$2,1-_xlfn.NORM.DIST(0,INDEX(Rating,$F26)-INDEX(Rating,AS$2),10,1),\"\")","v":0.35606386238663223},{"$f":"IF($F26<>AT$2,1-_xlfn.NORM.DIST(0,INDEX(Rating,$F26)-INDEX(Rating,AT$2),10,1),\"\")","v":0.44393497117142489},{"$f":"IF($F26<>AU$2,1-_xlfn.NORM.DIST(0,INDEX(Rating,$F26)-INDEX(Rating,AU$2),10,1),\"\")","v":0.2836609873265451},{"$f":"IF($F26<>AV$2,1-_xlfn.NORM.DIST(0,INDEX(Rating,$F26)-INDEX(Rating,AV$2),10,1),\"\")","v":0.47607781734589283},{"$f":"IF($F26<>AW$2,1-_xlfn.NORM.DIST(0,INDEX(Rating,$F26)-INDEX(Rating,AW$2),10,1),\"\")","v":0.34715974069309563},{"$f":"IF($F26<>AX$2,1-_xlfn.NORM.DIST(0,INDEX(Rating,$F26)-INDEX(Rating,AX$2),10,1),\"\")","v":0.42975419478909549},{"$f":"IF($F26<>AY$2,1-_xlfn.NORM.DIST(0,INDEX(Rating,$F26)-INDEX(Rating,AY$2),10,1),\"\")","v":0.45818790436029488},{"$f":"IF($F26<>AZ$2,1-_xlfn.NORM.DIST(0,INDEX(Rating,$F26)-INDEX(Rating,AZ$2),10,1),\"\")","v":0.27391999315008442},{"$f":"IF($F26<>BA$2,1-_xlfn.NORM.DIST(0,INDEX(Rating,$F26)-INDEX(Rating,BA$2),10,1),\"\")","v":0.77004650132031671},{"$f":"IF($F26<>BB$2,1-_xlfn.NORM.DIST(0,INDEX(Rating,$F26)-INDEX(Rating,BB$2),10,1),\"\")","v":0.28808086009144107},{"$f":"IF($F26<>BC$2,1-_xlfn.NORM.DIST(0,INDEX(Rating,$F26)-INDEX(Rating,BC$2),10,1),\"\")","v":0.36730486508160576},{"$f":"IF($F26<>BD$2,1-_xlfn.NORM.DIST(0,INDEX(Rating,$F26)-INDEX(Rating,BD$2),10,1),\"\")","v":0.15938225497164049},{"$f":"IF($F26<>BE$2,1-_xlfn.NORM.DIST(0,INDEX(Rating,$F26)-INDEX(Rating,BE$2),10,1),\"\")","v":0.66858163521467129},{"$f":"IF($F26<>BF$2,1-_xlfn.NORM.DIST(0,INDEX(Rating,$F26)-INDEX(Rating,BF$2),10,1),\"\")","v":0.1720742931135627},{"$f":"IF($F26<>BG$2,1-_xlfn.NORM.DIST(0,INDEX(Rating,$F26)-INDEX(Rating,BG$2),10,1),\"\")","v":0.87472200966972269},{"$f":"IF($F26<>BH$2,1-_xlfn.NORM.DIST(0,INDEX(Rating,$F26)-INDEX(Rating,BH$2),10,1),\"\")","v":0.29909679423791424},{"$f":"IF($F26<>BI$2,1-_xlfn.NORM.DIST(0,INDEX(Rating,$F26)-INDEX(Rating,BI$2),10,1),\"\")","v":0.31525824936110669},{"$f":"IF($F26<>BJ$2,1-_xlfn.NORM.DIST(0,INDEX(Rating,$F26)-INDEX(Rating,BJ$2),10,1),\"\")","v":0.27625605648715867},{"$f":"IF($F26<>BK$2,1-_xlfn.NORM.DIST(0,INDEX(Rating,$F26)-INDEX(Rating,BK$2),10,1),\"\")","v":0.38361504069809849},{"$f":"IF($F26<>BL$2,1-_xlfn.NORM.DIST(0,INDEX(Rating,$F26)-INDEX(Rating,BL$2),10,1),\"\")","v":0.16903137927952894},{"$f":"IF($F26<>BM$2,1-_xlfn.NORM.DIST(0,INDEX(Rating,$F26)-INDEX(Rating,BM$2),10,1),\"\")","v":0.53188137201398722},{"$f":"IF($F26<>BN$2,1-_xlfn.NORM.DIST(0,INDEX(Rating,$F26)-INDEX(Rating,BN$2),10,1),\"\")","v":0.29253296860445999},{"$f":"IF($F26<>BO$2,1-_xlfn.NORM.DIST(0,INDEX(Rating,$F26)-INDEX(Rating,BO$2),10,1),\"\")","v":0.48006119416162751},{"$f":"IF($F26<>BP$2,1-_xlfn.NORM.DIST(0,INDEX(Rating,$F26)-INDEX(Rating,BP$2),10,1),\"\")","v":0.55092551347931173},{"$f":"IF($F26<>BQ$2,1-_xlfn.NORM.DIST(0,INDEX(Rating,$F26)-INDEX(Rating,BQ$2),10,1),\"\")","v":0.15913967932162154},{"$f":"IF($F26<>BR$2,1-_xlfn.NORM.DIST(0,INDEX(Rating,$F26)-INDEX(Rating,BR$2),10,1),\"\")","v":0.67328417167899057},{"$f":"IF($F26<>BS$2,1-_xlfn.NORM.DIST(0,INDEX(Rating,$F26)-INDEX(Rating,BS$2),10,1),\"\")","v":0.36542314304587331},{"$f":"IF($F26<>BT$2,1-_xlfn.NORM.DIST(0,INDEX(Rating,$F26)-INDEX(Rating,BT$2),10,1),\"\")","v":0.44432999519409333},{"$f":"IF($F26<>BU$2,1-_xlfn.NORM.DIST(0,INDEX(Rating,$F26)-INDEX(Rating,BU$2),10,1),\"\")","v":0.14186001606985099},{"$f":"IF($F26<>BV$2,1-_xlfn.NORM.DIST(0,INDEX(Rating,$F26)-INDEX(Rating,BV$2),10,1),\"\")","v":0.77786422768767594}]
[null,"Tennessee",25,89.28,null,25,{"$f":"IF($F27<>G$2,1-_xlfn.NORM.DIST(0,INDEX(Rating,$F27)-INDEX(Rating,G$2),10,1),\"\")","v":0.35755570312302898},{"$f":"IF($F27<>H$2,1-_xlfn.NORM.DIST(0,INDEX(Rating,$F27)-INDEX(Rating,H$2),10,1),\"\")","v":0.97154490790864234},{"$f":"IF($F27<>I$2,1-_xlfn.NORM.DIST(0,INDEX(Rating,$F27)-INDEX(Rating,I$2),10,1),\"\")","v":0.98790191601237831},{"$f":"IF($F27<>J$2,1-_xlfn.NORM.DIST(0,INDEX(Rating,$F27)-INDEX(Rating,J$2),10,1),\"\")","v":0.64839837573137549},{"$f":"IF($F27<>K$2,1-_xlfn.NORM.DIST(0,INDEX(Rating,$F27)-INDEX(Rating,K$2),10,1),\"\")","v":0.63382455387065839},{"$f":"IF($F27<>L$2,1-_xlfn.NORM.DIST(0,INDEX(Rating,$F27)-INDEX(Rating,L$2),10,1),\"\")","v":0.65873016942587137},{"$f":"IF($F27<>M$2,1-_xlfn.NORM.DIST(0,INDEX(Rating,$F27)-INDEX(Rating,M$2),10,1),\"\")","v":0.80482974199717616},{"$f":"IF($F27<>N$2,1-_xlfn.NORM.DIST(0,INDEX(Rating,$F27)-INDEX(Rating,N$2),10,1),\"\")","v":0.66275727315175059},{"$f":"IF($F27<>O$2,1-_xlfn.NORM.DIST(0,INDEX(Rating,$F27)-INDEX(Rating,O$2),10,1),\"\")","v":0.83645694067230758},{"$f":"IF($F27<>P$2,1-_xlfn.NORM.DIST(0,INDEX(Rating,$F27)-INDEX(Rating,P$2),10,1),\"\")","v":0.56552800897193545},{"$f":"IF($F27<>Q$2,1-_xlfn.NORM.DIST(0,INDEX(Rating,$F27)-INDEX(Rating,Q$2),10,1),\"\")","v":0.72674565539426927},{"$f":"IF($F27<>R$2,1-_xlfn.NORM.DIST(0,INDEX(Rating,$F27)-INDEX(Rating,R$2),10,1),\"\")","v":0.57612889728748906},{"$f":"IF($F27<>S$2,1-_xlfn.NORM.DIST(0,INDEX(Rating,$F27)-INDEX(Rating,S$2),10,1),\"\")","v":0.90095285593037278},{"$f":"IF($F27<>T$2,1-_xlfn.NORM.DIST(0,INDEX(Rating,$F27)-INDEX(Rating,T$2),10,1),\"\")","v":0.75490290632569068},{"$f":"IF($F27<>U$2,1-_xlfn.NORM.DIST(0,INDEX(Rating,$F27)-INDEX(Rating,U$2),10,1),\"\")","v":0.6970727953905248},{"$f":"IF($F27<>V$2,1-_xlfn.NORM.DIST(0,INDEX(Rating,$F27)-INDEX(Rating,V$2),10,1),\"\")","v":0.4768743142641616},{"$f":"IF($F27<>W$2,1-_xlfn.NORM.DIST(0,INDEX(Rating,$F27)-INDEX(Rating,W$2),10,1),\"\")","v":0.90268440660086968},{"$f":"IF($F27<>X$2,1-_xlfn.NORM.DIST(0,INDEX(Rating,$F27)-INDEX(Rating,X$2),10,1),\"\")","v":0.50478719247192227},{"$f":"IF($F27<>Y$2,1-_xlfn.NORM.DIST(0,INDEX(Rating,$F27)-INDEX(Rating,Y$2),10,1),\"\")","v":0.99182483175002256},{"$f":"IF($F27<>Z$2,1-_xlfn.NORM.DIST(0,INDEX(Rating,$F27)-INDEX(Rating,Z$2),10,1),\"\")","v":0.99448899132436697},{"$f":"IF($F27<>AA$2,1-_xlfn.NORM.DIST(0,INDEX(Rating,$F27)-INDEX(Rating,AA$2),10,1),\"\")","v":0.60834188084639484},{"$f":"IF($F27<>AB$2,1-_xlfn.NORM.DIST(0,INDEX(Rating,$F27)-INDEX(Rating,AB$2),10,1),\"\")","v":0.71294199044516771},{"$f":"IF($F27<>AC$2,1-_xlfn.NORM.DIST(0,INDEX(Rating,$F27)-INDEX(Rating,AC$2),10,1),\"\")","v":0.57691205904841825},{"$f":"IF($F27<>AD$2,1-_xlfn.NORM.DIST(0,INDEX(Rating,$F27)-INDEX(Rating,AD$2),10,1),\"\")","v":0.81029936208154874},{"$f":"IF($F27<>AE$2,1-_xlfn.NORM.DIST(0,INDEX(Rating,$F27)-INDEX(Rating,AE$2),10,1),\"\")","v":""},{"$f":"IF($F27<>AF$2,1-_xlfn.NORM.DIST(0,INDEX(Rating,$F27)-INDEX(Rating,AF$2),10,1),\"\")","v":0.88218885023801386},{"$f":"IF($F27<>AG$2,1-_xlfn.NORM.DIST(0,INDEX(Rating,$F27)-INDEX(Rating,AG$2),10,1),\"\")","v":0.63043285842249785},{"$f":"IF($F27<>AH$2,1-_xlfn.NORM.DIST(0,INDEX(Rating,$F27)-INDEX(Rating,AH$2),10,1),\"\")","v":0.6970727953905248},{"$f":"IF($F27<>AI$2,1-_xlfn.NORM.DIST(0,INDEX(Rating,$F27)-INDEX(Rating,AI$2),10,1),\"\")","v":0.6532094803825248},{"$f":"IF($F27<>AJ$2,1-_xlfn.NORM.DIST(0,INDEX(Rating,$F27)-INDEX(Rating,AJ$2),10,1),\"\")","v":0.92730369019499026},{"$f":"IF($F27<>AK$2,1-_xlfn.NORM.DIST(0,INDEX(Rating,$F27)-INDEX(Rating,AK$2),10,1),\"\")","v":0.66821878628098075},{"$f":"IF($F27<>AL$2,1-_xlfn.NORM.DIST(0,INDEX(Rating,$F27)-INDEX(Rating,AL$2),10,1),\"\")","v":0.6970727953905248},{"$f":"IF($F27<>AM$2,1-_xlfn.NORM.DIST(0,INDEX(Rating,$F27)-INDEX(Rating,AM$2),10,1),\"\")","v":0.57024580521090396},{"$f":"IF($F27<>AN$2,1-_xlfn.NORM.DIST(0,INDEX(Rating,$F27)-INDEX(Rating,AN$2),10,1),\"\")","v":0.89507899728323626},{"$f":"IF($F27<>AO$2,1-_xlfn.NORM.DIST(0,INDEX(Rating,$F27)-INDEX(Rating,AO$2),10,1),\"\")","v":0.39858938653611653},{"$f":"IF($F27<>AP$2,1-_xlfn.NORM.DIST(0,INDEX(Rating,$F27)-INDEX(Rating,AP$2),10,1),\"\")","v":0.95214329278253906},{"$f":"IF($F27<>AQ$2,1-_xlfn.NORM.DIST(0,INDEX(Rating,$F27)-INDEX(Rating,AQ$2),10,1),\"\")","v":0.67111713264697415},{"$f":"IF($F27<>AR$2,1-_xlfn.NORM.DIST(0,INDEX(Rating,$F27)-INDEX(Rating,AR$2),10,1),\"\")","v":0.65394748588881857},{"$f":"IF($F27<>AS$2,1-_xlfn.NORM.DIST(0,INDEX(Rating,$F27)-INDEX(Rating,AS$2),10,1),\"\")","v":0.69497426910248039},{"$f":"IF($F27<>AT$2,1-_xlfn.NORM.DIST(0,INDEX(Rating,$F27)-INDEX(Rating,AT$2),10,1),\"\")","v":0.76974277543492819},{"$f":"IF($F27<>AU$2,1-_xlfn.NORM.DIST(0,INDEX(Rating,$F27)-INDEX(Rating,AU$2),10,1),\"\")","v":0.62057831388974383},{"$f":"IF($F27<>AV$2,1-_xlfn.NORM.DIST(0,INDEX(Rating,$F27)-INDEX(Rating,AV$2),10,1),\"\")","v":0.7936067932063765},{"$f":"IF($F27<>AW$2,1-_xlfn.NORM.DIST(0,INDEX(Rating,$F27)-INDEX(Rating,AW$2),10,1),\"\")","v":0.68651641702908639},{"$f":"IF($F27<>AX$2,1-_xlfn.NORM.DIST(0,INDEX(Rating,$F27)-INDEX(Rating,AX$2),10,1),\"\")","v":0.7586604182761868},{"$f":"IF($F27<>AY$2,1-_xlfn.NORM.DIST(0,INDEX(Rating,$F27)-INDEX(Rating,AY$2),10,1),\"\")","v":0.78053460437156497},{"$f":"IF($F27<>AZ$2,1-_xlfn.NORM.DIST(0,INDEX(Rating,$F27)-INDEX(Rating,AZ$2),10,1),\"\")","v":0.60949382062355106},{"$f":"IF($F27<>BA$2,1-_xlfn.NORM.DIST(0,INDEX(Rating,$F27)-INDEX(Rating,BA$2),10,1),\"\")","v":0.94716870116725416},{"$f":"IF($F27<>BB$2,1-_xlfn.NORM.DIST(0,INDEX(Rating,$F27)-INDEX(Rating,BB$2),10,1),\"\")","v":0.62551583472332017},{"$f":"IF($F27<>BC$2,1-_xlfn.NORM.DIST(0,INDEX(Rating,$F27)-INDEX(Rating,BC$2),10,1),\"\")","v":0.70540148378430212},{"$f":"IF($F27<>BD$2,1-_xlfn.NORM.DIST(0,INDEX(Rating,$F27)-INDEX(Rating,BD$2),10,1),\"\")","v":0.453033828941658},{"$f":"IF($F27<>BE$2,1-_xlfn.NORM.DIST(0,INDEX(Rating,$F27)-INDEX(Rating,BE$2),10,1),\"\")","v":0.90574504876190731},{"$f":"IF($F27<>BF$2,1-_xlfn.NORM.DIST(0,INDEX(Rating,$F27)-INDEX(Rating,BF$2),10,1),\"\")","v":0.47329085160092721},{"$f":"IF($F27<>BG$2,1-_xlfn.NORM.DIST(0,INDEX(Rating,$F27)-INDEX(Rating,BG$2),10,1),\"\")","v":0.9787198759977348},{"$f":"IF($F27<>BH$2,1-_xlfn.NORM.DIST(0,INDEX(Rating,$F27)-INDEX(Rating,BH$2),10,1),\"\")","v":0.63758086876243092},{"$f":"IF($F27<>BI$2,1-_xlfn.NORM.DIST(0,INDEX(Rating,$F27)-INDEX(Rating,BI$2),10,1),\"\")","v":0.65468490712634675},{"$f":"IF($F27<>BJ$2,1-_xlfn.NORM.DIST(0,INDEX(Rating,$F27)-INDEX(Rating,BJ$2),10,1),\"\")","v":0.61217792903749846},{"$f":"IF($F27<>BK$2,1-_xlfn.NORM.DIST(0,INDEX(Rating,$F27)-INDEX(Rating,BK$2),10,1),\"\")","v":0.72005334988812142},{"$f":"IF($F27<>BL$2,1-_xlfn.NORM.DIST(0,INDEX(Rating,$F27)-INDEX(Rating,BL$2),10,1),\"\")","v":0.46851631153237505},{"$f":"IF($F27<>BM$2,1-_xlfn.NORM.DIST(0,INDEX(Rating,$F27)-INDEX(Rating,BM$2),10,1),\"\")","v":0.83122062740608949},{"$f":"IF($F27<>BN$2,1-_xlfn.NORM.DIST(0,INDEX(Rating,$F27)-INDEX(Rating,BN$2),10,1),\"\")","v":0.63043285842249785},{"$f":"IF($F27<>BO$2,1-_xlfn.NORM.DIST(0,INDEX(Rating,$F27)-INDEX(Rating,BO$2),10,1),\"\")","v":0.79644779638634744},{"$f":"IF($F27<>BP$2,1-_xlfn.NORM.DIST(0,INDEX(Rating,$F27)-INDEX(Rating,BP$2),10,1),\"\")","v":0.8430326129057728},{"$f":"IF($F27<>BQ$2,1-_xlfn.NORM.DIST(0,INDEX(Rating,$F27)-INDEX(Rating,BQ$2),10,1),\"\")","v":0.45263767789095388},{"$f":"IF($F27<>BR$2,1-_xlfn.NORM.DIST(0,INDEX(Rating,$F27)-INDEX(Rating,BR$2),10,1),\"\")","v":0.90791094654261906},{"$f":"IF($F27<>BS$2,1-_xlfn.NORM.DIST(0,INDEX(Rating,$F27)-INDEX(Rating,BS$2),10,1),\"\")","v":0.70367507135765539},{"$f":"IF($F27<>BT$2,1-_xlfn.NORM.DIST(0,INDEX(Rating,$F27)-INDEX(Rating,BT$2),10,1),\"\")","v":0.77004650132031671},{"$f":"IF($F27<>BU$2,1-_xlfn.NORM.DIST(0,INDEX(Rating,$F27)-INDEX(Rating,BU$2),10,1),\"\")","v":0.42347948404449487},{"$f":"IF($F27<>BV$2,1-_xlfn.NORM.DIST(0,INDEX(Rating,$F27)-INDEX(Rating,BV$2),10,1),\"\")","v":0.94991189881182825}]
[null,"Louisiana",26,77.42,null,26,{"$f":"IF($F28<>G$2,1-_xlfn.NORM.DIST(0,INDEX(Rating,$F28)-INDEX(Rating,G$2),10,1),\"\")","v":6.0450841980280723E-2},{"$f":"IF($F28<>H$2,1-_xlfn.NORM.DIST(0,INDEX(Rating,$F28)-INDEX(Rating,H$2),10,1),\"\")","v":0.76362135659204244},{"$f":"IF($F28<>I$2,1-_xlfn.NORM.DIST(0,INDEX(Rating,$F28)-INDEX(Rating,I$2),10,1),\"\")","v":0.85723974410204529},{"$f":"IF($F28<>J$2,1-_xlfn.NORM.DIST(0,INDEX(Rating,$F28)-INDEX(Rating,J$2),10,1),\"\")","v":0.21040983989356377},{"$f":"IF($F28<>K$2,1-_xlfn.NORM.DIST(0,INDEX(Rating,$F28)-INDEX(Rating,K$2),10,1),\"\")","v":0.19933470280209287},{"$f":"IF($F28<>L$2,1-_xlfn.NORM.DIST(0,INDEX(Rating,$F28)-INDEX(Rating,L$2),10,1),\"\")","v":0.21857938516527542},{"$f":"IF($F28<>M$2,1-_xlfn.NORM.DIST(0,INDEX(Rating,$F28)-INDEX(Rating,M$2),10,1),\"\")","v":0.37183394260676728},{"$f":"IF($F28<>N$2,1-_xlfn.NORM.DIST(0,INDEX(Rating,$F28)-INDEX(Rating,N$2),10,1),\"\")","v":0.22183815109251837},{"$f":"IF($F28<>O$2,1-_xlfn.NORM.DIST(0,INDEX(Rating,$F28)-INDEX(Rating,O$2),10,1),\"\")","v":0.41839545565260716},{"$f":"IF($F28<>P$2,1-_xlfn.NORM.DIST(0,INDEX(Rating,$F28)-INDEX(Rating,P$2),10,1),\"\")","v":0.15362721935639467},{"$f":"IF($F28<>Q$2,1-_xlfn.NORM.DIST(0,INDEX(Rating,$F28)-INDEX(Rating,Q$2),10,1),\"\")","v":0.27994665011187858},{"$f":"IF($F28<>R$2,1-_xlfn.NORM.DIST(0,INDEX(Rating,$F28)-INDEX(Rating,R$2),10,1),\"\")","v":0.16011143372544923},{"$f":"IF($F28<>S$2,1-_xlfn.NORM.DIST(0,INDEX(Rating,$F28)-INDEX(Rating,S$2),10,1),\"\")","v":0.54022476991138668},{"$f":"IF($F28<>T$2,1-_xlfn.NORM.DIST(0,INDEX(Rating,$F28)-INDEX(Rating,T$2),10,1),\"\")","v":0.30994720547266985},{"$f":"IF($F28<>U$2,1-_xlfn.NORM.DIST(0,INDEX(Rating,$F28)-INDEX(Rating,U$2),10,1),\"\")","v":0.25142889509530997},{"$f":"IF($F28<>V$2,1-_xlfn.NORM.DIST(0,INDEX(Rating,$F28)-INDEX(Rating,V$2),10,1),\"\")","v":0.10674978146448544},{"$f":"IF($F28<>W$2,1-_xlfn.NORM.DIST(0,INDEX(Rating,$F28)-INDEX(Rating,W$2),10,1),\"\")","v":0.54419182663360011},{"$f":"IF($F28<>X$2,1-_xlfn.NORM.DIST(0,INDEX(Rating,$F28)-INDEX(Rating,X$2),10,1),\"\")","v":0.12019751281298541},{"$f":"IF($F28<>Y$2,1-_xlfn.NORM.DIST(0,INDEX(Rating,$F28)-INDEX(Rating,Y$2),10,1),\"\")","v":0.88781695430906593},{"$f":"IF($F28<>Z$2,1-_xlfn.NORM.DIST(0,INDEX(Rating,$F28)-INDEX(Rating,Z$2),10,1),\"\")","v":0.91245041597446475},{"$f":"IF($F28<>AA$2,1-_xlfn.NORM.DIST(0,INDEX(Rating,$F28)-INDEX(Rating,AA$2),10,1),\"\")","v":0.1811476868352756},{"$f":"IF($F28<>AB$2,1-_xlfn.NORM.DIST(0,INDEX(Rating,$F28)-INDEX(Rating,AB$2),10,1),\"\")","v":0.26631379253420262},{"$f":"IF($F28<>AC$2,1-_xlfn.NORM.DIST(0,INDEX(Rating,$F28)-INDEX(Rating,AC$2),10,1),\"\")","v":0.1605987627080705},{"$f":"IF($F28<>AD$2,1-_xlfn.NORM.DIST(0,INDEX(Rating,$F28)-INDEX(Rating,AD$2),10,1),\"\")","v":0.37942168611025684},{"$f":"IF($F28<>AE$2,1-_xlfn.NORM.DIST(0,INDEX(Rating,$F28)-INDEX(Rating,AE$2),10,1),\"\")","v":0.11781114976198614},{"$f":"IF($F28<>AF$2,1-_xlfn.NORM.DIST(0,INDEX(Rating,$F28)-INDEX(Rating,AF$2),10,1),\"\")","v":""},{"$f":"IF($F28<>AG$2,1-_xlfn.NORM.DIST(0,INDEX(Rating,$F28)-INDEX(Rating,AG$2),10,1),\"\")","v":0.1968296521018067},{"$f":"IF($F28<>AH$2,1-_xlfn.NORM.DIST(0,INDEX(Rating,$F28)-INDEX(Rating,AH$2),10,1),\"\")","v":0.25142889509530997},{"$f":"IF($F28<>AI$2,1-_xlfn.NORM.DIST(0,INDEX(Rating,$F28)-INDEX(Rating,AI$2),10,1),\"\")","v":0.21418033811653736},{"$f":"IF($F28<>AJ$2,1-_xlfn.NORM.DIST(0,INDEX(Rating,$F28)-INDEX(Rating,AJ$2),10,1),\"\")","v":0.60641987319803969},{"$f":"IF($F28<>AK$2,1-_xlfn.NORM.DIST(0,INDEX(Rating,$F28)-INDEX(Rating,AK$2),10,1),\"\")","v":0.2263263278931853},{"$f":"IF($F28<>AL$2,1-_xlfn.NORM.DIST(0,INDEX(Rating,$F28)-INDEX(Rating,AL$2),10,1),\"\")","v":0.25142889509530997},{"$f":"IF($F28<>AM$2,1-_xlfn.NORM.DIST(0,INDEX(Rating,$F28)-INDEX(Rating,AM$2),10,1),\"\")","v":0.1564873170930694},{"$f":"IF($F28<>AN$2,1-_xlfn.NORM.DIST(0,INDEX(Rating,$F28)-INDEX(Rating,AN$2),10,1),\"\")","v":0.52710718285702307},{"$f":"IF($F28<>AO$2,1-_xlfn.NORM.DIST(0,INDEX(Rating,$F28)-INDEX(Rating,AO$2),10,1),\"\")","v":7.451023561517045E-2},{"$f":"IF($F28<>AP$2,1-_xlfn.NORM.DIST(0,INDEX(Rating,$F28)-INDEX(Rating,AP$2),10,1),\"\")","v":0.68438630348377727},{"$f":"IF($F28<>AQ$2,1-_xlfn.NORM.DIST(0,INDEX(Rating,$F28)-INDEX(Rating,AQ$2),10,1),\"\")","v":0.22874084021561858},{"$f":"IF($F28<>AR$2,1-_xlfn.NORM.DIST(0,INDEX(Rating,$F28)-INDEX(Rating,AR$2),10,1),\"\")","v":0.21476388416363734},{"$f":"IF($F28<>AS$2,1-_xlfn.NORM.DIST(0,INDEX(Rating,$F28)-INDEX(Rating,AS$2),10,1),\"\")","v":0.2495203225285354},{"$f":"IF($F28<>AT$2,1-_xlfn.NORM.DIST(0,INDEX(Rating,$F28)-INDEX(Rating,AT$2),10,1),\"\")","v":0.32707659830344671},{"$f":"IF($F28<>AU$2,1-_xlfn.NORM.DIST(0,INDEX(Rating,$F28)-INDEX(Rating,AU$2),10,1),\"\")","v":0.18970063791845171},{"$f":"IF($F28<>AV$2,1-_xlfn.NORM.DIST(0,INDEX(Rating,$F28)-INDEX(Rating,AV$2),10,1),\"\")","v":0.35680950900215935},{"$f":"IF($F28<>AW$2,1-_xlfn.NORM.DIST(0,INDEX(Rating,$F28)-INDEX(Rating,AW$2),10,1),\"\")","v":0.24196365222307303},{"$f":"IF($F28<>AX$2,1-_xlfn.NORM.DIST(0,INDEX(Rating,$F28)-INDEX(Rating,AX$2),10,1),\"\")","v":0.31419293456065156},{"$f":"IF($F28<>AY$2,1-_xlfn.NORM.DIST(0,INDEX(Rating,$F28)-INDEX(Rating,AY$2),10,1),\"\")","v":0.34016971161496101},{"$f":"IF($F28<>AZ$2,1-_xlfn.NORM.DIST(0,INDEX(Rating,$F28)-INDEX(Rating,AZ$2),10,1),\"\")","v":0.18193911082747671},{"$f":"IF($F28<>BA$2,1-_xlfn.NORM.DIST(0,INDEX(Rating,$F28)-INDEX(Rating,BA$2),10,1),\"\")","v":0.66712929341660354},{"$f":"IF($F28<>BB$2,1-_xlfn.NORM.DIST(0,INDEX(Rating,$F28)-INDEX(Rating,BB$2),10,1),\"\")","v":0.1932450808941929},{"$f":"IF($F28<>BC$2,1-_xlfn.NORM.DIST(0,INDEX(Rating,$F28)-INDEX(Rating,BC$2),10,1),\"\")","v":0.25913967770552726},{"$f":"IF($F28<>BD$2,1-_xlfn.NORM.DIST(0,INDEX(Rating,$F28)-INDEX(Rating,BD$2),10,1),\"\")","v":9.6116791186396933E-2},{"$f":"IF($F28<>BE$2,1-_xlfn.NORM.DIST(0,INDEX(Rating,$F28)-INDEX(Rating,BE$2),10,1),\"\")","v":0.55132117558549443},{"$f":"IF($F28<>BF$2,1-_xlfn.NORM.DIST(0,INDEX(Rating,$F28)-INDEX(Rating,BF$2),10,1),\"\")","v":0.10510285334835678},{"$f":"IF($F28<>BG$2,1-_xlfn.NORM.DIST(0,INDEX(Rating,$F28)-INDEX(Rating,BG$2),10,1),\"\")","v":0.8001060232739432},{"$f":"IF($F28<>BH$2,1-_xlfn.NORM.DIST(0,INDEX(Rating,$F28)-INDEX(Rating,BH$2),10,1),\"\")","v":0.20214049192352157},{"$f":"IF($F28<>BI$2,1-_xlfn.NORM.DIST(0,INDEX(Rating,$F28)-INDEX(Rating,BI$2),10,1),\"\")","v":0.21534835294194943},{"$f":"IF($F28<>BJ$2,1-_xlfn.NORM.DIST(0,INDEX(Rating,$F28)-INDEX(Rating,BJ$2),10,1),\"\")","v":0.18379415984362724},{"$f":"IF($F28<>BK$2,1-_xlfn.NORM.DIST(0,INDEX(Rating,$F28)-INDEX(Rating,BK$2),10,1),\"\")","v":0.27325434460573073},{"$f":"IF($F28<>BL$2,1-_xlfn.NORM.DIST(0,INDEX(Rating,$F28)-INDEX(Rating,BL$2),10,1),\"\")","v":0.10293566393460196},{"$f":"IF($F28<>BM$2,1-_xlfn.NORM.DIST(0,INDEX(Rating,$F28)-INDEX(Rating,BM$2),10,1),\"\")","v":0.4102118710842515},{"$f":"IF($F28<>BN$2,1-_xlfn.NORM.DIST(0,INDEX(Rating,$F28)-INDEX(Rating,BN$2),10,1),\"\")","v":0.1968296521018067},{"$f":"IF($F28<>BO$2,1-_xlfn.NORM.DIST(0,INDEX(Rating,$F28)-INDEX(Rating,BO$2),10,1),\"\")","v":0.36054590286747368},{"$f":"IF($F28<>BP$2,1-_xlfn.NORM.DIST(0,INDEX(Rating,$F28)-INDEX(Rating,BP$2),10,1),\"\")","v":0.42896885084674252},{"$f":"IF($F28<>BQ$2,1-_xlfn.NORM.DIST(0,INDEX(Rating,$F28)-INDEX(Rating,BQ$2),10,1),\"\")","v":9.5946423893987665E-2},{"$f":"IF($F28<>BR$2,1-_xlfn.NORM.DIST(0,INDEX(Rating,$F28)-INDEX(Rating,BR$2),10,1),\"\")","v":0.55645999715678685},{"$f":"IF($F28<>BS$2,1-_xlfn.NORM.DIST(0,INDEX(Rating,$F28)-INDEX(Rating,BS$2),10,1),\"\")","v":0.25752324344327704},{"$f":"IF($F28<>BT$2,1-_xlfn.NORM.DIST(0,INDEX(Rating,$F28)-INDEX(Rating,BT$2),10,1),\"\")","v":0.32743752994703235},{"$f":"IF($F28<>BU$2,1-_xlfn.NORM.DIST(0,INDEX(Rating,$F28)-INDEX(Rating,BU$2),10,1),\"\")","v":8.3947376949290331E-2},{"$f":"IF($F28<>BV$2,1-_xlfn.NORM.DIST(0,INDEX(Rating,$F28)-INDEX(Rating,BV$2),10,1),\"\")","v":0.67652377936608965}]
[null,"Kentucky",27,85.95,null,27,{"$f":"IF($F29<>G$2,1-_xlfn.NORM.DIST(0,INDEX(Rating,$F29)-INDEX(Rating,G$2),10,1),\"\")","v":0.24258859703261471},{"$f":"IF($F29<>H$2,1-_xlfn.NORM.DIST(0,INDEX(Rating,$F29)-INDEX(Rating,H$2),10,1),\"\")","v":0.94190867560455971},{"$f":"IF($F29<>I$2,1-_xlfn.NORM.DIST(0,INDEX(Rating,$F29)-INDEX(Rating,I$2),10,1),\"\")","v":0.97263414625557332},{"$f":"IF($F29<>J$2,1-_xlfn.NORM.DIST(0,INDEX(Rating,$F29)-INDEX(Rating,J$2),10,1),\"\")","v":0.51914187869576156},{"$f":"IF($F29<>K$2,1-_xlfn.NORM.DIST(0,INDEX(Rating,$F29)-INDEX(Rating,K$2),10,1),\"\")","v":0.50359043205271492},{"$f":"IF($F29<>L$2,1-_xlfn.NORM.DIST(0,INDEX(Rating,$F29)-INDEX(Rating,L$2),10,1),\"\")","v":0.53029045090025684},{"$f":"IF($F29<>M$2,1-_xlfn.NORM.DIST(0,INDEX(Rating,$F29)-INDEX(Rating,M$2),10,1),\"\")","v":0.70055589651304706},{"$f":"IF($F29<>N$2,1-_xlfn.NORM.DIST(0,INDEX(Rating,$F29)-INDEX(Rating,N$2),10,1),\"\")","v":0.53466424394571477},{"$f":"IF($F29<>O$2,1-_xlfn.NORM.DIST(0,INDEX(Rating,$F29)-INDEX(Rating,O$2),10,1),\"\")","v":0.7411840282621297},{"$f":"IF($F29<>P$2,1-_xlfn.NORM.DIST(0,INDEX(Rating,$F29)-INDEX(Rating,P$2),10,1),\"\")","v":0.43329163953941574},{"$f":"IF($F29<>Q$2,1-_xlfn.NORM.DIST(0,INDEX(Rating,$F29)-INDEX(Rating,Q$2),10,1),\"\")","v":0.60641987319803969},{"$f":"IF($F29<>R$2,1-_xlfn.NORM.DIST(0,INDEX(Rating,$F29)-INDEX(Rating,R$2),10,1),\"\")","v":0.44393497117142555},{"$f":"IF($F29<>S$2,1-_xlfn.NORM.DIST(0,INDEX(Rating,$F29)-INDEX(Rating,S$2),10,1),\"\")","v":0.82995817880974088},{"$f":"IF($F29<>T$2,1-_xlfn.NORM.DIST(0,INDEX(Rating,$F29)-INDEX(Rating,T$2),10,1),\"\")","v":0.63945409713252688},{"$f":"IF($F29<>U$2,1-_xlfn.NORM.DIST(0,INDEX(Rating,$F29)-INDEX(Rating,U$2),10,1),\"\")","v":0.57260099069130987},{"$f":"IF($F29<>V$2,1-_xlfn.NORM.DIST(0,INDEX(Rating,$F29)-INDEX(Rating,V$2),10,1),\"\")","v":0.3478986179290362},{"$f":"IF($F29<>W$2,1-_xlfn.NORM.DIST(0,INDEX(Rating,$F29)-INDEX(Rating,W$2),10,1),\"\")","v":0.8324770370639254},{"$f":"IF($F29<>X$2,1-_xlfn.NORM.DIST(0,INDEX(Rating,$F29)-INDEX(Rating,X$2),10,1),\"\")","v":0.37410519545209997},{"$f":"IF($F29<>Y$2,1-_xlfn.NORM.DIST(0,INDEX(Rating,$F29)-INDEX(Rating,Y$2),10,1),\"\")","v":0.98067998845105742},{"$f":"IF($F29<>Z$2,1-_xlfn.NORM.DIST(0,INDEX(Rating,$F29)-INDEX(Rating,Z$2),10,1),\"\")","v":0.98641267954761891},{"$f":"IF($F29<>AA$2,1-_xlfn.NORM.DIST(0,INDEX(Rating,$F29)-INDEX(Rating,AA$2),10,1),\"\")","v":0.4768743142641616},{"$f":"IF($F29<>AB$2,1-_xlfn.NORM.DIST(0,INDEX(Rating,$F29)-INDEX(Rating,AB$2),10,1),\"\")","v":0.5905655419372432},{"$f":"IF($F29<>AC$2,1-_xlfn.NORM.DIST(0,INDEX(Rating,$F29)-INDEX(Rating,AC$2),10,1),\"\")","v":0.44472507452399168},{"$f":"IF($F29<>AD$2,1-_xlfn.NORM.DIST(0,INDEX(Rating,$F29)-INDEX(Rating,AD$2),10,1),\"\")","v":0.70746703139554001},{"$f":"IF($F29<>AE$2,1-_xlfn.NORM.DIST(0,INDEX(Rating,$F29)-INDEX(Rating,AE$2),10,1),\"\")","v":0.36956714157750215},{"$f":"IF($F29<>AF$2,1-_xlfn.NORM.DIST(0,INDEX(Rating,$F29)-INDEX(Rating,AF$2),10,1),\"\")","v":0.8031703478981933},{"$f":"IF($F29<>AG$2,1-_xlfn.NORM.DIST(0,INDEX(Rating,$F29)-INDEX(Rating,AG$2),10,1),\"\")","v":""},{"$f":"IF($F29<>AH$2,1-_xlfn.NORM.DIST(0,INDEX(Rating,$F29)-INDEX(Rating,AH$2),10,1),\"\")","v":0.57260099069130987},{"$f":"IF($F29<>AI$2,1-_xlfn.NORM.DIST(0,INDEX(Rating,$F29)-INDEX(Rating,AI$2),10,1),\"\")","v":0.52432039547142861},{"$f":"IF($F29<>AJ$2,1-_xlfn.NORM.DIST(0,INDEX(Rating,$F29)-INDEX(Rating,AJ$2),10,1),\"\")","v":0.86928125277442303},{"$f":"IF($F29<>AK$2,1-_xlfn.NORM.DIST(0,INDEX(Rating,$F29)-INDEX(Rating,AK$2),10,1),\"\")","v":0.54062166245757548},{"$f":"IF($F29<>AL$2,1-_xlfn.NORM.DIST(0,INDEX(Rating,$F29)-INDEX(Rating,AL$2),10,1),\"\")","v":0.57260099069130987},{"$f":"IF($F29<>AM$2,1-_xlfn.NORM.DIST(0,INDEX(Rating,$F29)-INDEX(Rating,AM$2),10,1),\"\")","v":0.43801651061064395},{"$f":"IF($F29<>AN$2,1-_xlfn.NORM.DIST(0,INDEX(Rating,$F29)-INDEX(Rating,AN$2),10,1),\"\")","v":0.82147478648851213},{"$f":"IF($F29<>AO$2,1-_xlfn.NORM.DIST(0,INDEX(Rating,$F29)-INDEX(Rating,AO$2),10,1),\"\")","v":0.27759532475346516},{"$f":"IF($F29<>AP$2,1-_xlfn.NORM.DIST(0,INDEX(Rating,$F29)-INDEX(Rating,AP$2),10,1),\"\")","v":0.90873409809955841},{"$f":"IF($F29<>AQ$2,1-_xlfn.NORM.DIST(0,INDEX(Rating,$F29)-INDEX(Rating,AQ$2),10,1),\"\")","v":0.54379531254231717},{"$f":"IF($F29<>AR$2,1-_xlfn.NORM.DIST(0,INDEX(Rating,$F29)-INDEX(Rating,AR$2),10,1),\"\")","v":0.52511674783867346},{"$f":"IF($F29<>AS$2,1-_xlfn.NORM.DIST(0,INDEX(Rating,$F29)-INDEX(Rating,AS$2),10,1),\"\")","v":0.57024580521090396},{"$f":"IF($F29<>AT$2,1-_xlfn.NORM.DIST(0,INDEX(Rating,$F29)-INDEX(Rating,AT$2),10,1),\"\")","v":0.65726124452732615},{"$f":"IF($F29<>AU$2,1-_xlfn.NORM.DIST(0,INDEX(Rating,$F29)-INDEX(Rating,AU$2),10,1),\"\")","v":0.48962866922599313},{"$f":"IF($F29<>AV$2,1-_xlfn.NORM.DIST(0,INDEX(Rating,$F29)-INDEX(Rating,AV$2),10,1),\"\")","v":0.68651641702908639},{"$f":"IF($F29<>AW$2,1-_xlfn.NORM.DIST(0,INDEX(Rating,$F29)-INDEX(Rating,AW$2),10,1),\"\")","v":0.56080086235479887},{"$f":"IF($F29<>AX$2,1-_xlfn.NORM.DIST(0,INDEX(Rating,$F29)-INDEX(Rating,AX$2),10,1),\"\")","v":0.64393613761336721},{"$f":"IF($F29<>AY$2,1-_xlfn.NORM.DIST(0,INDEX(Rating,$F29)-INDEX(Rating,AY$2),10,1),\"\")","v":0.67039350150349286},{"$f":"IF($F29<>AZ$2,1-_xlfn.NORM.DIST(0,INDEX(Rating,$F29)-INDEX(Rating,AZ$2),10,1),\"\")","v":0.47806923189717665},{"$f":"IF($F29<>BA$2,1-_xlfn.NORM.DIST(0,INDEX(Rating,$F29)-INDEX(Rating,BA$2),10,1),\"\")","v":0.90060385798489451},{"$f":"IF($F29<>BB$2,1-_xlfn.NORM.DIST(0,INDEX(Rating,$F29)-INDEX(Rating,BB$2),10,1),\"\")","v":0.4948138964304436},{"$f":"IF($F29<>BC$2,1-_xlfn.NORM.DIST(0,INDEX(Rating,$F29)-INDEX(Rating,BC$2),10,1),\"\")","v":0.5819950707506184},{"$f":"IF($F29<>BD$2,1-_xlfn.NORM.DIST(0,INDEX(Rating,$F29)-INDEX(Rating,BD$2),10,1),\"\")","v":0.32599477449192638},{"$f":"IF($F29<>BE$2,1-_xlfn.NORM.DIST(0,INDEX(Rating,$F29)-INDEX(Rating,BE$2),10,1),\"\")","v":0.83695007589413761},{"$f":"IF($F29<>BF$2,1-_xlfn.NORM.DIST(0,INDEX(Rating,$F29)-INDEX(Rating,BF$2),10,1),\"\")","v":0.34457825838967571},{"$f":"IF($F29<>BG$2,1-_xlfn.NORM.DIST(0,INDEX(Rating,$F29)-INDEX(Rating,BG$2),10,1),\"\")","v":0.95496228960896856},{"$f":"IF($F29<>BH$2,1-_xlfn.NORM.DIST(0,INDEX(Rating,$F29)-INDEX(Rating,BH$2),10,1),\"\")","v":0.50757944729480475},{"$f":"IF($F29<>BI$2,1-_xlfn.NORM.DIST(0,INDEX(Rating,$F29)-INDEX(Rating,BI$2),10,1),\"\")","v":0.52591299987187401},{"$f":"IF($F29<>BJ$2,1-_xlfn.NORM.DIST(0,INDEX(Rating,$F29)-INDEX(Rating,BJ$2),10,1),\"\")","v":0.48085812130423844},{"$f":"IF($F29<>BK$2,1-_xlfn.NORM.DIST(0,INDEX(Rating,$F29)-INDEX(Rating,BK$2),10,1),\"\")","v":0.5987063256829237},{"$f":"IF($F29<>BL$2,1-_xlfn.NORM.DIST(0,INDEX(Rating,$F29)-INDEX(Rating,BL$2),10,1),\"\")","v":0.34016971161496157},{"$f":"IF($F29<>BM$2,1-_xlfn.NORM.DIST(0,INDEX(Rating,$F29)-INDEX(Rating,BM$2),10,1),\"\")","v":0.73434252933624089},{"$f":"IF($F29<>BN$2,1-_xlfn.NORM.DIST(0,INDEX(Rating,$F29)-INDEX(Rating,BN$2),10,1),\"\")","v":0.5},{"$f":"IF($F29<>BO$2,1-_xlfn.NORM.DIST(0,INDEX(Rating,$F29)-INDEX(Rating,BO$2),10,1),\"\")","v":0.6900527945273307},{"$f":"IF($F29<>BP$2,1-_xlfn.NORM.DIST(0,INDEX(Rating,$F29)-INDEX(Rating,BP$2),10,1),\"\")","v":0.74984434315967774},{"$f":"IF($F29<>BQ$2,1-_xlfn.NORM.DIST(0,INDEX(Rating,$F29)-INDEX(Rating,BQ$2),10,1),\"\")","v":0.32563449122032062},{"$f":"IF($F29<>BR$2,1-_xlfn.NORM.DIST(0,INDEX(Rating,$F29)-INDEX(Rating,BR$2),10,1),\"\")","v":0.84013186782450611},{"$f":"IF($F29<>BS$2,1-_xlfn.NORM.DIST(0,INDEX(Rating,$F29)-INDEX(Rating,BS$2),10,1),\"\")","v":0.58004163790959617},{"$f":"IF($F29<>BT$2,1-_xlfn.NORM.DIST(0,INDEX(Rating,$F29)-INDEX(Rating,BT$2),10,1),\"\")","v":0.65762869979328531},{"$f":"IF($F29<>BU$2,1-_xlfn.NORM.DIST(0,INDEX(Rating,$F29)-INDEX(Rating,BU$2),10,1),\"\")","v":0.29944410348695338},{"$f":"IF($F29<>BV$2,1-_xlfn.NORM.DIST(0,INDEX(Rating,$F29)-INDEX(Rating,BV$2),10,1),\"\")","v":0.90507111819473374}]
[null,"Providence",28,84.12,null,28,{"$f":"IF($F30<>G$2,1-_xlfn.NORM.DIST(0,INDEX(Rating,$F30)-INDEX(Rating,G$2),10,1),\"\")","v":0.18915890999522367},{"$f":"IF($F30<>H$2,1-_xlfn.NORM.DIST(0,INDEX(Rating,$F30)-INDEX(Rating,H$2),10,1),\"\")","v":0.91743147744329678},{"$f":"IF($F30<>I$2,1-_xlfn.NORM.DIST(0,INDEX(Rating,$F30)-INDEX(Rating,I$2),10,1),\"\")","v":0.95889459311228875},{"$f":"IF($F30<>J$2,1-_xlfn.NORM.DIST(0,INDEX(Rating,$F30)-INDEX(Rating,J$2),10,1),\"\")","v":0.4463059371656185},{"$f":"IF($F30<>K$2,1-_xlfn.NORM.DIST(0,INDEX(Rating,$F30)-INDEX(Rating,K$2),10,1),\"\")","v":0.43093273111529151},{"$f":"IF($F30<>L$2,1-_xlfn.NORM.DIST(0,INDEX(Rating,$F30)-INDEX(Rating,L$2),10,1),\"\")","v":0.45739448987786568},{"$f":"IF($F30<>M$2,1-_xlfn.NORM.DIST(0,INDEX(Rating,$F30)-INDEX(Rating,M$2),10,1),\"\")","v":0.63420076992237595},{"$f":"IF($F30<>N$2,1-_xlfn.NORM.DIST(0,INDEX(Rating,$F30)-INDEX(Rating,N$2),10,1),\"\")","v":0.4617602862818424},{"$f":"IF($F30<>O$2,1-_xlfn.NORM.DIST(0,INDEX(Rating,$F30)-INDEX(Rating,O$2),10,1),\"\")","v":0.67867612718430737},{"$f":"IF($F30<>P$2,1-_xlfn.NORM.DIST(0,INDEX(Rating,$F30)-INDEX(Rating,P$2),10,1),\"\")","v":0.3627941741993882},{"$f":"IF($F30<>Q$2,1-_xlfn.NORM.DIST(0,INDEX(Rating,$F30)-INDEX(Rating,Q$2),10,1),\"\")","v":0.53466424394571477},{"$f":"IF($F30<>R$2,1-_xlfn.NORM.DIST(0,INDEX(Rating,$F30)-INDEX(Rating,R$2),10,1),\"\")","v":0.37296901711544961},{"$f":"IF($F30<>S$2,1-_xlfn.NORM.DIST(0,INDEX(Rating,$F30)-INDEX(Rating,S$2),10,1),\"\")","v":0.77964653420326269},{"$f":"IF($F30<>T$2,1-_xlfn.NORM.DIST(0,INDEX(Rating,$F30)-INDEX(Rating,T$2),10,1),\"\")","v":0.56906726888470904},{"$f":"IF($F30<>U$2,1-_xlfn.NORM.DIST(0,INDEX(Rating,$F30)-INDEX(Rating,U$2),10,1),\"\")","v":0.5},{"$f":"IF($F30<>V$2,1-_xlfn.NORM.DIST(0,INDEX(Rating,$F30)-INDEX(Rating,V$2),10,1),\"\")","v":0.28298390063691348},{"$f":"IF($F30<>W$2,1-_xlfn.NORM.DIST(0,INDEX(Rating,$F30)-INDEX(Rating,W$2),10,1),\"\")","v":0.78259875264590817},{"$f":"IF($F30<>X$2,1-_xlfn.NORM.DIST(0,INDEX(Rating,$F30)-INDEX(Rating,X$2),10,1),\"\")","v":0.30713068849159131},{"$f":"IF($F30<>Y$2,1-_xlfn.NORM.DIST(0,INDEX(Rating,$F30)-INDEX(Rating,Y$2),10,1),\"\")","v":0.97028508109168943},{"$f":"IF($F30<>Z$2,1-_xlfn.NORM.DIST(0,INDEX(Rating,$F30)-INDEX(Rating,Z$2),10,1),\"\")","v":0.97861760767805395},{"$f":"IF($F30<>AA$2,1-_xlfn.NORM.DIST(0,INDEX(Rating,$F30)-INDEX(Rating,AA$2),10,1),\"\")","v":0.40477755826194328},{"$f":"IF($F30<>AB$2,1-_xlfn.NORM.DIST(0,INDEX(Rating,$F30)-INDEX(Rating,AB$2),10,1),\"\")","v":0.51834487504449811},{"$f":"IF($F30<>AC$2,1-_xlfn.NORM.DIST(0,INDEX(Rating,$F30)-INDEX(Rating,AC$2),10,1),\"\")","v":0.37372634725730047},{"$f":"IF($F30<>AD$2,1-_xlfn.NORM.DIST(0,INDEX(Rating,$F30)-INDEX(Rating,AD$2),10,1),\"\")","v":0.64169755783570293},{"$f":"IF($F30<>AE$2,1-_xlfn.NORM.DIST(0,INDEX(Rating,$F30)-INDEX(Rating,AE$2),10,1),\"\")","v":0.3029272046094752},{"$f":"IF($F30<>AF$2,1-_xlfn.NORM.DIST(0,INDEX(Rating,$F30)-INDEX(Rating,AF$2),10,1),\"\")","v":0.74857110490469003},{"$f":"IF($F30<>AG$2,1-_xlfn.NORM.DIST(0,INDEX(Rating,$F30)-INDEX(Rating,AG$2),10,1),\"\")","v":0.42739900930869013},{"$f":"IF($F30<>AH$2,1-_xlfn.NORM.DIST(0,INDEX(Rating,$F30)-INDEX(Rating,AH$2),10,1),\"\")","v":""},{"$f":"IF($F30<>AI$2,1-_xlfn.NORM.DIST(0,INDEX(Rating,$F30)-INDEX(Rating,AI$2),10,1),\"\")","v":0.45144950913548698},{"$f":"IF($F30<>AJ$2,1-_xlfn.NORM.DIST(0,INDEX(Rating,$F30)-INDEX(Rating,AJ$2),10,1),\"\")","v":0.82639121966137563},{"$f":"IF($F30<>AK$2,1-_xlfn.NORM.DIST(0,INDEX(Rating,$F30)-INDEX(Rating,AK$2),10,1),\"\")","v":0.46772097625305897},{"$f":"IF($F30<>AL$2,1-_xlfn.NORM.DIST(0,INDEX(Rating,$F30)-INDEX(Rating,AL$2),10,1),\"\")","v":0.5},{"$f":"IF($F30<>AM$2,1-_xlfn.NORM.DIST(0,INDEX(Rating,$F30)-INDEX(Rating,AM$2),10,1),\"\")","v":0.36730486508160576},{"$f":"IF($F30<>AN$2,1-_xlfn.NORM.DIST(0,INDEX(Rating,$F30)-INDEX(Rating,AN$2),10,1),\"\")","v":0.76974277543492864},{"$f":"IF($F30<>AO$2,1-_xlfn.NORM.DIST(0,INDEX(Rating,$F30)-INDEX(Rating,AO$2),10,1),\"\")","v":0.21976119031998609},{"$f":"IF($F30<>AP$2,1-_xlfn.NORM.DIST(0,INDEX(Rating,$F30)-INDEX(Rating,AP$2),10,1),\"\")","v":0.87492806436284976},{"$f":"IF($F30<>AQ$2,1-_xlfn.NORM.DIST(0,INDEX(Rating,$F30)-INDEX(Rating,AQ$2),10,1),\"\")","v":0.47090305875609073},{"$f":"IF($F30<>AR$2,1-_xlfn.NORM.DIST(0,INDEX(Rating,$F30)-INDEX(Rating,AR$2),10,1),\"\")","v":0.45224157397941656},{"$f":"IF($F30<>AS$2,1-_xlfn.NORM.DIST(0,INDEX(Rating,$F30)-INDEX(Rating,AS$2),10,1),\"\")","v":0.49760636067943587},{"$f":"IF($F30<>AT$2,1-_xlfn.NORM.DIST(0,INDEX(Rating,$F30)-INDEX(Rating,AT$2),10,1),\"\")","v":0.58784305833432171},{"$f":"IF($F30<>AU$2,1-_xlfn.NORM.DIST(0,INDEX(Rating,$F30)-INDEX(Rating,AU$2),10,1),\"\")","v":0.41722411930834324},{"$f":"IF($F30<>AV$2,1-_xlfn.NORM.DIST(0,INDEX(Rating,$F30)-INDEX(Rating,AV$2),10,1),\"\")","v":0.61905506920112585},{"$f":"IF($F30<>AW$2,1-_xlfn.NORM.DIST(0,INDEX(Rating,$F30)-INDEX(Rating,AW$2),10,1),\"\")","v":0.4880335265858875},{"$f":"IF($F30<>AX$2,1-_xlfn.NORM.DIST(0,INDEX(Rating,$F30)-INDEX(Rating,AX$2),10,1),\"\")","v":0.57377761933572724},{"$f":"IF($F30<>AY$2,1-_xlfn.NORM.DIST(0,INDEX(Rating,$F30)-INDEX(Rating,AY$2),10,1),\"\")","v":0.60179654638770219},{"$f":"IF($F30<>AZ$2,1-_xlfn.NORM.DIST(0,INDEX(Rating,$F30)-INDEX(Rating,AZ$2),10,1),\"\")","v":0.4059405471011942},{"$f":"IF($F30<>BA$2,1-_xlfn.NORM.DIST(0,INDEX(Rating,$F30)-INDEX(Rating,BA$2),10,1),\"\")","v":0.8647691641941776},{"$f":"IF($F30<>BB$2,1-_xlfn.NORM.DIST(0,INDEX(Rating,$F30)-INDEX(Rating,BB$2),10,1),\"\")","v":0.42230508299837211},{"$f":"IF($F30<>BC$2,1-_xlfn.NORM.DIST(0,INDEX(Rating,$F30)-INDEX(Rating,BC$2),10,1),\"\")","v":0.50957369564603094},{"$f":"IF($F30<>BD$2,1-_xlfn.NORM.DIST(0,INDEX(Rating,$F30)-INDEX(Rating,BD$2),10,1),\"\")","v":0.2630404110565594},{"$f":"IF($F30<>BE$2,1-_xlfn.NORM.DIST(0,INDEX(Rating,$F30)-INDEX(Rating,BE$2),10,1),\"\")","v":0.78785479400462521},{"$f":"IF($F30<>BF$2,1-_xlfn.NORM.DIST(0,INDEX(Rating,$F30)-INDEX(Rating,BF$2),10,1),\"\")","v":0.27994665011187858},{"$f":"IF($F30<>BG$2,1-_xlfn.NORM.DIST(0,INDEX(Rating,$F30)-INDEX(Rating,BG$2),10,1),\"\")","v":0.93473306872956796},{"$f":"IF($F30<>BH$2,1-_xlfn.NORM.DIST(0,INDEX(Rating,$F30)-INDEX(Rating,BH$2),10,1),\"\")","v":0.43486557190549702},{"$f":"IF($F30<>BI$2,1-_xlfn.NORM.DIST(0,INDEX(Rating,$F30)-INDEX(Rating,BI$2),10,1),\"\")","v":0.453033828941658},{"$f":"IF($F30<>BJ$2,1-_xlfn.NORM.DIST(0,INDEX(Rating,$F30)-INDEX(Rating,BJ$2),10,1),\"\")","v":0.40865740101478376},{"$f":"IF($F30<>BK$2,1-_xlfn.NORM.DIST(0,INDEX(Rating,$F30)-INDEX(Rating,BK$2),10,1),\"\")","v":0.52670914839907279},{"$f":"IF($F30<>BL$2,1-_xlfn.NORM.DIST(0,INDEX(Rating,$F30)-INDEX(Rating,BL$2),10,1),\"\")","v":0.27592173549232291},{"$f":"IF($F30<>BM$2,1-_xlfn.NORM.DIST(0,INDEX(Rating,$F30)-INDEX(Rating,BM$2),10,1),\"\")","v":0.67111713264697415},{"$f":"IF($F30<>BN$2,1-_xlfn.NORM.DIST(0,INDEX(Rating,$F30)-INDEX(Rating,BN$2),10,1),\"\")","v":0.42739900930869013},{"$f":"IF($F30<>BO$2,1-_xlfn.NORM.DIST(0,INDEX(Rating,$F30)-INDEX(Rating,BO$2),10,1),\"\")","v":0.62285966892507605},{"$f":"IF($F30<>BP$2,1-_xlfn.NORM.DIST(0,INDEX(Rating,$F30)-INDEX(Rating,BP$2),10,1),\"\")","v":0.68828677622428647},{"$f":"IF($F30<>BQ$2,1-_xlfn.NORM.DIST(0,INDEX(Rating,$F30)-INDEX(Rating,BQ$2),10,1),\"\")","v":0.26271420749910102},{"$f":"IF($F30<>BR$2,1-_xlfn.NORM.DIST(0,INDEX(Rating,$F30)-INDEX(Rating,BR$2),10,1),\"\")","v":0.79160418425336898},{"$f":"IF($F30<>BS$2,1-_xlfn.NORM.DIST(0,INDEX(Rating,$F30)-INDEX(Rating,BS$2),10,1),\"\")","v":0.50757944729480475},{"$f":"IF($F30<>BT$2,1-_xlfn.NORM.DIST(0,INDEX(Rating,$F30)-INDEX(Rating,BT$2),10,1),\"\")","v":0.58823224674834562},{"$f":"IF($F30<>BU$2,1-_xlfn.NORM.DIST(0,INDEX(Rating,$F30)-INDEX(Rating,BU$2),10,1),\"\")","v":0.23916223842057216},{"$f":"IF($F30<>BV$2,1-_xlfn.NORM.DIST(0,INDEX(Rating,$F30)-INDEX(Rating,BV$2),10,1),\"\")","v":0.87034004042965185}]
[null,"Kansas St",29,85.34,null,29,{"$f":"IF($F31<>G$2,1-_xlfn.NORM.DIST(0,INDEX(Rating,$F31)-INDEX(Rating,G$2),10,1),\"\")","v":0.22392627839382584},{"$f":"IF($F31<>H$2,1-_xlfn.NORM.DIST(0,INDEX(Rating,$F31)-INDEX(Rating,H$2),10,1),\"\")","v":0.93447828791108356},{"$f":"IF($F31<>I$2,1-_xlfn.NORM.DIST(0,INDEX(Rating,$F31)-INDEX(Rating,I$2),10,1),\"\")","v":0.96855723701924734},{"$f":"IF($F31<>J$2,1-_xlfn.NORM.DIST(0,INDEX(Rating,$F31)-INDEX(Rating,J$2),10,1),\"\")","v":0.4948138964304436},{"$f":"IF($F31<>K$2,1-_xlfn.NORM.DIST(0,INDEX(Rating,$F31)-INDEX(Rating,K$2),10,1),\"\")","v":0.47926434670771978},{"$f":"IF($F31<>L$2,1-_xlfn.NORM.DIST(0,INDEX(Rating,$F31)-INDEX(Rating,L$2),10,1),\"\")","v":0.50598390980856245},{"$f":"IF($F31<>M$2,1-_xlfn.NORM.DIST(0,INDEX(Rating,$F31)-INDEX(Rating,M$2),10,1),\"\")","v":0.67903427170287822},{"$f":"IF($F31<>N$2,1-_xlfn.NORM.DIST(0,INDEX(Rating,$F31)-INDEX(Rating,N$2),10,1),\"\")","v":0.51037133077400743},{"$f":"IF($F31<>O$2,1-_xlfn.NORM.DIST(0,INDEX(Rating,$F31)-INDEX(Rating,O$2),10,1),\"\")","v":0.72106224257881513},{"$f":"IF($F31<>P$2,1-_xlfn.NORM.DIST(0,INDEX(Rating,$F31)-INDEX(Rating,P$2),10,1),\"\")","v":0.40943445806275736},{"$f":"IF($F31<>Q$2,1-_xlfn.NORM.DIST(0,INDEX(Rating,$F31)-INDEX(Rating,Q$2),10,1),\"\")","v":0.58277588069165742},{"$f":"IF($F31<>R$2,1-_xlfn.NORM.DIST(0,INDEX(Rating,$F31)-INDEX(Rating,R$2),10,1),\"\")","v":0.41995836209040383},{"$f":"IF($F31<>S$2,1-_xlfn.NORM.DIST(0,INDEX(Rating,$F31)-INDEX(Rating,S$2),10,1),\"\")","v":0.81407141366683033},{"$f":"IF($F31<>T$2,1-_xlfn.NORM.DIST(0,INDEX(Rating,$F31)-INDEX(Rating,T$2),10,1),\"\")","v":0.61638495930190151},{"$f":"IF($F31<>U$2,1-_xlfn.NORM.DIST(0,INDEX(Rating,$F31)-INDEX(Rating,U$2),10,1),\"\")","v":0.54855049086451302},{"$f":"IF($F31<>V$2,1-_xlfn.NORM.DIST(0,INDEX(Rating,$F31)-INDEX(Rating,V$2),10,1),\"\")","v":0.32563449122032062},{"$f":"IF($F31<>W$2,1-_xlfn.NORM.DIST(0,INDEX(Rating,$F31)-INDEX(Rating,W$2),10,1),\"\")","v":0.81673705253194129},{"$f":"IF($F31<>X$2,1-_xlfn.NORM.DIST(0,INDEX(Rating,$F31)-INDEX(Rating,X$2),10,1),\"\")","v":0.35123068231721044},{"$f":"IF($F31<>Y$2,1-_xlfn.NORM.DIST(0,INDEX(Rating,$F31)-INDEX(Rating,Y$2),10,1),\"\")","v":0.97762516850866443},{"$f":"IF($F31<>Z$2,1-_xlfn.NORM.DIST(0,INDEX(Rating,$F31)-INDEX(Rating,Z$2),10,1),\"\")","v":0.98414312226943335},{"$f":"IF($F31<>AA$2,1-_xlfn.NORM.DIST(0,INDEX(Rating,$F31)-INDEX(Rating,AA$2),10,1),\"\")","v":0.45263767789095388},{"$f":"IF($F31<>AB$2,1-_xlfn.NORM.DIST(0,INDEX(Rating,$F31)-INDEX(Rating,AB$2),10,1),\"\")","v":0.56670836046058481},{"$f":"IF($F31<>AC$2,1-_xlfn.NORM.DIST(0,INDEX(Rating,$F31)-INDEX(Rating,AC$2),10,1),\"\")","v":0.42074029056089701},{"$f":"IF($F31<>AD$2,1-_xlfn.NORM.DIST(0,INDEX(Rating,$F31)-INDEX(Rating,AD$2),10,1),\"\")","v":0.68616182724308916},{"$f":"IF($F31<>AE$2,1-_xlfn.NORM.DIST(0,INDEX(Rating,$F31)-INDEX(Rating,AE$2),10,1),\"\")","v":0.3467905196174752},{"$f":"IF($F31<>AF$2,1-_xlfn.NORM.DIST(0,INDEX(Rating,$F31)-INDEX(Rating,AF$2),10,1),\"\")","v":0.78581966188346264},{"$f":"IF($F31<>AG$2,1-_xlfn.NORM.DIST(0,INDEX(Rating,$F31)-INDEX(Rating,AG$2),10,1),\"\")","v":0.47567960452857139},{"$f":"IF($F31<>AH$2,1-_xlfn.NORM.DIST(0,INDEX(Rating,$F31)-INDEX(Rating,AH$2),10,1),\"\")","v":0.54855049086451302},{"$f":"IF($F31<>AI$2,1-_xlfn.NORM.DIST(0,INDEX(Rating,$F31)-INDEX(Rating,AI$2),10,1),\"\")","v":""},{"$f":"IF($F31<>AJ$2,1-_xlfn.NORM.DIST(0,INDEX(Rating,$F31)-INDEX(Rating,AJ$2),10,1),\"\")","v":0.85588215740317297},{"$f":"IF($F31<>AK$2,1-_xlfn.NORM.DIST(0,INDEX(Rating,$F31)-INDEX(Rating,AK$2),10,1),\"\")","v":0.5163520520682412},{"$f":"IF($F31<>AL$2,1-_xlfn.NORM.DIST(0,INDEX(Rating,$F31)-INDEX(Rating,AL$2),10,1),\"\")","v":0.54855049086451302},{"$f":"IF($F31<>AM$2,1-_xlfn.NORM.DIST(0,INDEX(Rating,$F31)-INDEX(Rating,AM$2),10,1),\"\")","v":0.41410417246965192},{"$f":"IF($F31<>AN$2,1-_xlfn.NORM.DIST(0,INDEX(Rating,$F31)-INDEX(Rating,AN$2),10,1),\"\")","v":0.80510547874819194},{"$f":"IF($F31<>AO$2,1-_xlfn.NORM.DIST(0,INDEX(Rating,$F31)-INDEX(Rating,AO$2),10,1),\"\")","v":0.25752324344327748},{"$f":"IF($F31<>AP$2,1-_xlfn.NORM.DIST(0,INDEX(Rating,$F31)-INDEX(Rating,AP$2),10,1),\"\")","v":0.89831344036533045},{"$f":"IF($F31<>AQ$2,1-_xlfn.NORM.DIST(0,INDEX(Rating,$F31)-INDEX(Rating,AQ$2),10,1),\"\")","v":0.51954035202942395},{"$f":"IF($F31<>AR$2,1-_xlfn.NORM.DIST(0,INDEX(Rating,$F31)-INDEX(Rating,AR$2),10,1),\"\")","v":0.50079788402888048},{"$f":"IF($F31<>AS$2,1-_xlfn.NORM.DIST(0,INDEX(Rating,$F31)-INDEX(Rating,AS$2),10,1),\"\")","v":0.5461737291019273},{"$f":"IF($F31<>AT$2,1-_xlfn.NORM.DIST(0,INDEX(Rating,$F31)-INDEX(Rating,AT$2),10,1),\"\")","v":0.63457685695412613},{"$f":"IF($F31<>AU$2,1-_xlfn.NORM.DIST(0,INDEX(Rating,$F31)-INDEX(Rating,AU$2),10,1),\"\")","v":0.4653357560542859},{"$f":"IF($F31<>AV$2,1-_xlfn.NORM.DIST(0,INDEX(Rating,$F31)-INDEX(Rating,AV$2),10,1),\"\")","v":0.66458166262983043},{"$f":"IF($F31<>AW$2,1-_xlfn.NORM.DIST(0,INDEX(Rating,$F31)-INDEX(Rating,AW$2),10,1),\"\")","v":0.53665098020354951},{"$f":"IF($F31<>AX$2,1-_xlfn.NORM.DIST(0,INDEX(Rating,$F31)-INDEX(Rating,AX$2),10,1),\"\")","v":0.62095883383065331},{"$f":"IF($F31<>AY$2,1-_xlfn.NORM.DIST(0,INDEX(Rating,$F31)-INDEX(Rating,AY$2),10,1),\"\")","v":0.64802729242416279},{"$f":"IF($F31<>AZ$2,1-_xlfn.NORM.DIST(0,INDEX(Rating,$F31)-INDEX(Rating,AZ$2),10,1),\"\")","v":0.4538262708980727},{"$f":"IF($F31<>BA$2,1-_xlfn.NORM.DIST(0,INDEX(Rating,$F31)-INDEX(Rating,BA$2),10,1),\"\")","v":0.88952388623447565},{"$f":"IF($F31<>BB$2,1-_xlfn.NORM.DIST(0,INDEX(Rating,$F31)-INDEX(Rating,BB$2),10,1),\"\")","v":0.47050519263109725},{"$f":"IF($F31<>BC$2,1-_xlfn.NORM.DIST(0,INDEX(Rating,$F31)-INDEX(Rating,BC$2),10,1),\"\")","v":0.55803930578638838},{"$f":"IF($F31<>BD$2,1-_xlfn.NORM.DIST(0,INDEX(Rating,$F31)-INDEX(Rating,BD$2),10,1),\"\")","v":0.30432550478330456},{"$f":"IF($F31<>BE$2,1-_xlfn.NORM.DIST(0,INDEX(Rating,$F31)-INDEX(Rating,BE$2),10,1),\"\")","v":0.82147478648851213},{"$f":"IF($F31<>BF$2,1-_xlfn.NORM.DIST(0,INDEX(Rating,$F31)-INDEX(Rating,BF$2),10,1),\"\")","v":0.32239930255122007},{"$f":"IF($F31<>BG$2,1-_xlfn.NORM.DIST(0,INDEX(Rating,$F31)-INDEX(Rating,BG$2),10,1),\"\")","v":0.94887057470179126},{"$f":"IF($F31<>BH$2,1-_xlfn.NORM.DIST(0,INDEX(Rating,$F31)-INDEX(Rating,BH$2),10,1),\"\")","v":0.48324934905923533},{"$f":"IF($F31<>BI$2,1-_xlfn.NORM.DIST(0,INDEX(Rating,$F31)-INDEX(Rating,BI$2),10,1),\"\")","v":0.50159576486623192},{"$f":"IF($F31<>BJ$2,1-_xlfn.NORM.DIST(0,INDEX(Rating,$F31)-INDEX(Rating,BJ$2),10,1),\"\")","v":0.45660124516791178},{"$f":"IF($F31<>BK$2,1-_xlfn.NORM.DIST(0,INDEX(Rating,$F31)-INDEX(Rating,BK$2),10,1),\"\")","v":0.57495359160499893},{"$f":"IF($F31<>BL$2,1-_xlfn.NORM.DIST(0,INDEX(Rating,$F31)-INDEX(Rating,BL$2),10,1),\"\")","v":0.31810658958927973},{"$f":"IF($F31<>BM$2,1-_xlfn.NORM.DIST(0,INDEX(Rating,$F31)-INDEX(Rating,BM$2),10,1),\"\")","v":0.71396311791002154},{"$f":"IF($F31<>BN$2,1-_xlfn.NORM.DIST(0,INDEX(Rating,$F31)-INDEX(Rating,BN$2),10,1),\"\")","v":0.47567960452857139},{"$f":"IF($F31<>BO$2,1-_xlfn.NORM.DIST(0,INDEX(Rating,$F31)-INDEX(Rating,BO$2),10,1),\"\")","v":0.66821878628098119},{"$f":"IF($F31<>BP$2,1-_xlfn.NORM.DIST(0,INDEX(Rating,$F31)-INDEX(Rating,BP$2),10,1),\"\")","v":0.7300618301391999},{"$f":"IF($F31<>BQ$2,1-_xlfn.NORM.DIST(0,INDEX(Rating,$F31)-INDEX(Rating,BQ$2),10,1),\"\")","v":0.30397566034627299},{"$f":"IF($F31<>BR$2,1-_xlfn.NORM.DIST(0,INDEX(Rating,$F31)-INDEX(Rating,BR$2),10,1),\"\")","v":0.82484805350281487},{"$f":"IF($F31<>BS$2,1-_xlfn.NORM.DIST(0,INDEX(Rating,$F31)-INDEX(Rating,BS$2),10,1),\"\")","v":0.55606502882857445},{"$f":"IF($F31<>BT$2,1-_xlfn.NORM.DIST(0,INDEX(Rating,$F31)-INDEX(Rating,BT$2),10,1),\"\")","v":0.6349528146341985},{"$f":"IF($F31<>BU$2,1-_xlfn.NORM.DIST(0,INDEX(Rating,$F31)-INDEX(Rating,BU$2),10,1),\"\")","v":0.27860185335783705},{"$f":"IF($F31<>BV$2,1-_xlfn.NORM.DIST(0,INDEX(Rating,$F31)-INDEX(Rating,BV$2),10,1),\"\")","v":0.89435022633314476}]
[null,"Montana St",30,74.72,null,30,{"$f":"IF($F32<>G$2,1-_xlfn.NORM.DIST(0,INDEX(Rating,$F32)-INDEX(Rating,G$2),10,1),\"\")","v":3.4303428433228977E-2},{"$f":"IF($F32<>H$2,1-_xlfn.NORM.DIST(0,INDEX(Rating,$F32)-INDEX(Rating,H$2),10,1),\"\")","v":0.67292340169655329},{"$f":"IF($F32<>I$2,1-_xlfn.NORM.DIST(0,INDEX(Rating,$F32)-INDEX(Rating,I$2),10,1),\"\")","v":0.78756475494401268},{"$f":"IF($F32<>J$2,1-_xlfn.NORM.DIST(0,INDEX(Rating,$F32)-INDEX(Rating,J$2),10,1),\"\")","v":0.14118736416512889},{"$f":"IF($F32<>K$2,1-_xlfn.NORM.DIST(0,INDEX(Rating,$F32)-INDEX(Rating,K$2),10,1),\"\")","v":0.13263959332622122},{"$f":"IF($F32<>L$2,1-_xlfn.NORM.DIST(0,INDEX(Rating,$F32)-INDEX(Rating,L$2),10,1),\"\")","v":0.14754978909554961},{"$f":"IF($F32<>M$2,1-_xlfn.NORM.DIST(0,INDEX(Rating,$F32)-INDEX(Rating,M$2),10,1),\"\")","v":0.27525369030370916},{"$f":"IF($F32<>N$2,1-_xlfn.NORM.DIST(0,INDEX(Rating,$F32)-INDEX(Rating,N$2),10,1),\"\")","v":0.15010107125827743},{"$f":"IF($F32<>O$2,1-_xlfn.NORM.DIST(0,INDEX(Rating,$F32)-INDEX(Rating,O$2),10,1),\"\")","v":0.3170371889515291},{"$f":"IF($F32<>P$2,1-_xlfn.NORM.DIST(0,INDEX(Rating,$F32)-INDEX(Rating,P$2),10,1),\"\")","v":9.8351838756954857E-2},{"$f":"IF($F32<>Q$2,1-_xlfn.NORM.DIST(0,INDEX(Rating,$F32)-INDEX(Rating,Q$2),10,1),\"\")","v":0.1968296521018067},{"$f":"IF($F32<>R$2,1-_xlfn.NORM.DIST(0,INDEX(Rating,$F32)-INDEX(Rating,R$2),10,1),\"\")","v":0.10311501347578123},{"$f":"IF($F32<>S$2,1-_xlfn.NORM.DIST(0,INDEX(Rating,$F32)-INDEX(Rating,S$2),10,1),\"\")","v":0.43289832069955758},{"$f":"IF($F32<>T$2,1-_xlfn.NORM.DIST(0,INDEX(Rating,$F32)-INDEX(Rating,T$2),10,1),\"\")","v":0.22183815109251837},{"$f":"IF($F32<>U$2,1-_xlfn.NORM.DIST(0,INDEX(Rating,$F32)-INDEX(Rating,U$2),10,1),\"\")","v":0.17360878033862437},{"$f":"IF($F32<>V$2,1-_xlfn.NORM.DIST(0,INDEX(Rating,$F32)-INDEX(Rating,V$2),10,1),\"\")","v":6.5012919745128794E-2},{"$f":"IF($F32<>W$2,1-_xlfn.NORM.DIST(0,INDEX(Rating,$F32)-INDEX(Rating,W$2),10,1),\"\")","v":0.43683443691563251},{"$f":"IF($F32<>X$2,1-_xlfn.NORM.DIST(0,INDEX(Rating,$F32)-INDEX(Rating,X$2),10,1),\"\")","v":7.4369487670258638E-2},{"$f":"IF($F32<>Y$2,1-_xlfn.NORM.DIST(0,INDEX(Rating,$F32)-INDEX(Rating,Y$2),10,1),\"\")","v":0.82767056198712818},{"$f":"IF($F32<>Z$2,1-_xlfn.NORM.DIST(0,INDEX(Rating,$F32)-INDEX(Rating,Z$2),10,1),\"\")","v":0.8612605038772807},{"$f":"IF($F32<>AA$2,1-_xlfn.NORM.DIST(0,INDEX(Rating,$F32)-INDEX(Rating,AA$2),10,1),\"\")","v":0.11880136165203248},{"$f":"IF($F32<>AB$2,1-_xlfn.NORM.DIST(0,INDEX(Rating,$F32)-INDEX(Rating,AB$2),10,1),\"\")","v":0.18566094557883606},{"$f":"IF($F32<>AC$2,1-_xlfn.NORM.DIST(0,INDEX(Rating,$F32)-INDEX(Rating,AC$2),10,1),\"\")","v":0.10347439318864882},{"$f":"IF($F32<>AD$2,1-_xlfn.NORM.DIST(0,INDEX(Rating,$F32)-INDEX(Rating,AD$2),10,1),\"\")","v":0.2819697277610409},{"$f":"IF($F32<>AE$2,1-_xlfn.NORM.DIST(0,INDEX(Rating,$F32)-INDEX(Rating,AE$2),10,1),\"\")","v":7.269630980500974E-2},{"$f":"IF($F32<>AF$2,1-_xlfn.NORM.DIST(0,INDEX(Rating,$F32)-INDEX(Rating,AF$2),10,1),\"\")","v":0.39358012680196031},{"$f":"IF($F32<>AG$2,1-_xlfn.NORM.DIST(0,INDEX(Rating,$F32)-INDEX(Rating,AG$2),10,1),\"\")","v":0.13071874722557697},{"$f":"IF($F32<>AH$2,1-_xlfn.NORM.DIST(0,INDEX(Rating,$F32)-INDEX(Rating,AH$2),10,1),\"\")","v":0.17360878033862437},{"$f":"IF($F32<>AI$2,1-_xlfn.NORM.DIST(0,INDEX(Rating,$F32)-INDEX(Rating,AI$2),10,1),\"\")","v":0.14411784259682703},{"$f":"IF($F32<>AJ$2,1-_xlfn.NORM.DIST(0,INDEX(Rating,$F32)-INDEX(Rating,AJ$2),10,1),\"\")","v":""},{"$f":"IF($F32<>AK$2,1-_xlfn.NORM.DIST(0,INDEX(Rating,$F32)-INDEX(Rating,AK$2),10,1),\"\")","v":0.15362721935639434},{"$f":"IF($F32<>AL$2,1-_xlfn.NORM.DIST(0,INDEX(Rating,$F32)-INDEX(Rating,AL$2),10,1),\"\")","v":0.17360878033862437},{"$f":"IF($F32<>AM$2,1-_xlfn.NORM.DIST(0,INDEX(Rating,$F32)-INDEX(Rating,AM$2),10,1),\"\")","v":0.1004485279457924},{"$f":"IF($F32<>AN$2,1-_xlfn.NORM.DIST(0,INDEX(Rating,$F32)-INDEX(Rating,AN$2),10,1),\"\")","v":0.41995836209040383},{"$f":"IF($F32<>AO$2,1-_xlfn.NORM.DIST(0,INDEX(Rating,$F32)-INDEX(Rating,AO$2),10,1),\"\")","v":4.3356269796281488E-2},{"$f":"IF($F32<>AP$2,1-_xlfn.NORM.DIST(0,INDEX(Rating,$F32)-INDEX(Rating,AP$2),10,1),\"\")","v":0.5831661634824421},{"$f":"IF($F32<>AQ$2,1-_xlfn.NORM.DIST(0,INDEX(Rating,$F32)-INDEX(Rating,AQ$2),10,1),\"\")","v":0.15553008046452677},{"$f":"IF($F32<>AR$2,1-_xlfn.NORM.DIST(0,INDEX(Rating,$F32)-INDEX(Rating,AR$2),10,1),\"\")","v":0.14457229966390983},{"$f":"IF($F32<>AS$2,1-_xlfn.NORM.DIST(0,INDEX(Rating,$F32)-INDEX(Rating,AS$2),10,1),\"\")","v":0.1720742931135627},{"$f":"IF($F32<>AT$2,1-_xlfn.NORM.DIST(0,INDEX(Rating,$F32)-INDEX(Rating,AT$2),10,1),\"\")","v":0.23637864340795756},{"$f":"IF($F32<>AU$2,1-_xlfn.NORM.DIST(0,INDEX(Rating,$F32)-INDEX(Rating,AU$2),10,1),\"\")","v":0.12527799033027731},{"$f":"IF($F32<>AV$2,1-_xlfn.NORM.DIST(0,INDEX(Rating,$F32)-INDEX(Rating,AV$2),10,1),\"\")","v":0.26206242179899042},{"$f":"IF($F32<>AW$2,1-_xlfn.NORM.DIST(0,INDEX(Rating,$F32)-INDEX(Rating,AW$2),10,1),\"\")","v":0.16602324606352947},{"$f":"IF($F32<>AX$2,1-_xlfn.NORM.DIST(0,INDEX(Rating,$F32)-INDEX(Rating,AX$2),10,1),\"\")","v":0.22542461087227772},{"$f":"IF($F32<>AY$2,1-_xlfn.NORM.DIST(0,INDEX(Rating,$F32)-INDEX(Rating,AY$2),10,1),\"\")","v":0.24761947543107254},{"$f":"IF($F32<>AZ$2,1-_xlfn.NORM.DIST(0,INDEX(Rating,$F32)-INDEX(Rating,AZ$2),10,1),\"\")","v":0.11939830311473043},{"$f":"IF($F32<>BA$2,1-_xlfn.NORM.DIST(0,INDEX(Rating,$F32)-INDEX(Rating,BA$2),10,1),\"\")","v":0.5643470730651059},{"$f":"IF($F32<>BB$2,1-_xlfn.NORM.DIST(0,INDEX(Rating,$F32)-INDEX(Rating,BB$2),10,1),\"\")","v":0.12797828215141538},{"$f":"IF($F32<>BC$2,1-_xlfn.NORM.DIST(0,INDEX(Rating,$F32)-INDEX(Rating,BC$2),10,1),\"\")","v":0.17983344745293062},{"$f":"IF($F32<>BD$2,1-_xlfn.NORM.DIST(0,INDEX(Rating,$F32)-INDEX(Rating,BD$2),10,1),\"\")","v":5.7743724719286127E-2},{"$f":"IF($F32<>BE$2,1-_xlfn.NORM.DIST(0,INDEX(Rating,$F32)-INDEX(Rating,BE$2),10,1),\"\")","v":0.44393497117142555},{"$f":"IF($F32<>BF$2,1-_xlfn.NORM.DIST(0,INDEX(Rating,$F32)-INDEX(Rating,BF$2),10,1),\"\")","v":6.387935271322176E-2},{"$f":"IF($F32<>BG$2,1-_xlfn.NORM.DIST(0,INDEX(Rating,$F32)-INDEX(Rating,BG$2),10,1),\"\")","v":0.7163390126734549},{"$f":"IF($F32<>BH$2,1-_xlfn.NORM.DIST(0,INDEX(Rating,$F32)-INDEX(Rating,BH$2),10,1),\"\")","v":0.13479656884485114},{"$f":"IF($F32<>BI$2,1-_xlfn.NORM.DIST(0,INDEX(Rating,$F32)-INDEX(Rating,BI$2),10,1),\"\")","v":0.14502772120163043},{"$f":"IF($F32<>BJ$2,1-_xlfn.NORM.DIST(0,INDEX(Rating,$F32)-INDEX(Rating,BJ$2),10,1),\"\")","v":0.12079938857581807},{"$f":"IF($F32<>BK$2,1-_xlfn.NORM.DIST(0,INDEX(Rating,$F32)-INDEX(Rating,BK$2),10,1),\"\")","v":0.19133153886014287},{"$f":"IF($F32<>BL$2,1-_xlfn.NORM.DIST(0,INDEX(Rating,$F32)-INDEX(Rating,BL$2),10,1),\"\")","v":6.239191401912314E-2},{"$f":"IF($F32<>BM$2,1-_xlfn.NORM.DIST(0,INDEX(Rating,$F32)-INDEX(Rating,BM$2),10,1),\"\")","v":0.30959452566341183},{"$f":"IF($F32<>BN$2,1-_xlfn.NORM.DIST(0,INDEX(Rating,$F32)-INDEX(Rating,BN$2),10,1),\"\")","v":0.13071874722557697},{"$f":"IF($F32<>BO$2,1-_xlfn.NORM.DIST(0,INDEX(Rating,$F32)-INDEX(Rating,BO$2),10,1),\"\")","v":0.26532961757908446},{"$f":"IF($F32<>BP$2,1-_xlfn.NORM.DIST(0,INDEX(Rating,$F32)-INDEX(Rating,BP$2),10,1),\"\")","v":0.32671582832100943},{"$f":"IF($F32<>BQ$2,1-_xlfn.NORM.DIST(0,INDEX(Rating,$F32)-INDEX(Rating,BQ$2),10,1),\"\")","v":5.7628222276153163E-2},{"$f":"IF($F32<>BR$2,1-_xlfn.NORM.DIST(0,INDEX(Rating,$F32)-INDEX(Rating,BR$2),10,1),\"\")","v":0.44907448652068827},{"$f":"IF($F32<>BS$2,1-_xlfn.NORM.DIST(0,INDEX(Rating,$F32)-INDEX(Rating,BS$2),10,1),\"\")","v":0.17852521351148787},{"$f":"IF($F32<>BT$2,1-_xlfn.NORM.DIST(0,INDEX(Rating,$F32)-INDEX(Rating,BT$2),10,1),\"\")","v":0.23668704832971299},{"$f":"IF($F32<>BU$2,1-_xlfn.NORM.DIST(0,INDEX(Rating,$F32)-INDEX(Rating,BU$2),10,1),\"\")","v":4.9573817356131533E-2},{"$f":"IF($F32<>BV$2,1-_xlfn.NORM.DIST(0,INDEX(Rating,$F32)-INDEX(Rating,BV$2),10,1),\"\")","v":0.57456167440985784}]
[null,"Michigan St",31,84.93,null,31,{"$f":"IF($F33<>G$2,1-_xlfn.NORM.DIST(0,INDEX(Rating,$F33)-INDEX(Rating,G$2),10,1),\"\")","v":0.21185539858339664},{"$f":"IF($F33<>H$2,1-_xlfn.NORM.DIST(0,INDEX(Rating,$F33)-INDEX(Rating,H$2),10,1),\"\")","v":0.92908360538827117},{"$f":"IF($F33<>I$2,1-_xlfn.NORM.DIST(0,INDEX(Rating,$F33)-INDEX(Rating,I$2),10,1),\"\")","v":0.96554428496068745},{"$f":"IF($F33<>J$2,1-_xlfn.NORM.DIST(0,INDEX(Rating,$F33)-INDEX(Rating,J$2),10,1),\"\")","v":0.47846758212161056},{"$f":"IF($F33<>K$2,1-_xlfn.NORM.DIST(0,INDEX(Rating,$F33)-INDEX(Rating,K$2),10,1),\"\")","v":0.46295178061181197},{"$f":"IF($F33<>L$2,1-_xlfn.NORM.DIST(0,INDEX(Rating,$F33)-INDEX(Rating,L$2),10,1),\"\")","v":0.48962866922599313},{"$f":"IF($F33<>M$2,1-_xlfn.NORM.DIST(0,INDEX(Rating,$F33)-INDEX(Rating,M$2),10,1),\"\")","v":0.66421709335542911},{"$f":"IF($F33<>N$2,1-_xlfn.NORM.DIST(0,INDEX(Rating,$F33)-INDEX(Rating,N$2),10,1),\"\")","v":0.49401609019143811},{"$f":"IF($F33<>O$2,1-_xlfn.NORM.DIST(0,INDEX(Rating,$F33)-INDEX(Rating,O$2),10,1),\"\")","v":0.70712324119419501},{"$f":"IF($F33<>P$2,1-_xlfn.NORM.DIST(0,INDEX(Rating,$F33)-INDEX(Rating,P$2),10,1),\"\")","v":0.39358012680196097},{"$f":"IF($F33<>Q$2,1-_xlfn.NORM.DIST(0,INDEX(Rating,$F33)-INDEX(Rating,Q$2),10,1),\"\")","v":0.56670836046058481},{"$f":"IF($F33<>R$2,1-_xlfn.NORM.DIST(0,INDEX(Rating,$F33)-INDEX(Rating,R$2),10,1),\"\")","v":0.40400269872565242},{"$f":"IF($F33<>S$2,1-_xlfn.NORM.DIST(0,INDEX(Rating,$F33)-INDEX(Rating,S$2),10,1),\"\")","v":0.80289295397276783},{"$f":"IF($F33<>T$2,1-_xlfn.NORM.DIST(0,INDEX(Rating,$F33)-INDEX(Rating,T$2),10,1),\"\")","v":0.6006384503843829},{"$f":"IF($F33<>U$2,1-_xlfn.NORM.DIST(0,INDEX(Rating,$F33)-INDEX(Rating,U$2),10,1),\"\")","v":0.53227902374694103},{"$f":"IF($F33<>V$2,1-_xlfn.NORM.DIST(0,INDEX(Rating,$F33)-INDEX(Rating,V$2),10,1),\"\")","v":0.31100629367043742},{"$f":"IF($F33<>W$2,1-_xlfn.NORM.DIST(0,INDEX(Rating,$F33)-INDEX(Rating,W$2),10,1),\"\")","v":0.80565624108377609},{"$f":"IF($F33<>X$2,1-_xlfn.NORM.DIST(0,INDEX(Rating,$F33)-INDEX(Rating,X$2),10,1),\"\")","v":0.33614763052910779},{"$f":"IF($F33<>Y$2,1-_xlfn.NORM.DIST(0,INDEX(Rating,$F33)-INDEX(Rating,Y$2),10,1),\"\")","v":0.97535069469440705},{"$f":"IF($F33<>Z$2,1-_xlfn.NORM.DIST(0,INDEX(Rating,$F33)-INDEX(Rating,Z$2),10,1),\"\")","v":0.98244121021406861},{"$f":"IF($F33<>AA$2,1-_xlfn.NORM.DIST(0,INDEX(Rating,$F33)-INDEX(Rating,AA$2),10,1),\"\")","v":0.43644053710856734},{"$f":"IF($F33<>AB$2,1-_xlfn.NORM.DIST(0,INDEX(Rating,$F33)-INDEX(Rating,AB$2),10,1),\"\")","v":0.5505298007251429},{"$f":"IF($F33<>AC$2,1-_xlfn.NORM.DIST(0,INDEX(Rating,$F33)-INDEX(Rating,AC$2),10,1),\"\")","v":0.40477755826194328},{"$f":"IF($F33<>AD$2,1-_xlfn.NORM.DIST(0,INDEX(Rating,$F33)-INDEX(Rating,AD$2),10,1),\"\")","v":0.67147870804410925},{"$f":"IF($F33<>AE$2,1-_xlfn.NORM.DIST(0,INDEX(Rating,$F33)-INDEX(Rating,AE$2),10,1),\"\")","v":0.33178121371901925},{"$f":"IF($F33<>AF$2,1-_xlfn.NORM.DIST(0,INDEX(Rating,$F33)-INDEX(Rating,AF$2),10,1),\"\")","v":0.7736736721068147},{"$f":"IF($F33<>AG$2,1-_xlfn.NORM.DIST(0,INDEX(Rating,$F33)-INDEX(Rating,AG$2),10,1),\"\")","v":0.45937833754242452},{"$f":"IF($F33<>AH$2,1-_xlfn.NORM.DIST(0,INDEX(Rating,$F33)-INDEX(Rating,AH$2),10,1),\"\")","v":0.53227902374694103},{"$f":"IF($F33<>AI$2,1-_xlfn.NORM.DIST(0,INDEX(Rating,$F33)-INDEX(Rating,AI$2),10,1),\"\")","v":0.4836479479317588},{"$f":"IF($F33<>AJ$2,1-_xlfn.NORM.DIST(0,INDEX(Rating,$F33)-INDEX(Rating,AJ$2),10,1),\"\")","v":0.84637278064360566},{"$f":"IF($F33<>AK$2,1-_xlfn.NORM.DIST(0,INDEX(Rating,$F33)-INDEX(Rating,AK$2),10,1),\"\")","v":""},{"$f":"IF($F33<>AL$2,1-_xlfn.NORM.DIST(0,INDEX(Rating,$F33)-INDEX(Rating,AL$2),10,1),\"\")","v":0.53227902374694103},{"$f":"IF($F33<>AM$2,1-_xlfn.NORM.DIST(0,INDEX(Rating,$F33)-INDEX(Rating,AM$2),10,1),\"\")","v":0.39820345361229781},{"$f":"IF($F33<>AN$2,1-_xlfn.NORM.DIST(0,INDEX(Rating,$F33)-INDEX(Rating,AN$2),10,1),\"\")","v":0.79360679320637695},{"$f":"IF($F33<>AO$2,1-_xlfn.NORM.DIST(0,INDEX(Rating,$F33)-INDEX(Rating,AO$2),10,1),\"\")","v":0.2444686644952172},{"$f":"IF($F33<>AP$2,1-_xlfn.NORM.DIST(0,INDEX(Rating,$F33)-INDEX(Rating,AP$2),10,1),\"\")","v":0.89083856785871651},{"$f":"IF($F33<>AQ$2,1-_xlfn.NORM.DIST(0,INDEX(Rating,$F33)-INDEX(Rating,AQ$2),10,1),\"\")","v":0.50319150420046421},{"$f":"IF($F33<>AR$2,1-_xlfn.NORM.DIST(0,INDEX(Rating,$F33)-INDEX(Rating,AR$2),10,1),\"\")","v":0.48444519430750654},{"$f":"IF($F33<>AS$2,1-_xlfn.NORM.DIST(0,INDEX(Rating,$F33)-INDEX(Rating,AS$2),10,1),\"\")","v":0.52989264405289482},{"$f":"IF($F33<>AT$2,1-_xlfn.NORM.DIST(0,INDEX(Rating,$F33)-INDEX(Rating,AT$2),10,1),\"\")","v":0.61905506920112585},{"$f":"IF($F33<>AU$2,1-_xlfn.NORM.DIST(0,INDEX(Rating,$F33)-INDEX(Rating,AU$2),10,1),\"\")","v":0.44907448652068882},{"$f":"IF($F33<>AV$2,1-_xlfn.NORM.DIST(0,INDEX(Rating,$F33)-INDEX(Rating,AV$2),10,1),\"\")","v":0.64951077625081155},{"$f":"IF($F33<>AW$2,1-_xlfn.NORM.DIST(0,INDEX(Rating,$F33)-INDEX(Rating,AW$2),10,1),\"\")","v":0.5203372397251308},{"$f":"IF($F33<>AX$2,1-_xlfn.NORM.DIST(0,INDEX(Rating,$F33)-INDEX(Rating,AX$2),10,1),\"\")","v":0.60526541945482726},{"$f":"IF($F33<>AY$2,1-_xlfn.NORM.DIST(0,INDEX(Rating,$F33)-INDEX(Rating,AY$2),10,1),\"\")","v":0.63269513491839424},{"$f":"IF($F33<>AZ$2,1-_xlfn.NORM.DIST(0,INDEX(Rating,$F33)-INDEX(Rating,AZ$2),10,1),\"\")","v":0.43762242405082907},{"$f":"IF($F33<>BA$2,1-_xlfn.NORM.DIST(0,INDEX(Rating,$F33)-INDEX(Rating,BA$2),10,1),\"\")","v":0.88159542629222165},{"$f":"IF($F33<>BB$2,1-_xlfn.NORM.DIST(0,INDEX(Rating,$F33)-INDEX(Rating,BB$2),10,1),\"\")","v":0.45422256102219005},{"$f":"IF($F33<>BC$2,1-_xlfn.NORM.DIST(0,INDEX(Rating,$F33)-INDEX(Rating,BC$2),10,1),\"\")","v":0.54181209563970512},{"$f":"IF($F33<>BD$2,1-_xlfn.NORM.DIST(0,INDEX(Rating,$F33)-INDEX(Rating,BD$2),10,1),\"\")","v":0.29013170508402675},{"$f":"IF($F33<>BE$2,1-_xlfn.NORM.DIST(0,INDEX(Rating,$F33)-INDEX(Rating,BE$2),10,1),\"\")","v":0.81057034522328819},{"$f":"IF($F33<>BF$2,1-_xlfn.NORM.DIST(0,INDEX(Rating,$F33)-INDEX(Rating,BF$2),10,1),\"\")","v":0.3078337604895276},{"$f":"IF($F33<>BG$2,1-_xlfn.NORM.DIST(0,INDEX(Rating,$F33)-INDEX(Rating,BG$2),10,1),\"\")","v":0.94441990447694879},{"$f":"IF($F33<>BH$2,1-_xlfn.NORM.DIST(0,INDEX(Rating,$F33)-INDEX(Rating,BH$2),10,1),\"\")","v":0.46692576980757994},{"$f":"IF($F33<>BI$2,1-_xlfn.NORM.DIST(0,INDEX(Rating,$F33)-INDEX(Rating,BI$2),10,1),\"\")","v":0.48524250287087567},{"$f":"IF($F33<>BJ$2,1-_xlfn.NORM.DIST(0,INDEX(Rating,$F33)-INDEX(Rating,BJ$2),10,1),\"\")","v":0.4403823076297575},{"$f":"IF($F33<>BK$2,1-_xlfn.NORM.DIST(0,INDEX(Rating,$F33)-INDEX(Rating,BK$2),10,1),\"\")","v":0.55882861587888288},{"$f":"IF($F33<>BL$2,1-_xlfn.NORM.DIST(0,INDEX(Rating,$F33)-INDEX(Rating,BL$2),10,1),\"\")","v":0.30362599533339685},{"$f":"IF($F33<>BM$2,1-_xlfn.NORM.DIST(0,INDEX(Rating,$F33)-INDEX(Rating,BM$2),10,1),\"\")","v":0.69986073006838945},{"$f":"IF($F33<>BN$2,1-_xlfn.NORM.DIST(0,INDEX(Rating,$F33)-INDEX(Rating,BN$2),10,1),\"\")","v":0.45937833754242452},{"$f":"IF($F33<>BO$2,1-_xlfn.NORM.DIST(0,INDEX(Rating,$F33)-INDEX(Rating,BO$2),10,1),\"\")","v":0.65320948038252524},{"$f":"IF($F33<>BP$2,1-_xlfn.NORM.DIST(0,INDEX(Rating,$F33)-INDEX(Rating,BP$2),10,1),\"\")","v":0.71633901267345546},{"$f":"IF($F33<>BQ$2,1-_xlfn.NORM.DIST(0,INDEX(Rating,$F33)-INDEX(Rating,BQ$2),10,1),\"\")","v":0.28978942286730247},{"$f":"IF($F33<>BR$2,1-_xlfn.NORM.DIST(0,INDEX(Rating,$F33)-INDEX(Rating,BR$2),10,1),\"\")","v":0.81407141366683033},{"$f":"IF($F33<>BS$2,1-_xlfn.NORM.DIST(0,INDEX(Rating,$F33)-INDEX(Rating,BS$2),10,1),\"\")","v":0.53982783727702899},{"$f":"IF($F33<>BT$2,1-_xlfn.NORM.DIST(0,INDEX(Rating,$F33)-INDEX(Rating,BT$2),10,1),\"\")","v":0.619436054421593},{"$f":"IF($F33<>BU$2,1-_xlfn.NORM.DIST(0,INDEX(Rating,$F33)-INDEX(Rating,BU$2),10,1),\"\")","v":0.26500196999384595},{"$f":"IF($F33<>BV$2,1-_xlfn.NORM.DIST(0,INDEX(Rating,$F33)-INDEX(Rating,BV$2),10,1),\"\")","v":0.88666857731109006}]
[null,"USC",32,84.12,null,32,{"$f":"IF($F34<>G$2,1-_xlfn.NORM.DIST(0,INDEX(Rating,$F34)-INDEX(Rating,G$2),10,1),\"\")","v":0.18915890999522367},{"$f":"IF($F34<>H$2,1-_xlfn.NORM.DIST(0,INDEX(Rating,$F34)-INDEX(Rating,H$2),10,1),\"\")","v":0.91743147744329678},{"$f":"IF($F34<>I$2,1-_xlfn.NORM.DIST(0,INDEX(Rating,$F34)-INDEX(Rating,I$2),10,1),\"\")","v":0.95889459311228875},{"$f":"IF($F34<>J$2,1-_xlfn.NORM.DIST(0,INDEX(Rating,$F34)-INDEX(Rating,J$2),10,1),\"\")","v":0.4463059371656185},{"$f":"IF($F34<>K$2,1-_xlfn.NORM.DIST(0,INDEX(Rating,$F34)-INDEX(Rating,K$2),10,1),\"\")","v":0.43093273111529151},{"$f":"IF($F34<>L$2,1-_xlfn.NORM.DIST(0,INDEX(Rating,$F34)-INDEX(Rating,L$2),10,1),\"\")","v":0.45739448987786568},{"$f":"IF($F34<>M$2,1-_xlfn.NORM.DIST(0,INDEX(Rating,$F34)-INDEX(Rating,M$2),10,1),\"\")","v":0.63420076992237595},{"$f":"IF($F34<>N$2,1-_xlfn.NORM.DIST(0,INDEX(Rating,$F34)-INDEX(Rating,N$2),10,1),\"\")","v":0.4617602862818424},{"$f":"IF($F34<>O$2,1-_xlfn.NORM.DIST(0,INDEX(Rating,$F34)-INDEX(Rating,O$2),10,1),\"\")","v":0.67867612718430737},{"$f":"IF($F34<>P$2,1-_xlfn.NORM.DIST(0,INDEX(Rating,$F34)-INDEX(Rating,P$2),10,1),\"\")","v":0.3627941741993882},{"$f":"IF($F34<>Q$2,1-_xlfn.NORM.DIST(0,INDEX(Rating,$F34)-INDEX(Rating,Q$2),10,1),\"\")","v":0.53466424394571477},{"$f":"IF($F34<>R$2,1-_xlfn.NORM.DIST(0,INDEX(Rating,$F34)-INDEX(Rating,R$2),10,1),\"\")","v":0.37296901711544961},{"$f":"IF($F34<>S$2,1-_xlfn.NORM.DIST(0,INDEX(Rating,$F34)-INDEX(Rating,S$2),10,1),\"\")","v":0.77964653420326269},{"$f":"IF($F34<>T$2,1-_xlfn.NORM.DIST(0,INDEX(Rating,$F34)-INDEX(Rating,T$2),10,1),\"\")","v":0.56906726888470904},{"$f":"IF($F34<>U$2,1-_xlfn.NORM.DIST(0,INDEX(Rating,$F34)-INDEX(Rating,U$2),10,1),\"\")","v":0.5},{"$f":"IF($F34<>V$2,1-_xlfn.NORM.DIST(0,INDEX(Rating,$F34)-INDEX(Rating,V$2),10,1),\"\")","v":0.28298390063691348},{"$f":"IF($F34<>W$2,1-_xlfn.NORM.DIST(0,INDEX(Rating,$F34)-INDEX(Rating,W$2),10,1),\"\")","v":0.78259875264590817},{"$f":"IF($F34<>X$2,1-_xlfn.NORM.DIST(0,INDEX(Rating,$F34)-INDEX(Rating,X$2),10,1),\"\")","v":0.30713068849159131},{"$f":"IF($F34<>Y$2,1-_xlfn.NORM.DIST(0,INDEX(Rating,$F34)-INDEX(Rating,Y$2),10,1),\"\")","v":0.97028508109168943},{"$f":"IF($F34<>Z$2,1-_xlfn.NORM.DIST(0,INDEX(Rating,$F34)-INDEX(Rating,Z$2),10,1),\"\")","v":0.97861760767805395},{"$f":"IF($F34<>AA$2,1-_xlfn.NORM.DIST(0,INDEX(Rating,$F34)-INDEX(Rating,AA$2),10,1),\"\")","v":0.40477755826194328},{"$f":"IF($F34<>AB$2,1-_xlfn.NORM.DIST(0,INDEX(Rating,$F34)-INDEX(Rating,AB$2),10,1),\"\")","v":0.51834487504449811},{"$f":"IF($F34<>AC$2,1-_xlfn.NORM.DIST(0,INDEX(Rating,$F34)-INDEX(Rating,AC$2),10,1),\"\")","v":0.37372634725730047},{"$f":"IF($F34<>AD$2,1-_xlfn.NORM.DIST(0,INDEX(Rating,$F34)-INDEX(Rating,AD$2),10,1),\"\")","v":0.64169755783570293},{"$f":"IF($F34<>AE$2,1-_xlfn.NORM.DIST(0,INDEX(Rating,$F34)-INDEX(Rating,AE$2),10,1),\"\")","v":0.3029272046094752},{"$f":"IF($F34<>AF$2,1-_xlfn.NORM.DIST(0,INDEX(Rating,$F34)-INDEX(Rating,AF$2),10,1),\"\")","v":0.74857110490469003},{"$f":"IF($F34<>AG$2,1-_xlfn.NORM.DIST(0,INDEX(Rating,$F34)-INDEX(Rating,AG$2),10,1),\"\")","v":0.42739900930869013},{"$f":"IF($F34<>AH$2,1-_xlfn.NORM.DIST(0,INDEX(Rating,$F34)-INDEX(Rating,AH$2),10,1),\"\")","v":0.5},{"$f":"IF($F34<>AI$2,1-_xlfn.NORM.DIST(0,INDEX(Rating,$F34)-INDEX(Rating,AI$2),10,1),\"\")","v":0.45144950913548698},{"$f":"IF($F34<>AJ$2,1-_xlfn.NORM.DIST(0,INDEX(Rating,$F34)-INDEX(Rating,AJ$2),10,1),\"\")","v":0.82639121966137563},{"$f":"IF($F34<>AK$2,1-_xlfn.NORM.DIST(0,INDEX(Rating,$F34)-INDEX(Rating,AK$2),10,1),\"\")","v":0.46772097625305897},{"$f":"IF($F34<>AL$2,1-_xlfn.NORM.DIST(0,INDEX(Rating,$F34)-INDEX(Rating,AL$2),10,1),\"\")","v":""},{"$f":"IF($F34<>AM$2,1-_xlfn.NORM.DIST(0,INDEX(Rating,$F34)-INDEX(Rating,AM$2),10,1),\"\")","v":0.36730486508160576},{"$f":"IF($F34<>AN$2,1-_xlfn.NORM.DIST(0,INDEX(Rating,$F34)-INDEX(Rating,AN$2),10,1),\"\")","v":0.76974277543492864},{"$f":"IF($F34<>AO$2,1-_xlfn.NORM.DIST(0,INDEX(Rating,$F34)-INDEX(Rating,AO$2),10,1),\"\")","v":0.21976119031998609},{"$f":"IF($F34<>AP$2,1-_xlfn.NORM.DIST(0,INDEX(Rating,$F34)-INDEX(Rating,AP$2),10,1),\"\")","v":0.87492806436284976},{"$f":"IF($F34<>AQ$2,1-_xlfn.NORM.DIST(0,INDEX(Rating,$F34)-INDEX(Rating,AQ$2),10,1),\"\")","v":0.47090305875609073},{"$f":"IF($F34<>AR$2,1-_xlfn.NORM.DIST(0,INDEX(Rating,$F34)-INDEX(Rating,AR$2),10,1),\"\")","v":0.45224157397941656},{"$f":"IF($F34<>AS$2,1-_xlfn.NORM.DIST(0,INDEX(Rating,$F34)-INDEX(Rating,AS$2),10,1),\"\")","v":0.49760636067943587},{"$f":"IF($F34<>AT$2,1-_xlfn.NORM.DIST(0,INDEX(Rating,$F34)-INDEX(Rating,AT$2),10,1),\"\")","v":0.58784305833432171},{"$f":"IF($F34<>AU$2,1-_xlfn.NORM.DIST(0,INDEX(Rating,$F34)-INDEX(Rating,AU$2),10,1),\"\")","v":0.41722411930834324},{"$f":"IF($F34<>AV$2,1-_xlfn.NORM.DIST(0,INDEX(Rating,$F34)-INDEX(Rating,AV$2),10,1),\"\")","v":0.61905506920112585},{"$f":"IF($F34<>AW$2,1-_xlfn.NORM.DIST(0,INDEX(Rating,$F34)-INDEX(Rating,AW$2),10,1),\"\")","v":0.4880335265858875},{"$f":"IF($F34<>AX$2,1-_xlfn.NORM.DIST(0,INDEX(Rating,$F34)-INDEX(Rating,AX$2),10,1),\"\")","v":0.57377761933572724},{"$f":"IF($F34<>AY$2,1-_xlfn.NORM.DIST(0,INDEX(Rating,$F34)-INDEX(Rating,AY$2),10,1),\"\")","v":0.60179654638770219},{"$f":"IF($F34<>AZ$2,1-_xlfn.NORM.DIST(0,INDEX(Rating,$F34)-INDEX(Rating,AZ$2),10,1),\"\")","v":0.4059405471011942},{"$f":"IF($F34<>BA$2,1-_xlfn.NORM.DIST(0,INDEX(Rating,$F34)-INDEX(Rating,BA$2),10,1),\"\")","v":0.8647691641941776},{"$f":"IF($F34<>BB$2,1-_xlfn.NORM.DIST(0,INDEX(Rating,$F34)-INDEX(Rating,BB$2),10,1),\"\")","v":0.42230508299837211},{"$f":"IF($F34<>BC$2,1-_xlfn.NORM.DIST(0,INDEX(Rating,$F34)-INDEX(Rating,BC$2),10,1),\"\")","v":0.50957369564603094},{"$f":"IF($F34<>BD$2,1-_xlfn.NORM.DIST(0,INDEX(Rating,$F34)-INDEX(Rating,BD$2),10,1),\"\")","v":0.2630404110565594},{"$f":"IF($F34<>BE$2,1-_xlfn.NORM.DIST(0,INDEX(Rating,$F34)-INDEX(Rating,BE$2),10,1),\"\")","v":0.78785479400462521},{"$f":"IF($F34<>BF$2,1-_xlfn.NORM.DIST(0,INDEX(Rating,$F34)-INDEX(Rating,BF$2),10,1),\"\")","v":0.27994665011187858},{"$f":"IF($F34<>BG$2,1-_xlfn.NORM.DIST(0,INDEX(Rating,$F34)-INDEX(Rating,BG$2),10,1),\"\")","v":0.93473306872956796},{"$f":"IF($F34<>BH$2,1-_xlfn.NORM.DIST(0,INDEX(Rating,$F34)-INDEX(Rating,BH$2),10,1),\"\")","v":0.43486557190549702},{"$f":"IF($F34<>BI$2,1-_xlfn.NORM.DIST(0,INDEX(Rating,$F34)-INDEX(Rating,BI$2),10,1),\"\")","v":0.453033828941658},{"$f":"IF($F34<>BJ$2,1-_xlfn.NORM.DIST(0,INDEX(Rating,$F34)-INDEX(Rating,BJ$2),10,1),\"\")","v":0.40865740101478376},{"$f":"IF($F34<>BK$2,1-_xlfn.NORM.DIST(0,INDEX(Rating,$F34)-INDEX(Rating,BK$2),10,1),\"\")","v":0.52670914839907279},{"$f":"IF($F34<>BL$2,1-_xlfn.NORM.DIST(0,INDEX(Rating,$F34)-INDEX(Rating,BL$2),10,1),\"\")","v":0.27592173549232291},{"$f":"IF($F34<>BM$2,1-_xlfn.NORM.DIST(0,INDEX(Rating,$F34)-INDEX(Rating,BM$2),10,1),\"\")","v":0.67111713264697415},{"$f":"IF($F34<>BN$2,1-_xlfn.NORM.DIST(0,INDEX(Rating,$F34)-INDEX(Rating,BN$2),10,1),\"\")","v":0.42739900930869013},{"$f":"IF($F34<>BO$2,1-_xlfn.NORM.DIST(0,INDEX(Rating,$F34)-INDEX(Rating,BO$2),10,1),\"\")","v":0.62285966892507605},{"$f":"IF($F34<>BP$2,1-_xlfn.NORM.DIST(0,INDEX(Rating,$F34)-INDEX(Rating,BP$2),10,1),\"\")","v":0.68828677622428647},{"$f":"IF($F34<>BQ$2,1-_xlfn.NORM.DIST(0,INDEX(Rating,$F34)-INDEX(Rating,BQ$2),10,1),\"\")","v":0.26271420749910102},{"$f":"IF($F34<>BR$2,1-_xlfn.NORM.DIST(0,INDEX(Rating,$F34)-INDEX(Rating,BR$2),10,1),\"\")","v":0.79160418425336898},{"$f":"IF($F34<>BS$2,1-_xlfn.NORM.DIST(0,INDEX(Rating,$F34)-INDEX(Rating,BS$2),10,1),\"\")","v":0.50757944729480475},{"$f":"IF($F34<>BT$2,1-_xlfn.NORM.DIST(0,INDEX(Rating,$F34)-INDEX(Rating,BT$2),10,1),\"\")","v":0.58823224674834562},{"$f":"IF($F34<>BU$2,1-_xlfn.NORM.DIST(0,INDEX(Rating,$F34)-INDEX(Rating,BU$2),10,1),\"\")","v":0.23916223842057216},{"$f":"IF($F34<>BV$2,1-_xlfn.NORM.DIST(0,INDEX(Rating,$F34)-INDEX(Rating,BV$2),10,1),\"\")","v":0.87034004042965185}]
[null,"Marquette",33,87.51,null,33,{"$f":"IF($F35<>G$2,1-_xlfn.NORM.DIST(0,INDEX(Rating,$F35)-INDEX(Rating,G$2),10,1),\"\")","v":0.29390925294161663},{"$f":"IF($F35<>H$2,1-_xlfn.NORM.DIST(0,INDEX(Rating,$F35)-INDEX(Rating,H$2),10,1),\"\")","v":0.95791616826033366},{"$f":"IF($F35<>I$2,1-_xlfn.NORM.DIST(0,INDEX(Rating,$F35)-INDEX(Rating,I$2),10,1),\"\")","v":0.98109922038966335},{"$f":"IF($F35<>J$2,1-_xlfn.NORM.DIST(0,INDEX(Rating,$F35)-INDEX(Rating,J$2),10,1),\"\")","v":0.58082325054489603},{"$f":"IF($F35<>K$2,1-_xlfn.NORM.DIST(0,INDEX(Rating,$F35)-INDEX(Rating,K$2),10,1),\"\")","v":0.56552800897193545},{"$f":"IF($F35<>L$2,1-_xlfn.NORM.DIST(0,INDEX(Rating,$F35)-INDEX(Rating,L$2),10,1),\"\")","v":0.59173099309903054},{"$f":"IF($F35<>M$2,1-_xlfn.NORM.DIST(0,INDEX(Rating,$F35)-INDEX(Rating,M$2),10,1),\"\")","v":0.75238052456892746},{"$f":"IF($F35<>N$2,1-_xlfn.NORM.DIST(0,INDEX(Rating,$F35)-INDEX(Rating,N$2),10,1),\"\")","v":0.59599730127434825},{"$f":"IF($F35<>O$2,1-_xlfn.NORM.DIST(0,INDEX(Rating,$F35)-INDEX(Rating,O$2),10,1),\"\")","v":0.78901263271784328},{"$f":"IF($F35<>P$2,1-_xlfn.NORM.DIST(0,INDEX(Rating,$F35)-INDEX(Rating,P$2),10,1),\"\")","v":0.49521280752807817},{"$f":"IF($F35<>Q$2,1-_xlfn.NORM.DIST(0,INDEX(Rating,$F35)-INDEX(Rating,Q$2),10,1),\"\")","v":0.66494607699522423},{"$f":"IF($F35<>R$2,1-_xlfn.NORM.DIST(0,INDEX(Rating,$F35)-INDEX(Rating,R$2),10,1),\"\")","v":0.50598390980856245},{"$f":"IF($F35<>S$2,1-_xlfn.NORM.DIST(0,INDEX(Rating,$F35)-INDEX(Rating,S$2),10,1),\"\")","v":0.866500486757253},{"$f":"IF($F35<>T$2,1-_xlfn.NORM.DIST(0,INDEX(Rating,$F35)-INDEX(Rating,T$2),10,1),\"\")","v":0.69602433965372756},{"$f":"IF($F35<>U$2,1-_xlfn.NORM.DIST(0,INDEX(Rating,$F35)-INDEX(Rating,U$2),10,1),\"\")","v":0.63269513491839424},{"$f":"IF($F35<>V$2,1-_xlfn.NORM.DIST(0,INDEX(Rating,$F35)-INDEX(Rating,V$2),10,1),\"\")","v":0.4071043666103672},{"$f":"IF($F35<>W$2,1-_xlfn.NORM.DIST(0,INDEX(Rating,$F35)-INDEX(Rating,W$2),10,1),\"\")","v":0.86864311895726942},{"$f":"IF($F35<>X$2,1-_xlfn.NORM.DIST(0,INDEX(Rating,$F35)-INDEX(Rating,X$2),10,1),\"\")","v":0.43447199102806511},{"$f":"IF($F35<>Y$2,1-_xlfn.NORM.DIST(0,INDEX(Rating,$F35)-INDEX(Rating,Y$2),10,1),\"\")","v":0.98692577787818647},{"$f":"IF($F35<>Z$2,1-_xlfn.NORM.DIST(0,INDEX(Rating,$F35)-INDEX(Rating,Z$2),10,1),\"\")","v":0.99098496453452212},{"$f":"IF($F35<>AA$2,1-_xlfn.NORM.DIST(0,INDEX(Rating,$F35)-INDEX(Rating,AA$2),10,1),\"\")","v":0.53903385331562181},{"$f":"IF($F35<>AB$2,1-_xlfn.NORM.DIST(0,INDEX(Rating,$F35)-INDEX(Rating,AB$2),10,1),\"\")","v":0.64988129223472457},{"$f":"IF($F35<>AC$2,1-_xlfn.NORM.DIST(0,INDEX(Rating,$F35)-INDEX(Rating,AC$2),10,1),\"\")","v":0.50678169211374768},{"$f":"IF($F35<>AD$2,1-_xlfn.NORM.DIST(0,INDEX(Rating,$F35)-INDEX(Rating,AD$2),10,1),\"\")","v":0.75866041827618724},{"$f":"IF($F35<>AE$2,1-_xlfn.NORM.DIST(0,INDEX(Rating,$F35)-INDEX(Rating,AE$2),10,1),\"\")","v":0.42975419478909604},{"$f":"IF($F35<>AF$2,1-_xlfn.NORM.DIST(0,INDEX(Rating,$F35)-INDEX(Rating,AF$2),10,1),\"\")","v":0.8435126829069306},{"$f":"IF($F35<>AG$2,1-_xlfn.NORM.DIST(0,INDEX(Rating,$F35)-INDEX(Rating,AG$2),10,1),\"\")","v":0.56198348938935605},{"$f":"IF($F35<>AH$2,1-_xlfn.NORM.DIST(0,INDEX(Rating,$F35)-INDEX(Rating,AH$2),10,1),\"\")","v":0.63269513491839424},{"$f":"IF($F35<>AI$2,1-_xlfn.NORM.DIST(0,INDEX(Rating,$F35)-INDEX(Rating,AI$2),10,1),\"\")","v":0.58589582753034808},{"$f":"IF($F35<>AJ$2,1-_xlfn.NORM.DIST(0,INDEX(Rating,$F35)-INDEX(Rating,AJ$2),10,1),\"\")","v":0.8995514720542076},{"$f":"IF($F35<>AK$2,1-_xlfn.NORM.DIST(0,INDEX(Rating,$F35)-INDEX(Rating,AK$2),10,1),\"\")","v":0.60179654638770219},{"$f":"IF($F35<>AL$2,1-_xlfn.NORM.DIST(0,INDEX(Rating,$F35)-INDEX(Rating,AL$2),10,1),\"\")","v":0.63269513491839424},{"$f":"IF($F35<>AM$2,1-_xlfn.NORM.DIST(0,INDEX(Rating,$F35)-INDEX(Rating,AM$2),10,1),\"\")","v":""},{"$f":"IF($F35<>AN$2,1-_xlfn.NORM.DIST(0,INDEX(Rating,$F35)-INDEX(Rating,AN$2),10,1),\"\")","v":0.85925986715373837},{"$f":"IF($F35<>AO$2,1-_xlfn.NORM.DIST(0,INDEX(Rating,$F35)-INDEX(Rating,AO$2),10,1),\"\")","v":0.33214422052631787},{"$f":"IF($F35<>AP$2,1-_xlfn.NORM.DIST(0,INDEX(Rating,$F35)-INDEX(Rating,AP$2),10,1),\"\")","v":0.93175631563269434},{"$f":"IF($F35<>AQ$2,1-_xlfn.NORM.DIST(0,INDEX(Rating,$F35)-INDEX(Rating,AQ$2),10,1),\"\")","v":0.60488039548868555},{"$f":"IF($F35<>AR$2,1-_xlfn.NORM.DIST(0,INDEX(Rating,$F35)-INDEX(Rating,AR$2),10,1),\"\")","v":0.5866749761167378},{"$f":"IF($F35<>AS$2,1-_xlfn.NORM.DIST(0,INDEX(Rating,$F35)-INDEX(Rating,AS$2),10,1),\"\")","v":0.63043285842249785},{"$f":"IF($F35<>AT$2,1-_xlfn.NORM.DIST(0,INDEX(Rating,$F35)-INDEX(Rating,AT$2),10,1),\"\")","v":0.7126012314077883},{"$f":"IF($F35<>AU$2,1-_xlfn.NORM.DIST(0,INDEX(Rating,$F35)-INDEX(Rating,AU$2),10,1),\"\")","v":0.55171678665456159},{"$f":"IF($F35<>AV$2,1-_xlfn.NORM.DIST(0,INDEX(Rating,$F35)-INDEX(Rating,AV$2),10,1),\"\")","v":0.73956340850007896},{"$f":"IF($F35<>AW$2,1-_xlfn.NORM.DIST(0,INDEX(Rating,$F35)-INDEX(Rating,AW$2),10,1),\"\")","v":0.62133923658947854},{"$f":"IF($F35<>AX$2,1-_xlfn.NORM.DIST(0,INDEX(Rating,$F35)-INDEX(Rating,AX$2),10,1),\"\")","v":0.70020840453130417},{"$f":"IF($F35<>AY$2,1-_xlfn.NORM.DIST(0,INDEX(Rating,$F35)-INDEX(Rating,AY$2),10,1),\"\")","v":0.72474630969629084},{"$f":"IF($F35<>AZ$2,1-_xlfn.NORM.DIST(0,INDEX(Rating,$F35)-INDEX(Rating,AZ$2),10,1),\"\")","v":0.54022476991138668},{"$f":"IF($F35<>BA$2,1-_xlfn.NORM.DIST(0,INDEX(Rating,$F35)-INDEX(Rating,BA$2),10,1),\"\")","v":0.92520765860504273},{"$f":"IF($F35<>BB$2,1-_xlfn.NORM.DIST(0,INDEX(Rating,$F35)-INDEX(Rating,BB$2),10,1),\"\")","v":0.55685490940348314},{"$f":"IF($F35<>BC$2,1-_xlfn.NORM.DIST(0,INDEX(Rating,$F35)-INDEX(Rating,BC$2),10,1),\"\")","v":0.64169755783570293},{"$f":"IF($F35<>BD$2,1-_xlfn.NORM.DIST(0,INDEX(Rating,$F35)-INDEX(Rating,BD$2),10,1),\"\")","v":0.383996939853535},{"$f":"IF($F35<>BE$2,1-_xlfn.NORM.DIST(0,INDEX(Rating,$F35)-INDEX(Rating,BE$2),10,1),\"\")","v":0.87243975883240377},{"$f":"IF($F35<>BF$2,1-_xlfn.NORM.DIST(0,INDEX(Rating,$F35)-INDEX(Rating,BF$2),10,1),\"\")","v":0.40361540995910228},{"$f":"IF($F35<>BG$2,1-_xlfn.NORM.DIST(0,INDEX(Rating,$F35)-INDEX(Rating,BG$2),10,1),\"\")","v":0.96791522344780767},{"$f":"IF($F35<>BH$2,1-_xlfn.NORM.DIST(0,INDEX(Rating,$F35)-INDEX(Rating,BH$2),10,1),\"\")","v":0.56946018320767366},{"$f":"IF($F35<>BI$2,1-_xlfn.NORM.DIST(0,INDEX(Rating,$F35)-INDEX(Rating,BI$2),10,1),\"\")","v":0.5874537835108864},{"$f":"IF($F35<>BJ$2,1-_xlfn.NORM.DIST(0,INDEX(Rating,$F35)-INDEX(Rating,BJ$2),10,1),\"\")","v":0.54300215389471651},{"$f":"IF($F35<>BK$2,1-_xlfn.NORM.DIST(0,INDEX(Rating,$F35)-INDEX(Rating,BK$2),10,1),\"\")","v":0.65762869979328531},{"$f":"IF($F35<>BL$2,1-_xlfn.NORM.DIST(0,INDEX(Rating,$F35)-INDEX(Rating,BL$2),10,1),\"\")","v":0.39897541865743458},{"$f":"IF($F35<>BM$2,1-_xlfn.NORM.DIST(0,INDEX(Rating,$F35)-INDEX(Rating,BM$2),10,1),\"\")","v":0.78289271320469678},{"$f":"IF($F35<>BN$2,1-_xlfn.NORM.DIST(0,INDEX(Rating,$F35)-INDEX(Rating,BN$2),10,1),\"\")","v":0.56198348938935605},{"$f":"IF($F35<>BO$2,1-_xlfn.NORM.DIST(0,INDEX(Rating,$F35)-INDEX(Rating,BO$2),10,1),\"\")","v":0.74279941380107595},{"$f":"IF($F35<>BP$2,1-_xlfn.NORM.DIST(0,INDEX(Rating,$F35)-INDEX(Rating,BP$2),10,1),\"\")","v":0.79673060817193198},{"$f":"IF($F35<>BQ$2,1-_xlfn.NORM.DIST(0,INDEX(Rating,$F35)-INDEX(Rating,BQ$2),10,1),\"\")","v":0.38361504069809893},{"$f":"IF($F35<>BR$2,1-_xlfn.NORM.DIST(0,INDEX(Rating,$F35)-INDEX(Rating,BR$2),10,1),\"\")","v":0.875133882229301},{"$f":"IF($F35<>BS$2,1-_xlfn.NORM.DIST(0,INDEX(Rating,$F35)-INDEX(Rating,BS$2),10,1),\"\")","v":0.63982834322580218},{"$f":"IF($F35<>BT$2,1-_xlfn.NORM.DIST(0,INDEX(Rating,$F35)-INDEX(Rating,BT$2),10,1),\"\")","v":0.71294199044516771},{"$f":"IF($F35<>BU$2,1-_xlfn.NORM.DIST(0,INDEX(Rating,$F35)-INDEX(Rating,BU$2),10,1),\"\")","v":0.35569124519945361},{"$f":"IF($F35<>BV$2,1-_xlfn.NORM.DIST(0,INDEX(Rating,$F35)-INDEX(Rating,BV$2),10,1),\"\")","v":0.92881197232624946}]
[null,"Vermont",34,76.739999999999995,null,34,{"$f":"IF($F36<>G$2,1-_xlfn.NORM.DIST(0,INDEX(Rating,$F36)-INDEX(Rating,G$2),10,1),\"\")","v":5.2723631557361927E-2},{"$f":"IF($F36<>H$2,1-_xlfn.NORM.DIST(0,INDEX(Rating,$F36)-INDEX(Rating,H$2),10,1),\"\")","v":0.74215388919413527},{"$f":"IF($F36<>I$2,1-_xlfn.NORM.DIST(0,INDEX(Rating,$F36)-INDEX(Rating,I$2),10,1),\"\")","v":0.84134474606854304},{"$f":"IF($F36<>J$2,1-_xlfn.NORM.DIST(0,INDEX(Rating,$F36)-INDEX(Rating,J$2),10,1),\"\")","v":0.19133153886014287},{"$f":"IF($F36<>K$2,1-_xlfn.NORM.DIST(0,INDEX(Rating,$F36)-INDEX(Rating,K$2),10,1),\"\")","v":0.18088435877989606},{"$f":"IF($F36<>L$2,1-_xlfn.NORM.DIST(0,INDEX(Rating,$F36)-INDEX(Rating,L$2),10,1),\"\")","v":0.1990554195216423},{"$f":"IF($F36<>M$2,1-_xlfn.NORM.DIST(0,INDEX(Rating,$F36)-INDEX(Rating,M$2),10,1),\"\")","v":0.3464214439862916},{"$f":"IF($F36<>N$2,1-_xlfn.NORM.DIST(0,INDEX(Rating,$F36)-INDEX(Rating,N$2),10,1),\"\")","v":0.20214049192352157},{"$f":"IF($F36<>O$2,1-_xlfn.NORM.DIST(0,INDEX(Rating,$F36)-INDEX(Rating,O$2),10,1),\"\")","v":0.39204231082881713},{"$f":"IF($F36<>P$2,1-_xlfn.NORM.DIST(0,INDEX(Rating,$F36)-INDEX(Rating,P$2),10,1),\"\")","v":0.13807694284227301},{"$f":"IF($F36<>Q$2,1-_xlfn.NORM.DIST(0,INDEX(Rating,$F36)-INDEX(Rating,Q$2),10,1),\"\")","v":0.25752324344327704},{"$f":"IF($F36<>R$2,1-_xlfn.NORM.DIST(0,INDEX(Rating,$F36)-INDEX(Rating,R$2),10,1),\"\")","v":0.14411784259682703},{"$f":"IF($F36<>S$2,1-_xlfn.NORM.DIST(0,INDEX(Rating,$F36)-INDEX(Rating,S$2),10,1),\"\")","v":0.51316270617872717},{"$f":"IF($F36<>T$2,1-_xlfn.NORM.DIST(0,INDEX(Rating,$F36)-INDEX(Rating,T$2),10,1),\"\")","v":0.28637706607116331},{"$f":"IF($F36<>U$2,1-_xlfn.NORM.DIST(0,INDEX(Rating,$F36)-INDEX(Rating,U$2),10,1),\"\")","v":0.23025722456507136},{"$f":"IF($F36<>V$2,1-_xlfn.NORM.DIST(0,INDEX(Rating,$F36)-INDEX(Rating,V$2),10,1),\"\")","v":9.4760067276258408E-2},{"$f":"IF($F36<>W$2,1-_xlfn.NORM.DIST(0,INDEX(Rating,$F36)-INDEX(Rating,W$2),10,1),\"\")","v":0.51714923307248772},{"$f":"IF($F36<>X$2,1-_xlfn.NORM.DIST(0,INDEX(Rating,$F36)-INDEX(Rating,X$2),10,1),\"\")","v":0.10711828102433063},{"$f":"IF($F36<>Y$2,1-_xlfn.NORM.DIST(0,INDEX(Rating,$F36)-INDEX(Rating,Y$2),10,1),\"\")","v":0.87430918953897629},{"$f":"IF($F36<>Z$2,1-_xlfn.NORM.DIST(0,INDEX(Rating,$F36)-INDEX(Rating,Z$2),10,1),\"\")","v":0.90112701840890541},{"$f":"IF($F36<>AA$2,1-_xlfn.NORM.DIST(0,INDEX(Rating,$F36)-INDEX(Rating,AA$2),10,1),\"\")","v":0.16378998975326009},{"$f":"IF($F36<>AB$2,1-_xlfn.NORM.DIST(0,INDEX(Rating,$F36)-INDEX(Rating,AB$2),10,1),\"\")","v":0.24446866449521676},{"$f":"IF($F36<>AC$2,1-_xlfn.NORM.DIST(0,INDEX(Rating,$F36)-INDEX(Rating,AC$2),10,1),\"\")","v":0.14457229966390939},{"$f":"IF($F36<>AD$2,1-_xlfn.NORM.DIST(0,INDEX(Rating,$F36)-INDEX(Rating,AD$2),10,1),\"\")","v":0.35383023332727614},{"$f":"IF($F36<>AE$2,1-_xlfn.NORM.DIST(0,INDEX(Rating,$F36)-INDEX(Rating,AE$2),10,1),\"\")","v":0.10492100271676374},{"$f":"IF($F36<>AF$2,1-_xlfn.NORM.DIST(0,INDEX(Rating,$F36)-INDEX(Rating,AF$2),10,1),\"\")","v":0.47289281714297693},{"$f":"IF($F36<>AG$2,1-_xlfn.NORM.DIST(0,INDEX(Rating,$F36)-INDEX(Rating,AG$2),10,1),\"\")","v":0.17852521351148787},{"$f":"IF($F36<>AH$2,1-_xlfn.NORM.DIST(0,INDEX(Rating,$F36)-INDEX(Rating,AH$2),10,1),\"\")","v":0.23025722456507136},{"$f":"IF($F36<>AI$2,1-_xlfn.NORM.DIST(0,INDEX(Rating,$F36)-INDEX(Rating,AI$2),10,1),\"\")","v":0.19489452125180806},{"$f":"IF($F36<>AJ$2,1-_xlfn.NORM.DIST(0,INDEX(Rating,$F36)-INDEX(Rating,AJ$2),10,1),\"\")","v":0.58004163790959617},{"$f":"IF($F36<>AK$2,1-_xlfn.NORM.DIST(0,INDEX(Rating,$F36)-INDEX(Rating,AK$2),10,1),\"\")","v":0.20639320679362305},{"$f":"IF($F36<>AL$2,1-_xlfn.NORM.DIST(0,INDEX(Rating,$F36)-INDEX(Rating,AL$2),10,1),\"\")","v":0.23025722456507136},{"$f":"IF($F36<>AM$2,1-_xlfn.NORM.DIST(0,INDEX(Rating,$F36)-INDEX(Rating,AM$2),10,1),\"\")","v":0.14074013284626163},{"$f":"IF($F36<>AN$2,1-_xlfn.NORM.DIST(0,INDEX(Rating,$F36)-INDEX(Rating,AN$2),10,1),\"\")","v":""},{"$f":"IF($F36<>AO$2,1-_xlfn.NORM.DIST(0,INDEX(Rating,$F36)-INDEX(Rating,AO$2),10,1),\"\")","v":6.53942254362464E-2},{"$f":"IF($F36<>AP$2,1-_xlfn.NORM.DIST(0,INDEX(Rating,$F36)-INDEX(Rating,AP$2),10,1),\"\")","v":0.65983028838503843},{"$f":"IF($F36<>AQ$2,1-_xlfn.NORM.DIST(0,INDEX(Rating,$F36)-INDEX(Rating,AQ$2),10,1),\"\")","v":0.20868283537545906},{"$f":"IF($F36<>AR$2,1-_xlfn.NORM.DIST(0,INDEX(Rating,$F36)-INDEX(Rating,AR$2),10,1),\"\")","v":0.19544623171344855},{"$f":"IF($F36<>AS$2,1-_xlfn.NORM.DIST(0,INDEX(Rating,$F36)-INDEX(Rating,AS$2),10,1),\"\")","v":0.22843823755248727},{"$f":"IF($F36<>AT$2,1-_xlfn.NORM.DIST(0,INDEX(Rating,$F36)-INDEX(Rating,AT$2),10,1),\"\")","v":0.30292720460947464},{"$f":"IF($F36<>AU$2,1-_xlfn.NORM.DIST(0,INDEX(Rating,$F36)-INDEX(Rating,AU$2),10,1),\"\")","v":0.17181938946717801},{"$f":"IF($F36<>AV$2,1-_xlfn.NORM.DIST(0,INDEX(Rating,$F36)-INDEX(Rating,AV$2),10,1),\"\")","v":0.33178121371901881},{"$f":"IF($F36<>AW$2,1-_xlfn.NORM.DIST(0,INDEX(Rating,$F36)-INDEX(Rating,AW$2),10,1),\"\")","v":0.2212435924472016},{"$f":"IF($F36<>AX$2,1-_xlfn.NORM.DIST(0,INDEX(Rating,$F36)-INDEX(Rating,AX$2),10,1),\"\")","v":0.29047417663514619},{"$f":"IF($F36<>AY$2,1-_xlfn.NORM.DIST(0,INDEX(Rating,$F36)-INDEX(Rating,AY$2),10,1),\"\")","v":0.31561369651622218},{"$f":"IF($F36<>AZ$2,1-_xlfn.NORM.DIST(0,INDEX(Rating,$F36)-INDEX(Rating,AZ$2),10,1),\"\")","v":0.16453223216684809},{"$f":"IF($F36<>BA$2,1-_xlfn.NORM.DIST(0,INDEX(Rating,$F36)-INDEX(Rating,BA$2),10,1),\"\")","v":0.64207099530958311},{"$f":"IF($F36<>BB$2,1-_xlfn.NORM.DIST(0,INDEX(Rating,$F36)-INDEX(Rating,BB$2),10,1),\"\")","v":0.17515194649718513},{"$f":"IF($F36<>BC$2,1-_xlfn.NORM.DIST(0,INDEX(Rating,$F36)-INDEX(Rating,BC$2),10,1),\"\")","v":0.23761358972730429},{"$f":"IF($F36<>BD$2,1-_xlfn.NORM.DIST(0,INDEX(Rating,$F36)-INDEX(Rating,BD$2),10,1),\"\")","v":8.5031718906563691E-2},{"$f":"IF($F36<>BE$2,1-_xlfn.NORM.DIST(0,INDEX(Rating,$F36)-INDEX(Rating,BE$2),10,1),\"\")","v":0.52432039547142861},{"$f":"IF($F36<>BF$2,1-_xlfn.NORM.DIST(0,INDEX(Rating,$F36)-INDEX(Rating,BF$2),10,1),\"\")","v":9.3250682109510263E-2},{"$f":"IF($F36<>BG$2,1-_xlfn.NORM.DIST(0,INDEX(Rating,$F36)-INDEX(Rating,BG$2),10,1),\"\")","v":0.78053460437156497},{"$f":"IF($F36<>BH$2,1-_xlfn.NORM.DIST(0,INDEX(Rating,$F36)-INDEX(Rating,BH$2),10,1),\"\")","v":0.1835284338674702},{"$f":"IF($F36<>BI$2,1-_xlfn.NORM.DIST(0,INDEX(Rating,$F36)-INDEX(Rating,BI$2),10,1),\"\")","v":0.19599888972268809},{"$f":"IF($F36<>BJ$2,1-_xlfn.NORM.DIST(0,INDEX(Rating,$F36)-INDEX(Rating,BJ$2),10,1),\"\")","v":0.16627259458894816},{"$f":"IF($F36<>BK$2,1-_xlfn.NORM.DIST(0,INDEX(Rating,$F36)-INDEX(Rating,BK$2),10,1),\"\")","v":0.25111026476302911},{"$f":"IF($F36<>BL$2,1-_xlfn.NORM.DIST(0,INDEX(Rating,$F36)-INDEX(Rating,BL$2),10,1),\"\")","v":9.1265901900441593E-2},{"$f":"IF($F36<>BM$2,1-_xlfn.NORM.DIST(0,INDEX(Rating,$F36)-INDEX(Rating,BM$2),10,1),\"\")","v":0.38399693985353445},{"$f":"IF($F36<>BN$2,1-_xlfn.NORM.DIST(0,INDEX(Rating,$F36)-INDEX(Rating,BN$2),10,1),\"\")","v":0.17852521351148787},{"$f":"IF($F36<>BO$2,1-_xlfn.NORM.DIST(0,INDEX(Rating,$F36)-INDEX(Rating,BO$2),10,1),\"\")","v":0.33541833737016957},{"$f":"IF($F36<>BP$2,1-_xlfn.NORM.DIST(0,INDEX(Rating,$F36)-INDEX(Rating,BP$2),10,1),\"\")","v":0.40245411203690384},{"$f":"IF($F36<>BQ$2,1-_xlfn.NORM.DIST(0,INDEX(Rating,$F36)-INDEX(Rating,BQ$2),10,1),\"\")","v":8.4876173349901496E-2},{"$f":"IF($F36<>BR$2,1-_xlfn.NORM.DIST(0,INDEX(Rating,$F36)-INDEX(Rating,BR$2),10,1),\"\")","v":0.52949480736890275},{"$f":"IF($F36<>BS$2,1-_xlfn.NORM.DIST(0,INDEX(Rating,$F36)-INDEX(Rating,BS$2),10,1),\"\")","v":0.23607045984144137},{"$f":"IF($F36<>BT$2,1-_xlfn.NORM.DIST(0,INDEX(Rating,$F36)-INDEX(Rating,BT$2),10,1),\"\")","v":0.3032765100021394},{"$f":"IF($F36<>BU$2,1-_xlfn.NORM.DIST(0,INDEX(Rating,$F36)-INDEX(Rating,BU$2),10,1),\"\")","v":7.3948461784566488E-2},{"$f":"IF($F36<>BV$2,1-_xlfn.NORM.DIST(0,INDEX(Rating,$F36)-INDEX(Rating,BV$2),10,1),\"\")","v":0.6517317265359821}]
[null,"Houston",35,91.85,null,35,{"$f":"IF($F37<>G$2,1-_xlfn.NORM.DIST(0,INDEX(Rating,$F37)-INDEX(Rating,G$2),10,1),\"\")","v":0.45699784610528282},{"$f":"IF($F37<>H$2,1-_xlfn.NORM.DIST(0,INDEX(Rating,$F37)-INDEX(Rating,H$2),10,1),\"\")","v":0.98465233029245891},{"$f":"IF($F37<>I$2,1-_xlfn.NORM.DIST(0,INDEX(Rating,$F37)-INDEX(Rating,I$2),10,1),\"\")","v":0.99398051515132813},{"$f":"IF($F37<>J$2,1-_xlfn.NORM.DIST(0,INDEX(Rating,$F37)-INDEX(Rating,J$2),10,1),\"\")","v":0.73826315995552039},{"$f":"IF($F37<>K$2,1-_xlfn.NORM.DIST(0,INDEX(Rating,$F37)-INDEX(Rating,K$2),10,1),\"\")","v":0.72541355771521965},{"$f":"IF($F37<>L$2,1-_xlfn.NORM.DIST(0,INDEX(Rating,$F37)-INDEX(Rating,L$2),10,1),\"\")","v":0.74729444979920023},{"$f":"IF($F37<>M$2,1-_xlfn.NORM.DIST(0,INDEX(Rating,$F37)-INDEX(Rating,M$2),10,1),\"\")","v":0.86778893269687551},{"$f":"IF($F37<>N$2,1-_xlfn.NORM.DIST(0,INDEX(Rating,$F37)-INDEX(Rating,N$2),10,1),\"\")","v":0.75079702281674421},{"$f":"IF($F37<>O$2,1-_xlfn.NORM.DIST(0,INDEX(Rating,$F37)-INDEX(Rating,O$2),10,1),\"\")","v":0.8919564586862283},{"$f":"IF($F37<>P$2,1-_xlfn.NORM.DIST(0,INDEX(Rating,$F37)-INDEX(Rating,P$2),10,1),\"\")","v":0.66348749127553164},{"$f":"IF($F37<>Q$2,1-_xlfn.NORM.DIST(0,INDEX(Rating,$F37)-INDEX(Rating,Q$2),10,1),\"\")","v":0.80510547874819149},{"$f":"IF($F37<>R$2,1-_xlfn.NORM.DIST(0,INDEX(Rating,$F37)-INDEX(Rating,R$2),10,1),\"\")","v":0.67328417167899057},{"$f":"IF($F37<>S$2,1-_xlfn.NORM.DIST(0,INDEX(Rating,$F37)-INDEX(Rating,S$2),10,1),\"\")","v":0.93870583368943084},{"$f":"IF($F37<>T$2,1-_xlfn.NORM.DIST(0,INDEX(Rating,$F37)-INDEX(Rating,T$2),10,1),\"\")","v":0.82818061053282199},{"$f":"IF($F37<>U$2,1-_xlfn.NORM.DIST(0,INDEX(Rating,$F37)-INDEX(Rating,U$2),10,1),\"\")","v":0.78023880968001391},{"$f":"IF($F37<>V$2,1-_xlfn.NORM.DIST(0,INDEX(Rating,$F37)-INDEX(Rating,V$2),10,1),\"\")","v":0.5788686277034345},{"$f":"IF($F37<>W$2,1-_xlfn.NORM.DIST(0,INDEX(Rating,$F37)-INDEX(Rating,W$2),10,1),\"\")","v":0.93990779168563465},{"$f":"IF($F37<>X$2,1-_xlfn.NORM.DIST(0,INDEX(Rating,$F37)-INDEX(Rating,X$2),10,1),\"\")","v":0.60603515866673097},{"$f":"IF($F37<>Y$2,1-_xlfn.NORM.DIST(0,INDEX(Rating,$F37)-INDEX(Rating,Y$2),10,1),\"\")","v":0.99606970534814676},{"$f":"IF($F37<>Z$2,1-_xlfn.NORM.DIST(0,INDEX(Rating,$F37)-INDEX(Rating,Z$2),10,1),\"\")","v":0.99743694312732878},{"$f":"IF($F37<>AA$2,1-_xlfn.NORM.DIST(0,INDEX(Rating,$F37)-INDEX(Rating,AA$2),10,1),\"\")","v":0.70263700224795844},{"$f":"IF($F37<>AB$2,1-_xlfn.NORM.DIST(0,INDEX(Rating,$F37)-INDEX(Rating,AB$2),10,1),\"\")","v":0.7936067932063765},{"$f":"IF($F37<>AC$2,1-_xlfn.NORM.DIST(0,INDEX(Rating,$F37)-INDEX(Rating,AC$2),10,1),\"\")","v":0.67400522550807362},{"$f":"IF($F37<>AD$2,1-_xlfn.NORM.DIST(0,INDEX(Rating,$F37)-INDEX(Rating,AD$2),10,1),\"\")","v":0.87202171784858462},{"$f":"IF($F37<>AE$2,1-_xlfn.NORM.DIST(0,INDEX(Rating,$F37)-INDEX(Rating,AE$2),10,1),\"\")","v":0.60141061346388347},{"$f":"IF($F37<>AF$2,1-_xlfn.NORM.DIST(0,INDEX(Rating,$F37)-INDEX(Rating,AF$2),10,1),\"\")","v":0.92548976438482955},{"$f":"IF($F37<>AG$2,1-_xlfn.NORM.DIST(0,INDEX(Rating,$F37)-INDEX(Rating,AG$2),10,1),\"\")","v":0.72240467524653484},{"$f":"IF($F37<>AH$2,1-_xlfn.NORM.DIST(0,INDEX(Rating,$F37)-INDEX(Rating,AH$2),10,1),\"\")","v":0.78023880968001391},{"$f":"IF($F37<>AI$2,1-_xlfn.NORM.DIST(0,INDEX(Rating,$F37)-INDEX(Rating,AI$2),10,1),\"\")","v":0.74247675655672252},{"$f":"IF($F37<>AJ$2,1-_xlfn.NORM.DIST(0,INDEX(Rating,$F37)-INDEX(Rating,AJ$2),10,1),\"\")","v":0.95664373020371851},{"$f":"IF($F37<>AK$2,1-_xlfn.NORM.DIST(0,INDEX(Rating,$F37)-INDEX(Rating,AK$2),10,1),\"\")","v":0.7555313355047828},{"$f":"IF($F37<>AL$2,1-_xlfn.NORM.DIST(0,INDEX(Rating,$F37)-INDEX(Rating,AL$2),10,1),\"\")","v":0.78023880968001391},{"$f":"IF($F37<>AM$2,1-_xlfn.NORM.DIST(0,INDEX(Rating,$F37)-INDEX(Rating,AM$2),10,1),\"\")","v":0.66785577947368213},{"$f":"IF($F37<>AN$2,1-_xlfn.NORM.DIST(0,INDEX(Rating,$F37)-INDEX(Rating,AN$2),10,1),\"\")","v":0.9346057745637536},{"$f":"IF($F37<>AO$2,1-_xlfn.NORM.DIST(0,INDEX(Rating,$F37)-INDEX(Rating,AO$2),10,1),\"\")","v":""},{"$f":"IF($F37<>AP$2,1-_xlfn.NORM.DIST(0,INDEX(Rating,$F37)-INDEX(Rating,AP$2),10,1),\"\")","v":0.97275997507098333},{"$f":"IF($F37<>AQ$2,1-_xlfn.NORM.DIST(0,INDEX(Rating,$F37)-INDEX(Rating,AQ$2),10,1),\"\")","v":0.75803634777692697},{"$f":"IF($F37<>AR$2,1-_xlfn.NORM.DIST(0,INDEX(Rating,$F37)-INDEX(Rating,AR$2),10,1),\"\")","v":0.74312186074148934},{"$f":"IF($F37<>AS$2,1-_xlfn.NORM.DIST(0,INDEX(Rating,$F37)-INDEX(Rating,AS$2),10,1),\"\")","v":0.77845924223674468},{"$f":"IF($F37<>AT$2,1-_xlfn.NORM.DIST(0,INDEX(Rating,$F37)-INDEX(Rating,AT$2),10,1),\"\")","v":0.84013186782450577},{"$f":"IF($F37<>AU$2,1-_xlfn.NORM.DIST(0,INDEX(Rating,$F37)-INDEX(Rating,AU$2),10,1),\"\")","v":0.71362293392883669},{"$f":"IF($F37<>AV$2,1-_xlfn.NORM.DIST(0,INDEX(Rating,$F37)-INDEX(Rating,AV$2),10,1),\"\")","v":0.85903637179950754},{"$f":"IF($F37<>AW$2,1-_xlfn.NORM.DIST(0,INDEX(Rating,$F37)-INDEX(Rating,AW$2),10,1),\"\")","v":0.77125915978438142},{"$f":"IF($F37<>AX$2,1-_xlfn.NORM.DIST(0,INDEX(Rating,$F37)-INDEX(Rating,AX$2),10,1),\"\")","v":0.83122062740608915},{"$f":"IF($F37<>AY$2,1-_xlfn.NORM.DIST(0,INDEX(Rating,$F37)-INDEX(Rating,AY$2),10,1),\"\")","v":0.84872959010036653},{"$f":"IF($F37<>AZ$2,1-_xlfn.NORM.DIST(0,INDEX(Rating,$F37)-INDEX(Rating,AZ$2),10,1),\"\")","v":0.70367507135765539},{"$f":"IF($F37<>BA$2,1-_xlfn.NORM.DIST(0,INDEX(Rating,$F37)-INDEX(Rating,BA$2),10,1),\"\")","v":0.96960363823473861},{"$f":"IF($F37<>BB$2,1-_xlfn.NORM.DIST(0,INDEX(Rating,$F37)-INDEX(Rating,BB$2),10,1),\"\")","v":0.7180302722389591},{"$f":"IF($F37<>BC$2,1-_xlfn.NORM.DIST(0,INDEX(Rating,$F37)-INDEX(Rating,BC$2),10,1),\"\")","v":0.78727448433987546},{"$f":"IF($F37<>BD$2,1-_xlfn.NORM.DIST(0,INDEX(Rating,$F37)-INDEX(Rating,BD$2),10,1),\"\")","v":0.55527492547600832},{"$f":"IF($F37<>BE$2,1-_xlfn.NORM.DIST(0,INDEX(Rating,$F37)-INDEX(Rating,BE$2),10,1),\"\")","v":0.9420247243917611},{"$f":"IF($F37<>BF$2,1-_xlfn.NORM.DIST(0,INDEX(Rating,$F37)-INDEX(Rating,BF$2),10,1),\"\")","v":0.57534543473479516},{"$f":"IF($F37<>BG$2,1-_xlfn.NORM.DIST(0,INDEX(Rating,$F37)-INDEX(Rating,BG$2),10,1),\"\")","v":0.98884358611993173},{"$f":"IF($F37<>BH$2,1-_xlfn.NORM.DIST(0,INDEX(Rating,$F37)-INDEX(Rating,BH$2),10,1),\"\")","v":0.72873778055100913},{"$f":"IF($F37<>BI$2,1-_xlfn.NORM.DIST(0,INDEX(Rating,$F37)-INDEX(Rating,BI$2),10,1),\"\")","v":0.7437661229703878},{"$f":"IF($F37<>BJ$2,1-_xlfn.NORM.DIST(0,INDEX(Rating,$F37)-INDEX(Rating,BJ$2),10,1),\"\")","v":0.70609074705838293},{"$f":"IF($F37<>BK$2,1-_xlfn.NORM.DIST(0,INDEX(Rating,$F37)-INDEX(Rating,BK$2),10,1),\"\")","v":0.79954580673955022},{"$f":"IF($F37<>BL$2,1-_xlfn.NORM.DIST(0,INDEX(Rating,$F37)-INDEX(Rating,BL$2),10,1),\"\")","v":0.57063851212988337},{"$f":"IF($F37<>BM$2,1-_xlfn.NORM.DIST(0,INDEX(Rating,$F37)-INDEX(Rating,BM$2),10,1),\"\")","v":0.88800753899486629},{"$f":"IF($F37<>BN$2,1-_xlfn.NORM.DIST(0,INDEX(Rating,$F37)-INDEX(Rating,BN$2),10,1),\"\")","v":0.72240467524653484},{"$f":"IF($F37<>BO$2,1-_xlfn.NORM.DIST(0,INDEX(Rating,$F37)-INDEX(Rating,BO$2),10,1),\"\")","v":0.8612605038772807},{"$f":"IF($F37<>BP$2,1-_xlfn.NORM.DIST(0,INDEX(Rating,$F37)-INDEX(Rating,BP$2),10,1),\"\")","v":0.89688498652421877},{"$f":"IF($F37<>BQ$2,1-_xlfn.NORM.DIST(0,INDEX(Rating,$F37)-INDEX(Rating,BQ$2),10,1),\"\")","v":0.55487979122627085},{"$f":"IF($F37<>BR$2,1-_xlfn.NORM.DIST(0,INDEX(Rating,$F37)-INDEX(Rating,BR$2),10,1),\"\")","v":0.94351683286577981},{"$f":"IF($F37<>BS$2,1-_xlfn.NORM.DIST(0,INDEX(Rating,$F37)-INDEX(Rating,BS$2),10,1),\"\")","v":0.78581966188346208},{"$f":"IF($F37<>BT$2,1-_xlfn.NORM.DIST(0,INDEX(Rating,$F37)-INDEX(Rating,BT$2),10,1),\"\")","v":0.84037492740983621},{"$f":"IF($F37<>BU$2,1-_xlfn.NORM.DIST(0,INDEX(Rating,$F37)-INDEX(Rating,BU$2),10,1),\"\")","v":0.52551488659530499},{"$f":"IF($F37<>BV$2,1-_xlfn.NORM.DIST(0,INDEX(Rating,$F37)-INDEX(Rating,BV$2),10,1),\"\")","v":0.97134899369228844}]
[null,"Northern Kentucky",36,72.62,null,36,{"$f":"IF($F38<>G$2,1-_xlfn.NORM.DIST(0,INDEX(Rating,$F38)-INDEX(Rating,G$2),10,1),\"\")","v":2.1127497301007381E-2},{"$f":"IF($F38<>H$2,1-_xlfn.NORM.DIST(0,INDEX(Rating,$F38)-INDEX(Rating,H$2),10,1),\"\")","v":0.59405945289880635},{"$f":"IF($F38<>I$2,1-_xlfn.NORM.DIST(0,INDEX(Rating,$F38)-INDEX(Rating,I$2),10,1),\"\")","v":0.7217338535877027},{"$f":"IF($F38<>J$2,1-_xlfn.NORM.DIST(0,INDEX(Rating,$F38)-INDEX(Rating,J$2),10,1),\"\")","v":9.9396142015105715E-2},{"$f":"IF($F38<>K$2,1-_xlfn.NORM.DIST(0,INDEX(Rating,$F38)-INDEX(Rating,K$2),10,1),\"\")","v":9.275152235675288E-2},{"$f":"IF($F38<>L$2,1-_xlfn.NORM.DIST(0,INDEX(Rating,$F38)-INDEX(Rating,L$2),10,1),\"\")","v":0.1043768177913299},{"$f":"IF($F38<>M$2,1-_xlfn.NORM.DIST(0,INDEX(Rating,$F38)-INDEX(Rating,M$2),10,1),\"\")","v":0.20983324157565408},{"$f":"IF($F38<>N$2,1-_xlfn.NORM.DIST(0,INDEX(Rating,$F38)-INDEX(Rating,N$2),10,1),\"\")","v":0.10638219759165291},{"$f":"IF($F38<>O$2,1-_xlfn.NORM.DIST(0,INDEX(Rating,$F38)-INDEX(Rating,O$2),10,1),\"\")","v":0.24635655420219882},{"$f":"IF($F38<>P$2,1-_xlfn.NORM.DIST(0,INDEX(Rating,$F38)-INDEX(Rating,P$2),10,1),\"\")","v":6.667778078440012E-2},{"$f":"IF($F38<>Q$2,1-_xlfn.NORM.DIST(0,INDEX(Rating,$F38)-INDEX(Rating,Q$2),10,1),\"\")","v":0.14389097566863995},{"$f":"IF($F38<>R$2,1-_xlfn.NORM.DIST(0,INDEX(Rating,$F38)-INDEX(Rating,R$2),10,1),\"\")","v":7.0240795583144999E-2},{"$f":"IF($F38<>S$2,1-_xlfn.NORM.DIST(0,INDEX(Rating,$F38)-INDEX(Rating,S$2),10,1),\"\")","v":0.35234393192149072},{"$f":"IF($F38<>T$2,1-_xlfn.NORM.DIST(0,INDEX(Rating,$F38)-INDEX(Rating,T$2),10,1),\"\")","v":0.16453223216684842},{"$f":"IF($F38<>U$2,1-_xlfn.NORM.DIST(0,INDEX(Rating,$F38)-INDEX(Rating,U$2),10,1),\"\")","v":0.12507193563715024},{"$f":"IF($F38<>V$2,1-_xlfn.NORM.DIST(0,INDEX(Rating,$F38)-INDEX(Rating,V$2),10,1),\"\")","v":4.2353921581437692E-2},{"$f":"IF($F38<>W$2,1-_xlfn.NORM.DIST(0,INDEX(Rating,$F38)-INDEX(Rating,W$2),10,1),\"\")","v":0.35606386238663279},{"$f":"IF($F38<>X$2,1-_xlfn.NORM.DIST(0,INDEX(Rating,$F38)-INDEX(Rating,X$2),10,1),\"\")","v":4.9063756352954679E-2},{"$f":"IF($F38<>Y$2,1-_xlfn.NORM.DIST(0,INDEX(Rating,$F38)-INDEX(Rating,Y$2),10,1),\"\")","v":0.76883025293933538},{"$f":"IF($F38<>Z$2,1-_xlfn.NORM.DIST(0,INDEX(Rating,$F38)-INDEX(Rating,Z$2),10,1),\"\")","v":0.80948498311120132},{"$f":"IF($F38<>AA$2,1-_xlfn.NORM.DIST(0,INDEX(Rating,$F38)-INDEX(Rating,AA$2),10,1),\"\")","v":8.2112713376046864E-2},{"$f":"IF($F38<>AB$2,1-_xlfn.NORM.DIST(0,INDEX(Rating,$F38)-INDEX(Rating,AB$2),10,1),\"\")","v":0.13479656884485136},{"$f":"IF($F38<>AC$2,1-_xlfn.NORM.DIST(0,INDEX(Rating,$F38)-INDEX(Rating,AC$2),10,1),\"\")","v":7.0510438787918073E-2},{"$f":"IF($F38<>AD$2,1-_xlfn.NORM.DIST(0,INDEX(Rating,$F38)-INDEX(Rating,AD$2),10,1),\"\")","v":0.21564093307987209},{"$f":"IF($F38<>AE$2,1-_xlfn.NORM.DIST(0,INDEX(Rating,$F38)-INDEX(Rating,AE$2),10,1),\"\")","v":4.7856707217460936E-2},{"$f":"IF($F38<>AF$2,1-_xlfn.NORM.DIST(0,INDEX(Rating,$F38)-INDEX(Rating,AF$2),10,1),\"\")","v":0.31561369651622273},{"$f":"IF($F38<>AG$2,1-_xlfn.NORM.DIST(0,INDEX(Rating,$F38)-INDEX(Rating,AG$2),10,1),\"\")","v":9.1265901900441593E-2},{"$f":"IF($F38<>AH$2,1-_xlfn.NORM.DIST(0,INDEX(Rating,$F38)-INDEX(Rating,AH$2),10,1),\"\")","v":0.12507193563715024},{"$f":"IF($F38<>AI$2,1-_xlfn.NORM.DIST(0,INDEX(Rating,$F38)-INDEX(Rating,AI$2),10,1),\"\")","v":0.10168655963466955},{"$f":"IF($F38<>AJ$2,1-_xlfn.NORM.DIST(0,INDEX(Rating,$F38)-INDEX(Rating,AJ$2),10,1),\"\")","v":0.4168338365175579},{"$f":"IF($F38<>AK$2,1-_xlfn.NORM.DIST(0,INDEX(Rating,$F38)-INDEX(Rating,AK$2),10,1),\"\")","v":0.10916143214128349},{"$f":"IF($F38<>AL$2,1-_xlfn.NORM.DIST(0,INDEX(Rating,$F38)-INDEX(Rating,AL$2),10,1),\"\")","v":0.12507193563715024},{"$f":"IF($F38<>AM$2,1-_xlfn.NORM.DIST(0,INDEX(Rating,$F38)-INDEX(Rating,AM$2),10,1),\"\")","v":6.8243684367305657E-2},{"$f":"IF($F38<>AN$2,1-_xlfn.NORM.DIST(0,INDEX(Rating,$F38)-INDEX(Rating,AN$2),10,1),\"\")","v":0.34016971161496157},{"$f":"IF($F38<>AO$2,1-_xlfn.NORM.DIST(0,INDEX(Rating,$F38)-INDEX(Rating,AO$2),10,1),\"\")","v":2.7240024929016671E-2},{"$f":"IF($F38<>AP$2,1-_xlfn.NORM.DIST(0,INDEX(Rating,$F38)-INDEX(Rating,AP$2),10,1),\"\")","v":""},{"$f":"IF($F38<>AQ$2,1-_xlfn.NORM.DIST(0,INDEX(Rating,$F38)-INDEX(Rating,AQ$2),10,1),\"\")","v":0.11066484814774158},{"$f":"IF($F38<>AR$2,1-_xlfn.NORM.DIST(0,INDEX(Rating,$F38)-INDEX(Rating,AR$2),10,1),\"\")","v":0.10204231507481931},{"$f":"IF($F38<>AS$2,1-_xlfn.NORM.DIST(0,INDEX(Rating,$F38)-INDEX(Rating,AS$2),10,1),\"\")","v":0.12384057849326247},{"$f":"IF($F38<>AT$2,1-_xlfn.NORM.DIST(0,INDEX(Rating,$F38)-INDEX(Rating,AT$2),10,1),\"\")","v":0.17670378480956128},{"$f":"IF($F38<>AU$2,1-_xlfn.NORM.DIST(0,INDEX(Rating,$F38)-INDEX(Rating,AU$2),10,1),\"\")","v":8.7073294352707276E-2},{"$f":"IF($F38<>AV$2,1-_xlfn.NORM.DIST(0,INDEX(Rating,$F38)-INDEX(Rating,AV$2),10,1),\"\")","v":0.19849756072432445},{"$f":"IF($F38<>AW$2,1-_xlfn.NORM.DIST(0,INDEX(Rating,$F38)-INDEX(Rating,AW$2),10,1),\"\")","v":0.11900010745520073},{"$f":"IF($F38<>AX$2,1-_xlfn.NORM.DIST(0,INDEX(Rating,$F38)-INDEX(Rating,AX$2),10,1),\"\")","v":0.1675229629360746},{"$f":"IF($F38<>AY$2,1-_xlfn.NORM.DIST(0,INDEX(Rating,$F38)-INDEX(Rating,AY$2),10,1),\"\")","v":0.18619646619742403},{"$f":"IF($F38<>AZ$2,1-_xlfn.NORM.DIST(0,INDEX(Rating,$F38)-INDEX(Rating,AZ$2),10,1),\"\")","v":8.2568522556703439E-2},{"$f":"IF($F38<>BA$2,1-_xlfn.NORM.DIST(0,INDEX(Rating,$F38)-INDEX(Rating,BA$2),10,1),\"\")","v":0.48085812130423899},{"$f":"IF($F38<>BB$2,1-_xlfn.NORM.DIST(0,INDEX(Rating,$F38)-INDEX(Rating,BB$2),10,1),\"\")","v":8.915125829107573E-2},{"$f":"IF($F38<>BC$2,1-_xlfn.NORM.DIST(0,INDEX(Rating,$F38)-INDEX(Rating,BC$2),10,1),\"\")","v":0.13008275966224936},{"$f":"IF($F38<>BD$2,1-_xlfn.NORM.DIST(0,INDEX(Rating,$F38)-INDEX(Rating,BD$2),10,1),\"\")","v":3.721183257970051E-2},{"$f":"IF($F38<>BE$2,1-_xlfn.NORM.DIST(0,INDEX(Rating,$F38)-INDEX(Rating,BE$2),10,1),\"\")","v":0.3627941741993882},{"$f":"IF($F38<>BF$2,1-_xlfn.NORM.DIST(0,INDEX(Rating,$F38)-INDEX(Rating,BF$2),10,1),\"\")","v":4.1547834396463812E-2},{"$f":"IF($F38<>BG$2,1-_xlfn.NORM.DIST(0,INDEX(Rating,$F38)-INDEX(Rating,BG$2),10,1),\"\")","v":0.64132398477942387},{"$f":"IF($F38<>BH$2,1-_xlfn.NORM.DIST(0,INDEX(Rating,$F38)-INDEX(Rating,BH$2),10,1),\"\")","v":9.4423102114647661E-2},{"$f":"IF($F38<>BI$2,1-_xlfn.NORM.DIST(0,INDEX(Rating,$F38)-INDEX(Rating,BI$2),10,1),\"\")","v":0.102398975282053},{"$f":"IF($F38<>BJ$2,1-_xlfn.NORM.DIST(0,INDEX(Rating,$F38)-INDEX(Rating,BJ$2),10,1),\"\")","v":8.3639480329354643E-2},{"$f":"IF($F38<>BK$2,1-_xlfn.NORM.DIST(0,INDEX(Rating,$F38)-INDEX(Rating,BK$2),10,1),\"\")","v":0.13940421152030791},{"$f":"IF($F38<>BL$2,1-_xlfn.NORM.DIST(0,INDEX(Rating,$F38)-INDEX(Rating,BL$2),10,1),\"\")","v":4.0492434481759876E-2},{"$f":"IF($F38<>BM$2,1-_xlfn.NORM.DIST(0,INDEX(Rating,$F38)-INDEX(Rating,BM$2),10,1),\"\")","v":0.23978323889332787},{"$f":"IF($F38<>BN$2,1-_xlfn.NORM.DIST(0,INDEX(Rating,$F38)-INDEX(Rating,BN$2),10,1),\"\")","v":9.1265901900441593E-2},{"$f":"IF($F38<>BO$2,1-_xlfn.NORM.DIST(0,INDEX(Rating,$F38)-INDEX(Rating,BO$2),10,1),\"\")","v":0.20129628401935029},{"$f":"IF($F38<>BP$2,1-_xlfn.NORM.DIST(0,INDEX(Rating,$F38)-INDEX(Rating,BP$2),10,1),\"\")","v":0.25494788432995774},{"$f":"IF($F38<>BQ$2,1-_xlfn.NORM.DIST(0,INDEX(Rating,$F38)-INDEX(Rating,BQ$2),10,1),\"\")","v":3.7130658440653663E-2},{"$f":"IF($F38<>BR$2,1-_xlfn.NORM.DIST(0,INDEX(Rating,$F38)-INDEX(Rating,BR$2),10,1),\"\")","v":0.36768159388865007},{"$f":"IF($F38<>BS$2,1-_xlfn.NORM.DIST(0,INDEX(Rating,$F38)-INDEX(Rating,BS$2),10,1),\"\")","v":0.12902754571587827},{"$f":"IF($F38<>BT$2,1-_xlfn.NORM.DIST(0,INDEX(Rating,$F38)-INDEX(Rating,BT$2),10,1),\"\")","v":0.17696326714141741},{"$f":"IF($F38<>BU$2,1-_xlfn.NORM.DIST(0,INDEX(Rating,$F38)-INDEX(Rating,BU$2),10,1),\"\")","v":3.1513569191777058E-2},{"$f":"IF($F38<>BV$2,1-_xlfn.NORM.DIST(0,INDEX(Rating,$F38)-INDEX(Rating,BV$2),10,1),\"\")","v":0.49122397776933835}]
[null,"Iowa",37,84.85,null,37,{"$f":"IF($F39<>G$2,1-_xlfn.NORM.DIST(0,INDEX(Rating,$F39)-INDEX(Rating,G$2),10,1),\"\")","v":0.20954529107107045},{"$f":"IF($F39<>H$2,1-_xlfn.NORM.DIST(0,INDEX(Rating,$F39)-INDEX(Rating,H$2),10,1),\"\")","v":0.92799227928523886},{"$f":"IF($F39<>I$2,1-_xlfn.NORM.DIST(0,INDEX(Rating,$F39)-INDEX(Rating,I$2),10,1),\"\")","v":0.96492957416557146},{"$f":"IF($F39<>J$2,1-_xlfn.NORM.DIST(0,INDEX(Rating,$F39)-INDEX(Rating,J$2),10,1),\"\")","v":0.47528141600148832},{"$f":"IF($F39<>K$2,1-_xlfn.NORM.DIST(0,INDEX(Rating,$F39)-INDEX(Rating,K$2),10,1),\"\")","v":0.45977523008861332},{"$f":"IF($F39<>L$2,1-_xlfn.NORM.DIST(0,INDEX(Rating,$F39)-INDEX(Rating,L$2),10,1),\"\")","v":0.48643857535115886},{"$f":"IF($F39<>M$2,1-_xlfn.NORM.DIST(0,INDEX(Rating,$F39)-INDEX(Rating,M$2),10,1),\"\")","v":0.661294998392153},{"$f":"IF($F39<>N$2,1-_xlfn.NORM.DIST(0,INDEX(Rating,$F39)-INDEX(Rating,N$2),10,1),\"\")","v":0.49082513647503201},{"$f":"IF($F39<>O$2,1-_xlfn.NORM.DIST(0,INDEX(Rating,$F39)-INDEX(Rating,O$2),10,1),\"\")","v":0.70436619297315206},{"$f":"IF($F39<>P$2,1-_xlfn.NORM.DIST(0,INDEX(Rating,$F39)-INDEX(Rating,P$2),10,1),\"\")","v":0.39050617937644894},{"$f":"IF($F39<>Q$2,1-_xlfn.NORM.DIST(0,INDEX(Rating,$F39)-INDEX(Rating,Q$2),10,1),\"\")","v":0.56355946289143266},{"$f":"IF($F39<>R$2,1-_xlfn.NORM.DIST(0,INDEX(Rating,$F39)-INDEX(Rating,R$2),10,1),\"\")","v":0.40090705459419285},{"$f":"IF($F39<>S$2,1-_xlfn.NORM.DIST(0,INDEX(Rating,$F39)-INDEX(Rating,S$2),10,1),\"\")","v":0.80066529719790713},{"$f":"IF($F39<>T$2,1-_xlfn.NORM.DIST(0,INDEX(Rating,$F39)-INDEX(Rating,T$2),10,1),\"\")","v":0.59754588796309616},{"$f":"IF($F39<>U$2,1-_xlfn.NORM.DIST(0,INDEX(Rating,$F39)-INDEX(Rating,U$2),10,1),\"\")","v":0.52909694124390927},{"$f":"IF($F39<>V$2,1-_xlfn.NORM.DIST(0,INDEX(Rating,$F39)-INDEX(Rating,V$2),10,1),\"\")","v":0.30818556145954201},{"$f":"IF($F39<>W$2,1-_xlfn.NORM.DIST(0,INDEX(Rating,$F39)-INDEX(Rating,W$2),10,1),\"\")","v":0.80344750530750864},{"$f":"IF($F39<>X$2,1-_xlfn.NORM.DIST(0,INDEX(Rating,$F39)-INDEX(Rating,X$2),10,1),\"\")","v":0.33323418524290005},{"$f":"IF($F39<>Y$2,1-_xlfn.NORM.DIST(0,INDEX(Rating,$F39)-INDEX(Rating,Y$2),10,1),\"\")","v":0.97488499365312564},{"$f":"IF($F39<>Z$2,1-_xlfn.NORM.DIST(0,INDEX(Rating,$F39)-INDEX(Rating,Z$2),10,1),\"\")","v":0.98209154963342449},{"$f":"IF($F39<>AA$2,1-_xlfn.NORM.DIST(0,INDEX(Rating,$F39)-INDEX(Rating,AA$2),10,1),\"\")","v":0.43329163953941519},{"$f":"IF($F39<>AB$2,1-_xlfn.NORM.DIST(0,INDEX(Rating,$F39)-INDEX(Rating,AB$2),10,1),\"\")","v":0.54736232210904612},{"$f":"IF($F39<>AC$2,1-_xlfn.NORM.DIST(0,INDEX(Rating,$F39)-INDEX(Rating,AC$2),10,1),\"\")","v":0.4016803907069646},{"$f":"IF($F39<>AD$2,1-_xlfn.NORM.DIST(0,INDEX(Rating,$F39)-INDEX(Rating,AD$2),10,1),\"\")","v":0.66858163521467129},{"$f":"IF($F39<>AE$2,1-_xlfn.NORM.DIST(0,INDEX(Rating,$F39)-INDEX(Rating,AE$2),10,1),\"\")","v":0.32888286735302585},{"$f":"IF($F39<>AF$2,1-_xlfn.NORM.DIST(0,INDEX(Rating,$F39)-INDEX(Rating,AF$2),10,1),\"\")","v":0.77125915978438142},{"$f":"IF($F39<>AG$2,1-_xlfn.NORM.DIST(0,INDEX(Rating,$F39)-INDEX(Rating,AG$2),10,1),\"\")","v":0.45620468745768283},{"$f":"IF($F39<>AH$2,1-_xlfn.NORM.DIST(0,INDEX(Rating,$F39)-INDEX(Rating,AH$2),10,1),\"\")","v":0.52909694124390927},{"$f":"IF($F39<>AI$2,1-_xlfn.NORM.DIST(0,INDEX(Rating,$F39)-INDEX(Rating,AI$2),10,1),\"\")","v":0.48045964797057605},{"$f":"IF($F39<>AJ$2,1-_xlfn.NORM.DIST(0,INDEX(Rating,$F39)-INDEX(Rating,AJ$2),10,1),\"\")","v":0.84446991953547323},{"$f":"IF($F39<>AK$2,1-_xlfn.NORM.DIST(0,INDEX(Rating,$F39)-INDEX(Rating,AK$2),10,1),\"\")","v":0.49680849579953579},{"$f":"IF($F39<>AL$2,1-_xlfn.NORM.DIST(0,INDEX(Rating,$F39)-INDEX(Rating,AL$2),10,1),\"\")","v":0.52909694124390927},{"$f":"IF($F39<>AM$2,1-_xlfn.NORM.DIST(0,INDEX(Rating,$F39)-INDEX(Rating,AM$2),10,1),\"\")","v":0.39511960451131445},{"$f":"IF($F39<>AN$2,1-_xlfn.NORM.DIST(0,INDEX(Rating,$F39)-INDEX(Rating,AN$2),10,1),\"\")","v":0.79131716462454094},{"$f":"IF($F39<>AO$2,1-_xlfn.NORM.DIST(0,INDEX(Rating,$F39)-INDEX(Rating,AO$2),10,1),\"\")","v":0.24196365222307303},{"$f":"IF($F39<>AP$2,1-_xlfn.NORM.DIST(0,INDEX(Rating,$F39)-INDEX(Rating,AP$2),10,1),\"\")","v":0.88933515185225842},{"$f":"IF($F39<>AQ$2,1-_xlfn.NORM.DIST(0,INDEX(Rating,$F39)-INDEX(Rating,AQ$2),10,1),\"\")","v":""},{"$f":"IF($F39<>AR$2,1-_xlfn.NORM.DIST(0,INDEX(Rating,$F39)-INDEX(Rating,AR$2),10,1),\"\")","v":0.48125661376507822},{"$f":"IF($F39<>AS$2,1-_xlfn.NORM.DIST(0,INDEX(Rating,$F39)-INDEX(Rating,AS$2),10,1),\"\")","v":0.52670914839907224},{"$f":"IF($F39<>AT$2,1-_xlfn.NORM.DIST(0,INDEX(Rating,$F39)-INDEX(Rating,AT$2),10,1),\"\")","v":0.616003060146465},{"$f":"IF($F39<>AU$2,1-_xlfn.NORM.DIST(0,INDEX(Rating,$F39)-INDEX(Rating,AU$2),10,1),\"\")","v":0.44591064048234008},{"$f":"IF($F39<>AV$2,1-_xlfn.NORM.DIST(0,INDEX(Rating,$F39)-INDEX(Rating,AV$2),10,1),\"\")","v":0.64654155199051933},{"$f":"IF($F39<>AW$2,1-_xlfn.NORM.DIST(0,INDEX(Rating,$F39)-INDEX(Rating,AW$2),10,1),\"\")","v":0.51714923307248772},{"$f":"IF($F39<>AX$2,1-_xlfn.NORM.DIST(0,INDEX(Rating,$F39)-INDEX(Rating,AX$2),10,1),\"\")","v":0.60218237975367772},{"$f":"IF($F39<>AY$2,1-_xlfn.NORM.DIST(0,INDEX(Rating,$F39)-INDEX(Rating,AY$2),10,1),\"\")","v":0.62967775722397767},{"$f":"IF($F39<>AZ$2,1-_xlfn.NORM.DIST(0,INDEX(Rating,$F39)-INDEX(Rating,AZ$2),10,1),\"\")","v":0.43447199102806455},{"$f":"IF($F39<>BA$2,1-_xlfn.NORM.DIST(0,INDEX(Rating,$F39)-INDEX(Rating,BA$2),10,1),\"\")","v":0.88000264210098755},{"$f":"IF($F39<>BB$2,1-_xlfn.NORM.DIST(0,INDEX(Rating,$F39)-INDEX(Rating,BB$2),10,1),\"\")","v":0.45105354898356309},{"$f":"IF($F39<>BC$2,1-_xlfn.NORM.DIST(0,INDEX(Rating,$F39)-INDEX(Rating,BC$2),10,1),\"\")","v":0.53863680277477333},{"$f":"IF($F39<>BD$2,1-_xlfn.NORM.DIST(0,INDEX(Rating,$F39)-INDEX(Rating,BD$2),10,1),\"\")","v":0.2873987685922117},{"$f":"IF($F39<>BE$2,1-_xlfn.NORM.DIST(0,INDEX(Rating,$F39)-INDEX(Rating,BE$2),10,1),\"\")","v":0.8083958112245262},{"$f":"IF($F39<>BF$2,1-_xlfn.NORM.DIST(0,INDEX(Rating,$F39)-INDEX(Rating,BF$2),10,1),\"\")","v":0.30502573089751905},{"$f":"IF($F39<>BG$2,1-_xlfn.NORM.DIST(0,INDEX(Rating,$F39)-INDEX(Rating,BG$2),10,1),\"\")","v":0.94351683286577981},{"$f":"IF($F39<>BH$2,1-_xlfn.NORM.DIST(0,INDEX(Rating,$F39)-INDEX(Rating,BH$2),10,1),\"\")","v":0.46374629552877189},{"$f":"IF($F39<>BI$2,1-_xlfn.NORM.DIST(0,INDEX(Rating,$F39)-INDEX(Rating,BI$2),10,1),\"\")","v":0.48205365447786086},{"$f":"IF($F39<>BJ$2,1-_xlfn.NORM.DIST(0,INDEX(Rating,$F39)-INDEX(Rating,BJ$2),10,1),\"\")","v":0.43722839935774105},{"$f":"IF($F39<>BK$2,1-_xlfn.NORM.DIST(0,INDEX(Rating,$F39)-INDEX(Rating,BK$2),10,1),\"\")","v":0.55567000480590611},{"$f":"IF($F39<>BL$2,1-_xlfn.NORM.DIST(0,INDEX(Rating,$F39)-INDEX(Rating,BL$2),10,1),\"\")","v":0.30083516529234511},{"$f":"IF($F39<>BM$2,1-_xlfn.NORM.DIST(0,INDEX(Rating,$F39)-INDEX(Rating,BM$2),10,1),\"\")","v":0.6970727953905248},{"$f":"IF($F39<>BN$2,1-_xlfn.NORM.DIST(0,INDEX(Rating,$F39)-INDEX(Rating,BN$2),10,1),\"\")","v":0.45620468745768283},{"$f":"IF($F39<>BO$2,1-_xlfn.NORM.DIST(0,INDEX(Rating,$F39)-INDEX(Rating,BO$2),10,1),\"\")","v":0.65025166559745151},{"$f":"IF($F39<>BP$2,1-_xlfn.NORM.DIST(0,INDEX(Rating,$F39)-INDEX(Rating,BP$2),10,1),\"\")","v":0.71362293392883669},{"$f":"IF($F39<>BQ$2,1-_xlfn.NORM.DIST(0,INDEX(Rating,$F39)-INDEX(Rating,BQ$2),10,1),\"\")","v":0.28705800955483229},{"$f":"IF($F39<>BR$2,1-_xlfn.NORM.DIST(0,INDEX(Rating,$F39)-INDEX(Rating,BR$2),10,1),\"\")","v":0.81192168431933653},{"$f":"IF($F39<>BS$2,1-_xlfn.NORM.DIST(0,INDEX(Rating,$F39)-INDEX(Rating,BS$2),10,1),\"\")","v":0.53665098020354907},{"$f":"IF($F39<>BT$2,1-_xlfn.NORM.DIST(0,INDEX(Rating,$F39)-INDEX(Rating,BT$2),10,1),\"\")","v":0.61638495930190107},{"$f":"IF($F39<>BU$2,1-_xlfn.NORM.DIST(0,INDEX(Rating,$F39)-INDEX(Rating,BU$2),10,1),\"\")","v":0.26238821101513154},{"$f":"IF($F39<>BV$2,1-_xlfn.NORM.DIST(0,INDEX(Rating,$F39)-INDEX(Rating,BV$2),10,1),\"\")","v":0.88512439933589726}]
[null,"Auburn",38,85.32,null,38,{"$f":"IF($F40<>G$2,1-_xlfn.NORM.DIST(0,INDEX(Rating,$F40)-INDEX(Rating,G$2),10,1),\"\")","v":0.2233285336243549},{"$f":"IF($F40<>H$2,1-_xlfn.NORM.DIST(0,INDEX(Rating,$F40)-INDEX(Rating,H$2),10,1),\"\")","v":0.93422273649176257},{"$f":"IF($F40<>I$2,1-_xlfn.NORM.DIST(0,INDEX(Rating,$F40)-INDEX(Rating,I$2),10,1),\"\")","v":0.96841549284603867},{"$f":"IF($F40<>J$2,1-_xlfn.NORM.DIST(0,INDEX(Rating,$F40)-INDEX(Rating,J$2),10,1),\"\")","v":0.49401609019143755},{"$f":"IF($F40<>K$2,1-_xlfn.NORM.DIST(0,INDEX(Rating,$F40)-INDEX(Rating,K$2),10,1),\"\")","v":0.47846758212161},{"$f":"IF($F40<>L$2,1-_xlfn.NORM.DIST(0,INDEX(Rating,$F40)-INDEX(Rating,L$2),10,1),\"\")","v":0.5051861035695564},{"$f":"IF($F40<>M$2,1-_xlfn.NORM.DIST(0,INDEX(Rating,$F40)-INDEX(Rating,M$2),10,1),\"\")","v":0.67831781644813427},{"$f":"IF($F40<>N$2,1-_xlfn.NORM.DIST(0,INDEX(Rating,$F40)-INDEX(Rating,N$2),10,1),\"\")","v":0.50957369564603039},{"$f":"IF($F40<>O$2,1-_xlfn.NORM.DIST(0,INDEX(Rating,$F40)-INDEX(Rating,O$2),10,1),\"\")","v":0.72038984398065053},{"$f":"IF($F40<>P$2,1-_xlfn.NORM.DIST(0,INDEX(Rating,$F40)-INDEX(Rating,P$2),10,1),\"\")","v":0.40865740101478376},{"$f":"IF($F40<>Q$2,1-_xlfn.NORM.DIST(0,INDEX(Rating,$F40)-INDEX(Rating,Q$2),10,1),\"\")","v":0.58199507075061785},{"$f":"IF($F40<>R$2,1-_xlfn.NORM.DIST(0,INDEX(Rating,$F40)-INDEX(Rating,R$2),10,1),\"\")","v":0.41917674945510397},{"$f":"IF($F40<>S$2,1-_xlfn.NORM.DIST(0,INDEX(Rating,$F40)-INDEX(Rating,S$2),10,1),\"\")","v":0.81353541488289982},{"$f":"IF($F40<>T$2,1-_xlfn.NORM.DIST(0,INDEX(Rating,$F40)-INDEX(Rating,T$2),10,1),\"\")","v":0.61562104831416908},{"$f":"IF($F40<>U$2,1-_xlfn.NORM.DIST(0,INDEX(Rating,$F40)-INDEX(Rating,U$2),10,1),\"\")","v":0.54775842602058344},{"$f":"IF($F40<>V$2,1-_xlfn.NORM.DIST(0,INDEX(Rating,$F40)-INDEX(Rating,V$2),10,1),\"\")","v":0.32491441339717397},{"$f":"IF($F40<>W$2,1-_xlfn.NORM.DIST(0,INDEX(Rating,$F40)-INDEX(Rating,W$2),10,1),\"\")","v":0.81620584015637232},{"$f":"IF($F40<>X$2,1-_xlfn.NORM.DIST(0,INDEX(Rating,$F40)-INDEX(Rating,X$2),10,1),\"\")","v":0.35048922374918845},{"$f":"IF($F40<>Y$2,1-_xlfn.NORM.DIST(0,INDEX(Rating,$F40)-INDEX(Rating,Y$2),10,1),\"\")","v":0.97751847648184031},{"$f":"IF($F40<>Z$2,1-_xlfn.NORM.DIST(0,INDEX(Rating,$F40)-INDEX(Rating,Z$2),10,1),\"\")","v":0.98406351065215258},{"$f":"IF($F40<>AA$2,1-_xlfn.NORM.DIST(0,INDEX(Rating,$F40)-INDEX(Rating,AA$2),10,1),\"\")","v":0.4518455175974917},{"$f":"IF($F40<>AB$2,1-_xlfn.NORM.DIST(0,INDEX(Rating,$F40)-INDEX(Rating,AB$2),10,1),\"\")","v":0.56592152491388525},{"$f":"IF($F40<>AC$2,1-_xlfn.NORM.DIST(0,INDEX(Rating,$F40)-INDEX(Rating,AC$2),10,1),\"\")","v":0.41995836209040327},{"$f":"IF($F40<>AD$2,1-_xlfn.NORM.DIST(0,INDEX(Rating,$F40)-INDEX(Rating,AD$2),10,1),\"\")","v":0.68545213188934995},{"$f":"IF($F40<>AE$2,1-_xlfn.NORM.DIST(0,INDEX(Rating,$F40)-INDEX(Rating,AE$2),10,1),\"\")","v":0.34605251411118143},{"$f":"IF($F40<>AF$2,1-_xlfn.NORM.DIST(0,INDEX(Rating,$F40)-INDEX(Rating,AF$2),10,1),\"\")","v":0.78523611583636266},{"$f":"IF($F40<>AG$2,1-_xlfn.NORM.DIST(0,INDEX(Rating,$F40)-INDEX(Rating,AG$2),10,1),\"\")","v":0.47488325216132654},{"$f":"IF($F40<>AH$2,1-_xlfn.NORM.DIST(0,INDEX(Rating,$F40)-INDEX(Rating,AH$2),10,1),\"\")","v":0.54775842602058344},{"$f":"IF($F40<>AI$2,1-_xlfn.NORM.DIST(0,INDEX(Rating,$F40)-INDEX(Rating,AI$2),10,1),\"\")","v":0.49920211597111952},{"$f":"IF($F40<>AJ$2,1-_xlfn.NORM.DIST(0,INDEX(Rating,$F40)-INDEX(Rating,AJ$2),10,1),\"\")","v":0.85542770033609017},{"$f":"IF($F40<>AK$2,1-_xlfn.NORM.DIST(0,INDEX(Rating,$F40)-INDEX(Rating,AK$2),10,1),\"\")","v":0.51555480569249346},{"$f":"IF($F40<>AL$2,1-_xlfn.NORM.DIST(0,INDEX(Rating,$F40)-INDEX(Rating,AL$2),10,1),\"\")","v":0.54775842602058344},{"$f":"IF($F40<>AM$2,1-_xlfn.NORM.DIST(0,INDEX(Rating,$F40)-INDEX(Rating,AM$2),10,1),\"\")","v":0.4133250238832622},{"$f":"IF($F40<>AN$2,1-_xlfn.NORM.DIST(0,INDEX(Rating,$F40)-INDEX(Rating,AN$2),10,1),\"\")","v":0.80455376828655145},{"$f":"IF($F40<>AO$2,1-_xlfn.NORM.DIST(0,INDEX(Rating,$F40)-INDEX(Rating,AO$2),10,1),\"\")","v":0.25687813925851066},{"$f":"IF($F40<>AP$2,1-_xlfn.NORM.DIST(0,INDEX(Rating,$F40)-INDEX(Rating,AP$2),10,1),\"\")","v":0.89795768492518069},{"$f":"IF($F40<>AQ$2,1-_xlfn.NORM.DIST(0,INDEX(Rating,$F40)-INDEX(Rating,AQ$2),10,1),\"\")","v":0.51874338623492178},{"$f":"IF($F40<>AR$2,1-_xlfn.NORM.DIST(0,INDEX(Rating,$F40)-INDEX(Rating,AR$2),10,1),\"\")","v":""},{"$f":"IF($F40<>AS$2,1-_xlfn.NORM.DIST(0,INDEX(Rating,$F40)-INDEX(Rating,AS$2),10,1),\"\")","v":0.54538110327771161},{"$f":"IF($F40<>AT$2,1-_xlfn.NORM.DIST(0,INDEX(Rating,$F40)-INDEX(Rating,AT$2),10,1),\"\")","v":0.63382455387065784},{"$f":"IF($F40<>AU$2,1-_xlfn.NORM.DIST(0,INDEX(Rating,$F40)-INDEX(Rating,AU$2),10,1),\"\")","v":0.46454095506055926},{"$f":"IF($F40<>AV$2,1-_xlfn.NORM.DIST(0,INDEX(Rating,$F40)-INDEX(Rating,AV$2),10,1),\"\")","v":0.66385236947089221},{"$f":"IF($F40<>AW$2,1-_xlfn.NORM.DIST(0,INDEX(Rating,$F40)-INDEX(Rating,AW$2),10,1),\"\")","v":0.53585639258517181},{"$f":"IF($F40<>AX$2,1-_xlfn.NORM.DIST(0,INDEX(Rating,$F40)-INDEX(Rating,AX$2),10,1),\"\")","v":0.62019767711128737},{"$f":"IF($F40<>AY$2,1-_xlfn.NORM.DIST(0,INDEX(Rating,$F40)-INDEX(Rating,AY$2),10,1),\"\")","v":0.64728470301217567},{"$f":"IF($F40<>AZ$2,1-_xlfn.NORM.DIST(0,INDEX(Rating,$F40)-INDEX(Rating,AZ$2),10,1),\"\")","v":0.45303382894165756},{"$f":"IF($F40<>BA$2,1-_xlfn.NORM.DIST(0,INDEX(Rating,$F40)-INDEX(Rating,BA$2),10,1),\"\")","v":0.88914618650670629},{"$f":"IF($F40<>BB$2,1-_xlfn.NORM.DIST(0,INDEX(Rating,$F40)-INDEX(Rating,BB$2),10,1),\"\")","v":0.46970954909974316},{"$f":"IF($F40<>BC$2,1-_xlfn.NORM.DIST(0,INDEX(Rating,$F40)-INDEX(Rating,BC$2),10,1),\"\")","v":0.55724976518176994},{"$f":"IF($F40<>BD$2,1-_xlfn.NORM.DIST(0,INDEX(Rating,$F40)-INDEX(Rating,BD$2),10,1),\"\")","v":0.3036259953333964},{"$f":"IF($F40<>BE$2,1-_xlfn.NORM.DIST(0,INDEX(Rating,$F40)-INDEX(Rating,BE$2),10,1),\"\")","v":0.82095221389939055},{"$f":"IF($F40<>BF$2,1-_xlfn.NORM.DIST(0,INDEX(Rating,$F40)-INDEX(Rating,BF$2),10,1),\"\")","v":0.32168218355186518},{"$f":"IF($F40<>BG$2,1-_xlfn.NORM.DIST(0,INDEX(Rating,$F40)-INDEX(Rating,BG$2),10,1),\"\")","v":0.94866025690515554},{"$f":"IF($F40<>BH$2,1-_xlfn.NORM.DIST(0,INDEX(Rating,$F40)-INDEX(Rating,BH$2),10,1),\"\")","v":0.48245220193444971},{"$f":"IF($F40<>BI$2,1-_xlfn.NORM.DIST(0,INDEX(Rating,$F40)-INDEX(Rating,BI$2),10,1),\"\")","v":0.50079788402888004},{"$f":"IF($F40<>BJ$2,1-_xlfn.NORM.DIST(0,INDEX(Rating,$F40)-INDEX(Rating,BJ$2),10,1),\"\")","v":0.45580817336639934},{"$f":"IF($F40<>BK$2,1-_xlfn.NORM.DIST(0,INDEX(Rating,$F40)-INDEX(Rating,BK$2),10,1),\"\")","v":0.57416968352736375},{"$f":"IF($F40<>BL$2,1-_xlfn.NORM.DIST(0,INDEX(Rating,$F40)-INDEX(Rating,BL$2),10,1),\"\")","v":0.31739348664125899},{"$f":"IF($F40<>BM$2,1-_xlfn.NORM.DIST(0,INDEX(Rating,$F40)-INDEX(Rating,BM$2),10,1),\"\")","v":0.71328255802978668},{"$f":"IF($F40<>BN$2,1-_xlfn.NORM.DIST(0,INDEX(Rating,$F40)-INDEX(Rating,BN$2),10,1),\"\")","v":0.47488325216132654},{"$f":"IF($F40<>BO$2,1-_xlfn.NORM.DIST(0,INDEX(Rating,$F40)-INDEX(Rating,BO$2),10,1),\"\")","v":0.66749261508725066},{"$f":"IF($F40<>BP$2,1-_xlfn.NORM.DIST(0,INDEX(Rating,$F40)-INDEX(Rating,BP$2),10,1),\"\")","v":0.72940020984206855},{"$f":"IF($F40<>BQ$2,1-_xlfn.NORM.DIST(0,INDEX(Rating,$F40)-INDEX(Rating,BQ$2),10,1),\"\")","v":0.3032765100021394},{"$f":"IF($F40<>BR$2,1-_xlfn.NORM.DIST(0,INDEX(Rating,$F40)-INDEX(Rating,BR$2),10,1),\"\")","v":0.82433173728409692},{"$f":"IF($F40<>BS$2,1-_xlfn.NORM.DIST(0,INDEX(Rating,$F40)-INDEX(Rating,BS$2),10,1),\"\")","v":0.55527492547600776},{"$f":"IF($F40<>BT$2,1-_xlfn.NORM.DIST(0,INDEX(Rating,$F40)-INDEX(Rating,BT$2),10,1),\"\")","v":0.6342007699223754},{"$f":"IF($F40<>BU$2,1-_xlfn.NORM.DIST(0,INDEX(Rating,$F40)-INDEX(Rating,BU$2),10,1),\"\")","v":0.277930636804403},{"$f":"IF($F40<>BV$2,1-_xlfn.NORM.DIST(0,INDEX(Rating,$F40)-INDEX(Rating,BV$2),10,1),\"\")","v":0.89398447140288528}]
[null,"Miami (FL)",39,84.18,null,39,{"$f":"IF($F41<>G$2,1-_xlfn.NORM.DIST(0,INDEX(Rating,$F41)-INDEX(Rating,G$2),10,1),\"\")","v":0.19078695285251057},{"$f":"IF($F41<>H$2,1-_xlfn.NORM.DIST(0,INDEX(Rating,$F41)-INDEX(Rating,H$2),10,1),\"\")","v":0.91834119767751932},{"$f":"IF($F41<>I$2,1-_xlfn.NORM.DIST(0,INDEX(Rating,$F41)-INDEX(Rating,I$2),10,1),\"\")","v":0.95942045508111407},{"$f":"IF($F41<>J$2,1-_xlfn.NORM.DIST(0,INDEX(Rating,$F41)-INDEX(Rating,J$2),10,1),\"\")","v":0.44867882441450613},{"$f":"IF($F41<>K$2,1-_xlfn.NORM.DIST(0,INDEX(Rating,$F41)-INDEX(Rating,K$2),10,1),\"\")","v":0.43329163953941574},{"$f":"IF($F41<>L$2,1-_xlfn.NORM.DIST(0,INDEX(Rating,$F41)-INDEX(Rating,L$2),10,1),\"\")","v":0.45977523008861398},{"$f":"IF($F41<>M$2,1-_xlfn.NORM.DIST(0,INDEX(Rating,$F41)-INDEX(Rating,M$2),10,1),\"\")","v":0.63645534521653646},{"$f":"IF($F41<>N$2,1-_xlfn.NORM.DIST(0,INDEX(Rating,$F41)-INDEX(Rating,N$2),10,1),\"\")","v":0.46414360741482819},{"$f":"IF($F41<>O$2,1-_xlfn.NORM.DIST(0,INDEX(Rating,$F41)-INDEX(Rating,O$2),10,1),\"\")","v":0.68082249121744431},{"$f":"IF($F41<>P$2,1-_xlfn.NORM.DIST(0,INDEX(Rating,$F41)-INDEX(Rating,P$2),10,1),\"\")","v":0.36504718536580194},{"$f":"IF($F41<>Q$2,1-_xlfn.NORM.DIST(0,INDEX(Rating,$F41)-INDEX(Rating,Q$2),10,1),\"\")","v":0.53704821938818859},{"$f":"IF($F41<>R$2,1-_xlfn.NORM.DIST(0,INDEX(Rating,$F41)-INDEX(Rating,R$2),10,1),\"\")","v":0.37524246845466458},{"$f":"IF($F41<>S$2,1-_xlfn.NORM.DIST(0,INDEX(Rating,$F41)-INDEX(Rating,S$2),10,1),\"\")","v":0.78142061483472502},{"$f":"IF($F41<>T$2,1-_xlfn.NORM.DIST(0,INDEX(Rating,$F41)-INDEX(Rating,T$2),10,1),\"\")","v":0.57142371590090124},{"$f":"IF($F41<>U$2,1-_xlfn.NORM.DIST(0,INDEX(Rating,$F41)-INDEX(Rating,U$2),10,1),\"\")","v":0.50239363932056413},{"$f":"IF($F41<>V$2,1-_xlfn.NORM.DIST(0,INDEX(Rating,$F41)-INDEX(Rating,V$2),10,1),\"\")","v":0.28501748396884807},{"$f":"IF($F41<>W$2,1-_xlfn.NORM.DIST(0,INDEX(Rating,$F41)-INDEX(Rating,W$2),10,1),\"\")","v":0.78435906692012836},{"$f":"IF($F41<>X$2,1-_xlfn.NORM.DIST(0,INDEX(Rating,$F41)-INDEX(Rating,X$2),10,1),\"\")","v":0.30924202109245469},{"$f":"IF($F41<>Y$2,1-_xlfn.NORM.DIST(0,INDEX(Rating,$F41)-INDEX(Rating,Y$2),10,1),\"\")","v":0.97068782788571284},{"$f":"IF($F41<>Z$2,1-_xlfn.NORM.DIST(0,INDEX(Rating,$F41)-INDEX(Rating,Z$2),10,1),\"\")","v":0.97892317202668633},{"$f":"IF($F41<>AA$2,1-_xlfn.NORM.DIST(0,INDEX(Rating,$F41)-INDEX(Rating,AA$2),10,1),\"\")","v":0.4071043666103672},{"$f":"IF($F41<>AB$2,1-_xlfn.NORM.DIST(0,INDEX(Rating,$F41)-INDEX(Rating,AB$2),10,1),\"\")","v":0.52073565329228066},{"$f":"IF($F41<>AC$2,1-_xlfn.NORM.DIST(0,INDEX(Rating,$F41)-INDEX(Rating,AC$2),10,1),\"\")","v":0.37600125406670692},{"$f":"IF($F41<>AD$2,1-_xlfn.NORM.DIST(0,INDEX(Rating,$F41)-INDEX(Rating,AD$2),10,1),\"\")","v":0.64393613761336777},{"$f":"IF($F41<>AE$2,1-_xlfn.NORM.DIST(0,INDEX(Rating,$F41)-INDEX(Rating,AE$2),10,1),\"\")","v":0.30502573089751961},{"$f":"IF($F41<>AF$2,1-_xlfn.NORM.DIST(0,INDEX(Rating,$F41)-INDEX(Rating,AF$2),10,1),\"\")","v":0.7504796774714646},{"$f":"IF($F41<>AG$2,1-_xlfn.NORM.DIST(0,INDEX(Rating,$F41)-INDEX(Rating,AG$2),10,1),\"\")","v":0.42975419478909604},{"$f":"IF($F41<>AH$2,1-_xlfn.NORM.DIST(0,INDEX(Rating,$F41)-INDEX(Rating,AH$2),10,1),\"\")","v":0.50239363932056413},{"$f":"IF($F41<>AI$2,1-_xlfn.NORM.DIST(0,INDEX(Rating,$F41)-INDEX(Rating,AI$2),10,1),\"\")","v":0.4538262708980727},{"$f":"IF($F41<>AJ$2,1-_xlfn.NORM.DIST(0,INDEX(Rating,$F41)-INDEX(Rating,AJ$2),10,1),\"\")","v":0.8279257068864373},{"$f":"IF($F41<>AK$2,1-_xlfn.NORM.DIST(0,INDEX(Rating,$F41)-INDEX(Rating,AK$2),10,1),\"\")","v":0.47010735594710518},{"$f":"IF($F41<>AL$2,1-_xlfn.NORM.DIST(0,INDEX(Rating,$F41)-INDEX(Rating,AL$2),10,1),\"\")","v":0.50239363932056413},{"$f":"IF($F41<>AM$2,1-_xlfn.NORM.DIST(0,INDEX(Rating,$F41)-INDEX(Rating,AM$2),10,1),\"\")","v":0.36956714157750215},{"$f":"IF($F41<>AN$2,1-_xlfn.NORM.DIST(0,INDEX(Rating,$F41)-INDEX(Rating,AN$2),10,1),\"\")","v":0.77156176244751273},{"$f":"IF($F41<>AO$2,1-_xlfn.NORM.DIST(0,INDEX(Rating,$F41)-INDEX(Rating,AO$2),10,1),\"\")","v":0.22154075776325532},{"$f":"IF($F41<>AP$2,1-_xlfn.NORM.DIST(0,INDEX(Rating,$F41)-INDEX(Rating,AP$2),10,1),\"\")","v":0.87615942150673753},{"$f":"IF($F41<>AQ$2,1-_xlfn.NORM.DIST(0,INDEX(Rating,$F41)-INDEX(Rating,AQ$2),10,1),\"\")","v":0.47329085160092776},{"$f":"IF($F41<>AR$2,1-_xlfn.NORM.DIST(0,INDEX(Rating,$F41)-INDEX(Rating,AR$2),10,1),\"\")","v":0.45461889672228839},{"$f":"IF($F41<>AS$2,1-_xlfn.NORM.DIST(0,INDEX(Rating,$F41)-INDEX(Rating,AS$2),10,1),\"\")","v":""},{"$f":"IF($F41<>AT$2,1-_xlfn.NORM.DIST(0,INDEX(Rating,$F41)-INDEX(Rating,AT$2),10,1),\"\")","v":0.59017687973903421},{"$f":"IF($F41<>AU$2,1-_xlfn.NORM.DIST(0,INDEX(Rating,$F41)-INDEX(Rating,AU$2),10,1),\"\")","v":0.41956751610591669},{"$f":"IF($F41<>AV$2,1-_xlfn.NORM.DIST(0,INDEX(Rating,$F41)-INDEX(Rating,AV$2),10,1),\"\")","v":0.62133923658947854},{"$f":"IF($F41<>AW$2,1-_xlfn.NORM.DIST(0,INDEX(Rating,$F41)-INDEX(Rating,AW$2),10,1),\"\")","v":0.49042630435396961},{"$f":"IF($F41<>AX$2,1-_xlfn.NORM.DIST(0,INDEX(Rating,$F41)-INDEX(Rating,AX$2),10,1),\"\")","v":0.57612889728748906},{"$f":"IF($F41<>AY$2,1-_xlfn.NORM.DIST(0,INDEX(Rating,$F41)-INDEX(Rating,AY$2),10,1),\"\")","v":0.60411004062441243},{"$f":"IF($F41<>AZ$2,1-_xlfn.NORM.DIST(0,INDEX(Rating,$F41)-INDEX(Rating,AZ$2),10,1),\"\")","v":0.40826900690097001},{"$f":"IF($F41<>BA$2,1-_xlfn.NORM.DIST(0,INDEX(Rating,$F41)-INDEX(Rating,BA$2),10,1),\"\")","v":0.86606909205019844},{"$f":"IF($F41<>BB$2,1-_xlfn.NORM.DIST(0,INDEX(Rating,$F41)-INDEX(Rating,BB$2),10,1),\"\")","v":0.42465456526520484},{"$f":"IF($F41<>BC$2,1-_xlfn.NORM.DIST(0,INDEX(Rating,$F41)-INDEX(Rating,BC$2),10,1),\"\")","v":0.51196647341411317},{"$f":"IF($F41<>BD$2,1-_xlfn.NORM.DIST(0,INDEX(Rating,$F41)-INDEX(Rating,BD$2),10,1),\"\")","v":0.26500196999384595},{"$f":"IF($F41<>BE$2,1-_xlfn.NORM.DIST(0,INDEX(Rating,$F41)-INDEX(Rating,BE$2),10,1),\"\")","v":0.78959016010643668},{"$f":"IF($F41<>BF$2,1-_xlfn.NORM.DIST(0,INDEX(Rating,$F41)-INDEX(Rating,BF$2),10,1),\"\")","v":0.2819697277610409},{"$f":"IF($F41<>BG$2,1-_xlfn.NORM.DIST(0,INDEX(Rating,$F41)-INDEX(Rating,BG$2),10,1),\"\")","v":0.93549280066751705},{"$f":"IF($F41<>BH$2,1-_xlfn.NORM.DIST(0,INDEX(Rating,$F41)-INDEX(Rating,BH$2),10,1),\"\")","v":0.43722839935774149},{"$f":"IF($F41<>BI$2,1-_xlfn.NORM.DIST(0,INDEX(Rating,$F41)-INDEX(Rating,BI$2),10,1),\"\")","v":0.45541170328573477},{"$f":"IF($F41<>BJ$2,1-_xlfn.NORM.DIST(0,INDEX(Rating,$F41)-INDEX(Rating,BJ$2),10,1),\"\")","v":0.41098963713127035},{"$f":"IF($F41<>BK$2,1-_xlfn.NORM.DIST(0,INDEX(Rating,$F41)-INDEX(Rating,BK$2),10,1),\"\")","v":0.52909694124390994},{"$f":"IF($F41<>BL$2,1-_xlfn.NORM.DIST(0,INDEX(Rating,$F41)-INDEX(Rating,BL$2),10,1),\"\")","v":0.27793063680440344},{"$f":"IF($F41<>BM$2,1-_xlfn.NORM.DIST(0,INDEX(Rating,$F41)-INDEX(Rating,BM$2),10,1),\"\")","v":0.67328417167899113},{"$f":"IF($F41<>BN$2,1-_xlfn.NORM.DIST(0,INDEX(Rating,$F41)-INDEX(Rating,BN$2),10,1),\"\")","v":0.42975419478909604},{"$f":"IF($F41<>BO$2,1-_xlfn.NORM.DIST(0,INDEX(Rating,$F41)-INDEX(Rating,BO$2),10,1),\"\")","v":0.62513674360900118},{"$f":"IF($F41<>BP$2,1-_xlfn.NORM.DIST(0,INDEX(Rating,$F41)-INDEX(Rating,BP$2),10,1),\"\")","v":0.69040547433658861},{"$f":"IF($F41<>BQ$2,1-_xlfn.NORM.DIST(0,INDEX(Rating,$F41)-INDEX(Rating,BQ$2),10,1),\"\")","v":0.26467452810667735},{"$f":"IF($F41<>BR$2,1-_xlfn.NORM.DIST(0,INDEX(Rating,$F41)-INDEX(Rating,BR$2),10,1),\"\")","v":0.79332140636244786},{"$f":"IF($F41<>BS$2,1-_xlfn.NORM.DIST(0,INDEX(Rating,$F41)-INDEX(Rating,BS$2),10,1),\"\")","v":0.50997251819523803},{"$f":"IF($F41<>BT$2,1-_xlfn.NORM.DIST(0,INDEX(Rating,$F41)-INDEX(Rating,BT$2),10,1),\"\")","v":0.5905655419372432},{"$f":"IF($F41<>BU$2,1-_xlfn.NORM.DIST(0,INDEX(Rating,$F41)-INDEX(Rating,BU$2),10,1),\"\")","v":0.24102787473763421},{"$f":"IF($F41<>BV$2,1-_xlfn.NORM.DIST(0,INDEX(Rating,$F41)-INDEX(Rating,BV$2),10,1),\"\")","v":0.87160272599618982}]
[null,"Drake",40,81.900000000000006,null,40,{"$f":"IF($F42<>G$2,1-_xlfn.NORM.DIST(0,INDEX(Rating,$F42)-INDEX(Rating,G$2),10,1),\"\")","v":0.13501358257624452},{"$f":"IF($F42<>H$2,1-_xlfn.NORM.DIST(0,INDEX(Rating,$F42)-INDEX(Rating,H$2),10,1),\"\")","v":0.87819277726162104},{"$f":"IF($F42<>I$2,1-_xlfn.NORM.DIST(0,INDEX(Rating,$F42)-INDEX(Rating,I$2),10,1),\"\")","v":0.93524032379684552},{"$f":"IF($F42<>J$2,1-_xlfn.NORM.DIST(0,INDEX(Rating,$F42)-INDEX(Rating,J$2),10,1),\"\")","v":0.36054590286747368},{"$f":"IF($F42<>K$2,1-_xlfn.NORM.DIST(0,INDEX(Rating,$F42)-INDEX(Rating,K$2),10,1),\"\")","v":0.34605251411118187},{"$f":"IF($F42<>L$2,1-_xlfn.NORM.DIST(0,INDEX(Rating,$F42)-INDEX(Rating,L$2),10,1),\"\")","v":0.3710778440168645},{"$f":"IF($F42<>M$2,1-_xlfn.NORM.DIST(0,INDEX(Rating,$F42)-INDEX(Rating,M$2),10,1),\"\")","v":0.5481544824025083},{"$f":"IF($F42<>N$2,1-_xlfn.NORM.DIST(0,INDEX(Rating,$F42)-INDEX(Rating,N$2),10,1),\"\")","v":0.37524246845466458},{"$f":"IF($F42<>O$2,1-_xlfn.NORM.DIST(0,INDEX(Rating,$F42)-INDEX(Rating,O$2),10,1),\"\")","v":0.59560991838520028},{"$f":"IF($F42<>P$2,1-_xlfn.NORM.DIST(0,INDEX(Rating,$F42)-INDEX(Rating,P$2),10,1),\"\")","v":0.28332234698907199},{"$f":"IF($F42<>Q$2,1-_xlfn.NORM.DIST(0,INDEX(Rating,$F42)-INDEX(Rating,Q$2),10,1),\"\")","v":0.4463059371656185},{"$f":"IF($F42<>R$2,1-_xlfn.NORM.DIST(0,INDEX(Rating,$F42)-INDEX(Rating,R$2),10,1),\"\")","v":0.29253296860446043},{"$f":"IF($F42<>S$2,1-_xlfn.NORM.DIST(0,INDEX(Rating,$F42)-INDEX(Rating,S$2),10,1),\"\")","v":0.70849727508696292},{"$f":"IF($F42<>T$2,1-_xlfn.NORM.DIST(0,INDEX(Rating,$F42)-INDEX(Rating,T$2),10,1),\"\")","v":0.48085812130423899},{"$f":"IF($F42<>U$2,1-_xlfn.NORM.DIST(0,INDEX(Rating,$F42)-INDEX(Rating,U$2),10,1),\"\")","v":0.41215694166567829},{"$f":"IF($F42<>V$2,1-_xlfn.NORM.DIST(0,INDEX(Rating,$F42)-INDEX(Rating,V$2),10,1),\"\")","v":0.21301601770212986},{"$f":"IF($F42<>W$2,1-_xlfn.NORM.DIST(0,INDEX(Rating,$F42)-INDEX(Rating,W$2),10,1),\"\")","v":0.71191913990855893},{"$f":"IF($F42<>X$2,1-_xlfn.NORM.DIST(0,INDEX(Rating,$F42)-INDEX(Rating,X$2),10,1),\"\")","v":0.23391938527646405},{"$f":"IF($F42<>Y$2,1-_xlfn.NORM.DIST(0,INDEX(Rating,$F42)-INDEX(Rating,Y$2),10,1),\"\")","v":0.95184378225317712},{"$f":"IF($F42<>Z$2,1-_xlfn.NORM.DIST(0,INDEX(Rating,$F42)-INDEX(Rating,Z$2),10,1),\"\")","v":0.96438434652401295},{"$f":"IF($F42<>AA$2,1-_xlfn.NORM.DIST(0,INDEX(Rating,$F42)-INDEX(Rating,AA$2),10,1),\"\")","v":0.32168218355186573},{"$f":"IF($F42<>AB$2,1-_xlfn.NORM.DIST(0,INDEX(Rating,$F42)-INDEX(Rating,AB$2),10,1),\"\")","v":0.43014697122334633},{"$f":"IF($F42<>AC$2,1-_xlfn.NORM.DIST(0,INDEX(Rating,$F42)-INDEX(Rating,AC$2),10,1),\"\")","v":0.2932207364238606},{"$f":"IF($F42<>AD$2,1-_xlfn.NORM.DIST(0,INDEX(Rating,$F42)-INDEX(Rating,AD$2),10,1),\"\")","v":0.55606502882857511},{"$f":"IF($F42<>AE$2,1-_xlfn.NORM.DIST(0,INDEX(Rating,$F42)-INDEX(Rating,AE$2),10,1),\"\")","v":0.23025722456507181},{"$f":"IF($F42<>AF$2,1-_xlfn.NORM.DIST(0,INDEX(Rating,$F42)-INDEX(Rating,AF$2),10,1),\"\")","v":0.67292340169655329},{"$f":"IF($F42<>AG$2,1-_xlfn.NORM.DIST(0,INDEX(Rating,$F42)-INDEX(Rating,AG$2),10,1),\"\")","v":0.34273875547267385},{"$f":"IF($F42<>AH$2,1-_xlfn.NORM.DIST(0,INDEX(Rating,$F42)-INDEX(Rating,AH$2),10,1),\"\")","v":0.41215694166567829},{"$f":"IF($F42<>AI$2,1-_xlfn.NORM.DIST(0,INDEX(Rating,$F42)-INDEX(Rating,AI$2),10,1),\"\")","v":0.36542314304587387},{"$f":"IF($F42<>AJ$2,1-_xlfn.NORM.DIST(0,INDEX(Rating,$F42)-INDEX(Rating,AJ$2),10,1),\"\")","v":0.76362135659204244},{"$f":"IF($F42<>AK$2,1-_xlfn.NORM.DIST(0,INDEX(Rating,$F42)-INDEX(Rating,AK$2),10,1),\"\")","v":0.38094493079887415},{"$f":"IF($F42<>AL$2,1-_xlfn.NORM.DIST(0,INDEX(Rating,$F42)-INDEX(Rating,AL$2),10,1),\"\")","v":0.41215694166567829},{"$f":"IF($F42<>AM$2,1-_xlfn.NORM.DIST(0,INDEX(Rating,$F42)-INDEX(Rating,AM$2),10,1),\"\")","v":0.2873987685922117},{"$f":"IF($F42<>AN$2,1-_xlfn.NORM.DIST(0,INDEX(Rating,$F42)-INDEX(Rating,AN$2),10,1),\"\")","v":0.69707279539052536},{"$f":"IF($F42<>AO$2,1-_xlfn.NORM.DIST(0,INDEX(Rating,$F42)-INDEX(Rating,AO$2),10,1),\"\")","v":0.15986813217549423},{"$f":"IF($F42<>AP$2,1-_xlfn.NORM.DIST(0,INDEX(Rating,$F42)-INDEX(Rating,AP$2),10,1),\"\")","v":0.82329621519043872},{"$f":"IF($F42<>AQ$2,1-_xlfn.NORM.DIST(0,INDEX(Rating,$F42)-INDEX(Rating,AQ$2),10,1),\"\")","v":0.383996939853535},{"$f":"IF($F42<>AR$2,1-_xlfn.NORM.DIST(0,INDEX(Rating,$F42)-INDEX(Rating,AR$2),10,1),\"\")","v":0.36617544612934216},{"$f":"IF($F42<>AS$2,1-_xlfn.NORM.DIST(0,INDEX(Rating,$F42)-INDEX(Rating,AS$2),10,1),\"\")","v":0.40982312026096579},{"$f":"IF($F42<>AT$2,1-_xlfn.NORM.DIST(0,INDEX(Rating,$F42)-INDEX(Rating,AT$2),10,1),\"\")","v":""},{"$f":"IF($F42<>AU$2,1-_xlfn.NORM.DIST(0,INDEX(Rating,$F42)-INDEX(Rating,AU$2),10,1),\"\")","v":0.3332341852429006},{"$f":"IF($F42<>AV$2,1-_xlfn.NORM.DIST(0,INDEX(Rating,$F42)-INDEX(Rating,AV$2),10,1),\"\")","v":0.53227902374694103},{"$f":"IF($F42<>AW$2,1-_xlfn.NORM.DIST(0,INDEX(Rating,$F42)-INDEX(Rating,AW$2),10,1),\"\")","v":0.40052053190067471},{"$f":"IF($F42<>AX$2,1-_xlfn.NORM.DIST(0,INDEX(Rating,$F42)-INDEX(Rating,AX$2),10,1),\"\")","v":0.48564117947775109},{"$f":"IF($F42<>AY$2,1-_xlfn.NORM.DIST(0,INDEX(Rating,$F42)-INDEX(Rating,AY$2),10,1),\"\")","v":0.51435882052224891},{"$f":"IF($F42<>AZ$2,1-_xlfn.NORM.DIST(0,INDEX(Rating,$F42)-INDEX(Rating,AZ$2),10,1),\"\")","v":0.32275811025034784},{"$f":"IF($F42<>BA$2,1-_xlfn.NORM.DIST(0,INDEX(Rating,$F42)-INDEX(Rating,BA$2),10,1),\"\")","v":0.81057034522328819},{"$f":"IF($F42<>BB$2,1-_xlfn.NORM.DIST(0,INDEX(Rating,$F42)-INDEX(Rating,BB$2),10,1),\"\")","v":0.33797355861274336},{"$f":"IF($F42<>BC$2,1-_xlfn.NORM.DIST(0,INDEX(Rating,$F42)-INDEX(Rating,BC$2),10,1),\"\")","v":0.42152253186523714},{"$f":"IF($F42<>BD$2,1-_xlfn.NORM.DIST(0,INDEX(Rating,$F42)-INDEX(Rating,BD$2),10,1),\"\")","v":0.19599888972268853},{"$f":"IF($F42<>BE$2,1-_xlfn.NORM.DIST(0,INDEX(Rating,$F42)-INDEX(Rating,BE$2),10,1),\"\")","v":0.71803027223895965},{"$f":"IF($F42<>BF$2,1-_xlfn.NORM.DIST(0,INDEX(Rating,$F42)-INDEX(Rating,BF$2),10,1),\"\")","v":0.21040983989356377},{"$f":"IF($F42<>BG$2,1-_xlfn.NORM.DIST(0,INDEX(Rating,$F42)-INDEX(Rating,BG$2),10,1),\"\")","v":0.90147467095025224},{"$f":"IF($F42<>BH$2,1-_xlfn.NORM.DIST(0,INDEX(Rating,$F42)-INDEX(Rating,BH$2),10,1),\"\")","v":0.34974833440254849},{"$f":"IF($F42<>BI$2,1-_xlfn.NORM.DIST(0,INDEX(Rating,$F42)-INDEX(Rating,BI$2),10,1),\"\")","v":0.36692826396397227},{"$f":"IF($F42<>BJ$2,1-_xlfn.NORM.DIST(0,INDEX(Rating,$F42)-INDEX(Rating,BJ$2),10,1),\"\")","v":0.32527437075994203},{"$f":"IF($F42<>BK$2,1-_xlfn.NORM.DIST(0,INDEX(Rating,$F42)-INDEX(Rating,BK$2),10,1),\"\")","v":0.43841065865275319},{"$f":"IF($F42<>BL$2,1-_xlfn.NORM.DIST(0,INDEX(Rating,$F42)-INDEX(Rating,BL$2),10,1),\"\")","v":0.20696421402340626},{"$f":"IF($F42<>BM$2,1-_xlfn.NORM.DIST(0,INDEX(Rating,$F42)-INDEX(Rating,BM$2),10,1),\"\")","v":0.5874537835108864},{"$f":"IF($F42<>BN$2,1-_xlfn.NORM.DIST(0,INDEX(Rating,$F42)-INDEX(Rating,BN$2),10,1),\"\")","v":0.34273875547267385},{"$f":"IF($F42<>BO$2,1-_xlfn.NORM.DIST(0,INDEX(Rating,$F42)-INDEX(Rating,BO$2),10,1),\"\")","v":0.53625370447122811},{"$f":"IF($F42<>BP$2,1-_xlfn.NORM.DIST(0,INDEX(Rating,$F42)-INDEX(Rating,BP$2),10,1),\"\")","v":0.60603515866673141},{"$f":"IF($F42<>BQ$2,1-_xlfn.NORM.DIST(0,INDEX(Rating,$F42)-INDEX(Rating,BQ$2),10,1),\"\")","v":0.19572244231110714},{"$f":"IF($F42<>BR$2,1-_xlfn.NORM.DIST(0,INDEX(Rating,$F42)-INDEX(Rating,BR$2),10,1),\"\")","v":0.72240467524653529},{"$f":"IF($F42<>BS$2,1-_xlfn.NORM.DIST(0,INDEX(Rating,$F42)-INDEX(Rating,BS$2),10,1),\"\")","v":0.41956751610591603},{"$f":"IF($F42<>BT$2,1-_xlfn.NORM.DIST(0,INDEX(Rating,$F42)-INDEX(Rating,BT$2),10,1),\"\")","v":0.50039894221391124},{"$f":"IF($F42<>BU$2,1-_xlfn.NORM.DIST(0,INDEX(Rating,$F42)-INDEX(Rating,BU$2),10,1),\"\")","v":0.17592678208378898},{"$f":"IF($F42<>BV$2,1-_xlfn.NORM.DIST(0,INDEX(Rating,$F42)-INDEX(Rating,BV$2),10,1),\"\")","v":0.81753207377986126}]
[null,"Indiana",41,86.21,null,41,{"$f":"IF($F43<>G$2,1-_xlfn.NORM.DIST(0,INDEX(Rating,$F43)-INDEX(Rating,G$2),10,1),\"\")","v":0.25079184815996924},{"$f":"IF($F43<>H$2,1-_xlfn.NORM.DIST(0,INDEX(Rating,$F43)-INDEX(Rating,H$2),10,1),\"\")","v":0.94486714638799452},{"$f":"IF($F43<>I$2,1-_xlfn.NORM.DIST(0,INDEX(Rating,$F43)-INDEX(Rating,I$2),10,1),\"\")","v":0.97423263266473137},{"$f":"IF($F43<>J$2,1-_xlfn.NORM.DIST(0,INDEX(Rating,$F43)-INDEX(Rating,J$2),10,1),\"\")","v":0.52949480736890275},{"$f":"IF($F43<>K$2,1-_xlfn.NORM.DIST(0,INDEX(Rating,$F43)-INDEX(Rating,K$2),10,1),\"\")","v":0.51396012956275805},{"$f":"IF($F43<>L$2,1-_xlfn.NORM.DIST(0,INDEX(Rating,$F43)-INDEX(Rating,L$2),10,1),\"\")","v":0.54062166245757548},{"$f":"IF($F43<>M$2,1-_xlfn.NORM.DIST(0,INDEX(Rating,$F43)-INDEX(Rating,M$2),10,1),\"\")","v":0.70952582336485326},{"$f":"IF($F43<>N$2,1-_xlfn.NORM.DIST(0,INDEX(Rating,$F43)-INDEX(Rating,N$2),10,1),\"\")","v":0.54498472239277218},{"$f":"IF($F43<>O$2,1-_xlfn.NORM.DIST(0,INDEX(Rating,$F43)-INDEX(Rating,O$2),10,1),\"\")","v":0.74952635453903016},{"$f":"IF($F43<>P$2,1-_xlfn.NORM.DIST(0,INDEX(Rating,$F43)-INDEX(Rating,P$2),10,1),\"\")","v":0.44354000284321315},{"$f":"IF($F43<>Q$2,1-_xlfn.NORM.DIST(0,INDEX(Rating,$F43)-INDEX(Rating,Q$2),10,1),\"\")","v":0.61638495930190107},{"$f":"IF($F43<>R$2,1-_xlfn.NORM.DIST(0,INDEX(Rating,$F43)-INDEX(Rating,R$2),10,1),\"\")","v":0.4542225610221895},{"$f":"IF($F43<>S$2,1-_xlfn.NORM.DIST(0,INDEX(Rating,$F43)-INDEX(Rating,S$2),10,1),\"\")","v":0.83645694067230758},{"$f":"IF($F43<>T$2,1-_xlfn.NORM.DIST(0,INDEX(Rating,$F43)-INDEX(Rating,T$2),10,1),\"\")","v":0.64914011796145166},{"$f":"IF($F43<>U$2,1-_xlfn.NORM.DIST(0,INDEX(Rating,$F43)-INDEX(Rating,U$2),10,1),\"\")","v":0.58277588069165676},{"$f":"IF($F43<>V$2,1-_xlfn.NORM.DIST(0,INDEX(Rating,$F43)-INDEX(Rating,V$2),10,1),\"\")","v":0.35755570312302898},{"$f":"IF($F43<>W$2,1-_xlfn.NORM.DIST(0,INDEX(Rating,$F43)-INDEX(Rating,W$2),10,1),\"\")","v":0.83891294048916887},{"$f":"IF($F43<>X$2,1-_xlfn.NORM.DIST(0,INDEX(Rating,$F43)-INDEX(Rating,X$2),10,1),\"\")","v":0.38399693985353445},{"$f":"IF($F43<>Y$2,1-_xlfn.NORM.DIST(0,INDEX(Rating,$F43)-INDEX(Rating,Y$2),10,1),\"\")","v":0.98187000987492534},{"$f":"IF($F43<>Z$2,1-_xlfn.NORM.DIST(0,INDEX(Rating,$F43)-INDEX(Rating,Z$2),10,1),\"\")","v":0.98729132562765398},{"$f":"IF($F43<>AA$2,1-_xlfn.NORM.DIST(0,INDEX(Rating,$F43)-INDEX(Rating,AA$2),10,1),\"\")","v":0.48723602544931166},{"$f":"IF($F43<>AB$2,1-_xlfn.NORM.DIST(0,INDEX(Rating,$F43)-INDEX(Rating,AB$2),10,1),\"\")","v":0.60063845038438246},{"$f":"IF($F43<>AC$2,1-_xlfn.NORM.DIST(0,INDEX(Rating,$F43)-INDEX(Rating,AC$2),10,1),\"\")","v":0.45501527760722715},{"$f":"IF($F43<>AD$2,1-_xlfn.NORM.DIST(0,INDEX(Rating,$F43)-INDEX(Rating,AD$2),10,1),\"\")","v":0.7163390126734549},{"$f":"IF($F43<>AE$2,1-_xlfn.NORM.DIST(0,INDEX(Rating,$F43)-INDEX(Rating,AE$2),10,1),\"\")","v":0.37942168611025617},{"$f":"IF($F43<>AF$2,1-_xlfn.NORM.DIST(0,INDEX(Rating,$F43)-INDEX(Rating,AF$2),10,1),\"\")","v":0.81029936208154829},{"$f":"IF($F43<>AG$2,1-_xlfn.NORM.DIST(0,INDEX(Rating,$F43)-INDEX(Rating,AG$2),10,1),\"\")","v":0.51037133077400687},{"$f":"IF($F43<>AH$2,1-_xlfn.NORM.DIST(0,INDEX(Rating,$F43)-INDEX(Rating,AH$2),10,1),\"\")","v":0.58277588069165676},{"$f":"IF($F43<>AI$2,1-_xlfn.NORM.DIST(0,INDEX(Rating,$F43)-INDEX(Rating,AI$2),10,1),\"\")","v":0.5346642439457141},{"$f":"IF($F43<>AJ$2,1-_xlfn.NORM.DIST(0,INDEX(Rating,$F43)-INDEX(Rating,AJ$2),10,1),\"\")","v":0.87472200966972269},{"$f":"IF($F43<>AK$2,1-_xlfn.NORM.DIST(0,INDEX(Rating,$F43)-INDEX(Rating,AK$2),10,1),\"\")","v":0.55092551347931118},{"$f":"IF($F43<>AL$2,1-_xlfn.NORM.DIST(0,INDEX(Rating,$F43)-INDEX(Rating,AL$2),10,1),\"\")","v":0.58277588069165676},{"$f":"IF($F43<>AM$2,1-_xlfn.NORM.DIST(0,INDEX(Rating,$F43)-INDEX(Rating,AM$2),10,1),\"\")","v":0.44828321334543841},{"$f":"IF($F43<>AN$2,1-_xlfn.NORM.DIST(0,INDEX(Rating,$F43)-INDEX(Rating,AN$2),10,1),\"\")","v":0.82818061053282199},{"$f":"IF($F43<>AO$2,1-_xlfn.NORM.DIST(0,INDEX(Rating,$F43)-INDEX(Rating,AO$2),10,1),\"\")","v":0.28637706607116331},{"$f":"IF($F43<>AP$2,1-_xlfn.NORM.DIST(0,INDEX(Rating,$F43)-INDEX(Rating,AP$2),10,1),\"\")","v":0.91292670564729272},{"$f":"IF($F43<>AQ$2,1-_xlfn.NORM.DIST(0,INDEX(Rating,$F43)-INDEX(Rating,AQ$2),10,1),\"\")","v":0.55408935951765992},{"$f":"IF($F43<>AR$2,1-_xlfn.NORM.DIST(0,INDEX(Rating,$F43)-INDEX(Rating,AR$2),10,1),\"\")","v":0.53545904493944074},{"$f":"IF($F43<>AS$2,1-_xlfn.NORM.DIST(0,INDEX(Rating,$F43)-INDEX(Rating,AS$2),10,1),\"\")","v":0.58043248389408331},{"$f":"IF($F43<>AT$2,1-_xlfn.NORM.DIST(0,INDEX(Rating,$F43)-INDEX(Rating,AT$2),10,1),\"\")","v":0.6667658147570994},{"$f":"IF($F43<>AU$2,1-_xlfn.NORM.DIST(0,INDEX(Rating,$F43)-INDEX(Rating,AU$2),10,1),\"\")","v":""},{"$f":"IF($F43<>AV$2,1-_xlfn.NORM.DIST(0,INDEX(Rating,$F43)-INDEX(Rating,AV$2),10,1),\"\")","v":0.69567449521669544},{"$f":"IF($F43<>AW$2,1-_xlfn.NORM.DIST(0,INDEX(Rating,$F43)-INDEX(Rating,AW$2),10,1),\"\")","v":0.57103114915325748},{"$f":"IF($F43<>AX$2,1-_xlfn.NORM.DIST(0,INDEX(Rating,$F43)-INDEX(Rating,AX$2),10,1),\"\")","v":0.65357855601370785},{"$f":"IF($F43<>AY$2,1-_xlfn.NORM.DIST(0,INDEX(Rating,$F43)-INDEX(Rating,AY$2),10,1),\"\")","v":0.67975006096419122},{"$f":"IF($F43<>AZ$2,1-_xlfn.NORM.DIST(0,INDEX(Rating,$F43)-INDEX(Rating,AZ$2),10,1),\"\")","v":0.48843229529768895},{"$f":"IF($F43<>BA$2,1-_xlfn.NORM.DIST(0,INDEX(Rating,$F43)-INDEX(Rating,BA$2),10,1),\"\")","v":0.90507111819473374},{"$f":"IF($F43<>BB$2,1-_xlfn.NORM.DIST(0,INDEX(Rating,$F43)-INDEX(Rating,BB$2),10,1),\"\")","v":0.5051861035695564},{"$f":"IF($F43<>BC$2,1-_xlfn.NORM.DIST(0,INDEX(Rating,$F43)-INDEX(Rating,BC$2),10,1),\"\")","v":0.59211929711586908},{"$f":"IF($F43<>BD$2,1-_xlfn.NORM.DIST(0,INDEX(Rating,$F43)-INDEX(Rating,BD$2),10,1),\"\")","v":0.33541833737016957},{"$f":"IF($F43<>BE$2,1-_xlfn.NORM.DIST(0,INDEX(Rating,$F43)-INDEX(Rating,BE$2),10,1),\"\")","v":0.84327276888397151},{"$f":"IF($F43<>BF$2,1-_xlfn.NORM.DIST(0,INDEX(Rating,$F43)-INDEX(Rating,BF$2),10,1),\"\")","v":0.35420215809069866},{"$f":"IF($F43<>BG$2,1-_xlfn.NORM.DIST(0,INDEX(Rating,$F43)-INDEX(Rating,BG$2),10,1),\"\")","v":0.95737458805455111},{"$f":"IF($F43<>BH$2,1-_xlfn.NORM.DIST(0,INDEX(Rating,$F43)-INDEX(Rating,BH$2),10,1),\"\")","v":0.5179463455221387},{"$f":"IF($F43<>BI$2,1-_xlfn.NORM.DIST(0,INDEX(Rating,$F43)-INDEX(Rating,BI$2),10,1),\"\")","v":0.53625370447122744},{"$f":"IF($F43<>BJ$2,1-_xlfn.NORM.DIST(0,INDEX(Rating,$F43)-INDEX(Rating,BJ$2),10,1),\"\")","v":0.49122397776933791},{"$f":"IF($F43<>BK$2,1-_xlfn.NORM.DIST(0,INDEX(Rating,$F43)-INDEX(Rating,BK$2),10,1),\"\")","v":0.60872596688343084},{"$f":"IF($F43<>BL$2,1-_xlfn.NORM.DIST(0,INDEX(Rating,$F43)-INDEX(Rating,BL$2),10,1),\"\")","v":0.34974833440254849},{"$f":"IF($F43<>BM$2,1-_xlfn.NORM.DIST(0,INDEX(Rating,$F43)-INDEX(Rating,BM$2),10,1),\"\")","v":0.7427994138010755},{"$f":"IF($F43<>BN$2,1-_xlfn.NORM.DIST(0,INDEX(Rating,$F43)-INDEX(Rating,BN$2),10,1),\"\")","v":0.51037133077400687},{"$f":"IF($F43<>BO$2,1-_xlfn.NORM.DIST(0,INDEX(Rating,$F43)-INDEX(Rating,BO$2),10,1),\"\")","v":0.69916483470765489},{"$f":"IF($F43<>BP$2,1-_xlfn.NORM.DIST(0,INDEX(Rating,$F43)-INDEX(Rating,BP$2),10,1),\"\")","v":0.75803634777692697},{"$f":"IF($F43<>BQ$2,1-_xlfn.NORM.DIST(0,INDEX(Rating,$F43)-INDEX(Rating,BQ$2),10,1),\"\")","v":0.33505392300477577},{"$f":"IF($F43<>BR$2,1-_xlfn.NORM.DIST(0,INDEX(Rating,$F43)-INDEX(Rating,BR$2),10,1),\"\")","v":0.84637278064360533},{"$f":"IF($F43<>BS$2,1-_xlfn.NORM.DIST(0,INDEX(Rating,$F43)-INDEX(Rating,BS$2),10,1),\"\")","v":0.59017687973903366},{"$f":"IF($F43<>BT$2,1-_xlfn.NORM.DIST(0,INDEX(Rating,$F43)-INDEX(Rating,BT$2),10,1),\"\")","v":0.66712929341660299},{"$f":"IF($F43<>BU$2,1-_xlfn.NORM.DIST(0,INDEX(Rating,$F43)-INDEX(Rating,BU$2),10,1),\"\")","v":0.30853753872598688},{"$f":"IF($F43<>BV$2,1-_xlfn.NORM.DIST(0,INDEX(Rating,$F43)-INDEX(Rating,BV$2),10,1),\"\")","v":0.90938868158179509}]
[null,"Kent St",42,81.09,null,42,{"$f":"IF($F44<>G$2,1-_xlfn.NORM.DIST(0,INDEX(Rating,$F44)-INDEX(Rating,G$2),10,1),\"\")","v":0.11820653140911896},{"$f":"IF($F44<>H$2,1-_xlfn.NORM.DIST(0,INDEX(Rating,$F44)-INDEX(Rating,H$2),10,1),\"\")","v":0.86103917236608918},{"$f":"IF($F44<>I$2,1-_xlfn.NORM.DIST(0,INDEX(Rating,$F44)-INDEX(Rating,I$2),10,1),\"\")","v":0.9243564512011202},{"$f":"IF($F44<>J$2,1-_xlfn.NORM.DIST(0,INDEX(Rating,$F44)-INDEX(Rating,J$2),10,1),\"\")","v":0.33069314171445119},{"$f":"IF($F44<>K$2,1-_xlfn.NORM.DIST(0,INDEX(Rating,$F44)-INDEX(Rating,K$2),10,1),\"\")","v":0.31668106081912806},{"$f":"IF($F44<>L$2,1-_xlfn.NORM.DIST(0,INDEX(Rating,$F44)-INDEX(Rating,L$2),10,1),\"\")","v":0.34090297377232281},{"$f":"IF($F44<>M$2,1-_xlfn.NORM.DIST(0,INDEX(Rating,$F44)-INDEX(Rating,M$2),10,1),\"\")","v":0.51595343685283102},{"$f":"IF($F44<>N$2,1-_xlfn.NORM.DIST(0,INDEX(Rating,$F44)-INDEX(Rating,N$2),10,1),\"\")","v":0.34494660213243211},{"$f":"IF($F44<>O$2,1-_xlfn.NORM.DIST(0,INDEX(Rating,$F44)-INDEX(Rating,O$2),10,1),\"\")","v":0.56395329967957597},{"$f":"IF($F44<>P$2,1-_xlfn.NORM.DIST(0,INDEX(Rating,$F44)-INDEX(Rating,P$2),10,1),\"\")","v":0.25655590280719975},{"$f":"IF($F44<>Q$2,1-_xlfn.NORM.DIST(0,INDEX(Rating,$F44)-INDEX(Rating,Q$2),10,1),\"\")","v":0.41449387378244418},{"$f":"IF($F44<>R$2,1-_xlfn.NORM.DIST(0,INDEX(Rating,$F44)-INDEX(Rating,R$2),10,1),\"\")","v":0.26532961757908446},{"$f":"IF($F44<>S$2,1-_xlfn.NORM.DIST(0,INDEX(Rating,$F44)-INDEX(Rating,S$2),10,1),\"\")","v":0.6801077051465837},{"$f":"IF($F44<>T$2,1-_xlfn.NORM.DIST(0,INDEX(Rating,$F44)-INDEX(Rating,T$2),10,1),\"\")","v":0.44867882441450613},{"$f":"IF($F44<>U$2,1-_xlfn.NORM.DIST(0,INDEX(Rating,$F44)-INDEX(Rating,U$2),10,1),\"\")","v":0.38094493079887415},{"$f":"IF($F44<>V$2,1-_xlfn.NORM.DIST(0,INDEX(Rating,$F44)-INDEX(Rating,V$2),10,1),\"\")","v":0.19024331903666347},{"$f":"IF($F44<>W$2,1-_xlfn.NORM.DIST(0,INDEX(Rating,$F44)-INDEX(Rating,W$2),10,1),\"\")","v":0.68367489748067689},{"$f":"IF($F44<>X$2,1-_xlfn.NORM.DIST(0,INDEX(Rating,$F44)-INDEX(Rating,X$2),10,1),\"\")","v":0.20983324157565408},{"$f":"IF($F44<>Y$2,1-_xlfn.NORM.DIST(0,INDEX(Rating,$F44)-INDEX(Rating,Y$2),10,1),\"\")","v":0.94317521475611621},{"$f":"IF($F44<>Z$2,1-_xlfn.NORM.DIST(0,INDEX(Rating,$F44)-INDEX(Rating,Z$2),10,1),\"\")","v":0.95755573748149192},{"$f":"IF($F44<>AA$2,1-_xlfn.NORM.DIST(0,INDEX(Rating,$F44)-INDEX(Rating,AA$2),10,1),\"\")","v":0.2932207364238606},{"$f":"IF($F44<>AB$2,1-_xlfn.NORM.DIST(0,INDEX(Rating,$F44)-INDEX(Rating,AB$2),10,1),\"\")","v":0.39858938653611653},{"$f":"IF($F44<>AC$2,1-_xlfn.NORM.DIST(0,INDEX(Rating,$F44)-INDEX(Rating,AC$2),10,1),\"\")","v":0.26598552904870054},{"$f":"IF($F44<>AD$2,1-_xlfn.NORM.DIST(0,INDEX(Rating,$F44)-INDEX(Rating,AD$2),10,1),\"\")","v":0.52392218265410717},{"$f":"IF($F44<>AE$2,1-_xlfn.NORM.DIST(0,INDEX(Rating,$F44)-INDEX(Rating,AE$2),10,1),\"\")","v":0.2063932067936235},{"$f":"IF($F44<>AF$2,1-_xlfn.NORM.DIST(0,INDEX(Rating,$F44)-INDEX(Rating,AF$2),10,1),\"\")","v":0.64319049099784065},{"$f":"IF($F44<>AG$2,1-_xlfn.NORM.DIST(0,INDEX(Rating,$F44)-INDEX(Rating,AG$2),10,1),\"\")","v":0.31348358297091361},{"$f":"IF($F44<>AH$2,1-_xlfn.NORM.DIST(0,INDEX(Rating,$F44)-INDEX(Rating,AH$2),10,1),\"\")","v":0.38094493079887415},{"$f":"IF($F44<>AI$2,1-_xlfn.NORM.DIST(0,INDEX(Rating,$F44)-INDEX(Rating,AI$2),10,1),\"\")","v":0.33541833737016957},{"$f":"IF($F44<>AJ$2,1-_xlfn.NORM.DIST(0,INDEX(Rating,$F44)-INDEX(Rating,AJ$2),10,1),\"\")","v":0.73793757820100958},{"$f":"IF($F44<>AK$2,1-_xlfn.NORM.DIST(0,INDEX(Rating,$F44)-INDEX(Rating,AK$2),10,1),\"\")","v":0.35048922374918845},{"$f":"IF($F44<>AL$2,1-_xlfn.NORM.DIST(0,INDEX(Rating,$F44)-INDEX(Rating,AL$2),10,1),\"\")","v":0.38094493079887415},{"$f":"IF($F44<>AM$2,1-_xlfn.NORM.DIST(0,INDEX(Rating,$F44)-INDEX(Rating,AM$2),10,1),\"\")","v":0.26043659149992104},{"$f":"IF($F44<>AN$2,1-_xlfn.NORM.DIST(0,INDEX(Rating,$F44)-INDEX(Rating,AN$2),10,1),\"\")","v":0.66821878628098119},{"$f":"IF($F44<>AO$2,1-_xlfn.NORM.DIST(0,INDEX(Rating,$F44)-INDEX(Rating,AO$2),10,1),\"\")","v":0.14096362820049246},{"$f":"IF($F44<>AP$2,1-_xlfn.NORM.DIST(0,INDEX(Rating,$F44)-INDEX(Rating,AP$2),10,1),\"\")","v":0.80150243927567555},{"$f":"IF($F44<>AQ$2,1-_xlfn.NORM.DIST(0,INDEX(Rating,$F44)-INDEX(Rating,AQ$2),10,1),\"\")","v":0.35345844800948067},{"$f":"IF($F44<>AR$2,1-_xlfn.NORM.DIST(0,INDEX(Rating,$F44)-INDEX(Rating,AR$2),10,1),\"\")","v":0.33614763052910779},{"$f":"IF($F44<>AS$2,1-_xlfn.NORM.DIST(0,INDEX(Rating,$F44)-INDEX(Rating,AS$2),10,1),\"\")","v":0.37866076341052146},{"$f":"IF($F44<>AT$2,1-_xlfn.NORM.DIST(0,INDEX(Rating,$F44)-INDEX(Rating,AT$2),10,1),\"\")","v":0.46772097625305897},{"$f":"IF($F44<>AU$2,1-_xlfn.NORM.DIST(0,INDEX(Rating,$F44)-INDEX(Rating,AU$2),10,1),\"\")","v":0.30432550478330456},{"$f":"IF($F44<>AV$2,1-_xlfn.NORM.DIST(0,INDEX(Rating,$F44)-INDEX(Rating,AV$2),10,1),\"\")","v":""},{"$f":"IF($F44<>AW$2,1-_xlfn.NORM.DIST(0,INDEX(Rating,$F44)-INDEX(Rating,AW$2),10,1),\"\")","v":0.36956714157750215},{"$f":"IF($F44<>AX$2,1-_xlfn.NORM.DIST(0,INDEX(Rating,$F44)-INDEX(Rating,AX$2),10,1),\"\")","v":0.45343002674093991},{"$f":"IF($F44<>AY$2,1-_xlfn.NORM.DIST(0,INDEX(Rating,$F44)-INDEX(Rating,AY$2),10,1),\"\")","v":0.48205365447786086},{"$f":"IF($F44<>AZ$2,1-_xlfn.NORM.DIST(0,INDEX(Rating,$F44)-INDEX(Rating,AZ$2),10,1),\"\")","v":0.29425379135580965},{"$f":"IF($F44<>BA$2,1-_xlfn.NORM.DIST(0,INDEX(Rating,$F44)-INDEX(Rating,BA$2),10,1),\"\")","v":0.78785479400462521},{"$f":"IF($F44<>BB$2,1-_xlfn.NORM.DIST(0,INDEX(Rating,$F44)-INDEX(Rating,BB$2),10,1),\"\")","v":0.30888969202505467},{"$f":"IF($F44<>BC$2,1-_xlfn.NORM.DIST(0,INDEX(Rating,$F44)-INDEX(Rating,BC$2),10,1),\"\")","v":0.3901224123823025},{"$f":"IF($F44<>BD$2,1-_xlfn.NORM.DIST(0,INDEX(Rating,$F44)-INDEX(Rating,BD$2),10,1),\"\")","v":0.17437927895941463},{"$f":"IF($F44<>BE$2,1-_xlfn.NORM.DIST(0,INDEX(Rating,$F44)-INDEX(Rating,BE$2),10,1),\"\")","v":0.6900527945273307},{"$f":"IF($F44<>BF$2,1-_xlfn.NORM.DIST(0,INDEX(Rating,$F44)-INDEX(Rating,BF$2),10,1),\"\")","v":0.18780876360245602},{"$f":"IF($F44<>BG$2,1-_xlfn.NORM.DIST(0,INDEX(Rating,$F44)-INDEX(Rating,BG$2),10,1),\"\")","v":0.88666857731109006},{"$f":"IF($F44<>BH$2,1-_xlfn.NORM.DIST(0,INDEX(Rating,$F44)-INDEX(Rating,BH$2),10,1),\"\")","v":0.32024993903580834},{"$f":"IF($F44<>BI$2,1-_xlfn.NORM.DIST(0,INDEX(Rating,$F44)-INDEX(Rating,BI$2),10,1),\"\")","v":0.33687754093090905},{"$f":"IF($F44<>BJ$2,1-_xlfn.NORM.DIST(0,INDEX(Rating,$F44)-INDEX(Rating,BJ$2),10,1),\"\")","v":0.29667076703441864},{"$f":"IF($F44<>BK$2,1-_xlfn.NORM.DIST(0,INDEX(Rating,$F44)-INDEX(Rating,BK$2),10,1),\"\")","v":0.40671633508726868},{"$f":"IF($F44<>BL$2,1-_xlfn.NORM.DIST(0,INDEX(Rating,$F44)-INDEX(Rating,BL$2),10,1),\"\")","v":0.18459277473224911},{"$f":"IF($F44<>BM$2,1-_xlfn.NORM.DIST(0,INDEX(Rating,$F44)-INDEX(Rating,BM$2),10,1),\"\")","v":0.55567000480590667},{"$f":"IF($F44<>BN$2,1-_xlfn.NORM.DIST(0,INDEX(Rating,$F44)-INDEX(Rating,BN$2),10,1),\"\")","v":0.31348358297091361},{"$f":"IF($F44<>BO$2,1-_xlfn.NORM.DIST(0,INDEX(Rating,$F44)-INDEX(Rating,BO$2),10,1),\"\")","v":0.50398935631463193},{"$f":"IF($F44<>BP$2,1-_xlfn.NORM.DIST(0,INDEX(Rating,$F44)-INDEX(Rating,BP$2),10,1),\"\")","v":0.57456167440985839},{"$f":"IF($F44<>BQ$2,1-_xlfn.NORM.DIST(0,INDEX(Rating,$F44)-INDEX(Rating,BQ$2),10,1),\"\")","v":0.17412220505336484},{"$f":"IF($F44<>BR$2,1-_xlfn.NORM.DIST(0,INDEX(Rating,$F44)-INDEX(Rating,BR$2),10,1),\"\")","v":0.69462388794267915},{"$f":"IF($F44<>BS$2,1-_xlfn.NORM.DIST(0,INDEX(Rating,$F44)-INDEX(Rating,BS$2),10,1),\"\")","v":0.38820519032133083},{"$f":"IF($F44<>BT$2,1-_xlfn.NORM.DIST(0,INDEX(Rating,$F44)-INDEX(Rating,BT$2),10,1),\"\")","v":0.46811862798601278},{"$f":"IF($F44<>BU$2,1-_xlfn.NORM.DIST(0,INDEX(Rating,$F44)-INDEX(Rating,BU$2),10,1),\"\")","v":0.15576902671227688},{"$f":"IF($F44<>BV$2,1-_xlfn.NORM.DIST(0,INDEX(Rating,$F44)-INDEX(Rating,BV$2),10,1),\"\")","v":0.79531420465274738}]
[null,"Iowa St",43,84.42,null,43,{"$f":"IF($F45<>G$2,1-_xlfn.NORM.DIST(0,INDEX(Rating,$F45)-INDEX(Rating,G$2),10,1),\"\")","v":0.1973846763929723},{"$f":"IF($F45<>H$2,1-_xlfn.NORM.DIST(0,INDEX(Rating,$F45)-INDEX(Rating,H$2),10,1),\"\")","v":0.92190461761411691},{"$f":"IF($F45<>I$2,1-_xlfn.NORM.DIST(0,INDEX(Rating,$F45)-INDEX(Rating,I$2),10,1),\"\")","v":0.96146954817025077},{"$f":"IF($F45<>J$2,1-_xlfn.NORM.DIST(0,INDEX(Rating,$F45)-INDEX(Rating,J$2),10,1),\"\")","v":0.45818790436029544},{"$f":"IF($F45<>K$2,1-_xlfn.NORM.DIST(0,INDEX(Rating,$F45)-INDEX(Rating,K$2),10,1),\"\")","v":0.44275023481823006},{"$f":"IF($F45<>L$2,1-_xlfn.NORM.DIST(0,INDEX(Rating,$F45)-INDEX(Rating,L$2),10,1),\"\")","v":0.46931177248455069},{"$f":"IF($F45<>M$2,1-_xlfn.NORM.DIST(0,INDEX(Rating,$F45)-INDEX(Rating,M$2),10,1),\"\")","v":0.64542577802001366},{"$f":"IF($F45<>N$2,1-_xlfn.NORM.DIST(0,INDEX(Rating,$F45)-INDEX(Rating,N$2),10,1),\"\")","v":0.47368891272807723},{"$f":"IF($F45<>O$2,1-_xlfn.NORM.DIST(0,INDEX(Rating,$F45)-INDEX(Rating,O$2),10,1),\"\")","v":0.68934691025735528},{"$f":"IF($F45<>P$2,1-_xlfn.NORM.DIST(0,INDEX(Rating,$F45)-INDEX(Rating,P$2),10,1),\"\")","v":0.37410519545209997},{"$f":"IF($F45<>Q$2,1-_xlfn.NORM.DIST(0,INDEX(Rating,$F45)-INDEX(Rating,Q$2),10,1),\"\")","v":0.54656997325906009},{"$f":"IF($F45<>R$2,1-_xlfn.NORM.DIST(0,INDEX(Rating,$F45)-INDEX(Rating,R$2),10,1),\"\")","v":0.38437895168583092},{"$f":"IF($F45<>S$2,1-_xlfn.NORM.DIST(0,INDEX(Rating,$F45)-INDEX(Rating,S$2),10,1),\"\")","v":0.7884341770753851},{"$f":"IF($F45<>T$2,1-_xlfn.NORM.DIST(0,INDEX(Rating,$F45)-INDEX(Rating,T$2),10,1),\"\")","v":0.58082325054489603},{"$f":"IF($F45<>U$2,1-_xlfn.NORM.DIST(0,INDEX(Rating,$F45)-INDEX(Rating,U$2),10,1),\"\")","v":0.5119664734141125},{"$f":"IF($F45<>V$2,1-_xlfn.NORM.DIST(0,INDEX(Rating,$F45)-INDEX(Rating,V$2),10,1),\"\")","v":0.2932207364238606},{"$f":"IF($F45<>W$2,1-_xlfn.NORM.DIST(0,INDEX(Rating,$F45)-INDEX(Rating,W$2),10,1),\"\")","v":0.79131716462454094},{"$f":"IF($F45<>X$2,1-_xlfn.NORM.DIST(0,INDEX(Rating,$F45)-INDEX(Rating,X$2),10,1),\"\")","v":0.31774995361257874},{"$f":"IF($F45<>Y$2,1-_xlfn.NORM.DIST(0,INDEX(Rating,$F45)-INDEX(Rating,Y$2),10,1),\"\")","v":0.97225374819469212},{"$f":"IF($F45<>Z$2,1-_xlfn.NORM.DIST(0,INDEX(Rating,$F45)-INDEX(Rating,Z$2),10,1),\"\")","v":0.98010874189900754},{"$f":"IF($F45<>AA$2,1-_xlfn.NORM.DIST(0,INDEX(Rating,$F45)-INDEX(Rating,AA$2),10,1),\"\")","v":0.41644363567754672},{"$f":"IF($F45<>AB$2,1-_xlfn.NORM.DIST(0,INDEX(Rating,$F45)-INDEX(Rating,AB$2),10,1),\"\")","v":0.53029045090025684},{"$f":"IF($F45<>AC$2,1-_xlfn.NORM.DIST(0,INDEX(Rating,$F45)-INDEX(Rating,AC$2),10,1),\"\")","v":0.38514331198515861},{"$f":"IF($F45<>AD$2,1-_xlfn.NORM.DIST(0,INDEX(Rating,$F45)-INDEX(Rating,AD$2),10,1),\"\")","v":0.65284025930690437},{"$f":"IF($F45<>AE$2,1-_xlfn.NORM.DIST(0,INDEX(Rating,$F45)-INDEX(Rating,AE$2),10,1),\"\")","v":0.31348358297091361},{"$f":"IF($F45<>AF$2,1-_xlfn.NORM.DIST(0,INDEX(Rating,$F45)-INDEX(Rating,AF$2),10,1),\"\")","v":0.75803634777692697},{"$f":"IF($F45<>AG$2,1-_xlfn.NORM.DIST(0,INDEX(Rating,$F45)-INDEX(Rating,AG$2),10,1),\"\")","v":0.43919913764520113},{"$f":"IF($F45<>AH$2,1-_xlfn.NORM.DIST(0,INDEX(Rating,$F45)-INDEX(Rating,AH$2),10,1),\"\")","v":0.5119664734141125},{"$f":"IF($F45<>AI$2,1-_xlfn.NORM.DIST(0,INDEX(Rating,$F45)-INDEX(Rating,AI$2),10,1),\"\")","v":0.46334901979645049},{"$f":"IF($F45<>AJ$2,1-_xlfn.NORM.DIST(0,INDEX(Rating,$F45)-INDEX(Rating,AJ$2),10,1),\"\")","v":0.83397675393647053},{"$f":"IF($F45<>AK$2,1-_xlfn.NORM.DIST(0,INDEX(Rating,$F45)-INDEX(Rating,AK$2),10,1),\"\")","v":0.4796627602748692},{"$f":"IF($F45<>AL$2,1-_xlfn.NORM.DIST(0,INDEX(Rating,$F45)-INDEX(Rating,AL$2),10,1),\"\")","v":0.5119664734141125},{"$f":"IF($F45<>AM$2,1-_xlfn.NORM.DIST(0,INDEX(Rating,$F45)-INDEX(Rating,AM$2),10,1),\"\")","v":0.37866076341052146},{"$f":"IF($F45<>AN$2,1-_xlfn.NORM.DIST(0,INDEX(Rating,$F45)-INDEX(Rating,AN$2),10,1),\"\")","v":0.7787564075527984},{"$f":"IF($F45<>AO$2,1-_xlfn.NORM.DIST(0,INDEX(Rating,$F45)-INDEX(Rating,AO$2),10,1),\"\")","v":0.22874084021561858},{"$f":"IF($F45<>AP$2,1-_xlfn.NORM.DIST(0,INDEX(Rating,$F45)-INDEX(Rating,AP$2),10,1),\"\")","v":0.88099989254479927},{"$f":"IF($F45<>AQ$2,1-_xlfn.NORM.DIST(0,INDEX(Rating,$F45)-INDEX(Rating,AQ$2),10,1),\"\")","v":0.48285076692751228},{"$f":"IF($F45<>AR$2,1-_xlfn.NORM.DIST(0,INDEX(Rating,$F45)-INDEX(Rating,AR$2),10,1),\"\")","v":0.46414360741482819},{"$f":"IF($F45<>AS$2,1-_xlfn.NORM.DIST(0,INDEX(Rating,$F45)-INDEX(Rating,AS$2),10,1),\"\")","v":0.50957369564603039},{"$f":"IF($F45<>AT$2,1-_xlfn.NORM.DIST(0,INDEX(Rating,$F45)-INDEX(Rating,AT$2),10,1),\"\")","v":0.59947946809932529},{"$f":"IF($F45<>AU$2,1-_xlfn.NORM.DIST(0,INDEX(Rating,$F45)-INDEX(Rating,AU$2),10,1),\"\")","v":0.42896885084674252},{"$f":"IF($F45<>AV$2,1-_xlfn.NORM.DIST(0,INDEX(Rating,$F45)-INDEX(Rating,AV$2),10,1),\"\")","v":0.63043285842249785},{"$f":"IF($F45<>AW$2,1-_xlfn.NORM.DIST(0,INDEX(Rating,$F45)-INDEX(Rating,AW$2),10,1),\"\")","v":""},{"$f":"IF($F45<>AX$2,1-_xlfn.NORM.DIST(0,INDEX(Rating,$F45)-INDEX(Rating,AX$2),10,1),\"\")","v":0.58550612621755582},{"$f":"IF($F45<>AY$2,1-_xlfn.NORM.DIST(0,INDEX(Rating,$F45)-INDEX(Rating,AY$2),10,1),\"\")","v":0.61332663066644255},{"$f":"IF($F45<>AZ$2,1-_xlfn.NORM.DIST(0,INDEX(Rating,$F45)-INDEX(Rating,AZ$2),10,1),\"\")","v":0.41761448367674903},{"$f":"IF($F45<>BA$2,1-_xlfn.NORM.DIST(0,INDEX(Rating,$F45)-INDEX(Rating,BA$2),10,1),\"\")","v":0.87118278279216588},{"$f":"IF($F45<>BB$2,1-_xlfn.NORM.DIST(0,INDEX(Rating,$F45)-INDEX(Rating,BB$2),10,1),\"\")","v":0.43407847508611475},{"$f":"IF($F45<>BC$2,1-_xlfn.NORM.DIST(0,INDEX(Rating,$F45)-INDEX(Rating,BC$2),10,1),\"\")","v":0.52153241787839},{"$f":"IF($F45<>BD$2,1-_xlfn.NORM.DIST(0,INDEX(Rating,$F45)-INDEX(Rating,BD$2),10,1),\"\")","v":0.27292182108578089},{"$f":"IF($F45<>BE$2,1-_xlfn.NORM.DIST(0,INDEX(Rating,$F45)-INDEX(Rating,BE$2),10,1),\"\")","v":0.79644779638634744},{"$f":"IF($F45<>BF$2,1-_xlfn.NORM.DIST(0,INDEX(Rating,$F45)-INDEX(Rating,BF$2),10,1),\"\")","v":0.29013170508402619},{"$f":"IF($F45<>BG$2,1-_xlfn.NORM.DIST(0,INDEX(Rating,$F45)-INDEX(Rating,BG$2),10,1),\"\")","v":0.93846320320240695},{"$f":"IF($F45<>BH$2,1-_xlfn.NORM.DIST(0,INDEX(Rating,$F45)-INDEX(Rating,BH$2),10,1),\"\")","v":0.44670128721754643},{"$f":"IF($F45<>BI$2,1-_xlfn.NORM.DIST(0,INDEX(Rating,$F45)-INDEX(Rating,BI$2),10,1),\"\")","v":0.46493833807180218},{"$f":"IF($F45<>BJ$2,1-_xlfn.NORM.DIST(0,INDEX(Rating,$F45)-INDEX(Rating,BJ$2),10,1),\"\")","v":0.42034928703374785},{"$f":"IF($F45<>BK$2,1-_xlfn.NORM.DIST(0,INDEX(Rating,$F45)-INDEX(Rating,BK$2),10,1),\"\")","v":0.53863680277477333},{"$f":"IF($F45<>BL$2,1-_xlfn.NORM.DIST(0,INDEX(Rating,$F45)-INDEX(Rating,BL$2),10,1),\"\")","v":0.28603688208997891},{"$f":"IF($F45<>BM$2,1-_xlfn.NORM.DIST(0,INDEX(Rating,$F45)-INDEX(Rating,BM$2),10,1),\"\")","v":0.68189341041072082},{"$f":"IF($F45<>BN$2,1-_xlfn.NORM.DIST(0,INDEX(Rating,$F45)-INDEX(Rating,BN$2),10,1),\"\")","v":0.43919913764520113},{"$f":"IF($F45<>BO$2,1-_xlfn.NORM.DIST(0,INDEX(Rating,$F45)-INDEX(Rating,BO$2),10,1),\"\")","v":0.63420076992237595},{"$f":"IF($F45<>BP$2,1-_xlfn.NORM.DIST(0,INDEX(Rating,$F45)-INDEX(Rating,BP$2),10,1),\"\")","v":0.69881661431538378},{"$f":"IF($F45<>BQ$2,1-_xlfn.NORM.DIST(0,INDEX(Rating,$F45)-INDEX(Rating,BQ$2),10,1),\"\")","v":0.27258949834937707},{"$f":"IF($F45<>BR$2,1-_xlfn.NORM.DIST(0,INDEX(Rating,$F45)-INDEX(Rating,BR$2),10,1),\"\")","v":0.8001060232739432},{"$f":"IF($F45<>BS$2,1-_xlfn.NORM.DIST(0,INDEX(Rating,$F45)-INDEX(Rating,BS$2),10,1),\"\")","v":0.5195403520294235},{"$f":"IF($F45<>BT$2,1-_xlfn.NORM.DIST(0,INDEX(Rating,$F45)-INDEX(Rating,BT$2),10,1),\"\")","v":0.59986589340140517},{"$f":"IF($F45<>BU$2,1-_xlfn.NORM.DIST(0,INDEX(Rating,$F45)-INDEX(Rating,BU$2),10,1),\"\")","v":0.24856893097448074},{"$f":"IF($F45<>BV$2,1-_xlfn.NORM.DIST(0,INDEX(Rating,$F45)-INDEX(Rating,BV$2),10,1),\"\")","v":0.87656798179290918}]
[null,"Mississippi St",44,82.26,null,44,{"$f":"IF($F46<>G$2,1-_xlfn.NORM.DIST(0,INDEX(Rating,$F46)-INDEX(Rating,G$2),10,1),\"\")","v":0.14298591797062488},{"$f":"IF($F46<>H$2,1-_xlfn.NORM.DIST(0,INDEX(Rating,$F46)-INDEX(Rating,H$2),10,1),\"\")","v":0.8853182359558911},{"$f":"IF($F46<>I$2,1-_xlfn.NORM.DIST(0,INDEX(Rating,$F46)-INDEX(Rating,I$2),10,1),\"\")","v":0.93966888819592365},{"$f":"IF($F46<>J$2,1-_xlfn.NORM.DIST(0,INDEX(Rating,$F46)-INDEX(Rating,J$2),10,1),\"\")","v":0.37410519545209997},{"$f":"IF($F46<>K$2,1-_xlfn.NORM.DIST(0,INDEX(Rating,$F46)-INDEX(Rating,K$2),10,1),\"\")","v":0.35942356678200893},{"$f":"IF($F46<>L$2,1-_xlfn.NORM.DIST(0,INDEX(Rating,$F46)-INDEX(Rating,L$2),10,1),\"\")","v":0.38476107584610819},{"$f":"IF($F46<>M$2,1-_xlfn.NORM.DIST(0,INDEX(Rating,$F46)-INDEX(Rating,M$2),10,1),\"\")","v":0.56237757594917159},{"$f":"IF($F46<>N$2,1-_xlfn.NORM.DIST(0,INDEX(Rating,$F46)-INDEX(Rating,N$2),10,1),\"\")","v":0.38897175515058557},{"$f":"IF($F46<>O$2,1-_xlfn.NORM.DIST(0,INDEX(Rating,$F46)-INDEX(Rating,O$2),10,1),\"\")","v":0.60949382062355106},{"$f":"IF($F46<>P$2,1-_xlfn.NORM.DIST(0,INDEX(Rating,$F46)-INDEX(Rating,P$2),10,1),\"\")","v":0.29563380702684794},{"$f":"IF($F46<>Q$2,1-_xlfn.NORM.DIST(0,INDEX(Rating,$F46)-INDEX(Rating,Q$2),10,1),\"\")","v":0.46056913505257357},{"$f":"IF($F46<>R$2,1-_xlfn.NORM.DIST(0,INDEX(Rating,$F46)-INDEX(Rating,R$2),10,1),\"\")","v":0.30502573089751961},{"$f":"IF($F46<>S$2,1-_xlfn.NORM.DIST(0,INDEX(Rating,$F46)-INDEX(Rating,S$2),10,1),\"\")","v":0.72072614161801729},{"$f":"IF($F46<>T$2,1-_xlfn.NORM.DIST(0,INDEX(Rating,$F46)-INDEX(Rating,T$2),10,1),\"\")","v":0.49521280752807817},{"$f":"IF($F46<>U$2,1-_xlfn.NORM.DIST(0,INDEX(Rating,$F46)-INDEX(Rating,U$2),10,1),\"\")","v":0.42622238066427276},{"$f":"IF($F46<>V$2,1-_xlfn.NORM.DIST(0,INDEX(Rating,$F46)-INDEX(Rating,V$2),10,1),\"\")","v":0.2236272924375996},{"$f":"IF($F46<>W$2,1-_xlfn.NORM.DIST(0,INDEX(Rating,$F46)-INDEX(Rating,W$2),10,1),\"\")","v":0.72407826450767765},{"$f":"IF($F46<>X$2,1-_xlfn.NORM.DIST(0,INDEX(Rating,$F46)-INDEX(Rating,X$2),10,1),\"\")","v":0.24509709367430976},{"$f":"IF($F46<>Y$2,1-_xlfn.NORM.DIST(0,INDEX(Rating,$F46)-INDEX(Rating,Y$2),10,1),\"\")","v":0.95534040819273969},{"$f":"IF($F46<>Z$2,1-_xlfn.NORM.DIST(0,INDEX(Rating,$F46)-INDEX(Rating,Z$2),10,1),\"\")","v":0.96711588134083615},{"$f":"IF($F46<>AA$2,1-_xlfn.NORM.DIST(0,INDEX(Rating,$F46)-INDEX(Rating,AA$2),10,1),\"\")","v":0.33468966384682786},{"$f":"IF($F46<>AB$2,1-_xlfn.NORM.DIST(0,INDEX(Rating,$F46)-INDEX(Rating,AB$2),10,1),\"\")","v":0.44432999519409389},{"$f":"IF($F46<>AC$2,1-_xlfn.NORM.DIST(0,INDEX(Rating,$F46)-INDEX(Rating,AC$2),10,1),\"\")","v":0.30572667160651434},{"$f":"IF($F46<>AD$2,1-_xlfn.NORM.DIST(0,INDEX(Rating,$F46)-INDEX(Rating,AD$2),10,1),\"\")","v":0.57024580521090451},{"$f":"IF($F46<>AE$2,1-_xlfn.NORM.DIST(0,INDEX(Rating,$F46)-INDEX(Rating,AE$2),10,1),\"\")","v":0.2413395817238132},{"$f":"IF($F46<>AF$2,1-_xlfn.NORM.DIST(0,INDEX(Rating,$F46)-INDEX(Rating,AF$2),10,1),\"\")","v":0.68580706543934844},{"$f":"IF($F46<>AG$2,1-_xlfn.NORM.DIST(0,INDEX(Rating,$F46)-INDEX(Rating,AG$2),10,1),\"\")","v":0.35606386238663279},{"$f":"IF($F46<>AH$2,1-_xlfn.NORM.DIST(0,INDEX(Rating,$F46)-INDEX(Rating,AH$2),10,1),\"\")","v":0.42622238066427276},{"$f":"IF($F46<>AI$2,1-_xlfn.NORM.DIST(0,INDEX(Rating,$F46)-INDEX(Rating,AI$2),10,1),\"\")","v":0.37904116616934669},{"$f":"IF($F46<>AJ$2,1-_xlfn.NORM.DIST(0,INDEX(Rating,$F46)-INDEX(Rating,AJ$2),10,1),\"\")","v":0.77457538912772228},{"$f":"IF($F46<>AK$2,1-_xlfn.NORM.DIST(0,INDEX(Rating,$F46)-INDEX(Rating,AK$2),10,1),\"\")","v":0.39473458054517274},{"$f":"IF($F46<>AL$2,1-_xlfn.NORM.DIST(0,INDEX(Rating,$F46)-INDEX(Rating,AL$2),10,1),\"\")","v":0.42622238066427276},{"$f":"IF($F46<>AM$2,1-_xlfn.NORM.DIST(0,INDEX(Rating,$F46)-INDEX(Rating,AM$2),10,1),\"\")","v":0.29979159546869583},{"$f":"IF($F46<>AN$2,1-_xlfn.NORM.DIST(0,INDEX(Rating,$F46)-INDEX(Rating,AN$2),10,1),\"\")","v":0.70952582336485381},{"$f":"IF($F46<>AO$2,1-_xlfn.NORM.DIST(0,INDEX(Rating,$F46)-INDEX(Rating,AO$2),10,1),\"\")","v":0.16877937259391085},{"$f":"IF($F46<>AP$2,1-_xlfn.NORM.DIST(0,INDEX(Rating,$F46)-INDEX(Rating,AP$2),10,1),\"\")","v":0.8324770370639254},{"$f":"IF($F46<>AQ$2,1-_xlfn.NORM.DIST(0,INDEX(Rating,$F46)-INDEX(Rating,AQ$2),10,1),\"\")","v":0.39781762024632228},{"$f":"IF($F46<>AR$2,1-_xlfn.NORM.DIST(0,INDEX(Rating,$F46)-INDEX(Rating,AR$2),10,1),\"\")","v":0.37980232288871263},{"$f":"IF($F46<>AS$2,1-_xlfn.NORM.DIST(0,INDEX(Rating,$F46)-INDEX(Rating,AS$2),10,1),\"\")","v":0.42387110271251094},{"$f":"IF($F46<>AT$2,1-_xlfn.NORM.DIST(0,INDEX(Rating,$F46)-INDEX(Rating,AT$2),10,1),\"\")","v":0.51435882052224891},{"$f":"IF($F46<>AU$2,1-_xlfn.NORM.DIST(0,INDEX(Rating,$F46)-INDEX(Rating,AU$2),10,1),\"\")","v":0.34642144398629215},{"$f":"IF($F46<>AV$2,1-_xlfn.NORM.DIST(0,INDEX(Rating,$F46)-INDEX(Rating,AV$2),10,1),\"\")","v":0.54656997325906009},{"$f":"IF($F46<>AW$2,1-_xlfn.NORM.DIST(0,INDEX(Rating,$F46)-INDEX(Rating,AW$2),10,1),\"\")","v":0.41449387378244418},{"$f":"IF($F46<>AX$2,1-_xlfn.NORM.DIST(0,INDEX(Rating,$F46)-INDEX(Rating,AX$2),10,1),\"\")","v":""},{"$f":"IF($F46<>AY$2,1-_xlfn.NORM.DIST(0,INDEX(Rating,$F46)-INDEX(Rating,AY$2),10,1),\"\")","v":0.52869904607363161},{"$f":"IF($F46<>AZ$2,1-_xlfn.NORM.DIST(0,INDEX(Rating,$F46)-INDEX(Rating,AZ$2),10,1),\"\")","v":0.33578290664457144},{"$f":"IF($F46<>BA$2,1-_xlfn.NORM.DIST(0,INDEX(Rating,$F46)-INDEX(Rating,BA$2),10,1),\"\")","v":0.82016655254706972},{"$f":"IF($F46<>BB$2,1-_xlfn.NORM.DIST(0,INDEX(Rating,$F46)-INDEX(Rating,BB$2),10,1),\"\")","v":0.35123068231721044},{"$f":"IF($F46<>BC$2,1-_xlfn.NORM.DIST(0,INDEX(Rating,$F46)-INDEX(Rating,BC$2),10,1),\"\")","v":0.43565292693489466},{"$f":"IF($F46<>BD$2,1-_xlfn.NORM.DIST(0,INDEX(Rating,$F46)-INDEX(Rating,BD$2),10,1),\"\")","v":0.20610805358581341},{"$f":"IF($F46<>BE$2,1-_xlfn.NORM.DIST(0,INDEX(Rating,$F46)-INDEX(Rating,BE$2),10,1),\"\")","v":0.7300618301391999},{"$f":"IF($F46<>BF$2,1-_xlfn.NORM.DIST(0,INDEX(Rating,$F46)-INDEX(Rating,BF$2),10,1),\"\")","v":0.22094665526647739},{"$f":"IF($F46<>BG$2,1-_xlfn.NORM.DIST(0,INDEX(Rating,$F46)-INDEX(Rating,BG$2),10,1),\"\")","v":0.90758015130940961},{"$f":"IF($F46<>BH$2,1-_xlfn.NORM.DIST(0,INDEX(Rating,$F46)-INDEX(Rating,BH$2),10,1),\"\")","v":0.3631693488243809},{"$f":"IF($F46<>BI$2,1-_xlfn.NORM.DIST(0,INDEX(Rating,$F46)-INDEX(Rating,BI$2),10,1),\"\")","v":0.38056394557840756},{"$f":"IF($F46<>BJ$2,1-_xlfn.NORM.DIST(0,INDEX(Rating,$F46)-INDEX(Rating,BJ$2),10,1),\"\")","v":0.33833920385737004},{"$f":"IF($F46<>BK$2,1-_xlfn.NORM.DIST(0,INDEX(Rating,$F46)-INDEX(Rating,BK$2),10,1),\"\")","v":0.45263767789095388},{"$f":"IF($F46<>BL$2,1-_xlfn.NORM.DIST(0,INDEX(Rating,$F46)-INDEX(Rating,BL$2),10,1),\"\")","v":0.21740124735409228},{"$f":"IF($F46<>BM$2,1-_xlfn.NORM.DIST(0,INDEX(Rating,$F46)-INDEX(Rating,BM$2),10,1),\"\")","v":0.60141061346388414},{"$f":"IF($F46<>BN$2,1-_xlfn.NORM.DIST(0,INDEX(Rating,$F46)-INDEX(Rating,BN$2),10,1),\"\")","v":0.35606386238663279},{"$f":"IF($F46<>BO$2,1-_xlfn.NORM.DIST(0,INDEX(Rating,$F46)-INDEX(Rating,BO$2),10,1),\"\")","v":0.5505298007251429},{"$f":"IF($F46<>BP$2,1-_xlfn.NORM.DIST(0,INDEX(Rating,$F46)-INDEX(Rating,BP$2),10,1),\"\")","v":0.61981692384016551},{"$f":"IF($F46<>BQ$2,1-_xlfn.NORM.DIST(0,INDEX(Rating,$F46)-INDEX(Rating,BQ$2),10,1),\"\")","v":0.20582313410777153},{"$f":"IF($F46<>BR$2,1-_xlfn.NORM.DIST(0,INDEX(Rating,$F46)-INDEX(Rating,BR$2),10,1),\"\")","v":0.73434252933624089},{"$f":"IF($F46<>BS$2,1-_xlfn.NORM.DIST(0,INDEX(Rating,$F46)-INDEX(Rating,BS$2),10,1),\"\")","v":0.43368502446238366},{"$f":"IF($F46<>BT$2,1-_xlfn.NORM.DIST(0,INDEX(Rating,$F46)-INDEX(Rating,BT$2),10,1),\"\")","v":0.51475749712912489},{"$f":"IF($F46<>BU$2,1-_xlfn.NORM.DIST(0,INDEX(Rating,$F46)-INDEX(Rating,BU$2),10,1),\"\")","v":0.1853935439883948},{"$f":"IF($F46<>BV$2,1-_xlfn.NORM.DIST(0,INDEX(Rating,$F46)-INDEX(Rating,BV$2),10,1),\"\")","v":0.82690368004472892}]
[null,"Pittsburgh",45,81.540000000000006,null,45,{"$f":"IF($F47<>G$2,1-_xlfn.NORM.DIST(0,INDEX(Rating,$F47)-INDEX(Rating,G$2),10,1),\"\")","v":0.1273515770986704},{"$f":"IF($F47<>H$2,1-_xlfn.NORM.DIST(0,INDEX(Rating,$F47)-INDEX(Rating,H$2),10,1),\"\")","v":0.87076188775998242},{"$f":"IF($F47<>I$2,1-_xlfn.NORM.DIST(0,INDEX(Rating,$F47)-INDEX(Rating,I$2),10,1),\"\")","v":0.93056337666666844},{"$f":"IF($F47<>J$2,1-_xlfn.NORM.DIST(0,INDEX(Rating,$F47)-INDEX(Rating,J$2),10,1),\"\")","v":0.34715974069309619},{"$f":"IF($F47<>K$2,1-_xlfn.NORM.DIST(0,INDEX(Rating,$F47)-INDEX(Rating,K$2),10,1),\"\")","v":0.33287070658339701},{"$f":"IF($F47<>L$2,1-_xlfn.NORM.DIST(0,INDEX(Rating,$F47)-INDEX(Rating,L$2),10,1),\"\")","v":0.35755570312302953},{"$f":"IF($F47<>M$2,1-_xlfn.NORM.DIST(0,INDEX(Rating,$F47)-INDEX(Rating,M$2),10,1),\"\")","v":0.53386930464462956},{"$f":"IF($F47<>N$2,1-_xlfn.NORM.DIST(0,INDEX(Rating,$F47)-INDEX(Rating,N$2),10,1),\"\")","v":0.36166944161789616},{"$f":"IF($F47<>O$2,1-_xlfn.NORM.DIST(0,INDEX(Rating,$F47)-INDEX(Rating,O$2),10,1),\"\")","v":0.58160454434739284},{"$f":"IF($F47<>P$2,1-_xlfn.NORM.DIST(0,INDEX(Rating,$F47)-INDEX(Rating,P$2),10,1),\"\")","v":0.27126221944899087},{"$f":"IF($F47<>Q$2,1-_xlfn.NORM.DIST(0,INDEX(Rating,$F47)-INDEX(Rating,Q$2),10,1),\"\")","v":0.43211188279758184},{"$f":"IF($F47<>R$2,1-_xlfn.NORM.DIST(0,INDEX(Rating,$F47)-INDEX(Rating,R$2),10,1),\"\")","v":0.28028334043764414},{"$f":"IF($F47<>S$2,1-_xlfn.NORM.DIST(0,INDEX(Rating,$F47)-INDEX(Rating,S$2),10,1),\"\")","v":0.69602433965372756},{"$f":"IF($F47<>T$2,1-_xlfn.NORM.DIST(0,INDEX(Rating,$F47)-INDEX(Rating,T$2),10,1),\"\")","v":0.46652821588491367},{"$f":"IF($F47<>U$2,1-_xlfn.NORM.DIST(0,INDEX(Rating,$F47)-INDEX(Rating,U$2),10,1),\"\")","v":0.39820345361229781},{"$f":"IF($F47<>V$2,1-_xlfn.NORM.DIST(0,INDEX(Rating,$F47)-INDEX(Rating,V$2),10,1),\"\")","v":0.20270447225369981},{"$f":"IF($F47<>W$2,1-_xlfn.NORM.DIST(0,INDEX(Rating,$F47)-INDEX(Rating,W$2),10,1),\"\")","v":0.69951287337633083},{"$f":"IF($F47<>X$2,1-_xlfn.NORM.DIST(0,INDEX(Rating,$F47)-INDEX(Rating,X$2),10,1),\"\")","v":0.22303000208006274},{"$f":"IF($F47<>Y$2,1-_xlfn.NORM.DIST(0,INDEX(Rating,$F47)-INDEX(Rating,Y$2),10,1),\"\")","v":0.94813145110476404},{"$f":"IF($F47<>Z$2,1-_xlfn.NORM.DIST(0,INDEX(Rating,$F47)-INDEX(Rating,Z$2),10,1),\"\")","v":0.96146954817025077},{"$f":"IF($F47<>AA$2,1-_xlfn.NORM.DIST(0,INDEX(Rating,$F47)-INDEX(Rating,AA$2),10,1),\"\")","v":0.30888969202505467},{"$f":"IF($F47<>AB$2,1-_xlfn.NORM.DIST(0,INDEX(Rating,$F47)-INDEX(Rating,AB$2),10,1),\"\")","v":0.41605351716122096},{"$f":"IF($F47<>AC$2,1-_xlfn.NORM.DIST(0,INDEX(Rating,$F47)-INDEX(Rating,AC$2),10,1),\"\")","v":0.28095730889856441},{"$f":"IF($F47<>AD$2,1-_xlfn.NORM.DIST(0,INDEX(Rating,$F47)-INDEX(Rating,AD$2),10,1),\"\")","v":0.54181209563970512},{"$f":"IF($F47<>AE$2,1-_xlfn.NORM.DIST(0,INDEX(Rating,$F47)-INDEX(Rating,AE$2),10,1),\"\")","v":0.21946539562843503},{"$f":"IF($F47<>AF$2,1-_xlfn.NORM.DIST(0,INDEX(Rating,$F47)-INDEX(Rating,AF$2),10,1),\"\")","v":0.65983028838503899},{"$f":"IF($F47<>AG$2,1-_xlfn.NORM.DIST(0,INDEX(Rating,$F47)-INDEX(Rating,AG$2),10,1),\"\")","v":0.32960649849650714},{"$f":"IF($F47<>AH$2,1-_xlfn.NORM.DIST(0,INDEX(Rating,$F47)-INDEX(Rating,AH$2),10,1),\"\")","v":0.39820345361229781},{"$f":"IF($F47<>AI$2,1-_xlfn.NORM.DIST(0,INDEX(Rating,$F47)-INDEX(Rating,AI$2),10,1),\"\")","v":0.35197270757583721},{"$f":"IF($F47<>AJ$2,1-_xlfn.NORM.DIST(0,INDEX(Rating,$F47)-INDEX(Rating,AJ$2),10,1),\"\")","v":0.75238052456892746},{"$f":"IF($F47<>AK$2,1-_xlfn.NORM.DIST(0,INDEX(Rating,$F47)-INDEX(Rating,AK$2),10,1),\"\")","v":0.36730486508160576},{"$f":"IF($F47<>AL$2,1-_xlfn.NORM.DIST(0,INDEX(Rating,$F47)-INDEX(Rating,AL$2),10,1),\"\")","v":0.39820345361229781},{"$f":"IF($F47<>AM$2,1-_xlfn.NORM.DIST(0,INDEX(Rating,$F47)-INDEX(Rating,AM$2),10,1),\"\")","v":0.27525369030370916},{"$f":"IF($F47<>AN$2,1-_xlfn.NORM.DIST(0,INDEX(Rating,$F47)-INDEX(Rating,AN$2),10,1),\"\")","v":0.68438630348377782},{"$f":"IF($F47<>AO$2,1-_xlfn.NORM.DIST(0,INDEX(Rating,$F47)-INDEX(Rating,AO$2),10,1),\"\")","v":0.15127040989963347},{"$f":"IF($F47<>AP$2,1-_xlfn.NORM.DIST(0,INDEX(Rating,$F47)-INDEX(Rating,AP$2),10,1),\"\")","v":0.81380353380257597},{"$f":"IF($F47<>AQ$2,1-_xlfn.NORM.DIST(0,INDEX(Rating,$F47)-INDEX(Rating,AQ$2),10,1),\"\")","v":0.37032224277602233},{"$f":"IF($F47<>AR$2,1-_xlfn.NORM.DIST(0,INDEX(Rating,$F47)-INDEX(Rating,AR$2),10,1),\"\")","v":0.35271529698782433},{"$f":"IF($F47<>AS$2,1-_xlfn.NORM.DIST(0,INDEX(Rating,$F47)-INDEX(Rating,AS$2),10,1),\"\")","v":0.39588995937558757},{"$f":"IF($F47<>AT$2,1-_xlfn.NORM.DIST(0,INDEX(Rating,$F47)-INDEX(Rating,AT$2),10,1),\"\")","v":0.48564117947775109},{"$f":"IF($F47<>AU$2,1-_xlfn.NORM.DIST(0,INDEX(Rating,$F47)-INDEX(Rating,AU$2),10,1),\"\")","v":0.32024993903580878},{"$f":"IF($F47<>AV$2,1-_xlfn.NORM.DIST(0,INDEX(Rating,$F47)-INDEX(Rating,AV$2),10,1),\"\")","v":0.51794634552213914},{"$f":"IF($F47<>AW$2,1-_xlfn.NORM.DIST(0,INDEX(Rating,$F47)-INDEX(Rating,AW$2),10,1),\"\")","v":0.38667336933355745},{"$f":"IF($F47<>AX$2,1-_xlfn.NORM.DIST(0,INDEX(Rating,$F47)-INDEX(Rating,AX$2),10,1),\"\")","v":0.47130095392636839},{"$f":"IF($F47<>AY$2,1-_xlfn.NORM.DIST(0,INDEX(Rating,$F47)-INDEX(Rating,AY$2),10,1),\"\")","v":""},{"$f":"IF($F47<>AZ$2,1-_xlfn.NORM.DIST(0,INDEX(Rating,$F47)-INDEX(Rating,AZ$2),10,1),\"\")","v":0.30994720547266985},{"$f":"IF($F47<>BA$2,1-_xlfn.NORM.DIST(0,INDEX(Rating,$F47)-INDEX(Rating,BA$2),10,1),\"\")","v":0.80066529719790747},{"$f":"IF($F47<>BB$2,1-_xlfn.NORM.DIST(0,INDEX(Rating,$F47)-INDEX(Rating,BB$2),10,1),\"\")","v":0.32491441339717453},{"$f":"IF($F47<>BC$2,1-_xlfn.NORM.DIST(0,INDEX(Rating,$F47)-INDEX(Rating,BC$2),10,1),\"\")","v":0.40749248933158133},{"$f":"IF($F47<>BD$2,1-_xlfn.NORM.DIST(0,INDEX(Rating,$F47)-INDEX(Rating,BD$2),10,1),\"\")","v":0.18619646619742447},{"$f":"IF($F47<>BE$2,1-_xlfn.NORM.DIST(0,INDEX(Rating,$F47)-INDEX(Rating,BE$2),10,1),\"\")","v":0.7057462086441908},{"$f":"IF($F47<>BF$2,1-_xlfn.NORM.DIST(0,INDEX(Rating,$F47)-INDEX(Rating,BF$2),10,1),\"\")","v":0.20017396720774361},{"$f":"IF($F47<>BG$2,1-_xlfn.NORM.DIST(0,INDEX(Rating,$F47)-INDEX(Rating,BG$2),10,1),\"\")","v":0.89507899728323626},{"$f":"IF($F47<>BH$2,1-_xlfn.NORM.DIST(0,INDEX(Rating,$F47)-INDEX(Rating,BH$2),10,1),\"\")","v":0.33651250872446836},{"$f":"IF($F47<>BI$2,1-_xlfn.NORM.DIST(0,INDEX(Rating,$F47)-INDEX(Rating,BI$2),10,1),\"\")","v":0.35345844800948067},{"$f":"IF($F47<>BJ$2,1-_xlfn.NORM.DIST(0,INDEX(Rating,$F47)-INDEX(Rating,BJ$2),10,1),\"\")","v":0.31242084842708873},{"$f":"IF($F47<>BK$2,1-_xlfn.NORM.DIST(0,INDEX(Rating,$F47)-INDEX(Rating,BK$2),10,1),\"\")","v":0.42426279657852417},{"$f":"IF($F47<>BL$2,1-_xlfn.NORM.DIST(0,INDEX(Rating,$F47)-INDEX(Rating,BL$2),10,1),\"\")","v":0.19682965210180703},{"$f":"IF($F47<>BM$2,1-_xlfn.NORM.DIST(0,INDEX(Rating,$F47)-INDEX(Rating,BM$2),10,1),\"\")","v":0.57338548221337482},{"$f":"IF($F47<>BN$2,1-_xlfn.NORM.DIST(0,INDEX(Rating,$F47)-INDEX(Rating,BN$2),10,1),\"\")","v":0.32960649849650714},{"$f":"IF($F47<>BO$2,1-_xlfn.NORM.DIST(0,INDEX(Rating,$F47)-INDEX(Rating,BO$2),10,1),\"\")","v":0.52193076810282391},{"$f":"IF($F47<>BP$2,1-_xlfn.NORM.DIST(0,INDEX(Rating,$F47)-INDEX(Rating,BP$2),10,1),\"\")","v":0.59211929711586964},{"$f":"IF($F47<>BQ$2,1-_xlfn.NORM.DIST(0,INDEX(Rating,$F47)-INDEX(Rating,BQ$2),10,1),\"\")","v":0.18592858633317011},{"$f":"IF($F47<>BR$2,1-_xlfn.NORM.DIST(0,INDEX(Rating,$F47)-INDEX(Rating,BR$2),10,1),\"\")","v":0.71021057713269797},{"$f":"IF($F47<>BS$2,1-_xlfn.NORM.DIST(0,INDEX(Rating,$F47)-INDEX(Rating,BS$2),10,1),\"\")","v":0.40555279137042999},{"$f":"IF($F47<>BT$2,1-_xlfn.NORM.DIST(0,INDEX(Rating,$F47)-INDEX(Rating,BT$2),10,1),\"\")","v":0.48603987043724195},{"$f":"IF($F47<>BU$2,1-_xlfn.NORM.DIST(0,INDEX(Rating,$F47)-INDEX(Rating,BU$2),10,1),\"\")","v":0.16677201683171916},{"$f":"IF($F47<>BV$2,1-_xlfn.NORM.DIST(0,INDEX(Rating,$F47)-INDEX(Rating,BV$2),10,1),\"\")","v":0.80784979789630396}]
[null,"Xavier",46,86.5,null,46,{"$f":"IF($F48<>G$2,1-_xlfn.NORM.DIST(0,INDEX(Rating,$F48)-INDEX(Rating,G$2),10,1),\"\")","v":0.26011204994173576},{"$f":"IF($F48<>H$2,1-_xlfn.NORM.DIST(0,INDEX(Rating,$F48)-INDEX(Rating,H$2),10,1),\"\")","v":0.9480251723197024},{"$f":"IF($F48<>I$2,1-_xlfn.NORM.DIST(0,INDEX(Rating,$F48)-INDEX(Rating,I$2),10,1),\"\")","v":0.97592261139866132},{"$f":"IF($F48<>J$2,1-_xlfn.NORM.DIST(0,INDEX(Rating,$F48)-INDEX(Rating,J$2),10,1),\"\")","v":0.54101851452279304},{"$f":"IF($F48<>K$2,1-_xlfn.NORM.DIST(0,INDEX(Rating,$F48)-INDEX(Rating,K$2),10,1),\"\")","v":0.52551488659530499},{"$f":"IF($F48<>L$2,1-_xlfn.NORM.DIST(0,INDEX(Rating,$F48)-INDEX(Rating,L$2),10,1),\"\")","v":0.55211234629753636},{"$f":"IF($F48<>M$2,1-_xlfn.NORM.DIST(0,INDEX(Rating,$F48)-INDEX(Rating,M$2),10,1),\"\")","v":0.71937977322580404},{"$f":"IF($F48<>N$2,1-_xlfn.NORM.DIST(0,INDEX(Rating,$F48)-INDEX(Rating,N$2),10,1),\"\")","v":0.55645999715678685},{"$f":"IF($F48<>O$2,1-_xlfn.NORM.DIST(0,INDEX(Rating,$F48)-INDEX(Rating,O$2),10,1),\"\")","v":0.7586604182761868},{"$f":"IF($F48<>P$2,1-_xlfn.NORM.DIST(0,INDEX(Rating,$F48)-INDEX(Rating,P$2),10,1),\"\")","v":0.45501527760722782},{"$f":"IF($F48<>Q$2,1-_xlfn.NORM.DIST(0,INDEX(Rating,$F48)-INDEX(Rating,Q$2),10,1),\"\")","v":0.62740946415328402},{"$f":"IF($F48<>R$2,1-_xlfn.NORM.DIST(0,INDEX(Rating,$F48)-INDEX(Rating,R$2),10,1),\"\")","v":0.46573320861363465},{"$f":"IF($F48<>S$2,1-_xlfn.NORM.DIST(0,INDEX(Rating,$F48)-INDEX(Rating,S$2),10,1),\"\")","v":0.8435126829069306},{"$f":"IF($F48<>T$2,1-_xlfn.NORM.DIST(0,INDEX(Rating,$F48)-INDEX(Rating,T$2),10,1),\"\")","v":0.65983028838503899},{"$f":"IF($F48<>U$2,1-_xlfn.NORM.DIST(0,INDEX(Rating,$F48)-INDEX(Rating,U$2),10,1),\"\")","v":0.5940594528988058},{"$f":"IF($F48<>V$2,1-_xlfn.NORM.DIST(0,INDEX(Rating,$F48)-INDEX(Rating,V$2),10,1),\"\")","v":0.36843543323635275},{"$f":"IF($F48<>W$2,1-_xlfn.NORM.DIST(0,INDEX(Rating,$F48)-INDEX(Rating,W$2),10,1),\"\")","v":0.84589851673637328},{"$f":"IF($F48<>X$2,1-_xlfn.NORM.DIST(0,INDEX(Rating,$F48)-INDEX(Rating,X$2),10,1),\"\")","v":0.395119604511315},{"$f":"IF($F48<>Y$2,1-_xlfn.NORM.DIST(0,INDEX(Rating,$F48)-INDEX(Rating,Y$2),10,1),\"\")","v":0.98312307407119448},{"$f":"IF($F48<>Z$2,1-_xlfn.NORM.DIST(0,INDEX(Rating,$F48)-INDEX(Rating,Z$2),10,1),\"\")","v":0.98821294261104697},{"$f":"IF($F48<>AA$2,1-_xlfn.NORM.DIST(0,INDEX(Rating,$F48)-INDEX(Rating,AA$2),10,1),\"\")","v":0.49880317495403348},{"$f":"IF($F48<>AB$2,1-_xlfn.NORM.DIST(0,INDEX(Rating,$F48)-INDEX(Rating,AB$2),10,1),\"\")","v":0.61179480967866917},{"$f":"IF($F48<>AC$2,1-_xlfn.NORM.DIST(0,INDEX(Rating,$F48)-INDEX(Rating,AC$2),10,1),\"\")","v":0.46652821588491311},{"$f":"IF($F48<>AD$2,1-_xlfn.NORM.DIST(0,INDEX(Rating,$F48)-INDEX(Rating,AD$2),10,1),\"\")","v":0.72608000684991558},{"$f":"IF($F48<>AE$2,1-_xlfn.NORM.DIST(0,INDEX(Rating,$F48)-INDEX(Rating,AE$2),10,1),\"\")","v":0.39050617937644894},{"$f":"IF($F48<>AF$2,1-_xlfn.NORM.DIST(0,INDEX(Rating,$F48)-INDEX(Rating,AF$2),10,1),\"\")","v":0.81806088917252329},{"$f":"IF($F48<>AG$2,1-_xlfn.NORM.DIST(0,INDEX(Rating,$F48)-INDEX(Rating,AG$2),10,1),\"\")","v":0.52193076810282335},{"$f":"IF($F48<>AH$2,1-_xlfn.NORM.DIST(0,INDEX(Rating,$F48)-INDEX(Rating,AH$2),10,1),\"\")","v":0.5940594528988058},{"$f":"IF($F48<>AI$2,1-_xlfn.NORM.DIST(0,INDEX(Rating,$F48)-INDEX(Rating,AI$2),10,1),\"\")","v":0.5461737291019273},{"$f":"IF($F48<>AJ$2,1-_xlfn.NORM.DIST(0,INDEX(Rating,$F48)-INDEX(Rating,AJ$2),10,1),\"\")","v":0.88060169688526957},{"$f":"IF($F48<>AK$2,1-_xlfn.NORM.DIST(0,INDEX(Rating,$F48)-INDEX(Rating,AK$2),10,1),\"\")","v":0.56237757594917093},{"$f":"IF($F48<>AL$2,1-_xlfn.NORM.DIST(0,INDEX(Rating,$F48)-INDEX(Rating,AL$2),10,1),\"\")","v":0.5940594528988058},{"$f":"IF($F48<>AM$2,1-_xlfn.NORM.DIST(0,INDEX(Rating,$F48)-INDEX(Rating,AM$2),10,1),\"\")","v":0.45977523008861332},{"$f":"IF($F48<>AN$2,1-_xlfn.NORM.DIST(0,INDEX(Rating,$F48)-INDEX(Rating,AN$2),10,1),\"\")","v":0.83546776783315191},{"$f":"IF($F48<>AO$2,1-_xlfn.NORM.DIST(0,INDEX(Rating,$F48)-INDEX(Rating,AO$2),10,1),\"\")","v":0.29632492864234461},{"$f":"IF($F48<>AP$2,1-_xlfn.NORM.DIST(0,INDEX(Rating,$F48)-INDEX(Rating,AP$2),10,1),\"\")","v":0.91743147744329656},{"$f":"IF($F48<>AQ$2,1-_xlfn.NORM.DIST(0,INDEX(Rating,$F48)-INDEX(Rating,AQ$2),10,1),\"\")","v":0.56552800897193545},{"$f":"IF($F48<>AR$2,1-_xlfn.NORM.DIST(0,INDEX(Rating,$F48)-INDEX(Rating,AR$2),10,1),\"\")","v":0.54696617105834244},{"$f":"IF($F48<>AS$2,1-_xlfn.NORM.DIST(0,INDEX(Rating,$F48)-INDEX(Rating,AS$2),10,1),\"\")","v":0.59173099309902999},{"$f":"IF($F48<>AT$2,1-_xlfn.NORM.DIST(0,INDEX(Rating,$F48)-INDEX(Rating,AT$2),10,1),\"\")","v":0.67724188974965216},{"$f":"IF($F48<>AU$2,1-_xlfn.NORM.DIST(0,INDEX(Rating,$F48)-INDEX(Rating,AU$2),10,1),\"\")","v":0.51156770470231105},{"$f":"IF($F48<>AV$2,1-_xlfn.NORM.DIST(0,INDEX(Rating,$F48)-INDEX(Rating,AV$2),10,1),\"\")","v":0.70574620864419035},{"$f":"IF($F48<>AW$2,1-_xlfn.NORM.DIST(0,INDEX(Rating,$F48)-INDEX(Rating,AW$2),10,1),\"\")","v":0.58238551632325097},{"$f":"IF($F48<>AX$2,1-_xlfn.NORM.DIST(0,INDEX(Rating,$F48)-INDEX(Rating,AX$2),10,1),\"\")","v":0.66421709335542856},{"$f":"IF($F48<>AY$2,1-_xlfn.NORM.DIST(0,INDEX(Rating,$F48)-INDEX(Rating,AY$2),10,1),\"\")","v":0.69005279452733015},{"$f":"IF($F48<>AZ$2,1-_xlfn.NORM.DIST(0,INDEX(Rating,$F48)-INDEX(Rating,AZ$2),10,1),\"\")","v":""},{"$f":"IF($F48<>BA$2,1-_xlfn.NORM.DIST(0,INDEX(Rating,$F48)-INDEX(Rating,BA$2),10,1),\"\")","v":0.90987732753554762},{"$f":"IF($F48<>BB$2,1-_xlfn.NORM.DIST(0,INDEX(Rating,$F48)-INDEX(Rating,BB$2),10,1),\"\")","v":0.51675065094076467},{"$f":"IF($F48<>BC$2,1-_xlfn.NORM.DIST(0,INDEX(Rating,$F48)-INDEX(Rating,BC$2),10,1),\"\")","v":0.60333927890550709},{"$f":"IF($F48<>BD$2,1-_xlfn.NORM.DIST(0,INDEX(Rating,$F48)-INDEX(Rating,BD$2),10,1),\"\")","v":0.34605251411118187},{"$f":"IF($F48<>BE$2,1-_xlfn.NORM.DIST(0,INDEX(Rating,$F48)-INDEX(Rating,BE$2),10,1),\"\")","v":0.85013207142107217},{"$f":"IF($F48<>BF$2,1-_xlfn.NORM.DIST(0,INDEX(Rating,$F48)-INDEX(Rating,BF$2),10,1),\"\")","v":0.3650471853658015},{"$f":"IF($F48<>BG$2,1-_xlfn.NORM.DIST(0,INDEX(Rating,$F48)-INDEX(Rating,BG$2),10,1),\"\")","v":0.95994084313618289},{"$f":"IF($F48<>BH$2,1-_xlfn.NORM.DIST(0,INDEX(Rating,$F48)-INDEX(Rating,BH$2),10,1),\"\")","v":0.52949480736890275},{"$f":"IF($F48<>BI$2,1-_xlfn.NORM.DIST(0,INDEX(Rating,$F48)-INDEX(Rating,BI$2),10,1),\"\")","v":0.54775842602058389},{"$f":"IF($F48<>BJ$2,1-_xlfn.NORM.DIST(0,INDEX(Rating,$F48)-INDEX(Rating,BJ$2),10,1),\"\")","v":0.50279257315677706},{"$f":"IF($F48<>BK$2,1-_xlfn.NORM.DIST(0,INDEX(Rating,$F48)-INDEX(Rating,BK$2),10,1),\"\")","v":0.61981692384016496},{"$f":"IF($F48<>BL$2,1-_xlfn.NORM.DIST(0,INDEX(Rating,$F48)-INDEX(Rating,BL$2),10,1),\"\")","v":0.36054590286747368},{"$f":"IF($F48<>BM$2,1-_xlfn.NORM.DIST(0,INDEX(Rating,$F48)-INDEX(Rating,BM$2),10,1),\"\")","v":0.75206425478420791},{"$f":"IF($F48<>BN$2,1-_xlfn.NORM.DIST(0,INDEX(Rating,$F48)-INDEX(Rating,BN$2),10,1),\"\")","v":0.52193076810282335},{"$f":"IF($F48<>BO$2,1-_xlfn.NORM.DIST(0,INDEX(Rating,$F48)-INDEX(Rating,BO$2),10,1),\"\")","v":0.70918316271726711},{"$f":"IF($F48<>BP$2,1-_xlfn.NORM.DIST(0,INDEX(Rating,$F48)-INDEX(Rating,BP$2),10,1),\"\")","v":0.76699916875888396},{"$f":"IF($F48<>BQ$2,1-_xlfn.NORM.DIST(0,INDEX(Rating,$F48)-INDEX(Rating,BQ$2),10,1),\"\")","v":0.34568373030336685},{"$f":"IF($F48<>BR$2,1-_xlfn.NORM.DIST(0,INDEX(Rating,$F48)-INDEX(Rating,BR$2),10,1),\"\")","v":0.85314094362410409},{"$f":"IF($F48<>BS$2,1-_xlfn.NORM.DIST(0,INDEX(Rating,$F48)-INDEX(Rating,BS$2),10,1),\"\")","v":0.60141061346388347},{"$f":"IF($F48<>BT$2,1-_xlfn.NORM.DIST(0,INDEX(Rating,$F48)-INDEX(Rating,BT$2),10,1),\"\")","v":0.67760069744877993},{"$f":"IF($F48<>BU$2,1-_xlfn.NORM.DIST(0,INDEX(Rating,$F48)-INDEX(Rating,BU$2),10,1),\"\")","v":0.31882036745164788},{"$f":"IF($F48<>BV$2,1-_xlfn.NORM.DIST(0,INDEX(Rating,$F48)-INDEX(Rating,BV$2),10,1),\"\")","v":0.91403051830498883}]
[null,"Kennesaw St",47,73.099999999999994,null,47,{"$f":"IF($F49<>G$2,1-_xlfn.NORM.DIST(0,INDEX(Rating,$F49)-INDEX(Rating,G$2),10,1),\"\")","v":2.3683714769589748E-2},{"$f":"IF($F49<>H$2,1-_xlfn.NORM.DIST(0,INDEX(Rating,$F49)-INDEX(Rating,H$2),10,1),\"\")","v":0.61256093922287813},{"$f":"IF($F49<>I$2,1-_xlfn.NORM.DIST(0,INDEX(Rating,$F49)-INDEX(Rating,I$2),10,1),\"\")","v":0.73761178898486846},{"$f":"IF($F49<>J$2,1-_xlfn.NORM.DIST(0,INDEX(Rating,$F49)-INDEX(Rating,J$2),10,1),\"\")","v":0.10804354131377147},{"$f":"IF($F49<>K$2,1-_xlfn.NORM.DIST(0,INDEX(Rating,$F49)-INDEX(Rating,K$2),10,1),\"\")","v":0.10097775954749433},{"$f":"IF($F49<>L$2,1-_xlfn.NORM.DIST(0,INDEX(Rating,$F49)-INDEX(Rating,L$2),10,1),\"\")","v":0.11333142268890994},{"$f":"IF($F49<>M$2,1-_xlfn.NORM.DIST(0,INDEX(Rating,$F49)-INDEX(Rating,M$2),10,1),\"\")","v":0.22392627839382584},{"$f":"IF($F49<>N$2,1-_xlfn.NORM.DIST(0,INDEX(Rating,$F49)-INDEX(Rating,N$2),10,1),\"\")","v":0.11545850849188655},{"$f":"IF($F49<>O$2,1-_xlfn.NORM.DIST(0,INDEX(Rating,$F49)-INDEX(Rating,O$2),10,1),\"\")","v":0.26173684004447917},{"$f":"IF($F49<>P$2,1-_xlfn.NORM.DIST(0,INDEX(Rating,$F49)-INDEX(Rating,P$2),10,1),\"\")","v":7.3111877002397518E-2},{"$f":"IF($F49<>Q$2,1-_xlfn.NORM.DIST(0,INDEX(Rating,$F49)-INDEX(Rating,Q$2),10,1),\"\")","v":0.15505291375244945},{"$f":"IF($F49<>R$2,1-_xlfn.NORM.DIST(0,INDEX(Rating,$F49)-INDEX(Rating,R$2),10,1),\"\")","v":7.693417102830491E-2},{"$f":"IF($F49<>S$2,1-_xlfn.NORM.DIST(0,INDEX(Rating,$F49)-INDEX(Rating,S$2),10,1),\"\")","v":0.37032224277602177},{"$f":"IF($F49<>T$2,1-_xlfn.NORM.DIST(0,INDEX(Rating,$F49)-INDEX(Rating,T$2),10,1),\"\")","v":0.17670378480956128},{"$f":"IF($F49<>U$2,1-_xlfn.NORM.DIST(0,INDEX(Rating,$F49)-INDEX(Rating,U$2),10,1),\"\")","v":0.1352308358058224},{"$f":"IF($F49<>V$2,1-_xlfn.NORM.DIST(0,INDEX(Rating,$F49)-INDEX(Rating,V$2),10,1),\"\")","v":4.6869096305494629E-2},{"$f":"IF($F49<>W$2,1-_xlfn.NORM.DIST(0,INDEX(Rating,$F49)-INDEX(Rating,W$2),10,1),\"\")","v":0.37410519545209953},{"$f":"IF($F49<>X$2,1-_xlfn.NORM.DIST(0,INDEX(Rating,$F49)-INDEX(Rating,X$2),10,1),\"\")","v":5.4136954978030838E-2},{"$f":"IF($F49<>Y$2,1-_xlfn.NORM.DIST(0,INDEX(Rating,$F49)-INDEX(Rating,Y$2),10,1),\"\")","v":0.78318644397620563},{"$f":"IF($F49<>Z$2,1-_xlfn.NORM.DIST(0,INDEX(Rating,$F49)-INDEX(Rating,Z$2),10,1),\"\")","v":0.82225684210087668},{"$f":"IF($F49<>AA$2,1-_xlfn.NORM.DIST(0,INDEX(Rating,$F49)-INDEX(Rating,AA$2),10,1),\"\")","v":8.9635986922895206E-2},{"$f":"IF($F49<>AB$2,1-_xlfn.NORM.DIST(0,INDEX(Rating,$F49)-INDEX(Rating,AB$2),10,1),\"\")","v":0.14548410743128748},{"$f":"IF($F49<>AC$2,1-_xlfn.NORM.DIST(0,INDEX(Rating,$F49)-INDEX(Rating,AC$2),10,1),\"\")","v":7.7223236034603571E-2},{"$f":"IF($F49<>AD$2,1-_xlfn.NORM.DIST(0,INDEX(Rating,$F49)-INDEX(Rating,AD$2),10,1),\"\")","v":0.22995349867968329},{"$f":"IF($F49<>AE$2,1-_xlfn.NORM.DIST(0,INDEX(Rating,$F49)-INDEX(Rating,AE$2),10,1),\"\")","v":5.2831298832745843E-2},{"$f":"IF($F49<>AF$2,1-_xlfn.NORM.DIST(0,INDEX(Rating,$F49)-INDEX(Rating,AF$2),10,1),\"\")","v":0.33287070658339646},{"$f":"IF($F49<>AG$2,1-_xlfn.NORM.DIST(0,INDEX(Rating,$F49)-INDEX(Rating,AG$2),10,1),\"\")","v":9.9396142015105493E-2},{"$f":"IF($F49<>AH$2,1-_xlfn.NORM.DIST(0,INDEX(Rating,$F49)-INDEX(Rating,AH$2),10,1),\"\")","v":0.1352308358058224},{"$f":"IF($F49<>AI$2,1-_xlfn.NORM.DIST(0,INDEX(Rating,$F49)-INDEX(Rating,AI$2),10,1),\"\")","v":0.11047611376552435},{"$f":"IF($F49<>AJ$2,1-_xlfn.NORM.DIST(0,INDEX(Rating,$F49)-INDEX(Rating,AJ$2),10,1),\"\")","v":0.4356529269348941},{"$f":"IF($F49<>AK$2,1-_xlfn.NORM.DIST(0,INDEX(Rating,$F49)-INDEX(Rating,AK$2),10,1),\"\")","v":0.11840457370777835},{"$f":"IF($F49<>AL$2,1-_xlfn.NORM.DIST(0,INDEX(Rating,$F49)-INDEX(Rating,AL$2),10,1),\"\")","v":0.1352308358058224},{"$f":"IF($F49<>AM$2,1-_xlfn.NORM.DIST(0,INDEX(Rating,$F49)-INDEX(Rating,AM$2),10,1),\"\")","v":7.4792341394957274E-2},{"$f":"IF($F49<>AN$2,1-_xlfn.NORM.DIST(0,INDEX(Rating,$F49)-INDEX(Rating,AN$2),10,1),\"\")","v":0.35792900469041689},{"$f":"IF($F49<>AO$2,1-_xlfn.NORM.DIST(0,INDEX(Rating,$F49)-INDEX(Rating,AO$2),10,1),\"\")","v":3.0396361765261393E-2},{"$f":"IF($F49<>AP$2,1-_xlfn.NORM.DIST(0,INDEX(Rating,$F49)-INDEX(Rating,AP$2),10,1),\"\")","v":0.51914187869576101},{"$f":"IF($F49<>AQ$2,1-_xlfn.NORM.DIST(0,INDEX(Rating,$F49)-INDEX(Rating,AQ$2),10,1),\"\")","v":0.11999735789901245},{"$f":"IF($F49<>AR$2,1-_xlfn.NORM.DIST(0,INDEX(Rating,$F49)-INDEX(Rating,AR$2),10,1),\"\")","v":0.11085381349329371},{"$f":"IF($F49<>AS$2,1-_xlfn.NORM.DIST(0,INDEX(Rating,$F49)-INDEX(Rating,AS$2),10,1),\"\")","v":0.13393090794980156},{"$f":"IF($F49<>AT$2,1-_xlfn.NORM.DIST(0,INDEX(Rating,$F49)-INDEX(Rating,AT$2),10,1),\"\")","v":0.18942965477671181},{"$f":"IF($F49<>AU$2,1-_xlfn.NORM.DIST(0,INDEX(Rating,$F49)-INDEX(Rating,AU$2),10,1),\"\")","v":9.4928881805266263E-2},{"$f":"IF($F49<>AV$2,1-_xlfn.NORM.DIST(0,INDEX(Rating,$F49)-INDEX(Rating,AV$2),10,1),\"\")","v":0.21214520599537479},{"$f":"IF($F49<>AW$2,1-_xlfn.NORM.DIST(0,INDEX(Rating,$F49)-INDEX(Rating,AW$2),10,1),\"\")","v":0.12881721720783412},{"$f":"IF($F49<>AX$2,1-_xlfn.NORM.DIST(0,INDEX(Rating,$F49)-INDEX(Rating,AX$2),10,1),\"\")","v":0.17983344745293028},{"$f":"IF($F49<>AY$2,1-_xlfn.NORM.DIST(0,INDEX(Rating,$F49)-INDEX(Rating,AY$2),10,1),\"\")","v":0.19933470280209253},{"$f":"IF($F49<>AZ$2,1-_xlfn.NORM.DIST(0,INDEX(Rating,$F49)-INDEX(Rating,AZ$2),10,1),\"\")","v":9.012267246445238E-2},{"$f":"IF($F49<>BA$2,1-_xlfn.NORM.DIST(0,INDEX(Rating,$F49)-INDEX(Rating,BA$2),10,1),\"\")","v":""},{"$f":"IF($F49<>BB$2,1-_xlfn.NORM.DIST(0,INDEX(Rating,$F49)-INDEX(Rating,BB$2),10,1),\"\")","v":9.7143667485509511E-2},{"$f":"IF($F49<>BC$2,1-_xlfn.NORM.DIST(0,INDEX(Rating,$F49)-INDEX(Rating,BC$2),10,1),\"\")","v":0.14051687806693514},{"$f":"IF($F49<>BD$2,1-_xlfn.NORM.DIST(0,INDEX(Rating,$F49)-INDEX(Rating,BD$2),10,1),\"\")","v":4.1281917281424385E-2},{"$f":"IF($F49<>BE$2,1-_xlfn.NORM.DIST(0,INDEX(Rating,$F49)-INDEX(Rating,BE$2),10,1),\"\")","v":0.38094493079887415},{"$f":"IF($F49<>BF$2,1-_xlfn.NORM.DIST(0,INDEX(Rating,$F49)-INDEX(Rating,BF$2),10,1),\"\")","v":4.5994285750494246E-2},{"$f":"IF($F49<>BG$2,1-_xlfn.NORM.DIST(0,INDEX(Rating,$F49)-INDEX(Rating,BG$2),10,1),\"\")","v":0.65909702622767719},{"$f":"IF($F49<>BH$2,1-_xlfn.NORM.DIST(0,INDEX(Rating,$F49)-INDEX(Rating,BH$2),10,1),\"\")","v":0.10275654112713339},{"$f":"IF($F49<>BI$2,1-_xlfn.NORM.DIST(0,INDEX(Rating,$F49)-INDEX(Rating,BI$2),10,1),\"\")","v":0.11123243744783462},{"$f":"IF($F49<>BJ$2,1-_xlfn.NORM.DIST(0,INDEX(Rating,$F49)-INDEX(Rating,BJ$2),10,1),\"\")","v":9.1265901900441371E-2},{"$f":"IF($F49<>BK$2,1-_xlfn.NORM.DIST(0,INDEX(Rating,$F49)-INDEX(Rating,BK$2),10,1),\"\")","v":0.15033445559858127},{"$f":"IF($F49<>BL$2,1-_xlfn.NORM.DIST(0,INDEX(Rating,$F49)-INDEX(Rating,BL$2),10,1),\"\")","v":4.4848330265942593E-2},{"$f":"IF($F49<>BM$2,1-_xlfn.NORM.DIST(0,INDEX(Rating,$F49)-INDEX(Rating,BM$2),10,1),\"\")","v":0.2549478843299573},{"$f":"IF($F49<>BN$2,1-_xlfn.NORM.DIST(0,INDEX(Rating,$F49)-INDEX(Rating,BN$2),10,1),\"\")","v":9.9396142015105493E-2},{"$f":"IF($F49<>BO$2,1-_xlfn.NORM.DIST(0,INDEX(Rating,$F49)-INDEX(Rating,BO$2),10,1),\"\")","v":0.21505600326634222},{"$f":"IF($F49<>BP$2,1-_xlfn.NORM.DIST(0,INDEX(Rating,$F49)-INDEX(Rating,BP$2),10,1),\"\")","v":0.27059979015793145},{"$f":"IF($F49<>BQ$2,1-_xlfn.NORM.DIST(0,INDEX(Rating,$F49)-INDEX(Rating,BQ$2),10,1),\"\")","v":4.1193585434954993E-2},{"$f":"IF($F49<>BR$2,1-_xlfn.NORM.DIST(0,INDEX(Rating,$F49)-INDEX(Rating,BR$2),10,1),\"\")","v":0.38590811880112241},{"$f":"IF($F49<>BS$2,1-_xlfn.NORM.DIST(0,INDEX(Rating,$F49)-INDEX(Rating,BS$2),10,1),\"\")","v":0.13940421152030757},{"$f":"IF($F49<>BT$2,1-_xlfn.NORM.DIST(0,INDEX(Rating,$F49)-INDEX(Rating,BT$2),10,1),\"\")","v":0.18970063791845126},{"$f":"IF($F49<>BU$2,1-_xlfn.NORM.DIST(0,INDEX(Rating,$F49)-INDEX(Rating,BU$2),10,1),\"\")","v":3.5070425834428542E-2},{"$f":"IF($F49<>BV$2,1-_xlfn.NORM.DIST(0,INDEX(Rating,$F49)-INDEX(Rating,BV$2),10,1),\"\")","v":0.51037133077400687}]
[null,"Texas A&M",48,86.08,null,48,{"$f":"IF($F50<>G$2,1-_xlfn.NORM.DIST(0,INDEX(Rating,$F50)-INDEX(Rating,G$2),10,1),\"\")","v":0.24667196048634166},{"$f":"IF($F50<>H$2,1-_xlfn.NORM.DIST(0,INDEX(Rating,$F50)-INDEX(Rating,H$2),10,1),\"\")","v":0.94340314045125373},{"$f":"IF($F50<>I$2,1-_xlfn.NORM.DIST(0,INDEX(Rating,$F50)-INDEX(Rating,I$2),10,1),\"\")","v":0.97344343607577821},{"$f":"IF($F50<>J$2,1-_xlfn.NORM.DIST(0,INDEX(Rating,$F50)-INDEX(Rating,J$2),10,1),\"\")","v":0.52432039547142861},{"$f":"IF($F50<>K$2,1-_xlfn.NORM.DIST(0,INDEX(Rating,$F50)-INDEX(Rating,K$2),10,1),\"\")","v":0.50877602223066165},{"$f":"IF($F50<>L$2,1-_xlfn.NORM.DIST(0,INDEX(Rating,$F50)-INDEX(Rating,L$2),10,1),\"\")","v":0.53545904493944074},{"$f":"IF($F50<>M$2,1-_xlfn.NORM.DIST(0,INDEX(Rating,$F50)-INDEX(Rating,M$2),10,1),\"\")","v":0.70505657272273481},{"$f":"IF($F50<>N$2,1-_xlfn.NORM.DIST(0,INDEX(Rating,$F50)-INDEX(Rating,N$2),10,1),\"\")","v":0.53982783727702899},{"$f":"IF($F50<>O$2,1-_xlfn.NORM.DIST(0,INDEX(Rating,$F50)-INDEX(Rating,O$2),10,1),\"\")","v":0.74537308532866375},{"$f":"IF($F50<>P$2,1-_xlfn.NORM.DIST(0,INDEX(Rating,$F50)-INDEX(Rating,P$2),10,1),\"\")","v":0.43841065865275319},{"$f":"IF($F50<>Q$2,1-_xlfn.NORM.DIST(0,INDEX(Rating,$F50)-INDEX(Rating,Q$2),10,1),\"\")","v":0.6114115814984985},{"$f":"IF($F50<>R$2,1-_xlfn.NORM.DIST(0,INDEX(Rating,$F50)-INDEX(Rating,R$2),10,1),\"\")","v":0.44907448652068827},{"$f":"IF($F50<>S$2,1-_xlfn.NORM.DIST(0,INDEX(Rating,$F50)-INDEX(Rating,S$2),10,1),\"\")","v":0.83322798316828117},{"$f":"IF($F50<>T$2,1-_xlfn.NORM.DIST(0,INDEX(Rating,$F50)-INDEX(Rating,T$2),10,1),\"\")","v":0.64430875480054683},{"$f":"IF($F50<>U$2,1-_xlfn.NORM.DIST(0,INDEX(Rating,$F50)-INDEX(Rating,U$2),10,1),\"\")","v":0.57769491700162789},{"$f":"IF($F50<>V$2,1-_xlfn.NORM.DIST(0,INDEX(Rating,$F50)-INDEX(Rating,V$2),10,1),\"\")","v":0.35271529698782378},{"$f":"IF($F50<>W$2,1-_xlfn.NORM.DIST(0,INDEX(Rating,$F50)-INDEX(Rating,W$2),10,1),\"\")","v":0.8357154238164004},{"$f":"IF($F50<>X$2,1-_xlfn.NORM.DIST(0,INDEX(Rating,$F50)-INDEX(Rating,X$2),10,1),\"\")","v":0.37904116616934669},{"$f":"IF($F50<>Y$2,1-_xlfn.NORM.DIST(0,INDEX(Rating,$F50)-INDEX(Rating,Y$2),10,1),\"\")","v":0.98128304697123414},{"$f":"IF($F50<>Z$2,1-_xlfn.NORM.DIST(0,INDEX(Rating,$F50)-INDEX(Rating,Z$2),10,1),\"\")","v":0.98685834719980037},{"$f":"IF($F50<>AA$2,1-_xlfn.NORM.DIST(0,INDEX(Rating,$F50)-INDEX(Rating,AA$2),10,1),\"\")","v":0.48205365447786086},{"$f":"IF($F50<>AB$2,1-_xlfn.NORM.DIST(0,INDEX(Rating,$F50)-INDEX(Rating,AB$2),10,1),\"\")","v":0.59560991838520028},{"$f":"IF($F50<>AC$2,1-_xlfn.NORM.DIST(0,INDEX(Rating,$F50)-INDEX(Rating,AC$2),10,1),\"\")","v":0.44986596228773346},{"$f":"IF($F50<>AD$2,1-_xlfn.NORM.DIST(0,INDEX(Rating,$F50)-INDEX(Rating,AD$2),10,1),\"\")","v":0.71191913990855893},{"$f":"IF($F50<>AE$2,1-_xlfn.NORM.DIST(0,INDEX(Rating,$F50)-INDEX(Rating,AE$2),10,1),\"\")","v":0.37448416527667983},{"$f":"IF($F50<>AF$2,1-_xlfn.NORM.DIST(0,INDEX(Rating,$F50)-INDEX(Rating,AF$2),10,1),\"\")","v":0.8067549191058071},{"$f":"IF($F50<>AG$2,1-_xlfn.NORM.DIST(0,INDEX(Rating,$F50)-INDEX(Rating,AG$2),10,1),\"\")","v":0.5051861035695564},{"$f":"IF($F50<>AH$2,1-_xlfn.NORM.DIST(0,INDEX(Rating,$F50)-INDEX(Rating,AH$2),10,1),\"\")","v":0.57769491700162789},{"$f":"IF($F50<>AI$2,1-_xlfn.NORM.DIST(0,INDEX(Rating,$F50)-INDEX(Rating,AI$2),10,1),\"\")","v":0.52949480736890275},{"$f":"IF($F50<>AJ$2,1-_xlfn.NORM.DIST(0,INDEX(Rating,$F50)-INDEX(Rating,AJ$2),10,1),\"\")","v":0.87202171784858462},{"$f":"IF($F50<>AK$2,1-_xlfn.NORM.DIST(0,INDEX(Rating,$F50)-INDEX(Rating,AK$2),10,1),\"\")","v":0.54577743897780995},{"$f":"IF($F50<>AL$2,1-_xlfn.NORM.DIST(0,INDEX(Rating,$F50)-INDEX(Rating,AL$2),10,1),\"\")","v":0.57769491700162789},{"$f":"IF($F50<>AM$2,1-_xlfn.NORM.DIST(0,INDEX(Rating,$F50)-INDEX(Rating,AM$2),10,1),\"\")","v":0.44314509059651686},{"$f":"IF($F50<>AN$2,1-_xlfn.NORM.DIST(0,INDEX(Rating,$F50)-INDEX(Rating,AN$2),10,1),\"\")","v":0.82484805350281487},{"$f":"IF($F50<>AO$2,1-_xlfn.NORM.DIST(0,INDEX(Rating,$F50)-INDEX(Rating,AO$2),10,1),\"\")","v":0.2819697277610409},{"$f":"IF($F50<>AP$2,1-_xlfn.NORM.DIST(0,INDEX(Rating,$F50)-INDEX(Rating,AP$2),10,1),\"\")","v":0.91084874170892427},{"$f":"IF($F50<>AQ$2,1-_xlfn.NORM.DIST(0,INDEX(Rating,$F50)-INDEX(Rating,AQ$2),10,1),\"\")","v":0.54894645101643691},{"$f":"IF($F50<>AR$2,1-_xlfn.NORM.DIST(0,INDEX(Rating,$F50)-INDEX(Rating,AR$2),10,1),\"\")","v":0.53029045090025684},{"$f":"IF($F50<>AS$2,1-_xlfn.NORM.DIST(0,INDEX(Rating,$F50)-INDEX(Rating,AS$2),10,1),\"\")","v":0.57534543473479516},{"$f":"IF($F50<>AT$2,1-_xlfn.NORM.DIST(0,INDEX(Rating,$F50)-INDEX(Rating,AT$2),10,1),\"\")","v":0.66202644138725664},{"$f":"IF($F50<>AU$2,1-_xlfn.NORM.DIST(0,INDEX(Rating,$F50)-INDEX(Rating,AU$2),10,1),\"\")","v":0.4948138964304436},{"$f":"IF($F50<>AV$2,1-_xlfn.NORM.DIST(0,INDEX(Rating,$F50)-INDEX(Rating,AV$2),10,1),\"\")","v":0.69111030797494533},{"$f":"IF($F50<>AW$2,1-_xlfn.NORM.DIST(0,INDEX(Rating,$F50)-INDEX(Rating,AW$2),10,1),\"\")","v":0.56592152491388525},{"$f":"IF($F50<>AX$2,1-_xlfn.NORM.DIST(0,INDEX(Rating,$F50)-INDEX(Rating,AX$2),10,1),\"\")","v":0.64876931768278956},{"$f":"IF($F50<>AY$2,1-_xlfn.NORM.DIST(0,INDEX(Rating,$F50)-INDEX(Rating,AY$2),10,1),\"\")","v":0.67508558660282547},{"$f":"IF($F50<>AZ$2,1-_xlfn.NORM.DIST(0,INDEX(Rating,$F50)-INDEX(Rating,AZ$2),10,1),\"\")","v":0.48324934905923533},{"$f":"IF($F50<>BA$2,1-_xlfn.NORM.DIST(0,INDEX(Rating,$F50)-INDEX(Rating,BA$2),10,1),\"\")","v":0.90285633251449049},{"$f":"IF($F50<>BB$2,1-_xlfn.NORM.DIST(0,INDEX(Rating,$F50)-INDEX(Rating,BB$2),10,1),\"\")","v":""},{"$f":"IF($F50<>BC$2,1-_xlfn.NORM.DIST(0,INDEX(Rating,$F50)-INDEX(Rating,BC$2),10,1),\"\")","v":0.58706442264821468},{"$f":"IF($F50<>BD$2,1-_xlfn.NORM.DIST(0,INDEX(Rating,$F50)-INDEX(Rating,BD$2),10,1),\"\")","v":0.33069314171445119},{"$f":"IF($F50<>BE$2,1-_xlfn.NORM.DIST(0,INDEX(Rating,$F50)-INDEX(Rating,BE$2),10,1),\"\")","v":0.84013186782450611},{"$f":"IF($F50<>BF$2,1-_xlfn.NORM.DIST(0,INDEX(Rating,$F50)-INDEX(Rating,BF$2),10,1),\"\")","v":0.34937810397633851},{"$f":"IF($F50<>BG$2,1-_xlfn.NORM.DIST(0,INDEX(Rating,$F50)-INDEX(Rating,BG$2),10,1),\"\")","v":0.95618182876174607},{"$f":"IF($F50<>BH$2,1-_xlfn.NORM.DIST(0,INDEX(Rating,$F50)-INDEX(Rating,BH$2),10,1),\"\")","v":0.51276397455068778},{"$f":"IF($F50<>BI$2,1-_xlfn.NORM.DIST(0,INDEX(Rating,$F50)-INDEX(Rating,BI$2),10,1),\"\")","v":0.53108597350302467},{"$f":"IF($F50<>BJ$2,1-_xlfn.NORM.DIST(0,INDEX(Rating,$F50)-INDEX(Rating,BJ$2),10,1),\"\")","v":0.48603987043724128},{"$f":"IF($F50<>BK$2,1-_xlfn.NORM.DIST(0,INDEX(Rating,$F50)-INDEX(Rating,BK$2),10,1),\"\")","v":0.60372471044253806},{"$f":"IF($F50<>BL$2,1-_xlfn.NORM.DIST(0,INDEX(Rating,$F50)-INDEX(Rating,BL$2),10,1),\"\")","v":0.34494660213243211},{"$f":"IF($F50<>BM$2,1-_xlfn.NORM.DIST(0,INDEX(Rating,$F50)-INDEX(Rating,BM$2),10,1),\"\")","v":0.73858853405513847},{"$f":"IF($F50<>BN$2,1-_xlfn.NORM.DIST(0,INDEX(Rating,$F50)-INDEX(Rating,BN$2),10,1),\"\")","v":0.5051861035695564},{"$f":"IF($F50<>BO$2,1-_xlfn.NORM.DIST(0,INDEX(Rating,$F50)-INDEX(Rating,BO$2),10,1),\"\")","v":0.69462388794267915},{"$f":"IF($F50<>BP$2,1-_xlfn.NORM.DIST(0,INDEX(Rating,$F50)-INDEX(Rating,BP$2),10,1),\"\")","v":0.75395863578744904},{"$f":"IF($F50<>BQ$2,1-_xlfn.NORM.DIST(0,INDEX(Rating,$F50)-INDEX(Rating,BQ$2),10,1),\"\")","v":0.33033076816399132},{"$f":"IF($F50<>BR$2,1-_xlfn.NORM.DIST(0,INDEX(Rating,$F50)-INDEX(Rating,BR$2),10,1),\"\")","v":0.84327276888397151},{"$f":"IF($F50<>BS$2,1-_xlfn.NORM.DIST(0,INDEX(Rating,$F50)-INDEX(Rating,BS$2),10,1),\"\")","v":0.58511634072019536},{"$f":"IF($F50<>BT$2,1-_xlfn.NORM.DIST(0,INDEX(Rating,$F50)-INDEX(Rating,BT$2),10,1),\"\")","v":0.66239193382412342},{"$f":"IF($F50<>BU$2,1-_xlfn.NORM.DIST(0,INDEX(Rating,$F50)-INDEX(Rating,BU$2),10,1),\"\")","v":0.30397566034627299},{"$f":"IF($F50<>BV$2,1-_xlfn.NORM.DIST(0,INDEX(Rating,$F50)-INDEX(Rating,BV$2),10,1),\"\")","v":0.90724847764324712}]
[null,"Penn St",49,83.88,null,49,{"$f":"IF($F51<>G$2,1-_xlfn.NORM.DIST(0,INDEX(Rating,$F51)-INDEX(Rating,G$2),10,1),\"\")","v":0.18273269359593158},{"$f":"IF($F51<>H$2,1-_xlfn.NORM.DIST(0,INDEX(Rating,$F51)-INDEX(Rating,H$2),10,1),\"\")","v":0.9137162171652079},{"$f":"IF($F51<>I$2,1-_xlfn.NORM.DIST(0,INDEX(Rating,$F51)-INDEX(Rating,I$2),10,1),\"\")","v":0.95673563706633946},{"$f":"IF($F51<>J$2,1-_xlfn.NORM.DIST(0,INDEX(Rating,$F51)-INDEX(Rating,J$2),10,1),\"\")","v":0.43683443691563251},{"$f":"IF($F51<>K$2,1-_xlfn.NORM.DIST(0,INDEX(Rating,$F51)-INDEX(Rating,K$2),10,1),\"\")","v":0.42152253186523669},{"$f":"IF($F51<>L$2,1-_xlfn.NORM.DIST(0,INDEX(Rating,$F51)-INDEX(Rating,L$2),10,1),\"\")","v":0.44788765370246364},{"$f":"IF($F51<>M$2,1-_xlfn.NORM.DIST(0,INDEX(Rating,$F51)-INDEX(Rating,M$2),10,1),\"\")","v":0.62513674360900073},{"$f":"IF($F51<>N$2,1-_xlfn.NORM.DIST(0,INDEX(Rating,$F51)-INDEX(Rating,N$2),10,1),\"\")","v":0.45224157397941611},{"$f":"IF($F51<>O$2,1-_xlfn.NORM.DIST(0,INDEX(Rating,$F51)-INDEX(Rating,O$2),10,1),\"\")","v":0.67003144633940603},{"$f":"IF($F51<>P$2,1-_xlfn.NORM.DIST(0,INDEX(Rating,$F51)-INDEX(Rating,P$2),10,1),\"\")","v":0.35383023332727614},{"$f":"IF($F51<>Q$2,1-_xlfn.NORM.DIST(0,INDEX(Rating,$F51)-INDEX(Rating,Q$2),10,1),\"\")","v":0.5251167478386729},{"$f":"IF($F51<>R$2,1-_xlfn.NORM.DIST(0,INDEX(Rating,$F51)-INDEX(Rating,R$2),10,1),\"\")","v":0.36392009174717455},{"$f":"IF($F51<>S$2,1-_xlfn.NORM.DIST(0,INDEX(Rating,$F51)-INDEX(Rating,S$2),10,1),\"\")","v":0.77246821958255629},{"$f":"IF($F51<>T$2,1-_xlfn.NORM.DIST(0,INDEX(Rating,$F51)-INDEX(Rating,T$2),10,1),\"\")","v":0.5596176923702425},{"$f":"IF($F51<>U$2,1-_xlfn.NORM.DIST(0,INDEX(Rating,$F51)-INDEX(Rating,U$2),10,1),\"\")","v":0.49042630435396906},{"$f":"IF($F51<>V$2,1-_xlfn.NORM.DIST(0,INDEX(Rating,$F51)-INDEX(Rating,V$2),10,1),\"\")","v":0.27491996654067696},{"$f":"IF($F51<>W$2,1-_xlfn.NORM.DIST(0,INDEX(Rating,$F51)-INDEX(Rating,W$2),10,1),\"\")","v":0.7754750687713986},{"$f":"IF($F51<>X$2,1-_xlfn.NORM.DIST(0,INDEX(Rating,$F51)-INDEX(Rating,X$2),10,1),\"\")","v":0.2987496679726146},{"$f":"IF($F51<>Y$2,1-_xlfn.NORM.DIST(0,INDEX(Rating,$F51)-INDEX(Rating,Y$2),10,1),\"\")","v":0.96862791165313467},{"$f":"IF($F51<>Z$2,1-_xlfn.NORM.DIST(0,INDEX(Rating,$F51)-INDEX(Rating,Z$2),10,1),\"\")","v":0.97735763423687294},{"$f":"IF($F51<>AA$2,1-_xlfn.NORM.DIST(0,INDEX(Rating,$F51)-INDEX(Rating,AA$2),10,1),\"\")","v":0.39550473090744576},{"$f":"IF($F51<>AB$2,1-_xlfn.NORM.DIST(0,INDEX(Rating,$F51)-INDEX(Rating,AB$2),10,1),\"\")","v":0.50877602223066165},{"$f":"IF($F51<>AC$2,1-_xlfn.NORM.DIST(0,INDEX(Rating,$F51)-INDEX(Rating,AC$2),10,1),\"\")","v":0.36467135736874634},{"$f":"IF($F51<>AD$2,1-_xlfn.NORM.DIST(0,INDEX(Rating,$F51)-INDEX(Rating,AD$2),10,1),\"\")","v":0.63269513491839424},{"$f":"IF($F51<>AE$2,1-_xlfn.NORM.DIST(0,INDEX(Rating,$F51)-INDEX(Rating,AE$2),10,1),\"\")","v":0.29459851621569788},{"$f":"IF($F51<>AF$2,1-_xlfn.NORM.DIST(0,INDEX(Rating,$F51)-INDEX(Rating,AF$2),10,1),\"\")","v":0.74086032229447274},{"$f":"IF($F51<>AG$2,1-_xlfn.NORM.DIST(0,INDEX(Rating,$F51)-INDEX(Rating,AG$2),10,1),\"\")","v":0.4180049292493816},{"$f":"IF($F51<>AH$2,1-_xlfn.NORM.DIST(0,INDEX(Rating,$F51)-INDEX(Rating,AH$2),10,1),\"\")","v":0.49042630435396906},{"$f":"IF($F51<>AI$2,1-_xlfn.NORM.DIST(0,INDEX(Rating,$F51)-INDEX(Rating,AI$2),10,1),\"\")","v":0.44196069421361162},{"$f":"IF($F51<>AJ$2,1-_xlfn.NORM.DIST(0,INDEX(Rating,$F51)-INDEX(Rating,AJ$2),10,1),\"\")","v":0.82016655254706938},{"$f":"IF($F51<>AK$2,1-_xlfn.NORM.DIST(0,INDEX(Rating,$F51)-INDEX(Rating,AK$2),10,1),\"\")","v":0.45818790436029488},{"$f":"IF($F51<>AL$2,1-_xlfn.NORM.DIST(0,INDEX(Rating,$F51)-INDEX(Rating,AL$2),10,1),\"\")","v":0.49042630435396906},{"$f":"IF($F51<>AM$2,1-_xlfn.NORM.DIST(0,INDEX(Rating,$F51)-INDEX(Rating,AM$2),10,1),\"\")","v":0.35830244216429707},{"$f":"IF($F51<>AN$2,1-_xlfn.NORM.DIST(0,INDEX(Rating,$F51)-INDEX(Rating,AN$2),10,1),\"\")","v":0.76238641027269571},{"$f":"IF($F51<>AO$2,1-_xlfn.NORM.DIST(0,INDEX(Rating,$F51)-INDEX(Rating,AO$2),10,1),\"\")","v":0.21272551566012454},{"$f":"IF($F51<>AP$2,1-_xlfn.NORM.DIST(0,INDEX(Rating,$F51)-INDEX(Rating,AP$2),10,1),\"\")","v":0.86991724033775064},{"$f":"IF($F51<>AQ$2,1-_xlfn.NORM.DIST(0,INDEX(Rating,$F51)-INDEX(Rating,AQ$2),10,1),\"\")","v":0.46136319722522667},{"$f":"IF($F51<>AR$2,1-_xlfn.NORM.DIST(0,INDEX(Rating,$F51)-INDEX(Rating,AR$2),10,1),\"\")","v":0.44275023481823006},{"$f":"IF($F51<>AS$2,1-_xlfn.NORM.DIST(0,INDEX(Rating,$F51)-INDEX(Rating,AS$2),10,1),\"\")","v":0.48803352658588683},{"$f":"IF($F51<>AT$2,1-_xlfn.NORM.DIST(0,INDEX(Rating,$F51)-INDEX(Rating,AT$2),10,1),\"\")","v":0.57847746813476286},{"$f":"IF($F51<>AU$2,1-_xlfn.NORM.DIST(0,INDEX(Rating,$F51)-INDEX(Rating,AU$2),10,1),\"\")","v":0.40788070288413092},{"$f":"IF($F51<>AV$2,1-_xlfn.NORM.DIST(0,INDEX(Rating,$F51)-INDEX(Rating,AV$2),10,1),\"\")","v":0.6098775876176975},{"$f":"IF($F51<>AW$2,1-_xlfn.NORM.DIST(0,INDEX(Rating,$F51)-INDEX(Rating,AW$2),10,1),\"\")","v":0.47846758212161},{"$f":"IF($F51<>AX$2,1-_xlfn.NORM.DIST(0,INDEX(Rating,$F51)-INDEX(Rating,AX$2),10,1),\"\")","v":0.56434707306510534},{"$f":"IF($F51<>AY$2,1-_xlfn.NORM.DIST(0,INDEX(Rating,$F51)-INDEX(Rating,AY$2),10,1),\"\")","v":0.59250751066841867},{"$f":"IF($F51<>AZ$2,1-_xlfn.NORM.DIST(0,INDEX(Rating,$F51)-INDEX(Rating,AZ$2),10,1),\"\")","v":0.39666072109449291},{"$f":"IF($F51<>BA$2,1-_xlfn.NORM.DIST(0,INDEX(Rating,$F51)-INDEX(Rating,BA$2),10,1),\"\")","v":0.85948312193306486},{"$f":"IF($F51<>BB$2,1-_xlfn.NORM.DIST(0,INDEX(Rating,$F51)-INDEX(Rating,BB$2),10,1),\"\")","v":0.41293557735178532},{"$f":"IF($F51<>BC$2,1-_xlfn.NORM.DIST(0,INDEX(Rating,$F51)-INDEX(Rating,BC$2),10,1),\"\")","v":""},{"$f":"IF($F51<>BD$2,1-_xlfn.NORM.DIST(0,INDEX(Rating,$F51)-INDEX(Rating,BD$2),10,1),\"\")","v":0.2552690655772768},{"$f":"IF($F51<>BE$2,1-_xlfn.NORM.DIST(0,INDEX(Rating,$F51)-INDEX(Rating,BE$2),10,1),\"\")","v":0.7808301702066226},{"$f":"IF($F51<>BF$2,1-_xlfn.NORM.DIST(0,INDEX(Rating,$F51)-INDEX(Rating,BF$2),10,1),\"\")","v":0.27192545607022112},{"$f":"IF($F51<>BG$2,1-_xlfn.NORM.DIST(0,INDEX(Rating,$F51)-INDEX(Rating,BG$2),10,1),\"\")","v":0.93162455318383819},{"$f":"IF($F51<>BH$2,1-_xlfn.NORM.DIST(0,INDEX(Rating,$F51)-INDEX(Rating,BH$2),10,1),\"\")","v":0.42543832559014161},{"$f":"IF($F51<>BI$2,1-_xlfn.NORM.DIST(0,INDEX(Rating,$F51)-INDEX(Rating,BI$2),10,1),\"\")","v":0.44354000284321315},{"$f":"IF($F51<>BJ$2,1-_xlfn.NORM.DIST(0,INDEX(Rating,$F51)-INDEX(Rating,BJ$2),10,1),\"\")","v":0.3993615496156171},{"$f":"IF($F51<>BK$2,1-_xlfn.NORM.DIST(0,INDEX(Rating,$F51)-INDEX(Rating,BK$2),10,1),\"\")","v":0.51714923307248772},{"$f":"IF($F51<>BL$2,1-_xlfn.NORM.DIST(0,INDEX(Rating,$F51)-INDEX(Rating,BL$2),10,1),\"\")","v":0.26795817944298517},{"$f":"IF($F51<>BM$2,1-_xlfn.NORM.DIST(0,INDEX(Rating,$F51)-INDEX(Rating,BM$2),10,1),\"\")","v":0.66239193382412342},{"$f":"IF($F51<>BN$2,1-_xlfn.NORM.DIST(0,INDEX(Rating,$F51)-INDEX(Rating,BN$2),10,1),\"\")","v":0.4180049292493816},{"$f":"IF($F51<>BO$2,1-_xlfn.NORM.DIST(0,INDEX(Rating,$F51)-INDEX(Rating,BO$2),10,1),\"\")","v":0.613709311222006},{"$f":"IF($F51<>BP$2,1-_xlfn.NORM.DIST(0,INDEX(Rating,$F51)-INDEX(Rating,BP$2),10,1),\"\")","v":0.67975006096419166},{"$f":"IF($F51<>BQ$2,1-_xlfn.NORM.DIST(0,INDEX(Rating,$F51)-INDEX(Rating,BQ$2),10,1),\"\")","v":0.2549478843299573},{"$f":"IF($F51<>BR$2,1-_xlfn.NORM.DIST(0,INDEX(Rating,$F51)-INDEX(Rating,BR$2),10,1),\"\")","v":0.78465164705805057},{"$f":"IF($F51<>BS$2,1-_xlfn.NORM.DIST(0,INDEX(Rating,$F51)-INDEX(Rating,BS$2),10,1),\"\")","v":0.49800529690925877},{"$f":"IF($F51<>BT$2,1-_xlfn.NORM.DIST(0,INDEX(Rating,$F51)-INDEX(Rating,BT$2),10,1),\"\")","v":0.5788686277034345},{"$f":"IF($F51<>BU$2,1-_xlfn.NORM.DIST(0,INDEX(Rating,$F51)-INDEX(Rating,BU$2),10,1),\"\")","v":0.23177921469740448},{"$f":"IF($F51<>BV$2,1-_xlfn.NORM.DIST(0,INDEX(Rating,$F51)-INDEX(Rating,BV$2),10,1),\"\")","v":0.86520343115514864}]
[null,"Texas",50,90.46,null,50,{"$f":"IF($F52<>G$2,1-_xlfn.NORM.DIST(0,INDEX(Rating,$F52)-INDEX(Rating,G$2),10,1),\"\")","v":0.40245411203690329},{"$f":"IF($F52<>H$2,1-_xlfn.NORM.DIST(0,INDEX(Rating,$F52)-INDEX(Rating,H$2),10,1),\"\")","v":0.97841182406980765},{"$f":"IF($F52<>I$2,1-_xlfn.NORM.DIST(0,INDEX(Rating,$F52)-INDEX(Rating,I$2),10,1),\"\")","v":0.99115395464265443},{"$f":"IF($F52<>J$2,1-_xlfn.NORM.DIST(0,INDEX(Rating,$F52)-INDEX(Rating,J$2),10,1),\"\")","v":0.69111030797494533},{"$f":"IF($F52<>K$2,1-_xlfn.NORM.DIST(0,INDEX(Rating,$F52)-INDEX(Rating,K$2),10,1),\"\")","v":0.67724188974965216},{"$f":"IF($F52<>L$2,1-_xlfn.NORM.DIST(0,INDEX(Rating,$F52)-INDEX(Rating,L$2),10,1),\"\")","v":0.7009032057620852},{"$f":"IF($F52<>M$2,1-_xlfn.NORM.DIST(0,INDEX(Rating,$F52)-INDEX(Rating,M$2),10,1),\"\")","v":0.8357154238164004},{"$f":"IF($F52<>N$2,1-_xlfn.NORM.DIST(0,INDEX(Rating,$F52)-INDEX(Rating,N$2),10,1),\"\")","v":0.70471147570400983},{"$f":"IF($F52<>O$2,1-_xlfn.NORM.DIST(0,INDEX(Rating,$F52)-INDEX(Rating,O$2),10,1),\"\")","v":0.86389775536405011},{"$f":"IF($F52<>P$2,1-_xlfn.NORM.DIST(0,INDEX(Rating,$F52)-INDEX(Rating,P$2),10,1),\"\")","v":0.6114115814984985},{"$f":"IF($F52<>Q$2,1-_xlfn.NORM.DIST(0,INDEX(Rating,$F52)-INDEX(Rating,Q$2),10,1),\"\")","v":0.76454524263007761},{"$f":"IF($F52<>R$2,1-_xlfn.NORM.DIST(0,INDEX(Rating,$F52)-INDEX(Rating,R$2),10,1),\"\")","v":0.62171952182201906},{"$f":"IF($F52<>S$2,1-_xlfn.NORM.DIST(0,INDEX(Rating,$F52)-INDEX(Rating,S$2),10,1),\"\")","v":0.91998936086396632},{"$f":"IF($F52<>T$2,1-_xlfn.NORM.DIST(0,INDEX(Rating,$F52)-INDEX(Rating,T$2),10,1),\"\")","v":0.79045470892892911},{"$f":"IF($F52<>U$2,1-_xlfn.NORM.DIST(0,INDEX(Rating,$F52)-INDEX(Rating,U$2),10,1),\"\")","v":0.7369595889434406},{"$f":"IF($F52<>V$2,1-_xlfn.NORM.DIST(0,INDEX(Rating,$F52)-INDEX(Rating,V$2),10,1),\"\")","v":0.52392218265410662},{"$f":"IF($F52<>W$2,1-_xlfn.NORM.DIST(0,INDEX(Rating,$F52)-INDEX(Rating,W$2),10,1),\"\")","v":0.92146575198295178},{"$f":"IF($F52<>X$2,1-_xlfn.NORM.DIST(0,INDEX(Rating,$F52)-INDEX(Rating,X$2),10,1),\"\")","v":0.55171678665456103},{"$f":"IF($F52<>Y$2,1-_xlfn.NORM.DIST(0,INDEX(Rating,$F52)-INDEX(Rating,Y$2),10,1),\"\")","v":0.9941155671646319},{"$f":"IF($F52<>Z$2,1-_xlfn.NORM.DIST(0,INDEX(Rating,$F52)-INDEX(Rating,Z$2),10,1),\"\")","v":0.99609296742514719},{"$f":"IF($F52<>AA$2,1-_xlfn.NORM.DIST(0,INDEX(Rating,$F52)-INDEX(Rating,AA$2),10,1),\"\")","v":0.65284025930690381},{"$f":"IF($F52<>AB$2,1-_xlfn.NORM.DIST(0,INDEX(Rating,$F52)-INDEX(Rating,AB$2),10,1),\"\")","v":0.75174776954642941},{"$f":"IF($F52<>AC$2,1-_xlfn.NORM.DIST(0,INDEX(Rating,$F52)-INDEX(Rating,AC$2),10,1),\"\")","v":0.62247973833316128},{"$f":"IF($F52<>AD$2,1-_xlfn.NORM.DIST(0,INDEX(Rating,$F52)-INDEX(Rating,AD$2),10,1),\"\")","v":0.84061774502835951},{"$f":"IF($F52<>AE$2,1-_xlfn.NORM.DIST(0,INDEX(Rating,$F52)-INDEX(Rating,AE$2),10,1),\"\")","v":0.546966171058342},{"$f":"IF($F52<>AF$2,1-_xlfn.NORM.DIST(0,INDEX(Rating,$F52)-INDEX(Rating,AF$2),10,1),\"\")","v":0.90388320881360307},{"$f":"IF($F52<>AG$2,1-_xlfn.NORM.DIST(0,INDEX(Rating,$F52)-INDEX(Rating,AG$2),10,1),\"\")","v":0.67400522550807362},{"$f":"IF($F52<>AH$2,1-_xlfn.NORM.DIST(0,INDEX(Rating,$F52)-INDEX(Rating,AH$2),10,1),\"\")","v":0.7369595889434406},{"$f":"IF($F52<>AI$2,1-_xlfn.NORM.DIST(0,INDEX(Rating,$F52)-INDEX(Rating,AI$2),10,1),\"\")","v":0.69567449521669544},{"$f":"IF($F52<>AJ$2,1-_xlfn.NORM.DIST(0,INDEX(Rating,$F52)-INDEX(Rating,AJ$2),10,1),\"\")","v":0.94225627528071387},{"$f":"IF($F52<>AK$2,1-_xlfn.NORM.DIST(0,INDEX(Rating,$F52)-INDEX(Rating,AK$2),10,1),\"\")","v":0.70986829491597325},{"$f":"IF($F52<>AL$2,1-_xlfn.NORM.DIST(0,INDEX(Rating,$F52)-INDEX(Rating,AL$2),10,1),\"\")","v":0.7369595889434406},{"$f":"IF($F52<>AM$2,1-_xlfn.NORM.DIST(0,INDEX(Rating,$F52)-INDEX(Rating,AM$2),10,1),\"\")","v":0.616003060146465},{"$f":"IF($F52<>AN$2,1-_xlfn.NORM.DIST(0,INDEX(Rating,$F52)-INDEX(Rating,AN$2),10,1),\"\")","v":0.91496828109343631},{"$f":"IF($F52<>AO$2,1-_xlfn.NORM.DIST(0,INDEX(Rating,$F52)-INDEX(Rating,AO$2),10,1),\"\")","v":0.44472507452399168},{"$f":"IF($F52<>AP$2,1-_xlfn.NORM.DIST(0,INDEX(Rating,$F52)-INDEX(Rating,AP$2),10,1),\"\")","v":0.96278816742029949},{"$f":"IF($F52<>AQ$2,1-_xlfn.NORM.DIST(0,INDEX(Rating,$F52)-INDEX(Rating,AQ$2),10,1),\"\")","v":0.7126012314077883},{"$f":"IF($F52<>AR$2,1-_xlfn.NORM.DIST(0,INDEX(Rating,$F52)-INDEX(Rating,AR$2),10,1),\"\")","v":0.6963740046666036},{"$f":"IF($F52<>AS$2,1-_xlfn.NORM.DIST(0,INDEX(Rating,$F52)-INDEX(Rating,AS$2),10,1),\"\")","v":0.73499803000615405},{"$f":"IF($F52<>AT$2,1-_xlfn.NORM.DIST(0,INDEX(Rating,$F52)-INDEX(Rating,AT$2),10,1),\"\")","v":0.80400111027731147},{"$f":"IF($F52<>AU$2,1-_xlfn.NORM.DIST(0,INDEX(Rating,$F52)-INDEX(Rating,AU$2),10,1),\"\")","v":0.66458166262983043},{"$f":"IF($F52<>AV$2,1-_xlfn.NORM.DIST(0,INDEX(Rating,$F52)-INDEX(Rating,AV$2),10,1),\"\")","v":0.82562072104058537},{"$f":"IF($F52<>AW$2,1-_xlfn.NORM.DIST(0,INDEX(Rating,$F52)-INDEX(Rating,AW$2),10,1),\"\")","v":0.72707817891421911},{"$f":"IF($F52<>AX$2,1-_xlfn.NORM.DIST(0,INDEX(Rating,$F52)-INDEX(Rating,AX$2),10,1),\"\")","v":0.79389194641418659},{"$f":"IF($F52<>AY$2,1-_xlfn.NORM.DIST(0,INDEX(Rating,$F52)-INDEX(Rating,AY$2),10,1),\"\")","v":0.81380353380257553},{"$f":"IF($F52<>AZ$2,1-_xlfn.NORM.DIST(0,INDEX(Rating,$F52)-INDEX(Rating,AZ$2),10,1),\"\")","v":0.65394748588881813},{"$f":"IF($F52<>BA$2,1-_xlfn.NORM.DIST(0,INDEX(Rating,$F52)-INDEX(Rating,BA$2),10,1),\"\")","v":0.95871808271857561},{"$f":"IF($F52<>BB$2,1-_xlfn.NORM.DIST(0,INDEX(Rating,$F52)-INDEX(Rating,BB$2),10,1),\"\")","v":0.66930685828554881},{"$f":"IF($F52<>BC$2,1-_xlfn.NORM.DIST(0,INDEX(Rating,$F52)-INDEX(Rating,BC$2),10,1),\"\")","v":0.7447309344227232},{"$f":"IF($F52<>BD$2,1-_xlfn.NORM.DIST(0,INDEX(Rating,$F52)-INDEX(Rating,BD$2),10,1),\"\")","v":""},{"$f":"IF($F52<>BE$2,1-_xlfn.NORM.DIST(0,INDEX(Rating,$F52)-INDEX(Rating,BE$2),10,1),\"\")","v":0.924071081338524},{"$f":"IF($F52<>BF$2,1-_xlfn.NORM.DIST(0,INDEX(Rating,$F52)-INDEX(Rating,BF$2),10,1),\"\")","v":0.52033723972513024},{"$f":"IF($F52<>BG$2,1-_xlfn.NORM.DIST(0,INDEX(Rating,$F52)-INDEX(Rating,BG$2),10,1),\"\")","v":0.98406351065215258},{"$f":"IF($F52<>BH$2,1-_xlfn.NORM.DIST(0,INDEX(Rating,$F52)-INDEX(Rating,BH$2),10,1),\"\")","v":0.68082249121744387},{"$f":"IF($F52<>BI$2,1-_xlfn.NORM.DIST(0,INDEX(Rating,$F52)-INDEX(Rating,BI$2),10,1),\"\")","v":0.6970727953905248},{"$f":"IF($F52<>BJ$2,1-_xlfn.NORM.DIST(0,INDEX(Rating,$F52)-INDEX(Rating,BJ$2),10,1),\"\")","v":0.65652588775433351},{"$f":"IF($F52<>BK$2,1-_xlfn.NORM.DIST(0,INDEX(Rating,$F52)-INDEX(Rating,BK$2),10,1),\"\")","v":0.7583484923948981},{"$f":"IF($F52<>BL$2,1-_xlfn.NORM.DIST(0,INDEX(Rating,$F52)-INDEX(Rating,BL$2),10,1),\"\")","v":0.51555480569249401},{"$f":"IF($F52<>BM$2,1-_xlfn.NORM.DIST(0,INDEX(Rating,$F52)-INDEX(Rating,BM$2),10,1),\"\")","v":0.85925986715373792},{"$f":"IF($F52<>BN$2,1-_xlfn.NORM.DIST(0,INDEX(Rating,$F52)-INDEX(Rating,BN$2),10,1),\"\")","v":0.67400522550807362},{"$f":"IF($F52<>BO$2,1-_xlfn.NORM.DIST(0,INDEX(Rating,$F52)-INDEX(Rating,BO$2),10,1),\"\")","v":0.82818061053282199},{"$f":"IF($F52<>BP$2,1-_xlfn.NORM.DIST(0,INDEX(Rating,$F52)-INDEX(Rating,BP$2),10,1),\"\")","v":0.86970548286319116},{"$f":"IF($F52<>BQ$2,1-_xlfn.NORM.DIST(0,INDEX(Rating,$F52)-INDEX(Rating,BQ$2),10,1),\"\")","v":0.49960105778608876},{"$f":"IF($F52<>BR$2,1-_xlfn.NORM.DIST(0,INDEX(Rating,$F52)-INDEX(Rating,BR$2),10,1),\"\")","v":0.92591139909223763},{"$f":"IF($F52<>BS$2,1-_xlfn.NORM.DIST(0,INDEX(Rating,$F52)-INDEX(Rating,BS$2),10,1),\"\")","v":0.74312186074148878},{"$f":"IF($F52<>BT$2,1-_xlfn.NORM.DIST(0,INDEX(Rating,$F52)-INDEX(Rating,BT$2),10,1),\"\")","v":0.80427755768889286},{"$f":"IF($F52<>BU$2,1-_xlfn.NORM.DIST(0,INDEX(Rating,$F52)-INDEX(Rating,BU$2),10,1),\"\")","v":0.47010735594710518},{"$f":"IF($F52<>BV$2,1-_xlfn.NORM.DIST(0,INDEX(Rating,$F52)-INDEX(Rating,BV$2),10,1),\"\")","v":0.96096535125943416}]
[null,"Colgate",51,76.13,null,51,{"$f":"IF($F53<>G$2,1-_xlfn.NORM.DIST(0,INDEX(Rating,$F53)-INDEX(Rating,G$2),10,1),\"\")","v":4.6478657863719963E-2},{"$f":"IF($F53<>H$2,1-_xlfn.NORM.DIST(0,INDEX(Rating,$F53)-INDEX(Rating,H$2),10,1),\"\")","v":0.722069363195597},{"$f":"IF($F53<>I$2,1-_xlfn.NORM.DIST(0,INDEX(Rating,$F53)-INDEX(Rating,I$2),10,1),\"\")","v":0.82613462783043823},{"$f":"IF($F53<>J$2,1-_xlfn.NORM.DIST(0,INDEX(Rating,$F53)-INDEX(Rating,J$2),10,1),\"\")","v":0.17515194649718513},{"$f":"IF($F53<>K$2,1-_xlfn.NORM.DIST(0,INDEX(Rating,$F53)-INDEX(Rating,K$2),10,1),\"\")","v":0.16527665104938627},{"$f":"IF($F53<>L$2,1-_xlfn.NORM.DIST(0,INDEX(Rating,$F53)-INDEX(Rating,L$2),10,1),\"\")","v":0.18246792622013874},{"$f":"IF($F53<>M$2,1-_xlfn.NORM.DIST(0,INDEX(Rating,$F53)-INDEX(Rating,M$2),10,1),\"\")","v":0.32419498910772415},{"$f":"IF($F53<>N$2,1-_xlfn.NORM.DIST(0,INDEX(Rating,$F53)-INDEX(Rating,N$2),10,1),\"\")","v":0.18539354398839447},{"$f":"IF($F53<>O$2,1-_xlfn.NORM.DIST(0,INDEX(Rating,$F53)-INDEX(Rating,O$2),10,1),\"\")","v":0.36881254310878486},{"$f":"IF($F53<>P$2,1-_xlfn.NORM.DIST(0,INDEX(Rating,$F53)-INDEX(Rating,P$2),10,1),\"\")","v":0.12507193563715024},{"$f":"IF($F53<>Q$2,1-_xlfn.NORM.DIST(0,INDEX(Rating,$F53)-INDEX(Rating,Q$2),10,1),\"\")","v":0.23823238801056967},{"$f":"IF($F53<>R$2,1-_xlfn.NORM.DIST(0,INDEX(Rating,$F53)-INDEX(Rating,R$2),10,1),\"\")","v":0.13071874722557697},{"$f":"IF($F53<>S$2,1-_xlfn.NORM.DIST(0,INDEX(Rating,$F53)-INDEX(Rating,S$2),10,1),\"\")","v":0.48883107557395045},{"$f":"IF($F53<>T$2,1-_xlfn.NORM.DIST(0,INDEX(Rating,$F53)-INDEX(Rating,T$2),10,1),\"\")","v":0.26598552904870054},{"$f":"IF($F53<>U$2,1-_xlfn.NORM.DIST(0,INDEX(Rating,$F53)-INDEX(Rating,U$2),10,1),\"\")","v":0.21214520599537479},{"$f":"IF($F53<>V$2,1-_xlfn.NORM.DIST(0,INDEX(Rating,$F53)-INDEX(Rating,V$2),10,1),\"\")","v":8.4876173349901496E-2},{"$f":"IF($F53<>W$2,1-_xlfn.NORM.DIST(0,INDEX(Rating,$F53)-INDEX(Rating,W$2),10,1),\"\")","v":0.49281942670582546},{"$f":"IF($F53<>X$2,1-_xlfn.NORM.DIST(0,INDEX(Rating,$F53)-INDEX(Rating,X$2),10,1),\"\")","v":9.6287380782647425E-2},{"$f":"IF($F53<>Y$2,1-_xlfn.NORM.DIST(0,INDEX(Rating,$F53)-INDEX(Rating,Y$2),10,1),\"\")","v":0.8612605038772807},{"$f":"IF($F53<>Z$2,1-_xlfn.NORM.DIST(0,INDEX(Rating,$F53)-INDEX(Rating,Z$2),10,1),\"\")","v":0.89008870454076483},{"$f":"IF($F53<>AA$2,1-_xlfn.NORM.DIST(0,INDEX(Rating,$F53)-INDEX(Rating,AA$2),10,1),\"\")","v":0.14916995033098135},{"$f":"IF($F53<>AB$2,1-_xlfn.NORM.DIST(0,INDEX(Rating,$F53)-INDEX(Rating,AB$2),10,1),\"\")","v":0.22572495701024364},{"$f":"IF($F53<>AC$2,1-_xlfn.NORM.DIST(0,INDEX(Rating,$F53)-INDEX(Rating,AC$2),10,1),\"\")","v":0.13114393120562551},{"$f":"IF($F53<>AD$2,1-_xlfn.NORM.DIST(0,INDEX(Rating,$F53)-INDEX(Rating,AD$2),10,1),\"\")","v":0.33141836478532871},{"$f":"IF($F53<>AE$2,1-_xlfn.NORM.DIST(0,INDEX(Rating,$F53)-INDEX(Rating,AE$2),10,1),\"\")","v":9.4254951238092688E-2},{"$f":"IF($F53<>AF$2,1-_xlfn.NORM.DIST(0,INDEX(Rating,$F53)-INDEX(Rating,AF$2),10,1),\"\")","v":0.44867882441450557},{"$f":"IF($F53<>AG$2,1-_xlfn.NORM.DIST(0,INDEX(Rating,$F53)-INDEX(Rating,AG$2),10,1),\"\")","v":0.16304992410586239},{"$f":"IF($F53<>AH$2,1-_xlfn.NORM.DIST(0,INDEX(Rating,$F53)-INDEX(Rating,AH$2),10,1),\"\")","v":0.21214520599537479},{"$f":"IF($F53<>AI$2,1-_xlfn.NORM.DIST(0,INDEX(Rating,$F53)-INDEX(Rating,AI$2),10,1),\"\")","v":0.17852521351148787},{"$f":"IF($F53<>AJ$2,1-_xlfn.NORM.DIST(0,INDEX(Rating,$F53)-INDEX(Rating,AJ$2),10,1),\"\")","v":0.55606502882857445},{"$f":"IF($F53<>AK$2,1-_xlfn.NORM.DIST(0,INDEX(Rating,$F53)-INDEX(Rating,AK$2),10,1),\"\")","v":0.18942965477671181},{"$f":"IF($F53<>AL$2,1-_xlfn.NORM.DIST(0,INDEX(Rating,$F53)-INDEX(Rating,AL$2),10,1),\"\")","v":0.21214520599537479},{"$f":"IF($F53<>AM$2,1-_xlfn.NORM.DIST(0,INDEX(Rating,$F53)-INDEX(Rating,AM$2),10,1),\"\")","v":0.12756024116759623},{"$f":"IF($F53<>AN$2,1-_xlfn.NORM.DIST(0,INDEX(Rating,$F53)-INDEX(Rating,AN$2),10,1),\"\")","v":0.47567960452857139},{"$f":"IF($F53<>AO$2,1-_xlfn.NORM.DIST(0,INDEX(Rating,$F53)-INDEX(Rating,AO$2),10,1),\"\")","v":5.7975275608238896E-2},{"$f":"IF($F53<>AP$2,1-_xlfn.NORM.DIST(0,INDEX(Rating,$F53)-INDEX(Rating,AP$2),10,1),\"\")","v":0.6372058258006118},{"$f":"IF($F53<>AQ$2,1-_xlfn.NORM.DIST(0,INDEX(Rating,$F53)-INDEX(Rating,AQ$2),10,1),\"\")","v":0.1916041887754738},{"$f":"IF($F53<>AR$2,1-_xlfn.NORM.DIST(0,INDEX(Rating,$F53)-INDEX(Rating,AR$2),10,1),\"\")","v":0.17904778610060945},{"$f":"IF($F53<>AS$2,1-_xlfn.NORM.DIST(0,INDEX(Rating,$F53)-INDEX(Rating,AS$2),10,1),\"\")","v":0.21040983989356332},{"$f":"IF($F53<>AT$2,1-_xlfn.NORM.DIST(0,INDEX(Rating,$F53)-INDEX(Rating,AT$2),10,1),\"\")","v":0.28196972776104035},{"$f":"IF($F53<>AU$2,1-_xlfn.NORM.DIST(0,INDEX(Rating,$F53)-INDEX(Rating,AU$2),10,1),\"\")","v":0.15672723111602849},{"$f":"IF($F53<>AV$2,1-_xlfn.NORM.DIST(0,INDEX(Rating,$F53)-INDEX(Rating,AV$2),10,1),\"\")","v":0.3099472054726693},{"$f":"IF($F53<>AW$2,1-_xlfn.NORM.DIST(0,INDEX(Rating,$F53)-INDEX(Rating,AW$2),10,1),\"\")","v":0.20355220361365256},{"$f":"IF($F53<>AX$2,1-_xlfn.NORM.DIST(0,INDEX(Rating,$F53)-INDEX(Rating,AX$2),10,1),\"\")","v":0.2699381698608001},{"$f":"IF($F53<>AY$2,1-_xlfn.NORM.DIST(0,INDEX(Rating,$F53)-INDEX(Rating,AY$2),10,1),\"\")","v":0.2942537913558092},{"$f":"IF($F53<>AZ$2,1-_xlfn.NORM.DIST(0,INDEX(Rating,$F53)-INDEX(Rating,AZ$2),10,1),\"\")","v":0.14986792857892783},{"$f":"IF($F53<>BA$2,1-_xlfn.NORM.DIST(0,INDEX(Rating,$F53)-INDEX(Rating,BA$2),10,1),\"\")","v":0.61905506920112585},{"$f":"IF($F53<>BB$2,1-_xlfn.NORM.DIST(0,INDEX(Rating,$F53)-INDEX(Rating,BB$2),10,1),\"\")","v":0.15986813217549389},{"$f":"IF($F53<>BC$2,1-_xlfn.NORM.DIST(0,INDEX(Rating,$F53)-INDEX(Rating,BC$2),10,1),\"\")","v":0.2191698297933774},{"$f":"IF($F53<>BD$2,1-_xlfn.NORM.DIST(0,INDEX(Rating,$F53)-INDEX(Rating,BD$2),10,1),\"\")","v":7.5928918661475997E-2},{"$f":"IF($F53<>BE$2,1-_xlfn.NORM.DIST(0,INDEX(Rating,$F53)-INDEX(Rating,BE$2),10,1),\"\")","v":""},{"$f":"IF($F53<>BF$2,1-_xlfn.NORM.DIST(0,INDEX(Rating,$F53)-INDEX(Rating,BF$2),10,1),\"\")","v":8.3485850552964203E-2},{"$f":"IF($F53<>BG$2,1-_xlfn.NORM.DIST(0,INDEX(Rating,$F53)-INDEX(Rating,BG$2),10,1),\"\")","v":0.76207712143184292},{"$f":"IF($F53<>BH$2,1-_xlfn.NORM.DIST(0,INDEX(Rating,$F53)-INDEX(Rating,BH$2),10,1),\"\")","v":0.16777376163418312},{"$f":"IF($F53<>BI$2,1-_xlfn.NORM.DIST(0,INDEX(Rating,$F53)-INDEX(Rating,BI$2),10,1),\"\")","v":0.17957132006105847},{"$f":"IF($F53<>BJ$2,1-_xlfn.NORM.DIST(0,INDEX(Rating,$F53)-INDEX(Rating,BJ$2),10,1),\"\")","v":0.15150500278834345},{"$f":"IF($F53<>BK$2,1-_xlfn.NORM.DIST(0,INDEX(Rating,$F53)-INDEX(Rating,BK$2),10,1),\"\")","v":0.23208428388683311},{"$f":"IF($F53<>BL$2,1-_xlfn.NORM.DIST(0,INDEX(Rating,$F53)-INDEX(Rating,BL$2),10,1),\"\")","v":8.1658802322480906E-2},{"$f":"IF($F53<>BM$2,1-_xlfn.NORM.DIST(0,INDEX(Rating,$F53)-INDEX(Rating,BM$2),10,1),\"\")","v":0.36092028259044462},{"$f":"IF($F53<>BN$2,1-_xlfn.NORM.DIST(0,INDEX(Rating,$F53)-INDEX(Rating,BN$2),10,1),\"\")","v":0.16304992410586239},{"$f":"IF($F53<>BO$2,1-_xlfn.NORM.DIST(0,INDEX(Rating,$F53)-INDEX(Rating,BO$2),10,1),\"\")","v":0.31348358297091361},{"$f":"IF($F53<>BP$2,1-_xlfn.NORM.DIST(0,INDEX(Rating,$F53)-INDEX(Rating,BP$2),10,1),\"\")","v":0.37904116616934669},{"$f":"IF($F53<>BQ$2,1-_xlfn.NORM.DIST(0,INDEX(Rating,$F53)-INDEX(Rating,BQ$2),10,1),\"\")","v":7.5786131425108261E-2},{"$f":"IF($F53<>BR$2,1-_xlfn.NORM.DIST(0,INDEX(Rating,$F53)-INDEX(Rating,BR$2),10,1),\"\")","v":0.5051861035695564},{"$f":"IF($F53<>BS$2,1-_xlfn.NORM.DIST(0,INDEX(Rating,$F53)-INDEX(Rating,BS$2),10,1),\"\")","v":0.21769543758573273},{"$f":"IF($F53<>BT$2,1-_xlfn.NORM.DIST(0,INDEX(Rating,$F53)-INDEX(Rating,BT$2),10,1),\"\")","v":0.28230759079654533},{"$f":"IF($F53<>BU$2,1-_xlfn.NORM.DIST(0,INDEX(Rating,$F53)-INDEX(Rating,BU$2),10,1),\"\")","v":6.5777263508237427E-2},{"$f":"IF($F53<>BV$2,1-_xlfn.NORM.DIST(0,INDEX(Rating,$F53)-INDEX(Rating,BV$2),10,1),\"\")","v":0.6289221559831355}]
[null,"Kansas",52,89.95,null,52,{"$f":"IF($F54<>G$2,1-_xlfn.NORM.DIST(0,INDEX(Rating,$F54)-INDEX(Rating,G$2),10,1),\"\")","v":0.38285158181168533},{"$f":"IF($F54<>H$2,1-_xlfn.NORM.DIST(0,INDEX(Rating,$F54)-INDEX(Rating,H$2),10,1),\"\")","v":0.97563806209197479},{"$f":"IF($F54<>I$2,1-_xlfn.NORM.DIST(0,INDEX(Rating,$F54)-INDEX(Rating,I$2),10,1),\"\")","v":0.98985657807478145},{"$f":"IF($F54<>J$2,1-_xlfn.NORM.DIST(0,INDEX(Rating,$F54)-INDEX(Rating,J$2),10,1),\"\")","v":0.67292340169655329},{"$f":"IF($F54<>K$2,1-_xlfn.NORM.DIST(0,INDEX(Rating,$F54)-INDEX(Rating,K$2),10,1),\"\")","v":0.65873016942587137},{"$f":"IF($F54<>L$2,1-_xlfn.NORM.DIST(0,INDEX(Rating,$F54)-INDEX(Rating,L$2),10,1),\"\")","v":0.6829628110484709},{"$f":"IF($F54<>M$2,1-_xlfn.NORM.DIST(0,INDEX(Rating,$F54)-INDEX(Rating,M$2),10,1),\"\")","v":0.82277700987510038},{"$f":"IF($F54<>N$2,1-_xlfn.NORM.DIST(0,INDEX(Rating,$F54)-INDEX(Rating,N$2),10,1),\"\")","v":0.68687083452633213},{"$f":"IF($F54<>O$2,1-_xlfn.NORM.DIST(0,INDEX(Rating,$F54)-INDEX(Rating,O$2),10,1),\"\")","v":0.85245021090445039},{"$f":"IF($F54<>P$2,1-_xlfn.NORM.DIST(0,INDEX(Rating,$F54)-INDEX(Rating,P$2),10,1),\"\")","v":0.59173099309903054},{"$f":"IF($F54<>Q$2,1-_xlfn.NORM.DIST(0,INDEX(Rating,$F54)-INDEX(Rating,Q$2),10,1),\"\")","v":0.74857110490469003},{"$f":"IF($F54<>R$2,1-_xlfn.NORM.DIST(0,INDEX(Rating,$F54)-INDEX(Rating,R$2),10,1),\"\")","v":0.60218237975367828},{"$f":"IF($F54<>S$2,1-_xlfn.NORM.DIST(0,INDEX(Rating,$F54)-INDEX(Rating,S$2),10,1),\"\")","v":0.91213181114183994},{"$f":"IF($F54<>T$2,1-_xlfn.NORM.DIST(0,INDEX(Rating,$F54)-INDEX(Rating,T$2),10,1),\"\")","v":0.77547506877139893},{"$f":"IF($F54<>U$2,1-_xlfn.NORM.DIST(0,INDEX(Rating,$F54)-INDEX(Rating,U$2),10,1),\"\")","v":0.72005334988812142},{"$f":"IF($F54<>V$2,1-_xlfn.NORM.DIST(0,INDEX(Rating,$F54)-INDEX(Rating,V$2),10,1),\"\")","v":0.50359043205271492},{"$f":"IF($F54<>W$2,1-_xlfn.NORM.DIST(0,INDEX(Rating,$F54)-INDEX(Rating,W$2),10,1),\"\")","v":0.9137162171652079},{"$f":"IF($F54<>X$2,1-_xlfn.NORM.DIST(0,INDEX(Rating,$F54)-INDEX(Rating,X$2),10,1),\"\")","v":0.5314836884676255},{"$f":"IF($F54<>Y$2,1-_xlfn.NORM.DIST(0,INDEX(Rating,$F54)-INDEX(Rating,Y$2),10,1),\"\")","v":0.99320648401825162},{"$f":"IF($F54<>Z$2,1-_xlfn.NORM.DIST(0,INDEX(Rating,$F54)-INDEX(Rating,Z$2),10,1),\"\")","v":0.99545963788238323},{"$f":"IF($F54<>AA$2,1-_xlfn.NORM.DIST(0,INDEX(Rating,$F54)-INDEX(Rating,AA$2),10,1),\"\")","v":0.63382455387065839},{"$f":"IF($F54<>AB$2,1-_xlfn.NORM.DIST(0,INDEX(Rating,$F54)-INDEX(Rating,AB$2),10,1),\"\")","v":0.73532547189332309},{"$f":"IF($F54<>AC$2,1-_xlfn.NORM.DIST(0,INDEX(Rating,$F54)-INDEX(Rating,AC$2),10,1),\"\")","v":0.60295374637219135},{"$f":"IF($F54<>AD$2,1-_xlfn.NORM.DIST(0,INDEX(Rating,$F54)-INDEX(Rating,AD$2),10,1),\"\")","v":0.8279257068864373},{"$f":"IF($F54<>AE$2,1-_xlfn.NORM.DIST(0,INDEX(Rating,$F54)-INDEX(Rating,AE$2),10,1),\"\")","v":0.52670914839907279},{"$f":"IF($F54<>AF$2,1-_xlfn.NORM.DIST(0,INDEX(Rating,$F54)-INDEX(Rating,AF$2),10,1),\"\")","v":0.89489714665164322},{"$f":"IF($F54<>AG$2,1-_xlfn.NORM.DIST(0,INDEX(Rating,$F54)-INDEX(Rating,AG$2),10,1),\"\")","v":0.65542174161032429},{"$f":"IF($F54<>AH$2,1-_xlfn.NORM.DIST(0,INDEX(Rating,$F54)-INDEX(Rating,AH$2),10,1),\"\")","v":0.72005334988812142},{"$f":"IF($F54<>AI$2,1-_xlfn.NORM.DIST(0,INDEX(Rating,$F54)-INDEX(Rating,AI$2),10,1),\"\")","v":0.67760069744877993},{"$f":"IF($F54<>AJ$2,1-_xlfn.NORM.DIST(0,INDEX(Rating,$F54)-INDEX(Rating,AJ$2),10,1),\"\")","v":0.93612064728677824},{"$f":"IF($F54<>AK$2,1-_xlfn.NORM.DIST(0,INDEX(Rating,$F54)-INDEX(Rating,AK$2),10,1),\"\")","v":0.6921662395104724},{"$f":"IF($F54<>AL$2,1-_xlfn.NORM.DIST(0,INDEX(Rating,$F54)-INDEX(Rating,AL$2),10,1),\"\")","v":0.72005334988812142},{"$f":"IF($F54<>AM$2,1-_xlfn.NORM.DIST(0,INDEX(Rating,$F54)-INDEX(Rating,AM$2),10,1),\"\")","v":0.59638459004089772},{"$f":"IF($F54<>AN$2,1-_xlfn.NORM.DIST(0,INDEX(Rating,$F54)-INDEX(Rating,AN$2),10,1),\"\")","v":0.90674931789048974},{"$f":"IF($F54<>AO$2,1-_xlfn.NORM.DIST(0,INDEX(Rating,$F54)-INDEX(Rating,AO$2),10,1),\"\")","v":0.42465456526520484},{"$f":"IF($F54<>AP$2,1-_xlfn.NORM.DIST(0,INDEX(Rating,$F54)-INDEX(Rating,AP$2),10,1),\"\")","v":0.95845216560353619},{"$f":"IF($F54<>AQ$2,1-_xlfn.NORM.DIST(0,INDEX(Rating,$F54)-INDEX(Rating,AQ$2),10,1),\"\")","v":0.69497426910248095},{"$f":"IF($F54<>AR$2,1-_xlfn.NORM.DIST(0,INDEX(Rating,$F54)-INDEX(Rating,AR$2),10,1),\"\")","v":0.67831781644813482},{"$f":"IF($F54<>AS$2,1-_xlfn.NORM.DIST(0,INDEX(Rating,$F54)-INDEX(Rating,AS$2),10,1),\"\")","v":0.7180302722389591},{"$f":"IF($F54<>AT$2,1-_xlfn.NORM.DIST(0,INDEX(Rating,$F54)-INDEX(Rating,AT$2),10,1),\"\")","v":0.78959016010643623},{"$f":"IF($F54<>AU$2,1-_xlfn.NORM.DIST(0,INDEX(Rating,$F54)-INDEX(Rating,AU$2),10,1),\"\")","v":0.64579784190930134},{"$f":"IF($F54<>AV$2,1-_xlfn.NORM.DIST(0,INDEX(Rating,$F54)-INDEX(Rating,AV$2),10,1),\"\")","v":0.81219123639754398},{"$f":"IF($F54<>AW$2,1-_xlfn.NORM.DIST(0,INDEX(Rating,$F54)-INDEX(Rating,AW$2),10,1),\"\")","v":0.70986829491597381},{"$f":"IF($F54<>AX$2,1-_xlfn.NORM.DIST(0,INDEX(Rating,$F54)-INDEX(Rating,AX$2),10,1),\"\")","v":0.77905334473352261},{"$f":"IF($F54<>AY$2,1-_xlfn.NORM.DIST(0,INDEX(Rating,$F54)-INDEX(Rating,AY$2),10,1),\"\")","v":0.79982603279225639},{"$f":"IF($F54<>AZ$2,1-_xlfn.NORM.DIST(0,INDEX(Rating,$F54)-INDEX(Rating,AZ$2),10,1),\"\")","v":0.6349528146341985},{"$f":"IF($F54<>BA$2,1-_xlfn.NORM.DIST(0,INDEX(Rating,$F54)-INDEX(Rating,BA$2),10,1),\"\")","v":0.95400571424950575},{"$f":"IF($F54<>BB$2,1-_xlfn.NORM.DIST(0,INDEX(Rating,$F54)-INDEX(Rating,BB$2),10,1),\"\")","v":0.65062189602366149},{"$f":"IF($F54<>BC$2,1-_xlfn.NORM.DIST(0,INDEX(Rating,$F54)-INDEX(Rating,BC$2),10,1),\"\")","v":0.72807454392977888},{"$f":"IF($F54<>BD$2,1-_xlfn.NORM.DIST(0,INDEX(Rating,$F54)-INDEX(Rating,BD$2),10,1),\"\")","v":0.47966276027486976},{"$f":"IF($F54<>BE$2,1-_xlfn.NORM.DIST(0,INDEX(Rating,$F54)-INDEX(Rating,BE$2),10,1),\"\")","v":0.9165141494470358},{"$f":"IF($F54<>BF$2,1-_xlfn.NORM.DIST(0,INDEX(Rating,$F54)-INDEX(Rating,BF$2),10,1),\"\")","v":""},{"$f":"IF($F54<>BG$2,1-_xlfn.NORM.DIST(0,INDEX(Rating,$F54)-INDEX(Rating,BG$2),10,1),\"\")","v":0.98191450375983191},{"$f":"IF($F54<>BH$2,1-_xlfn.NORM.DIST(0,INDEX(Rating,$F54)-INDEX(Rating,BH$2),10,1),\"\")","v":0.66239193382412342},{"$f":"IF($F54<>BI$2,1-_xlfn.NORM.DIST(0,INDEX(Rating,$F54)-INDEX(Rating,BI$2),10,1),\"\")","v":0.67903427170287822},{"$f":"IF($F54<>BJ$2,1-_xlfn.NORM.DIST(0,INDEX(Rating,$F54)-INDEX(Rating,BJ$2),10,1),\"\")","v":0.63758086876243092},{"$f":"IF($F54<>BK$2,1-_xlfn.NORM.DIST(0,INDEX(Rating,$F54)-INDEX(Rating,BK$2),10,1),\"\")","v":0.74215388919413527},{"$f":"IF($F54<>BL$2,1-_xlfn.NORM.DIST(0,INDEX(Rating,$F54)-INDEX(Rating,BL$2),10,1),\"\")","v":0.49521280752807817},{"$f":"IF($F54<>BM$2,1-_xlfn.NORM.DIST(0,INDEX(Rating,$F54)-INDEX(Rating,BM$2),10,1),\"\")","v":0.84755420796718872},{"$f":"IF($F54<>BN$2,1-_xlfn.NORM.DIST(0,INDEX(Rating,$F54)-INDEX(Rating,BN$2),10,1),\"\")","v":0.65542174161032429},{"$f":"IF($F54<>BO$2,1-_xlfn.NORM.DIST(0,INDEX(Rating,$F54)-INDEX(Rating,BO$2),10,1),\"\")","v":0.8148736183847094},{"$f":"IF($F54<>BP$2,1-_xlfn.NORM.DIST(0,INDEX(Rating,$F54)-INDEX(Rating,BP$2),10,1),\"\")","v":0.8585886592247689},{"$f":"IF($F54<>BQ$2,1-_xlfn.NORM.DIST(0,INDEX(Rating,$F54)-INDEX(Rating,BQ$2),10,1),\"\")","v":0.47926434670771978},{"$f":"IF($F54<>BR$2,1-_xlfn.NORM.DIST(0,INDEX(Rating,$F54)-INDEX(Rating,BR$2),10,1),\"\")","v":0.91849208021854867},{"$f":"IF($F54<>BS$2,1-_xlfn.NORM.DIST(0,INDEX(Rating,$F54)-INDEX(Rating,BS$2),10,1),\"\")","v":0.72641293130218676},{"$f":"IF($F54<>BT$2,1-_xlfn.NORM.DIST(0,INDEX(Rating,$F54)-INDEX(Rating,BT$2),10,1),\"\")","v":0.78987857544993645},{"$f":"IF($F54<>BU$2,1-_xlfn.NORM.DIST(0,INDEX(Rating,$F54)-INDEX(Rating,BU$2),10,1),\"\")","v":0.44986596228773412},{"$f":"IF($F54<>BV$2,1-_xlfn.NORM.DIST(0,INDEX(Rating,$F54)-INDEX(Rating,BV$2),10,1),\"\")","v":0.95645944358645618}]
[null,"Howard",53,69,null,53,{"$f":"IF($F55<>G$2,1-_xlfn.NORM.DIST(0,INDEX(Rating,$F55)-INDEX(Rating,G$2),10,1),\"\")","v":8.3556205437369524E-3},{"$f":"IF($F55<>H$2,1-_xlfn.NORM.DIST(0,INDEX(Rating,$F55)-INDEX(Rating,H$2),10,1),\"\")","v":0.45065763753173926},{"$f":"IF($F55<>I$2,1-_xlfn.NORM.DIST(0,INDEX(Rating,$F55)-INDEX(Rating,I$2),10,1),\"\")","v":0.58939928983601719},{"$f":"IF($F55<>J$2,1-_xlfn.NORM.DIST(0,INDEX(Rating,$F55)-INDEX(Rating,J$2),10,1),\"\")","v":4.9779022916926707E-2},{"$f":"IF($F55<>K$2,1-_xlfn.NORM.DIST(0,INDEX(Rating,$F55)-INDEX(Rating,K$2),10,1),\"\")","v":4.5897899679686494E-2},{"$f":"IF($F55<>L$2,1-_xlfn.NORM.DIST(0,INDEX(Rating,$F55)-INDEX(Rating,L$2),10,1),\"\")","v":5.2723631557362038E-2},{"$f":"IF($F55<>M$2,1-_xlfn.NORM.DIST(0,INDEX(Rating,$F55)-INDEX(Rating,M$2),10,1),\"\")","v":0.12120181568603117},{"$f":"IF($F55<>N$2,1-_xlfn.NORM.DIST(0,INDEX(Rating,$F55)-INDEX(Rating,N$2),10,1),\"\")","v":5.3917589389924969E-2},{"$f":"IF($F55<>O$2,1-_xlfn.NORM.DIST(0,INDEX(Rating,$F55)-INDEX(Rating,O$2),10,1),\"\")","v":0.14731930344087152},{"$f":"IF($F55<>P$2,1-_xlfn.NORM.DIST(0,INDEX(Rating,$F55)-INDEX(Rating,P$2),10,1),\"\")","v":3.1231133114711151E-2},{"$f":"IF($F55<>Q$2,1-_xlfn.NORM.DIST(0,INDEX(Rating,$F55)-INDEX(Rating,Q$2),10,1),\"\")","v":7.707860055207183E-2},{"$f":"IF($F55<>R$2,1-_xlfn.NORM.DIST(0,INDEX(Rating,$F55)-INDEX(Rating,R$2),10,1),\"\")","v":3.3178828326262733E-2},{"$f":"IF($F55<>S$2,1-_xlfn.NORM.DIST(0,INDEX(Rating,$F55)-INDEX(Rating,S$2),10,1),\"\")","v":0.22934672015792201},{"$f":"IF($F55<>T$2,1-_xlfn.NORM.DIST(0,INDEX(Rating,$F55)-INDEX(Rating,T$2),10,1),\"\")","v":9.0448218394714841E-2},{"$f":"IF($F55<>U$2,1-_xlfn.NORM.DIST(0,INDEX(Rating,$F55)-INDEX(Rating,U$2),10,1),\"\")","v":6.5266931270432038E-2},{"$f":"IF($F55<>V$2,1-_xlfn.NORM.DIST(0,INDEX(Rating,$F55)-INDEX(Rating,V$2),10,1),\"\")","v":1.8489311530969776E-2},{"$f":"IF($F55<>W$2,1-_xlfn.NORM.DIST(0,INDEX(Rating,$F55)-INDEX(Rating,W$2),10,1),\"\")","v":0.232389576468642},{"$f":"IF($F55<>X$2,1-_xlfn.NORM.DIST(0,INDEX(Rating,$F55)-INDEX(Rating,X$2),10,1),\"\")","v":2.1899987895095174E-2},{"$f":"IF($F55<>Y$2,1-_xlfn.NORM.DIST(0,INDEX(Rating,$F55)-INDEX(Rating,Y$2),10,1),\"\")","v":0.64542577802001366},{"$f":"IF($F55<>Z$2,1-_xlfn.NORM.DIST(0,INDEX(Rating,$F55)-INDEX(Rating,Z$2),10,1),\"\")","v":0.6963740046666036},{"$f":"IF($F55<>AA$2,1-_xlfn.NORM.DIST(0,INDEX(Rating,$F55)-INDEX(Rating,AA$2),10,1),\"\")","v":3.9801003540494873E-2},{"$f":"IF($F55<>AB$2,1-_xlfn.NORM.DIST(0,INDEX(Rating,$F55)-INDEX(Rating,AB$2),10,1),\"\")","v":7.132414342947091E-2},{"$f":"IF($F55<>AC$2,1-_xlfn.NORM.DIST(0,INDEX(Rating,$F55)-INDEX(Rating,AC$2),10,1),\"\")","v":3.3326997075365572E-2},{"$f":"IF($F55<>AD$2,1-_xlfn.NORM.DIST(0,INDEX(Rating,$F55)-INDEX(Rating,AD$2),10,1),\"\")","v":0.12527799033027731},{"$f":"IF($F55<>AE$2,1-_xlfn.NORM.DIST(0,INDEX(Rating,$F55)-INDEX(Rating,AE$2),10,1),\"\")","v":2.1280124002265199E-2},{"$f":"IF($F55<>AF$2,1-_xlfn.NORM.DIST(0,INDEX(Rating,$F55)-INDEX(Rating,AF$2),10,1),\"\")","v":0.1998939767260568},{"$f":"IF($F55<>AG$2,1-_xlfn.NORM.DIST(0,INDEX(Rating,$F55)-INDEX(Rating,AG$2),10,1),\"\")","v":4.5037710391031438E-2},{"$f":"IF($F55<>AH$2,1-_xlfn.NORM.DIST(0,INDEX(Rating,$F55)-INDEX(Rating,AH$2),10,1),\"\")","v":6.5266931270432038E-2},{"$f":"IF($F55<>AI$2,1-_xlfn.NORM.DIST(0,INDEX(Rating,$F55)-INDEX(Rating,AI$2),10,1),\"\")","v":5.1129425298208742E-2},{"$f":"IF($F55<>AJ$2,1-_xlfn.NORM.DIST(0,INDEX(Rating,$F55)-INDEX(Rating,AJ$2),10,1),\"\")","v":0.2836609873265451},{"$f":"IF($F55<>AK$2,1-_xlfn.NORM.DIST(0,INDEX(Rating,$F55)-INDEX(Rating,AK$2),10,1),\"\")","v":5.5580095523051209E-2},{"$f":"IF($F55<>AL$2,1-_xlfn.NORM.DIST(0,INDEX(Rating,$F55)-INDEX(Rating,AL$2),10,1),\"\")","v":6.5266931270432038E-2},{"$f":"IF($F55<>AM$2,1-_xlfn.NORM.DIST(0,INDEX(Rating,$F55)-INDEX(Rating,AM$2),10,1),\"\")","v":3.2084776552192329E-2},{"$f":"IF($F55<>AN$2,1-_xlfn.NORM.DIST(0,INDEX(Rating,$F55)-INDEX(Rating,AN$2),10,1),\"\")","v":0.21946539562843503},{"$f":"IF($F55<>AO$2,1-_xlfn.NORM.DIST(0,INDEX(Rating,$F55)-INDEX(Rating,AO$2),10,1),\"\")","v":1.1156413880068272E-2},{"$f":"IF($F55<>AP$2,1-_xlfn.NORM.DIST(0,INDEX(Rating,$F55)-INDEX(Rating,AP$2),10,1),\"\")","v":0.35867601522057613},{"$f":"IF($F55<>AQ$2,1-_xlfn.NORM.DIST(0,INDEX(Rating,$F55)-INDEX(Rating,AQ$2),10,1),\"\")","v":5.6483167134220191E-2},{"$f":"IF($F55<>AR$2,1-_xlfn.NORM.DIST(0,INDEX(Rating,$F55)-INDEX(Rating,AR$2),10,1),\"\")","v":5.1339743094844459E-2},{"$f":"IF($F55<>AS$2,1-_xlfn.NORM.DIST(0,INDEX(Rating,$F55)-INDEX(Rating,AS$2),10,1),\"\")","v":6.4507199332482945E-2},{"$f":"IF($F55<>AT$2,1-_xlfn.NORM.DIST(0,INDEX(Rating,$F55)-INDEX(Rating,AT$2),10,1),\"\")","v":9.8525329049747756E-2},{"$f":"IF($F55<>AU$2,1-_xlfn.NORM.DIST(0,INDEX(Rating,$F55)-INDEX(Rating,AU$2),10,1),\"\")","v":4.2625411945448888E-2},{"$f":"IF($F55<>AV$2,1-_xlfn.NORM.DIST(0,INDEX(Rating,$F55)-INDEX(Rating,AV$2),10,1),\"\")","v":0.11333142268890994},{"$f":"IF($F55<>AW$2,1-_xlfn.NORM.DIST(0,INDEX(Rating,$F55)-INDEX(Rating,AW$2),10,1),\"\")","v":6.1536796797593052E-2},{"$f":"IF($F55<>AX$2,1-_xlfn.NORM.DIST(0,INDEX(Rating,$F55)-INDEX(Rating,AX$2),10,1),\"\")","v":9.2419848690590389E-2},{"$f":"IF($F55<>AY$2,1-_xlfn.NORM.DIST(0,INDEX(Rating,$F55)-INDEX(Rating,AY$2),10,1),\"\")","v":0.10492100271676374},{"$f":"IF($F55<>AZ$2,1-_xlfn.NORM.DIST(0,INDEX(Rating,$F55)-INDEX(Rating,AZ$2),10,1),\"\")","v":4.0059156863817114E-2},{"$f":"IF($F55<>BA$2,1-_xlfn.NORM.DIST(0,INDEX(Rating,$F55)-INDEX(Rating,BA$2),10,1),\"\")","v":0.34090297377232281},{"$f":"IF($F55<>BB$2,1-_xlfn.NORM.DIST(0,INDEX(Rating,$F55)-INDEX(Rating,BB$2),10,1),\"\")","v":4.3818171238253933E-2},{"$f":"IF($F55<>BC$2,1-_xlfn.NORM.DIST(0,INDEX(Rating,$F55)-INDEX(Rating,BC$2),10,1),\"\")","v":6.8375446816161811E-2},{"$f":"IF($F55<>BD$2,1-_xlfn.NORM.DIST(0,INDEX(Rating,$F55)-INDEX(Rating,BD$2),10,1),\"\")","v":1.5936489347847416E-2},{"$f":"IF($F55<>BE$2,1-_xlfn.NORM.DIST(0,INDEX(Rating,$F55)-INDEX(Rating,BE$2),10,1),\"\")","v":0.23792287856815708},{"$f":"IF($F55<>BF$2,1-_xlfn.NORM.DIST(0,INDEX(Rating,$F55)-INDEX(Rating,BF$2),10,1),\"\")","v":1.8085496240168086E-2},{"$f":"IF($F55<>BG$2,1-_xlfn.NORM.DIST(0,INDEX(Rating,$F55)-INDEX(Rating,BG$2),10,1),\"\")","v":""},{"$f":"IF($F55<>BH$2,1-_xlfn.NORM.DIST(0,INDEX(Rating,$F55)-INDEX(Rating,BH$2),10,1),\"\")","v":4.6869096305494629E-2},{"$f":"IF($F55<>BI$2,1-_xlfn.NORM.DIST(0,INDEX(Rating,$F55)-INDEX(Rating,BI$2),10,1),\"\")","v":5.1550748490089338E-2},{"$f":"IF($F55<>BJ$2,1-_xlfn.NORM.DIST(0,INDEX(Rating,$F55)-INDEX(Rating,BJ$2),10,1),\"\")","v":4.0666807409153849E-2},{"$f":"IF($F55<>BK$2,1-_xlfn.NORM.DIST(0,INDEX(Rating,$F55)-INDEX(Rating,BK$2),10,1),\"\")","v":7.4228942818693522E-2},{"$f":"IF($F55<>BL$2,1-_xlfn.NORM.DIST(0,INDEX(Rating,$F55)-INDEX(Rating,BL$2),10,1),\"\")","v":1.7558789785931395E-2},{"$f":"IF($F55<>BM$2,1-_xlfn.NORM.DIST(0,INDEX(Rating,$F55)-INDEX(Rating,BM$2),10,1),\"\")","v":0.14253483470370654},{"$f":"IF($F55<>BN$2,1-_xlfn.NORM.DIST(0,INDEX(Rating,$F55)-INDEX(Rating,BN$2),10,1),\"\")","v":4.5037710391031438E-2},{"$f":"IF($F55<>BO$2,1-_xlfn.NORM.DIST(0,INDEX(Rating,$F55)-INDEX(Rating,BO$2),10,1),\"\")","v":0.11526397280254974},{"$f":"IF($F55<>BP$2,1-_xlfn.NORM.DIST(0,INDEX(Rating,$F55)-INDEX(Rating,BP$2),10,1),\"\")","v":0.15362721935639467},{"$f":"IF($F55<>BQ$2,1-_xlfn.NORM.DIST(0,INDEX(Rating,$F55)-INDEX(Rating,BQ$2),10,1),\"\")","v":1.5896640807691487E-2},{"$f":"IF($F55<>BR$2,1-_xlfn.NORM.DIST(0,INDEX(Rating,$F55)-INDEX(Rating,BR$2),10,1),\"\")","v":0.24196365222307303},{"$f":"IF($F55<>BS$2,1-_xlfn.NORM.DIST(0,INDEX(Rating,$F55)-INDEX(Rating,BS$2),10,1),\"\")","v":6.7718593450595943E-2},{"$f":"IF($F55<>BT$2,1-_xlfn.NORM.DIST(0,INDEX(Rating,$F55)-INDEX(Rating,BT$2),10,1),\"\")","v":9.869904328941459E-2},{"$f":"IF($F55<>BU$2,1-_xlfn.NORM.DIST(0,INDEX(Rating,$F55)-INDEX(Rating,BU$2),10,1),\"\")","v":1.3175480696104858E-2},{"$f":"IF($F55<>BV$2,1-_xlfn.NORM.DIST(0,INDEX(Rating,$F55)-INDEX(Rating,BV$2),10,1),\"\")","v":0.35048922374918845}]
[null,"Arkansas",54,85.76,null,54,{"$f":"IF($F56<>G$2,1-_xlfn.NORM.DIST(0,INDEX(Rating,$F56)-INDEX(Rating,G$2),10,1),\"\")","v":0.23668704832971299},{"$f":"IF($F56<>H$2,1-_xlfn.NORM.DIST(0,INDEX(Rating,$F56)-INDEX(Rating,H$2),10,1),\"\")","v":0.93966888819592365},{"$f":"IF($F56<>I$2,1-_xlfn.NORM.DIST(0,INDEX(Rating,$F56)-INDEX(Rating,I$2),10,1),\"\")","v":0.97141442270174372},{"$f":"IF($F56<>J$2,1-_xlfn.NORM.DIST(0,INDEX(Rating,$F56)-INDEX(Rating,J$2),10,1),\"\")","v":0.51156770470231105},{"$f":"IF($F56<>K$2,1-_xlfn.NORM.DIST(0,INDEX(Rating,$F56)-INDEX(Rating,K$2),10,1),\"\")","v":0.49601064368536862},{"$f":"IF($F56<>L$2,1-_xlfn.NORM.DIST(0,INDEX(Rating,$F56)-INDEX(Rating,L$2),10,1),\"\")","v":0.52272740242861593},{"$f":"IF($F56<>M$2,1-_xlfn.NORM.DIST(0,INDEX(Rating,$F56)-INDEX(Rating,M$2),10,1),\"\")","v":0.69392259071481566},{"$f":"IF($F56<>N$2,1-_xlfn.NORM.DIST(0,INDEX(Rating,$F56)-INDEX(Rating,N$2),10,1),\"\")","v":0.52710718285702307},{"$f":"IF($F56<>O$2,1-_xlfn.NORM.DIST(0,INDEX(Rating,$F56)-INDEX(Rating,O$2),10,1),\"\")","v":0.73499803000615449},{"$f":"IF($F56<>P$2,1-_xlfn.NORM.DIST(0,INDEX(Rating,$F56)-INDEX(Rating,P$2),10,1),\"\")","v":0.42583031647263625},{"$f":"IF($F56<>Q$2,1-_xlfn.NORM.DIST(0,INDEX(Rating,$F56)-INDEX(Rating,Q$2),10,1),\"\")","v":0.59909294540580715},{"$f":"IF($F56<>R$2,1-_xlfn.NORM.DIST(0,INDEX(Rating,$F56)-INDEX(Rating,R$2),10,1),\"\")","v":0.43644053710856734},{"$f":"IF($F56<>S$2,1-_xlfn.NORM.DIST(0,INDEX(Rating,$F56)-INDEX(Rating,S$2),10,1),\"\")","v":0.8251058502867783},{"$f":"IF($F56<>T$2,1-_xlfn.NORM.DIST(0,INDEX(Rating,$F56)-INDEX(Rating,T$2),10,1),\"\")","v":0.63231840611135048},{"$f":"IF($F56<>U$2,1-_xlfn.NORM.DIST(0,INDEX(Rating,$F56)-INDEX(Rating,U$2),10,1),\"\")","v":0.56513442809450298},{"$f":"IF($F56<>V$2,1-_xlfn.NORM.DIST(0,INDEX(Rating,$F56)-INDEX(Rating,V$2),10,1),\"\")","v":0.34090297377232281},{"$f":"IF($F56<>W$2,1-_xlfn.NORM.DIST(0,INDEX(Rating,$F56)-INDEX(Rating,W$2),10,1),\"\")","v":0.82767056198712818},{"$f":"IF($F56<>X$2,1-_xlfn.NORM.DIST(0,INDEX(Rating,$F56)-INDEX(Rating,X$2),10,1),\"\")","v":0.36692826396397227},{"$f":"IF($F56<>Y$2,1-_xlfn.NORM.DIST(0,INDEX(Rating,$F56)-INDEX(Rating,Y$2),10,1),\"\")","v":0.97976894253784963},{"$f":"IF($F56<>Z$2,1-_xlfn.NORM.DIST(0,INDEX(Rating,$F56)-INDEX(Rating,Z$2),10,1),\"\")","v":0.98573788158933118},{"$f":"IF($F56<>AA$2,1-_xlfn.NORM.DIST(0,INDEX(Rating,$F56)-INDEX(Rating,AA$2),10,1),\"\")","v":0.46931177248455069},{"$f":"IF($F56<>AB$2,1-_xlfn.NORM.DIST(0,INDEX(Rating,$F56)-INDEX(Rating,AB$2),10,1),\"\")","v":0.58316616348244266},{"$f":"IF($F56<>AC$2,1-_xlfn.NORM.DIST(0,INDEX(Rating,$F56)-INDEX(Rating,AC$2),10,1),\"\")","v":0.43722839935774149},{"$f":"IF($F56<>AD$2,1-_xlfn.NORM.DIST(0,INDEX(Rating,$F56)-INDEX(Rating,AD$2),10,1),\"\")","v":0.70090320576208576},{"$f":"IF($F56<>AE$2,1-_xlfn.NORM.DIST(0,INDEX(Rating,$F56)-INDEX(Rating,AE$2),10,1),\"\")","v":0.36241913123756908},{"$f":"IF($F56<>AF$2,1-_xlfn.NORM.DIST(0,INDEX(Rating,$F56)-INDEX(Rating,AF$2),10,1),\"\")","v":0.79785950807647843},{"$f":"IF($F56<>AG$2,1-_xlfn.NORM.DIST(0,INDEX(Rating,$F56)-INDEX(Rating,AG$2),10,1),\"\")","v":0.49242055270519525},{"$f":"IF($F56<>AH$2,1-_xlfn.NORM.DIST(0,INDEX(Rating,$F56)-INDEX(Rating,AH$2),10,1),\"\")","v":0.56513442809450298},{"$f":"IF($F56<>AI$2,1-_xlfn.NORM.DIST(0,INDEX(Rating,$F56)-INDEX(Rating,AI$2),10,1),\"\")","v":0.51675065094076467},{"$f":"IF($F56<>AJ$2,1-_xlfn.NORM.DIST(0,INDEX(Rating,$F56)-INDEX(Rating,AJ$2),10,1),\"\")","v":0.86520343115514886},{"$f":"IF($F56<>AK$2,1-_xlfn.NORM.DIST(0,INDEX(Rating,$F56)-INDEX(Rating,AK$2),10,1),\"\")","v":0.53307423019242006},{"$f":"IF($F56<>AL$2,1-_xlfn.NORM.DIST(0,INDEX(Rating,$F56)-INDEX(Rating,AL$2),10,1),\"\")","v":0.56513442809450298},{"$f":"IF($F56<>AM$2,1-_xlfn.NORM.DIST(0,INDEX(Rating,$F56)-INDEX(Rating,AM$2),10,1),\"\")","v":0.43053981679232634},{"$f":"IF($F56<>AN$2,1-_xlfn.NORM.DIST(0,INDEX(Rating,$F56)-INDEX(Rating,AN$2),10,1),\"\")","v":0.8164715661325298},{"$f":"IF($F56<>AO$2,1-_xlfn.NORM.DIST(0,INDEX(Rating,$F56)-INDEX(Rating,AO$2),10,1),\"\")","v":0.27126221944899087},{"$f":"IF($F56<>AP$2,1-_xlfn.NORM.DIST(0,INDEX(Rating,$F56)-INDEX(Rating,AP$2),10,1),\"\")","v":0.90557689788535234},{"$f":"IF($F56<>AQ$2,1-_xlfn.NORM.DIST(0,INDEX(Rating,$F56)-INDEX(Rating,AQ$2),10,1),\"\")","v":0.53625370447122811},{"$f":"IF($F56<>AR$2,1-_xlfn.NORM.DIST(0,INDEX(Rating,$F56)-INDEX(Rating,AR$2),10,1),\"\")","v":0.51754779806555029},{"$f":"IF($F56<>AS$2,1-_xlfn.NORM.DIST(0,INDEX(Rating,$F56)-INDEX(Rating,AS$2),10,1),\"\")","v":0.56277160064225851},{"$f":"IF($F56<>AT$2,1-_xlfn.NORM.DIST(0,INDEX(Rating,$F56)-INDEX(Rating,AT$2),10,1),\"\")","v":0.65025166559745151},{"$f":"IF($F56<>AU$2,1-_xlfn.NORM.DIST(0,INDEX(Rating,$F56)-INDEX(Rating,AU$2),10,1),\"\")","v":0.4820536544778613},{"$f":"IF($F56<>AV$2,1-_xlfn.NORM.DIST(0,INDEX(Rating,$F56)-INDEX(Rating,AV$2),10,1),\"\")","v":0.67975006096419166},{"$f":"IF($F56<>AW$2,1-_xlfn.NORM.DIST(0,INDEX(Rating,$F56)-INDEX(Rating,AW$2),10,1),\"\")","v":0.55329871278245357},{"$f":"IF($F56<>AX$2,1-_xlfn.NORM.DIST(0,INDEX(Rating,$F56)-INDEX(Rating,AX$2),10,1),\"\")","v":0.6368306511756191},{"$f":"IF($F56<>AY$2,1-_xlfn.NORM.DIST(0,INDEX(Rating,$F56)-INDEX(Rating,AY$2),10,1),\"\")","v":0.66348749127553164},{"$f":"IF($F56<>AZ$2,1-_xlfn.NORM.DIST(0,INDEX(Rating,$F56)-INDEX(Rating,AZ$2),10,1),\"\")","v":0.47050519263109725},{"$f":"IF($F56<>BA$2,1-_xlfn.NORM.DIST(0,INDEX(Rating,$F56)-INDEX(Rating,BA$2),10,1),\"\")","v":0.89724345887286661},{"$f":"IF($F56<>BB$2,1-_xlfn.NORM.DIST(0,INDEX(Rating,$F56)-INDEX(Rating,BB$2),10,1),\"\")","v":0.48723602544931222},{"$f":"IF($F56<>BC$2,1-_xlfn.NORM.DIST(0,INDEX(Rating,$F56)-INDEX(Rating,BC$2),10,1),\"\")","v":0.57456167440985839},{"$f":"IF($F56<>BD$2,1-_xlfn.NORM.DIST(0,INDEX(Rating,$F56)-INDEX(Rating,BD$2),10,1),\"\")","v":0.31917750878255613},{"$f":"IF($F56<>BE$2,1-_xlfn.NORM.DIST(0,INDEX(Rating,$F56)-INDEX(Rating,BE$2),10,1),\"\")","v":0.83222623836581688},{"$f":"IF($F56<>BF$2,1-_xlfn.NORM.DIST(0,INDEX(Rating,$F56)-INDEX(Rating,BF$2),10,1),\"\")","v":0.33760806617587658},{"$f":"IF($F56<>BG$2,1-_xlfn.NORM.DIST(0,INDEX(Rating,$F56)-INDEX(Rating,BG$2),10,1),\"\")","v":0.95313090369450537},{"$f":"IF($F56<>BH$2,1-_xlfn.NORM.DIST(0,INDEX(Rating,$F56)-INDEX(Rating,BH$2),10,1),\"\")","v":""},{"$f":"IF($F56<>BI$2,1-_xlfn.NORM.DIST(0,INDEX(Rating,$F56)-INDEX(Rating,BI$2),10,1),\"\")","v":0.51834487504449811},{"$f":"IF($F56<>BJ$2,1-_xlfn.NORM.DIST(0,INDEX(Rating,$F56)-INDEX(Rating,BJ$2),10,1),\"\")","v":0.47329085160092721},{"$f":"IF($F56<>BK$2,1-_xlfn.NORM.DIST(0,INDEX(Rating,$F56)-INDEX(Rating,BK$2),10,1),\"\")","v":0.59134259898521624},{"$f":"IF($F56<>BL$2,1-_xlfn.NORM.DIST(0,INDEX(Rating,$F56)-INDEX(Rating,BL$2),10,1),\"\")","v":0.3332341852429006},{"$f":"IF($F56<>BM$2,1-_xlfn.NORM.DIST(0,INDEX(Rating,$F56)-INDEX(Rating,BM$2),10,1),\"\")","v":0.72807454392977888},{"$f":"IF($F56<>BN$2,1-_xlfn.NORM.DIST(0,INDEX(Rating,$F56)-INDEX(Rating,BN$2),10,1),\"\")","v":0.49242055270519525},{"$f":"IF($F56<>BO$2,1-_xlfn.NORM.DIST(0,INDEX(Rating,$F56)-INDEX(Rating,BO$2),10,1),\"\")","v":0.6833189391808725},{"$f":"IF($F56<>BP$2,1-_xlfn.NORM.DIST(0,INDEX(Rating,$F56)-INDEX(Rating,BP$2),10,1),\"\")","v":0.74376612297038824},{"$f":"IF($F56<>BQ$2,1-_xlfn.NORM.DIST(0,INDEX(Rating,$F56)-INDEX(Rating,BQ$2),10,1),\"\")","v":0.31882036745164788},{"$f":"IF($F56<>BR$2,1-_xlfn.NORM.DIST(0,INDEX(Rating,$F56)-INDEX(Rating,BR$2),10,1),\"\")","v":0.83546776783315191},{"$f":"IF($F56<>BS$2,1-_xlfn.NORM.DIST(0,INDEX(Rating,$F56)-INDEX(Rating,BS$2),10,1),\"\")","v":0.57260099069130987},{"$f":"IF($F56<>BT$2,1-_xlfn.NORM.DIST(0,INDEX(Rating,$F56)-INDEX(Rating,BT$2),10,1),\"\")","v":0.65062189602366149},{"$f":"IF($F56<>BU$2,1-_xlfn.NORM.DIST(0,INDEX(Rating,$F56)-INDEX(Rating,BU$2),10,1),\"\")","v":0.29287675880580544},{"$f":"IF($F56<>BV$2,1-_xlfn.NORM.DIST(0,INDEX(Rating,$F56)-INDEX(Rating,BV$2),10,1),\"\")","v":0.90182142770440321}]
[null,"Illinois",55,85.3,null,55,{"$f":"IF($F57<>G$2,1-_xlfn.NORM.DIST(0,INDEX(Rating,$F57)-INDEX(Rating,G$2),10,1),\"\")","v":0.22273169793013881},{"$f":"IF($F57<>H$2,1-_xlfn.NORM.DIST(0,INDEX(Rating,$F57)-INDEX(Rating,H$2),10,1),\"\")","v":0.9339664131661688},{"$f":"IF($F57<>I$2,1-_xlfn.NORM.DIST(0,INDEX(Rating,$F57)-INDEX(Rating,I$2),10,1),\"\")","v":0.96827322097179713},{"$f":"IF($F57<>J$2,1-_xlfn.NORM.DIST(0,INDEX(Rating,$F57)-INDEX(Rating,J$2),10,1),\"\")","v":0.49321830788625232},{"$f":"IF($F57<>K$2,1-_xlfn.NORM.DIST(0,INDEX(Rating,$F57)-INDEX(Rating,K$2),10,1),\"\")","v":0.47767090358140074},{"$f":"IF($F57<>L$2,1-_xlfn.NORM.DIST(0,INDEX(Rating,$F57)-INDEX(Rating,L$2),10,1),\"\")","v":0.5043882765873261},{"$f":"IF($F57<>M$2,1-_xlfn.NORM.DIST(0,INDEX(Rating,$F57)-INDEX(Rating,M$2),10,1),\"\")","v":0.67760069744877993},{"$f":"IF($F57<>N$2,1-_xlfn.NORM.DIST(0,INDEX(Rating,$F57)-INDEX(Rating,N$2),10,1),\"\")","v":0.50877602223066165},{"$f":"IF($F57<>O$2,1-_xlfn.NORM.DIST(0,INDEX(Rating,$F57)-INDEX(Rating,O$2),10,1),\"\")","v":0.71971665956235586},{"$f":"IF($F57<>P$2,1-_xlfn.NORM.DIST(0,INDEX(Rating,$F57)-INDEX(Rating,P$2),10,1),\"\")","v":0.40788070288413092},{"$f":"IF($F57<>Q$2,1-_xlfn.NORM.DIST(0,INDEX(Rating,$F57)-INDEX(Rating,Q$2),10,1),\"\")","v":0.5812139374874481},{"$f":"IF($F57<>R$2,1-_xlfn.NORM.DIST(0,INDEX(Rating,$F57)-INDEX(Rating,R$2),10,1),\"\")","v":0.41839545565260716},{"$f":"IF($F57<>S$2,1-_xlfn.NORM.DIST(0,INDEX(Rating,$F57)-INDEX(Rating,S$2),10,1),\"\")","v":0.81299846009791132},{"$f":"IF($F57<>T$2,1-_xlfn.NORM.DIST(0,INDEX(Rating,$F57)-INDEX(Rating,T$2),10,1),\"\")","v":0.61485668801484139},{"$f":"IF($F57<>U$2,1-_xlfn.NORM.DIST(0,INDEX(Rating,$F57)-INDEX(Rating,U$2),10,1),\"\")","v":0.546966171058342},{"$f":"IF($F57<>V$2,1-_xlfn.NORM.DIST(0,INDEX(Rating,$F57)-INDEX(Rating,V$2),10,1),\"\")","v":0.32419498910772415},{"$f":"IF($F57<>W$2,1-_xlfn.NORM.DIST(0,INDEX(Rating,$F57)-INDEX(Rating,W$2),10,1),\"\")","v":0.81567366967342703},{"$f":"IF($F57<>X$2,1-_xlfn.NORM.DIST(0,INDEX(Rating,$F57)-INDEX(Rating,X$2),10,1),\"\")","v":0.34974833440254849},{"$f":"IF($F57<>Y$2,1-_xlfn.NORM.DIST(0,INDEX(Rating,$F57)-INDEX(Rating,Y$2),10,1),\"\")","v":0.97741135576117477},{"$f":"IF($F57<>Z$2,1-_xlfn.NORM.DIST(0,INDEX(Rating,$F57)-INDEX(Rating,Z$2),10,1),\"\")","v":0.9839835566076014},{"$f":"IF($F57<>AA$2,1-_xlfn.NORM.DIST(0,INDEX(Rating,$F57)-INDEX(Rating,AA$2),10,1),\"\")","v":0.45105354898356309},{"$f":"IF($F57<>AB$2,1-_xlfn.NORM.DIST(0,INDEX(Rating,$F57)-INDEX(Rating,AB$2),10,1),\"\")","v":0.56513442809450298},{"$f":"IF($F57<>AC$2,1-_xlfn.NORM.DIST(0,INDEX(Rating,$F57)-INDEX(Rating,AC$2),10,1),\"\")","v":0.41917674945510397},{"$f":"IF($F57<>AD$2,1-_xlfn.NORM.DIST(0,INDEX(Rating,$F57)-INDEX(Rating,AD$2),10,1),\"\")","v":0.68474175063889331},{"$f":"IF($F57<>AE$2,1-_xlfn.NORM.DIST(0,INDEX(Rating,$F57)-INDEX(Rating,AE$2),10,1),\"\")","v":0.34531509287365325},{"$f":"IF($F57<>AF$2,1-_xlfn.NORM.DIST(0,INDEX(Rating,$F57)-INDEX(Rating,AF$2),10,1),\"\")","v":0.78465164705805057},{"$f":"IF($F57<>AG$2,1-_xlfn.NORM.DIST(0,INDEX(Rating,$F57)-INDEX(Rating,AG$2),10,1),\"\")","v":0.47408700012812599},{"$f":"IF($F57<>AH$2,1-_xlfn.NORM.DIST(0,INDEX(Rating,$F57)-INDEX(Rating,AH$2),10,1),\"\")","v":0.546966171058342},{"$f":"IF($F57<>AI$2,1-_xlfn.NORM.DIST(0,INDEX(Rating,$F57)-INDEX(Rating,AI$2),10,1),\"\")","v":0.49840423513376808},{"$f":"IF($F57<>AJ$2,1-_xlfn.NORM.DIST(0,INDEX(Rating,$F57)-INDEX(Rating,AJ$2),10,1),\"\")","v":0.85497227879836957},{"$f":"IF($F57<>AK$2,1-_xlfn.NORM.DIST(0,INDEX(Rating,$F57)-INDEX(Rating,AK$2),10,1),\"\")","v":0.51475749712912433},{"$f":"IF($F57<>AL$2,1-_xlfn.NORM.DIST(0,INDEX(Rating,$F57)-INDEX(Rating,AL$2),10,1),\"\")","v":0.546966171058342},{"$f":"IF($F57<>AM$2,1-_xlfn.NORM.DIST(0,INDEX(Rating,$F57)-INDEX(Rating,AM$2),10,1),\"\")","v":0.4125462164891136},{"$f":"IF($F57<>AN$2,1-_xlfn.NORM.DIST(0,INDEX(Rating,$F57)-INDEX(Rating,AN$2),10,1),\"\")","v":0.80400111027731191},{"$f":"IF($F57<>AO$2,1-_xlfn.NORM.DIST(0,INDEX(Rating,$F57)-INDEX(Rating,AO$2),10,1),\"\")","v":0.2562338770296122},{"$f":"IF($F57<>AP$2,1-_xlfn.NORM.DIST(0,INDEX(Rating,$F57)-INDEX(Rating,AP$2),10,1),\"\")","v":0.897601024717947},{"$f":"IF($F57<>AQ$2,1-_xlfn.NORM.DIST(0,INDEX(Rating,$F57)-INDEX(Rating,AQ$2),10,1),\"\")","v":0.51794634552213914},{"$f":"IF($F57<>AR$2,1-_xlfn.NORM.DIST(0,INDEX(Rating,$F57)-INDEX(Rating,AR$2),10,1),\"\")","v":0.49920211597111996},{"$f":"IF($F57<>AS$2,1-_xlfn.NORM.DIST(0,INDEX(Rating,$F57)-INDEX(Rating,AS$2),10,1),\"\")","v":0.54458829671426523},{"$f":"IF($F57<>AT$2,1-_xlfn.NORM.DIST(0,INDEX(Rating,$F57)-INDEX(Rating,AT$2),10,1),\"\")","v":0.63307173603602773},{"$f":"IF($F57<>AU$2,1-_xlfn.NORM.DIST(0,INDEX(Rating,$F57)-INDEX(Rating,AU$2),10,1),\"\")","v":0.46374629552877256},{"$f":"IF($F57<>AV$2,1-_xlfn.NORM.DIST(0,INDEX(Rating,$F57)-INDEX(Rating,AV$2),10,1),\"\")","v":0.66312245906909095},{"$f":"IF($F57<>AW$2,1-_xlfn.NORM.DIST(0,INDEX(Rating,$F57)-INDEX(Rating,AW$2),10,1),\"\")","v":0.53506166192819782},{"$f":"IF($F57<>AX$2,1-_xlfn.NORM.DIST(0,INDEX(Rating,$F57)-INDEX(Rating,AX$2),10,1),\"\")","v":0.61943605442159244},{"$f":"IF($F57<>AY$2,1-_xlfn.NORM.DIST(0,INDEX(Rating,$F57)-INDEX(Rating,AY$2),10,1),\"\")","v":0.64654155199051933},{"$f":"IF($F57<>AZ$2,1-_xlfn.NORM.DIST(0,INDEX(Rating,$F57)-INDEX(Rating,AZ$2),10,1),\"\")","v":0.45224157397941611},{"$f":"IF($F57<>BA$2,1-_xlfn.NORM.DIST(0,INDEX(Rating,$F57)-INDEX(Rating,BA$2),10,1),\"\")","v":0.88876756255216538},{"$f":"IF($F57<>BB$2,1-_xlfn.NORM.DIST(0,INDEX(Rating,$F57)-INDEX(Rating,BB$2),10,1),\"\")","v":0.46891402649697533},{"$f":"IF($F57<>BC$2,1-_xlfn.NORM.DIST(0,INDEX(Rating,$F57)-INDEX(Rating,BC$2),10,1),\"\")","v":0.55645999715678685},{"$f":"IF($F57<>BD$2,1-_xlfn.NORM.DIST(0,INDEX(Rating,$F57)-INDEX(Rating,BD$2),10,1),\"\")","v":0.3029272046094752},{"$f":"IF($F57<>BE$2,1-_xlfn.NORM.DIST(0,INDEX(Rating,$F57)-INDEX(Rating,BE$2),10,1),\"\")","v":0.82042867993894153},{"$f":"IF($F57<>BF$2,1-_xlfn.NORM.DIST(0,INDEX(Rating,$F57)-INDEX(Rating,BF$2),10,1),\"\")","v":0.32096572829712178},{"$f":"IF($F57<>BG$2,1-_xlfn.NORM.DIST(0,INDEX(Rating,$F57)-INDEX(Rating,BG$2),10,1),\"\")","v":0.94844925150991066},{"$f":"IF($F57<>BH$2,1-_xlfn.NORM.DIST(0,INDEX(Rating,$F57)-INDEX(Rating,BH$2),10,1),\"\")","v":0.48165512495550189},{"$f":"IF($F57<>BI$2,1-_xlfn.NORM.DIST(0,INDEX(Rating,$F57)-INDEX(Rating,BI$2),10,1),\"\")","v":""},{"$f":"IF($F57<>BJ$2,1-_xlfn.NORM.DIST(0,INDEX(Rating,$F57)-INDEX(Rating,BJ$2),10,1),\"\")","v":0.45501527760722715},{"$f":"IF($F57<>BK$2,1-_xlfn.NORM.DIST(0,INDEX(Rating,$F57)-INDEX(Rating,BK$2),10,1),\"\")","v":0.57338548221337415},{"$f":"IF($F57<>BL$2,1-_xlfn.NORM.DIST(0,INDEX(Rating,$F57)-INDEX(Rating,BL$2),10,1),\"\")","v":0.31668106081912806},{"$f":"IF($F57<>BM$2,1-_xlfn.NORM.DIST(0,INDEX(Rating,$F57)-INDEX(Rating,BM$2),10,1),\"\")","v":0.7126012314077883},{"$f":"IF($F57<>BN$2,1-_xlfn.NORM.DIST(0,INDEX(Rating,$F57)-INDEX(Rating,BN$2),10,1),\"\")","v":0.47408700012812599},{"$f":"IF($F57<>BO$2,1-_xlfn.NORM.DIST(0,INDEX(Rating,$F57)-INDEX(Rating,BO$2),10,1),\"\")","v":0.66676581475709995},{"$f":"IF($F57<>BP$2,1-_xlfn.NORM.DIST(0,INDEX(Rating,$F57)-INDEX(Rating,BP$2),10,1),\"\")","v":0.72873778055100957},{"$f":"IF($F57<>BQ$2,1-_xlfn.NORM.DIST(0,INDEX(Rating,$F57)-INDEX(Rating,BQ$2),10,1),\"\")","v":0.30257807941188386},{"$f":"IF($F57<>BR$2,1-_xlfn.NORM.DIST(0,INDEX(Rating,$F57)-INDEX(Rating,BR$2),10,1),\"\")","v":0.82381445775474194},{"$f":"IF($F57<>BS$2,1-_xlfn.NORM.DIST(0,INDEX(Rating,$F57)-INDEX(Rating,BS$2),10,1),\"\")","v":0.5544846024442488},{"$f":"IF($F57<>BT$2,1-_xlfn.NORM.DIST(0,INDEX(Rating,$F57)-INDEX(Rating,BT$2),10,1),\"\")","v":0.63344820913105748},{"$f":"IF($F57<>BU$2,1-_xlfn.NORM.DIST(0,INDEX(Rating,$F57)-INDEX(Rating,BU$2),10,1),\"\")","v":0.27726021047827076},{"$f":"IF($F57<>BV$2,1-_xlfn.NORM.DIST(0,INDEX(Rating,$F57)-INDEX(Rating,BV$2),10,1),\"\")","v":0.89361780240834709}]
[null,"Saint Mary's",56,86.43,null,56,{"$f":"IF($F58<>G$2,1-_xlfn.NORM.DIST(0,INDEX(Rating,$F58)-INDEX(Rating,G$2),10,1),\"\")","v":0.25784611080586473},{"$f":"IF($F58<>H$2,1-_xlfn.NORM.DIST(0,INDEX(Rating,$F58)-INDEX(Rating,H$2),10,1),\"\")","v":0.94727636844263807},{"$f":"IF($F58<>I$2,1-_xlfn.NORM.DIST(0,INDEX(Rating,$F58)-INDEX(Rating,I$2),10,1),\"\")","v":0.97552345445910782},{"$f":"IF($F58<>J$2,1-_xlfn.NORM.DIST(0,INDEX(Rating,$F58)-INDEX(Rating,J$2),10,1),\"\")","v":0.53823971371815826},{"$f":"IF($F58<>K$2,1-_xlfn.NORM.DIST(0,INDEX(Rating,$F58)-INDEX(Rating,K$2),10,1),\"\")","v":0.52272740242861593},{"$f":"IF($F58<>L$2,1-_xlfn.NORM.DIST(0,INDEX(Rating,$F58)-INDEX(Rating,L$2),10,1),\"\")","v":0.5493423624682614},{"$f":"IF($F58<>M$2,1-_xlfn.NORM.DIST(0,INDEX(Rating,$F58)-INDEX(Rating,M$2),10,1),\"\")","v":0.71701609936308697},{"$f":"IF($F58<>N$2,1-_xlfn.NORM.DIST(0,INDEX(Rating,$F58)-INDEX(Rating,N$2),10,1),\"\")","v":0.55369406283438205},{"$f":"IF($F58<>O$2,1-_xlfn.NORM.DIST(0,INDEX(Rating,$F58)-INDEX(Rating,O$2),10,1),\"\")","v":0.75647234922015916},{"$f":"IF($F58<>P$2,1-_xlfn.NORM.DIST(0,INDEX(Rating,$F58)-INDEX(Rating,P$2),10,1),\"\")","v":0.45224157397941656},{"$f":"IF($F58<>Q$2,1-_xlfn.NORM.DIST(0,INDEX(Rating,$F58)-INDEX(Rating,Q$2),10,1),\"\")","v":0.62475753154533598},{"$f":"IF($F58<>R$2,1-_xlfn.NORM.DIST(0,INDEX(Rating,$F58)-INDEX(Rating,R$2),10,1),\"\")","v":0.46295178061181197},{"$f":"IF($F58<>S$2,1-_xlfn.NORM.DIST(0,INDEX(Rating,$F58)-INDEX(Rating,S$2),10,1),\"\")","v":0.84182820357645494},{"$f":"IF($F58<>T$2,1-_xlfn.NORM.DIST(0,INDEX(Rating,$F58)-INDEX(Rating,T$2),10,1),\"\")","v":0.6572612445273267},{"$f":"IF($F58<>U$2,1-_xlfn.NORM.DIST(0,INDEX(Rating,$F58)-INDEX(Rating,U$2),10,1),\"\")","v":0.59134259898521624},{"$f":"IF($F58<>V$2,1-_xlfn.NORM.DIST(0,INDEX(Rating,$F58)-INDEX(Rating,V$2),10,1),\"\")","v":0.3657992300776246},{"$f":"IF($F58<>W$2,1-_xlfn.NORM.DIST(0,INDEX(Rating,$F58)-INDEX(Rating,W$2),10,1),\"\")","v":0.84423097328772334},{"$f":"IF($F58<>X$2,1-_xlfn.NORM.DIST(0,INDEX(Rating,$F58)-INDEX(Rating,X$2),10,1),\"\")","v":0.39242660778696348},{"$f":"IF($F58<>Y$2,1-_xlfn.NORM.DIST(0,INDEX(Rating,$F58)-INDEX(Rating,Y$2),10,1),\"\")","v":0.98282759621423987},{"$f":"IF($F58<>Z$2,1-_xlfn.NORM.DIST(0,INDEX(Rating,$F58)-INDEX(Rating,Z$2),10,1),\"\")","v":0.98799596261595812},{"$f":"IF($F58<>AA$2,1-_xlfn.NORM.DIST(0,INDEX(Rating,$F58)-INDEX(Rating,AA$2),10,1),\"\")","v":0.49601064368536862},{"$f":"IF($F58<>AB$2,1-_xlfn.NORM.DIST(0,INDEX(Rating,$F58)-INDEX(Rating,AB$2),10,1),\"\")","v":0.6091099469273582},{"$f":"IF($F58<>AC$2,1-_xlfn.NORM.DIST(0,INDEX(Rating,$F58)-INDEX(Rating,AC$2),10,1),\"\")","v":0.46374629552877256},{"$f":"IF($F58<>AD$2,1-_xlfn.NORM.DIST(0,INDEX(Rating,$F58)-INDEX(Rating,AD$2),10,1),\"\")","v":0.72374394351284133},{"$f":"IF($F58<>AE$2,1-_xlfn.NORM.DIST(0,INDEX(Rating,$F58)-INDEX(Rating,AE$2),10,1),\"\")","v":0.38782207096250154},{"$f":"IF($F58<>AF$2,1-_xlfn.NORM.DIST(0,INDEX(Rating,$F58)-INDEX(Rating,AF$2),10,1),\"\")","v":0.81620584015637276},{"$f":"IF($F58<>AG$2,1-_xlfn.NORM.DIST(0,INDEX(Rating,$F58)-INDEX(Rating,AG$2),10,1),\"\")","v":0.51914187869576156},{"$f":"IF($F58<>AH$2,1-_xlfn.NORM.DIST(0,INDEX(Rating,$F58)-INDEX(Rating,AH$2),10,1),\"\")","v":0.59134259898521624},{"$f":"IF($F58<>AI$2,1-_xlfn.NORM.DIST(0,INDEX(Rating,$F58)-INDEX(Rating,AI$2),10,1),\"\")","v":0.54339875483208822},{"$f":"IF($F58<>AJ$2,1-_xlfn.NORM.DIST(0,INDEX(Rating,$F58)-INDEX(Rating,AJ$2),10,1),\"\")","v":0.87920061142418193},{"$f":"IF($F58<>AK$2,1-_xlfn.NORM.DIST(0,INDEX(Rating,$F58)-INDEX(Rating,AK$2),10,1),\"\")","v":0.5596176923702425},{"$f":"IF($F58<>AL$2,1-_xlfn.NORM.DIST(0,INDEX(Rating,$F58)-INDEX(Rating,AL$2),10,1),\"\")","v":0.59134259898521624},{"$f":"IF($F58<>AM$2,1-_xlfn.NORM.DIST(0,INDEX(Rating,$F58)-INDEX(Rating,AM$2),10,1),\"\")","v":0.45699784610528349},{"$f":"IF($F58<>AN$2,1-_xlfn.NORM.DIST(0,INDEX(Rating,$F58)-INDEX(Rating,AN$2),10,1),\"\")","v":0.83372740541105184},{"$f":"IF($F58<>AO$2,1-_xlfn.NORM.DIST(0,INDEX(Rating,$F58)-INDEX(Rating,AO$2),10,1),\"\")","v":0.29390925294161707},{"$f":"IF($F58<>AP$2,1-_xlfn.NORM.DIST(0,INDEX(Rating,$F58)-INDEX(Rating,AP$2),10,1),\"\")","v":0.91636051967064536},{"$f":"IF($F58<>AQ$2,1-_xlfn.NORM.DIST(0,INDEX(Rating,$F58)-INDEX(Rating,AQ$2),10,1),\"\")","v":0.56277160064225895},{"$f":"IF($F58<>AR$2,1-_xlfn.NORM.DIST(0,INDEX(Rating,$F58)-INDEX(Rating,AR$2),10,1),\"\")","v":0.54419182663360066},{"$f":"IF($F58<>AS$2,1-_xlfn.NORM.DIST(0,INDEX(Rating,$F58)-INDEX(Rating,AS$2),10,1),\"\")","v":0.58901036286872965},{"$f":"IF($F58<>AT$2,1-_xlfn.NORM.DIST(0,INDEX(Rating,$F58)-INDEX(Rating,AT$2),10,1),\"\")","v":0.67472562924005797},{"$f":"IF($F58<>AU$2,1-_xlfn.NORM.DIST(0,INDEX(Rating,$F58)-INDEX(Rating,AU$2),10,1),\"\")","v":0.50877602223066209},{"$f":"IF($F58<>AV$2,1-_xlfn.NORM.DIST(0,INDEX(Rating,$F58)-INDEX(Rating,AV$2),10,1),\"\")","v":0.70332923296558136},{"$f":"IF($F58<>AW$2,1-_xlfn.NORM.DIST(0,INDEX(Rating,$F58)-INDEX(Rating,AW$2),10,1),\"\")","v":0.57965071296625215},{"$f":"IF($F58<>AX$2,1-_xlfn.NORM.DIST(0,INDEX(Rating,$F58)-INDEX(Rating,AX$2),10,1),\"\")","v":0.66166079614262996},{"$f":"IF($F58<>AY$2,1-_xlfn.NORM.DIST(0,INDEX(Rating,$F58)-INDEX(Rating,AY$2),10,1),\"\")","v":0.68757915157291127},{"$f":"IF($F58<>AZ$2,1-_xlfn.NORM.DIST(0,INDEX(Rating,$F58)-INDEX(Rating,AZ$2),10,1),\"\")","v":0.49720742684322294},{"$f":"IF($F58<>BA$2,1-_xlfn.NORM.DIST(0,INDEX(Rating,$F58)-INDEX(Rating,BA$2),10,1),\"\")","v":0.90873409809955863},{"$f":"IF($F58<>BB$2,1-_xlfn.NORM.DIST(0,INDEX(Rating,$F58)-INDEX(Rating,BB$2),10,1),\"\")","v":0.51396012956275872},{"$f":"IF($F58<>BC$2,1-_xlfn.NORM.DIST(0,INDEX(Rating,$F58)-INDEX(Rating,BC$2),10,1),\"\")","v":0.6006384503843829},{"$f":"IF($F58<>BD$2,1-_xlfn.NORM.DIST(0,INDEX(Rating,$F58)-INDEX(Rating,BD$2),10,1),\"\")","v":0.34347411224566649},{"$f":"IF($F58<>BE$2,1-_xlfn.NORM.DIST(0,INDEX(Rating,$F58)-INDEX(Rating,BE$2),10,1),\"\")","v":0.84849499721165655},{"$f":"IF($F58<>BF$2,1-_xlfn.NORM.DIST(0,INDEX(Rating,$F58)-INDEX(Rating,BF$2),10,1),\"\")","v":0.36241913123756908},{"$f":"IF($F58<>BG$2,1-_xlfn.NORM.DIST(0,INDEX(Rating,$F58)-INDEX(Rating,BG$2),10,1),\"\")","v":0.95933319259084615},{"$f":"IF($F58<>BH$2,1-_xlfn.NORM.DIST(0,INDEX(Rating,$F58)-INDEX(Rating,BH$2),10,1),\"\")","v":0.52670914839907279},{"$f":"IF($F58<>BI$2,1-_xlfn.NORM.DIST(0,INDEX(Rating,$F58)-INDEX(Rating,BI$2),10,1),\"\")","v":0.54498472239277285},{"$f":"IF($F58<>BJ$2,1-_xlfn.NORM.DIST(0,INDEX(Rating,$F58)-INDEX(Rating,BJ$2),10,1),\"\")","v":""},{"$f":"IF($F58<>BK$2,1-_xlfn.NORM.DIST(0,INDEX(Rating,$F58)-INDEX(Rating,BK$2),10,1),\"\")","v":0.61714841818831467},{"$f":"IF($F58<>BL$2,1-_xlfn.NORM.DIST(0,INDEX(Rating,$F58)-INDEX(Rating,BL$2),10,1),\"\")","v":0.35792900469041744},{"$f":"IF($F58<>BM$2,1-_xlfn.NORM.DIST(0,INDEX(Rating,$F58)-INDEX(Rating,BM$2),10,1),\"\")","v":0.74984434315967774},{"$f":"IF($F58<>BN$2,1-_xlfn.NORM.DIST(0,INDEX(Rating,$F58)-INDEX(Rating,BN$2),10,1),\"\")","v":0.51914187869576156},{"$f":"IF($F58<>BO$2,1-_xlfn.NORM.DIST(0,INDEX(Rating,$F58)-INDEX(Rating,BO$2),10,1),\"\")","v":0.70677926357613996},{"$f":"IF($F58<>BP$2,1-_xlfn.NORM.DIST(0,INDEX(Rating,$F58)-INDEX(Rating,BP$2),10,1),\"\")","v":0.76485276123855905},{"$f":"IF($F58<>BQ$2,1-_xlfn.NORM.DIST(0,INDEX(Rating,$F58)-INDEX(Rating,BQ$2),10,1),\"\")","v":0.34310635958814328},{"$f":"IF($F58<>BR$2,1-_xlfn.NORM.DIST(0,INDEX(Rating,$F58)-INDEX(Rating,BR$2),10,1),\"\")","v":0.85152585362012922},{"$f":"IF($F58<>BS$2,1-_xlfn.NORM.DIST(0,INDEX(Rating,$F58)-INDEX(Rating,BS$2),10,1),\"\")","v":0.5987063256829237},{"$f":"IF($F58<>BT$2,1-_xlfn.NORM.DIST(0,INDEX(Rating,$F58)-INDEX(Rating,BT$2),10,1),\"\")","v":0.67508558660282603},{"$f":"IF($F58<>BU$2,1-_xlfn.NORM.DIST(0,INDEX(Rating,$F58)-INDEX(Rating,BU$2),10,1),\"\")","v":0.31632510251932366},{"$f":"IF($F58<>BV$2,1-_xlfn.NORM.DIST(0,INDEX(Rating,$F58)-INDEX(Rating,BV$2),10,1),\"\")","v":0.91292670564729295}]
[null,"VCU",57,83.45,null,57,{"$f":"IF($F59<>G$2,1-_xlfn.NORM.DIST(0,INDEX(Rating,$F59)-INDEX(Rating,G$2),10,1),\"\")","v":0.17156472710026216},{"$f":"IF($F59<>H$2,1-_xlfn.NORM.DIST(0,INDEX(Rating,$F59)-INDEX(Rating,H$2),10,1),\"\")","v":0.90674931789048974},{"$f":"IF($F59<>I$2,1-_xlfn.NORM.DIST(0,INDEX(Rating,$F59)-INDEX(Rating,I$2),10,1),\"\")","v":0.95263916109451707},{"$f":"IF($F59<>J$2,1-_xlfn.NORM.DIST(0,INDEX(Rating,$F59)-INDEX(Rating,J$2),10,1),\"\")","v":0.41995836209040383},{"$f":"IF($F59<>K$2,1-_xlfn.NORM.DIST(0,INDEX(Rating,$F59)-INDEX(Rating,K$2),10,1),\"\")","v":0.40477755826194328},{"$f":"IF($F59<>L$2,1-_xlfn.NORM.DIST(0,INDEX(Rating,$F59)-INDEX(Rating,L$2),10,1),\"\")","v":0.43093273111529151},{"$f":"IF($F59<>M$2,1-_xlfn.NORM.DIST(0,INDEX(Rating,$F59)-INDEX(Rating,M$2),10,1),\"\")","v":0.60872596688343139},{"$f":"IF($F59<>N$2,1-_xlfn.NORM.DIST(0,INDEX(Rating,$F59)-INDEX(Rating,N$2),10,1),\"\")","v":0.43525921733548112},{"$f":"IF($F59<>O$2,1-_xlfn.NORM.DIST(0,INDEX(Rating,$F59)-INDEX(Rating,O$2),10,1),\"\")","v":0.65431626969663315},{"$f":"IF($F59<>P$2,1-_xlfn.NORM.DIST(0,INDEX(Rating,$F59)-INDEX(Rating,P$2),10,1),\"\")","v":0.33797355861274336},{"$f":"IF($F59<>Q$2,1-_xlfn.NORM.DIST(0,INDEX(Rating,$F59)-INDEX(Rating,Q$2),10,1),\"\")","v":0.50797831371690205},{"$f":"IF($F59<>R$2,1-_xlfn.NORM.DIST(0,INDEX(Rating,$F59)-INDEX(Rating,R$2),10,1),\"\")","v":0.3478986179290362},{"$f":"IF($F59<>S$2,1-_xlfn.NORM.DIST(0,INDEX(Rating,$F59)-INDEX(Rating,S$2),10,1),\"\")","v":0.75928361319555882},{"$f":"IF($F59<>T$2,1-_xlfn.NORM.DIST(0,INDEX(Rating,$F59)-INDEX(Rating,T$2),10,1),\"\")","v":0.54260551012213476},{"$f":"IF($F59<>U$2,1-_xlfn.NORM.DIST(0,INDEX(Rating,$F59)-INDEX(Rating,U$2),10,1),\"\")","v":0.47329085160092721},{"$f":"IF($F59<>V$2,1-_xlfn.NORM.DIST(0,INDEX(Rating,$F59)-INDEX(Rating,V$2),10,1),\"\")","v":0.26076134148066576},{"$f":"IF($F59<>W$2,1-_xlfn.NORM.DIST(0,INDEX(Rating,$F59)-INDEX(Rating,W$2),10,1),\"\")","v":0.76238641027269571},{"$f":"IF($F59<>X$2,1-_xlfn.NORM.DIST(0,INDEX(Rating,$F59)-INDEX(Rating,X$2),10,1),\"\")","v":0.28399982142168501},{"$f":"IF($F59<>Y$2,1-_xlfn.NORM.DIST(0,INDEX(Rating,$F59)-INDEX(Rating,Y$2),10,1),\"\")","v":0.96546793361040772},{"$f":"IF($F59<>Z$2,1-_xlfn.NORM.DIST(0,INDEX(Rating,$F59)-INDEX(Rating,Z$2),10,1),\"\")","v":0.97494360660763901},{"$f":"IF($F59<>AA$2,1-_xlfn.NORM.DIST(0,INDEX(Rating,$F59)-INDEX(Rating,AA$2),10,1),\"\")","v":0.37904116616934669},{"$f":"IF($F59<>AB$2,1-_xlfn.NORM.DIST(0,INDEX(Rating,$F59)-INDEX(Rating,AB$2),10,1),\"\")","v":0.49162282783824907},{"$f":"IF($F59<>AC$2,1-_xlfn.NORM.DIST(0,INDEX(Rating,$F59)-INDEX(Rating,AC$2),10,1),\"\")","v":0.34863807319276163},{"$f":"IF($F59<>AD$2,1-_xlfn.NORM.DIST(0,INDEX(Rating,$F59)-INDEX(Rating,AD$2),10,1),\"\")","v":0.61638495930190151},{"$f":"IF($F59<>AE$2,1-_xlfn.NORM.DIST(0,INDEX(Rating,$F59)-INDEX(Rating,AE$2),10,1),\"\")","v":0.27994665011187858},{"$f":"IF($F59<>AF$2,1-_xlfn.NORM.DIST(0,INDEX(Rating,$F59)-INDEX(Rating,AF$2),10,1),\"\")","v":0.72674565539426927},{"$f":"IF($F59<>AG$2,1-_xlfn.NORM.DIST(0,INDEX(Rating,$F59)-INDEX(Rating,AG$2),10,1),\"\")","v":0.4012936743170763},{"$f":"IF($F59<>AH$2,1-_xlfn.NORM.DIST(0,INDEX(Rating,$F59)-INDEX(Rating,AH$2),10,1),\"\")","v":0.47329085160092721},{"$f":"IF($F59<>AI$2,1-_xlfn.NORM.DIST(0,INDEX(Rating,$F59)-INDEX(Rating,AI$2),10,1),\"\")","v":0.42504640839500107},{"$f":"IF($F59<>AJ$2,1-_xlfn.NORM.DIST(0,INDEX(Rating,$F59)-INDEX(Rating,AJ$2),10,1),\"\")","v":0.80866846113985713},{"$f":"IF($F59<>AK$2,1-_xlfn.NORM.DIST(0,INDEX(Rating,$F59)-INDEX(Rating,AK$2),10,1),\"\")","v":0.44117138412111712},{"$f":"IF($F59<>AL$2,1-_xlfn.NORM.DIST(0,INDEX(Rating,$F59)-INDEX(Rating,AL$2),10,1),\"\")","v":0.47329085160092721},{"$f":"IF($F59<>AM$2,1-_xlfn.NORM.DIST(0,INDEX(Rating,$F59)-INDEX(Rating,AM$2),10,1),\"\")","v":0.34237130020671469},{"$f":"IF($F59<>AN$2,1-_xlfn.NORM.DIST(0,INDEX(Rating,$F59)-INDEX(Rating,AN$2),10,1),\"\")","v":0.74888973523697089},{"$f":"IF($F59<>AO$2,1-_xlfn.NORM.DIST(0,INDEX(Rating,$F59)-INDEX(Rating,AO$2),10,1),\"\")","v":0.20045419326044978},{"$f":"IF($F59<>AP$2,1-_xlfn.NORM.DIST(0,INDEX(Rating,$F59)-INDEX(Rating,AP$2),10,1),\"\")","v":0.86059578847969209},{"$f":"IF($F59<>AQ$2,1-_xlfn.NORM.DIST(0,INDEX(Rating,$F59)-INDEX(Rating,AQ$2),10,1),\"\")","v":0.44432999519409389},{"$f":"IF($F59<>AR$2,1-_xlfn.NORM.DIST(0,INDEX(Rating,$F59)-INDEX(Rating,AR$2),10,1),\"\")","v":0.42583031647263625},{"$f":"IF($F59<>AS$2,1-_xlfn.NORM.DIST(0,INDEX(Rating,$F59)-INDEX(Rating,AS$2),10,1),\"\")","v":0.47090305875609006},{"$f":"IF($F59<>AT$2,1-_xlfn.NORM.DIST(0,INDEX(Rating,$F59)-INDEX(Rating,AT$2),10,1),\"\")","v":0.56158934134724681},{"$f":"IF($F59<>AU$2,1-_xlfn.NORM.DIST(0,INDEX(Rating,$F59)-INDEX(Rating,AU$2),10,1),\"\")","v":0.39127403311656916},{"$f":"IF($F59<>AV$2,1-_xlfn.NORM.DIST(0,INDEX(Rating,$F59)-INDEX(Rating,AV$2),10,1),\"\")","v":0.59328366491273132},{"$f":"IF($F59<>AW$2,1-_xlfn.NORM.DIST(0,INDEX(Rating,$F59)-INDEX(Rating,AW$2),10,1),\"\")","v":0.46136319722522667},{"$f":"IF($F59<>AX$2,1-_xlfn.NORM.DIST(0,INDEX(Rating,$F59)-INDEX(Rating,AX$2),10,1),\"\")","v":0.54736232210904612},{"$f":"IF($F59<>AY$2,1-_xlfn.NORM.DIST(0,INDEX(Rating,$F59)-INDEX(Rating,AY$2),10,1),\"\")","v":0.57573720342147583},{"$f":"IF($F59<>AZ$2,1-_xlfn.NORM.DIST(0,INDEX(Rating,$F59)-INDEX(Rating,AZ$2),10,1),\"\")","v":0.38018307615983504},{"$f":"IF($F59<>BA$2,1-_xlfn.NORM.DIST(0,INDEX(Rating,$F59)-INDEX(Rating,BA$2),10,1),\"\")","v":0.84966554440141873},{"$f":"IF($F59<>BB$2,1-_xlfn.NORM.DIST(0,INDEX(Rating,$F59)-INDEX(Rating,BB$2),10,1),\"\")","v":0.39627528955746194},{"$f":"IF($F59<>BC$2,1-_xlfn.NORM.DIST(0,INDEX(Rating,$F59)-INDEX(Rating,BC$2),10,1),\"\")","v":0.48285076692751228},{"$f":"IF($F59<>BD$2,1-_xlfn.NORM.DIST(0,INDEX(Rating,$F59)-INDEX(Rating,BD$2),10,1),\"\")","v":0.2416515076051019},{"$f":"IF($F59<>BE$2,1-_xlfn.NORM.DIST(0,INDEX(Rating,$F59)-INDEX(Rating,BE$2),10,1),\"\")","v":0.76791571611316689},{"$f":"IF($F59<>BF$2,1-_xlfn.NORM.DIST(0,INDEX(Rating,$F59)-INDEX(Rating,BF$2),10,1),\"\")","v":0.25784611080586473},{"$f":"IF($F59<>BG$2,1-_xlfn.NORM.DIST(0,INDEX(Rating,$F59)-INDEX(Rating,BG$2),10,1),\"\")","v":0.92577105718130648},{"$f":"IF($F59<>BH$2,1-_xlfn.NORM.DIST(0,INDEX(Rating,$F59)-INDEX(Rating,BH$2),10,1),\"\")","v":0.40865740101478376},{"$f":"IF($F59<>BI$2,1-_xlfn.NORM.DIST(0,INDEX(Rating,$F59)-INDEX(Rating,BI$2),10,1),\"\")","v":0.42661451778662585},{"$f":"IF($F59<>BJ$2,1-_xlfn.NORM.DIST(0,INDEX(Rating,$F59)-INDEX(Rating,BJ$2),10,1),\"\")","v":0.38285158181168533},{"$f":"IF($F59<>BK$2,1-_xlfn.NORM.DIST(0,INDEX(Rating,$F59)-INDEX(Rating,BK$2),10,1),\"\")","v":""},{"$f":"IF($F59<>BL$2,1-_xlfn.NORM.DIST(0,INDEX(Rating,$F59)-INDEX(Rating,BL$2),10,1),\"\")","v":0.25398561084511373},{"$f":"IF($F59<>BM$2,1-_xlfn.NORM.DIST(0,INDEX(Rating,$F59)-INDEX(Rating,BM$2),10,1),\"\")","v":0.64654155199051977},{"$f":"IF($F59<>BN$2,1-_xlfn.NORM.DIST(0,INDEX(Rating,$F59)-INDEX(Rating,BN$2),10,1),\"\")","v":0.4012936743170763},{"$f":"IF($F59<>BO$2,1-_xlfn.NORM.DIST(0,INDEX(Rating,$F59)-INDEX(Rating,BO$2),10,1),\"\")","v":0.59715888374918047},{"$f":"IF($F59<>BP$2,1-_xlfn.NORM.DIST(0,INDEX(Rating,$F59)-INDEX(Rating,BP$2),10,1),\"\")","v":0.66421709335542911},{"$f":"IF($F59<>BQ$2,1-_xlfn.NORM.DIST(0,INDEX(Rating,$F59)-INDEX(Rating,BQ$2),10,1),\"\")","v":0.2413395817238132},{"$f":"IF($F59<>BR$2,1-_xlfn.NORM.DIST(0,INDEX(Rating,$F59)-INDEX(Rating,BR$2),10,1),\"\")","v":0.77186414005801041},{"$f":"IF($F59<>BS$2,1-_xlfn.NORM.DIST(0,INDEX(Rating,$F59)-INDEX(Rating,BS$2),10,1),\"\")","v":0.48085812130423844},{"$f":"IF($F59<>BT$2,1-_xlfn.NORM.DIST(0,INDEX(Rating,$F59)-INDEX(Rating,BT$2),10,1),\"\")","v":0.56198348938935605},{"$f":"IF($F59<>BU$2,1-_xlfn.NORM.DIST(0,INDEX(Rating,$F59)-INDEX(Rating,BU$2),10,1),\"\")","v":0.21887449293308403},{"$f":"IF($F59<>BV$2,1-_xlfn.NORM.DIST(0,INDEX(Rating,$F59)-INDEX(Rating,BV$2),10,1),\"\")","v":0.85565504941434734}]
[null,"UConn",58,90.07,null,58,{"$f":"IF($F60<>G$2,1-_xlfn.NORM.DIST(0,INDEX(Rating,$F60)-INDEX(Rating,G$2),10,1),\"\")","v":0.38743906077712142},{"$f":"IF($F60<>H$2,1-_xlfn.NORM.DIST(0,INDEX(Rating,$F60)-INDEX(Rating,H$2),10,1),\"\")","v":0.97631628523041014},{"$f":"IF($F60<>I$2,1-_xlfn.NORM.DIST(0,INDEX(Rating,$F60)-INDEX(Rating,I$2),10,1),\"\")","v":0.99017592734180349},{"$f":"IF($F60<>J$2,1-_xlfn.NORM.DIST(0,INDEX(Rating,$F60)-INDEX(Rating,J$2),10,1),\"\")","v":0.67724188974965216},{"$f":"IF($F60<>K$2,1-_xlfn.NORM.DIST(0,INDEX(Rating,$F60)-INDEX(Rating,K$2),10,1),\"\")","v":0.66312245906909095},{"$f":"IF($F60<>L$2,1-_xlfn.NORM.DIST(0,INDEX(Rating,$F60)-INDEX(Rating,L$2),10,1),\"\")","v":0.68722507946429223},{"$f":"IF($F60<>M$2,1-_xlfn.NORM.DIST(0,INDEX(Rating,$F60)-INDEX(Rating,M$2),10,1),\"\")","v":0.82587779494663516},{"$f":"IF($F60<>N$2,1-_xlfn.NORM.DIST(0,INDEX(Rating,$F60)-INDEX(Rating,N$2),10,1),\"\")","v":0.69111030797494533},{"$f":"IF($F60<>O$2,1-_xlfn.NORM.DIST(0,INDEX(Rating,$F60)-INDEX(Rating,O$2),10,1),\"\")","v":0.85520011014006059},{"$f":"IF($F60<>P$2,1-_xlfn.NORM.DIST(0,INDEX(Rating,$F60)-INDEX(Rating,P$2),10,1),\"\")","v":0.59638459004089772},{"$f":"IF($F60<>Q$2,1-_xlfn.NORM.DIST(0,INDEX(Rating,$F60)-INDEX(Rating,Q$2),10,1),\"\")","v":0.75238052456892701},{"$f":"IF($F60<>R$2,1-_xlfn.NORM.DIST(0,INDEX(Rating,$F60)-INDEX(Rating,R$2),10,1),\"\")","v":0.6068044838704546},{"$f":"IF($F60<>S$2,1-_xlfn.NORM.DIST(0,INDEX(Rating,$F60)-INDEX(Rating,S$2),10,1),\"\")","v":0.91403051830498883},{"$f":"IF($F60<>T$2,1-_xlfn.NORM.DIST(0,INDEX(Rating,$F60)-INDEX(Rating,T$2),10,1),\"\")","v":0.77905334473352261},{"$f":"IF($F60<>U$2,1-_xlfn.NORM.DIST(0,INDEX(Rating,$F60)-INDEX(Rating,U$2),10,1),\"\")","v":0.72407826450767709},{"$f":"IF($F60<>V$2,1-_xlfn.NORM.DIST(0,INDEX(Rating,$F60)-INDEX(Rating,V$2),10,1),\"\")","v":0.50837717216175093},{"$f":"IF($F60<>W$2,1-_xlfn.NORM.DIST(0,INDEX(Rating,$F60)-INDEX(Rating,W$2),10,1),\"\")","v":0.91558918336620942},{"$f":"IF($F60<>X$2,1-_xlfn.NORM.DIST(0,INDEX(Rating,$F60)-INDEX(Rating,X$2),10,1),\"\")","v":0.53625370447122744},{"$f":"IF($F60<>Y$2,1-_xlfn.NORM.DIST(0,INDEX(Rating,$F60)-INDEX(Rating,Y$2),10,1),\"\")","v":0.99343088086445319},{"$f":"IF($F60<>Z$2,1-_xlfn.NORM.DIST(0,INDEX(Rating,$F60)-INDEX(Rating,Z$2),10,1),\"\")","v":0.99561638690189669},{"$f":"IF($F60<>AA$2,1-_xlfn.NORM.DIST(0,INDEX(Rating,$F60)-INDEX(Rating,AA$2),10,1),\"\")","v":0.63833055838210384},{"$f":"IF($F60<>AB$2,1-_xlfn.NORM.DIST(0,INDEX(Rating,$F60)-INDEX(Rating,AB$2),10,1),\"\")","v":0.73923865851933424},{"$f":"IF($F60<>AC$2,1-_xlfn.NORM.DIST(0,INDEX(Rating,$F60)-INDEX(Rating,AC$2),10,1),\"\")","v":0.60757339221303652},{"$f":"IF($F60<>AD$2,1-_xlfn.NORM.DIST(0,INDEX(Rating,$F60)-INDEX(Rating,AD$2),10,1),\"\")","v":0.83096862072047106},{"$f":"IF($F60<>AE$2,1-_xlfn.NORM.DIST(0,INDEX(Rating,$F60)-INDEX(Rating,AE$2),10,1),\"\")","v":0.53148368846762495},{"$f":"IF($F60<>AF$2,1-_xlfn.NORM.DIST(0,INDEX(Rating,$F60)-INDEX(Rating,AF$2),10,1),\"\")","v":0.89706433606539804},{"$f":"IF($F60<>AG$2,1-_xlfn.NORM.DIST(0,INDEX(Rating,$F60)-INDEX(Rating,AG$2),10,1),\"\")","v":0.65983028838503843},{"$f":"IF($F60<>AH$2,1-_xlfn.NORM.DIST(0,INDEX(Rating,$F60)-INDEX(Rating,AH$2),10,1),\"\")","v":0.72407826450767709},{"$f":"IF($F60<>AI$2,1-_xlfn.NORM.DIST(0,INDEX(Rating,$F60)-INDEX(Rating,AI$2),10,1),\"\")","v":0.68189341041072027},{"$f":"IF($F60<>AJ$2,1-_xlfn.NORM.DIST(0,INDEX(Rating,$F60)-INDEX(Rating,AJ$2),10,1),\"\")","v":0.93760808598087686},{"$f":"IF($F60<>AK$2,1-_xlfn.NORM.DIST(0,INDEX(Rating,$F60)-INDEX(Rating,AK$2),10,1),\"\")","v":0.69637400466660315},{"$f":"IF($F60<>AL$2,1-_xlfn.NORM.DIST(0,INDEX(Rating,$F60)-INDEX(Rating,AL$2),10,1),\"\")","v":0.72407826450767709},{"$f":"IF($F60<>AM$2,1-_xlfn.NORM.DIST(0,INDEX(Rating,$F60)-INDEX(Rating,AM$2),10,1),\"\")","v":0.60102458134256542},{"$f":"IF($F60<>AN$2,1-_xlfn.NORM.DIST(0,INDEX(Rating,$F60)-INDEX(Rating,AN$2),10,1),\"\")","v":0.90873409809955841},{"$f":"IF($F60<>AO$2,1-_xlfn.NORM.DIST(0,INDEX(Rating,$F60)-INDEX(Rating,AO$2),10,1),\"\")","v":0.42936148787011663},{"$f":"IF($F60<>AP$2,1-_xlfn.NORM.DIST(0,INDEX(Rating,$F60)-INDEX(Rating,AP$2),10,1),\"\")","v":0.95950756551824012},{"$f":"IF($F60<>AQ$2,1-_xlfn.NORM.DIST(0,INDEX(Rating,$F60)-INDEX(Rating,AQ$2),10,1),\"\")","v":0.69916483470765489},{"$f":"IF($F60<>AR$2,1-_xlfn.NORM.DIST(0,INDEX(Rating,$F60)-INDEX(Rating,AR$2),10,1),\"\")","v":0.68260651335874101},{"$f":"IF($F60<>AS$2,1-_xlfn.NORM.DIST(0,INDEX(Rating,$F60)-INDEX(Rating,AS$2),10,1),\"\")","v":0.72206936319559656},{"$f":"IF($F60<>AT$2,1-_xlfn.NORM.DIST(0,INDEX(Rating,$F60)-INDEX(Rating,AT$2),10,1),\"\")","v":0.79303578597659374},{"$f":"IF($F60<>AU$2,1-_xlfn.NORM.DIST(0,INDEX(Rating,$F60)-INDEX(Rating,AU$2),10,1),\"\")","v":0.65025166559745151},{"$f":"IF($F60<>AV$2,1-_xlfn.NORM.DIST(0,INDEX(Rating,$F60)-INDEX(Rating,AV$2),10,1),\"\")","v":0.81540722526775089},{"$f":"IF($F60<>AW$2,1-_xlfn.NORM.DIST(0,INDEX(Rating,$F60)-INDEX(Rating,AW$2),10,1),\"\")","v":0.71396311791002109},{"$f":"IF($F60<>AX$2,1-_xlfn.NORM.DIST(0,INDEX(Rating,$F60)-INDEX(Rating,AX$2),10,1),\"\")","v":0.78259875264590772},{"$f":"IF($F60<>AY$2,1-_xlfn.NORM.DIST(0,INDEX(Rating,$F60)-INDEX(Rating,AY$2),10,1),\"\")","v":0.80317034789819297},{"$f":"IF($F60<>AZ$2,1-_xlfn.NORM.DIST(0,INDEX(Rating,$F60)-INDEX(Rating,AZ$2),10,1),\"\")","v":0.63945409713252632},{"$f":"IF($F60<>BA$2,1-_xlfn.NORM.DIST(0,INDEX(Rating,$F60)-INDEX(Rating,BA$2),10,1),\"\")","v":0.95515166973405741},{"$f":"IF($F60<>BB$2,1-_xlfn.NORM.DIST(0,INDEX(Rating,$F60)-INDEX(Rating,BB$2),10,1),\"\")","v":0.65505339786756789},{"$f":"IF($F60<>BC$2,1-_xlfn.NORM.DIST(0,INDEX(Rating,$F60)-INDEX(Rating,BC$2),10,1),\"\")","v":0.73204182055701483},{"$f":"IF($F60<>BD$2,1-_xlfn.NORM.DIST(0,INDEX(Rating,$F60)-INDEX(Rating,BD$2),10,1),\"\")","v":0.48444519430750599},{"$f":"IF($F60<>BE$2,1-_xlfn.NORM.DIST(0,INDEX(Rating,$F60)-INDEX(Rating,BE$2),10,1),\"\")","v":0.91834119767751909},{"$f":"IF($F60<>BF$2,1-_xlfn.NORM.DIST(0,INDEX(Rating,$F60)-INDEX(Rating,BF$2),10,1),\"\")","v":0.50478719247192183},{"$f":"IF($F60<>BG$2,1-_xlfn.NORM.DIST(0,INDEX(Rating,$F60)-INDEX(Rating,BG$2),10,1),\"\")","v":0.98244121021406861},{"$f":"IF($F60<>BH$2,1-_xlfn.NORM.DIST(0,INDEX(Rating,$F60)-INDEX(Rating,BH$2),10,1),\"\")","v":0.6667658147570994},{"$f":"IF($F60<>BI$2,1-_xlfn.NORM.DIST(0,INDEX(Rating,$F60)-INDEX(Rating,BI$2),10,1),\"\")","v":0.68331893918087194},{"$f":"IF($F60<>BJ$2,1-_xlfn.NORM.DIST(0,INDEX(Rating,$F60)-INDEX(Rating,BJ$2),10,1),\"\")","v":0.64207099530958256},{"$f":"IF($F60<>BK$2,1-_xlfn.NORM.DIST(0,INDEX(Rating,$F60)-INDEX(Rating,BK$2),10,1),\"\")","v":0.74601438915488627},{"$f":"IF($F60<>BL$2,1-_xlfn.NORM.DIST(0,INDEX(Rating,$F60)-INDEX(Rating,BL$2),10,1),\"\")","v":""},{"$f":"IF($F60<>BM$2,1-_xlfn.NORM.DIST(0,INDEX(Rating,$F60)-INDEX(Rating,BM$2),10,1),\"\")","v":0.8503649724567971},{"$f":"IF($F60<>BN$2,1-_xlfn.NORM.DIST(0,INDEX(Rating,$F60)-INDEX(Rating,BN$2),10,1),\"\")","v":0.65983028838503843},{"$f":"IF($F60<>BO$2,1-_xlfn.NORM.DIST(0,INDEX(Rating,$F60)-INDEX(Rating,BO$2),10,1),\"\")","v":0.81806088917252329},{"$f":"IF($F60<>BP$2,1-_xlfn.NORM.DIST(0,INDEX(Rating,$F60)-INDEX(Rating,BP$2),10,1),\"\")","v":0.8612605038772807},{"$f":"IF($F60<>BQ$2,1-_xlfn.NORM.DIST(0,INDEX(Rating,$F60)-INDEX(Rating,BQ$2),10,1),\"\")","v":0.48404656314716898},{"$f":"IF($F60<>BR$2,1-_xlfn.NORM.DIST(0,INDEX(Rating,$F60)-INDEX(Rating,BR$2),10,1),\"\")","v":0.92028630561235736},{"$f":"IF($F60<>BS$2,1-_xlfn.NORM.DIST(0,INDEX(Rating,$F60)-INDEX(Rating,BS$2),10,1),\"\")","v":0.73039233639744161},{"$f":"IF($F60<>BT$2,1-_xlfn.NORM.DIST(0,INDEX(Rating,$F60)-INDEX(Rating,BT$2),10,1),\"\")","v":0.79332140636244741},{"$f":"IF($F60<>BU$2,1-_xlfn.NORM.DIST(0,INDEX(Rating,$F60)-INDEX(Rating,BU$2),10,1),\"\")","v":0.45461889672228795},{"$f":"IF($F60<>BV$2,1-_xlfn.NORM.DIST(0,INDEX(Rating,$F60)-INDEX(Rating,BV$2),10,1),\"\")","v":0.95755573748149181}]
[null,"Iona",59,79.69,null,59,{"$f":"IF($F61<>G$2,1-_xlfn.NORM.DIST(0,INDEX(Rating,$F61)-INDEX(Rating,G$2),10,1),\"\")","v":9.2751522356752547E-2},{"$f":"IF($F61<>H$2,1-_xlfn.NORM.DIST(0,INDEX(Rating,$F61)-INDEX(Rating,H$2),10,1),\"\")","v":0.82767056198712818},{"$f":"IF($F61<>I$2,1-_xlfn.NORM.DIST(0,INDEX(Rating,$F61)-INDEX(Rating,I$2),10,1),\"\")","v":0.90233988525872555},{"$f":"IF($F61<>J$2,1-_xlfn.NORM.DIST(0,INDEX(Rating,$F61)-INDEX(Rating,J$2),10,1),\"\")","v":0.28163205961625992},{"$f":"IF($F61<>K$2,1-_xlfn.NORM.DIST(0,INDEX(Rating,$F61)-INDEX(Rating,K$2),10,1),\"\")","v":0.26861736286083926},{"$f":"IF($F61<>L$2,1-_xlfn.NORM.DIST(0,INDEX(Rating,$F61)-INDEX(Rating,L$2),10,1),\"\")","v":0.29115968678834636},{"$f":"IF($F61<>M$2,1-_xlfn.NORM.DIST(0,INDEX(Rating,$F61)-INDEX(Rating,M$2),10,1),\"\")","v":0.46017216272297101},{"$f":"IF($F61<>N$2,1-_xlfn.NORM.DIST(0,INDEX(Rating,$F61)-INDEX(Rating,N$2),10,1),\"\")","v":0.29494342727726519},{"$f":"IF($F61<>O$2,1-_xlfn.NORM.DIST(0,INDEX(Rating,$F61)-INDEX(Rating,O$2),10,1),\"\")","v":0.50837717216175093},{"$f":"IF($F61<>P$2,1-_xlfn.NORM.DIST(0,INDEX(Rating,$F61)-INDEX(Rating,P$2),10,1),\"\")","v":0.21359771567438024},{"$f":"IF($F61<>Q$2,1-_xlfn.NORM.DIST(0,INDEX(Rating,$F61)-INDEX(Rating,Q$2),10,1),\"\")","v":0.36092028259044462},{"$f":"IF($F61<>R$2,1-_xlfn.NORM.DIST(0,INDEX(Rating,$F61)-INDEX(Rating,R$2),10,1),\"\")","v":0.22154075776325477},{"$f":"IF($F61<>S$2,1-_xlfn.NORM.DIST(0,INDEX(Rating,$F61)-INDEX(Rating,S$2),10,1),\"\")","v":0.62854416868826302},{"$f":"IF($F61<>T$2,1-_xlfn.NORM.DIST(0,INDEX(Rating,$F61)-INDEX(Rating,T$2),10,1),\"\")","v":0.39396484133326903},{"$f":"IF($F61<>U$2,1-_xlfn.NORM.DIST(0,INDEX(Rating,$F61)-INDEX(Rating,U$2),10,1),\"\")","v":0.32888286735302585},{"$f":"IF($F61<>V$2,1-_xlfn.NORM.DIST(0,INDEX(Rating,$F61)-INDEX(Rating,V$2),10,1),\"\")","v":0.15457671470596257},{"$f":"IF($F61<>W$2,1-_xlfn.NORM.DIST(0,INDEX(Rating,$F61)-INDEX(Rating,W$2),10,1),\"\")","v":0.63231840611134993},{"$f":"IF($F61<>X$2,1-_xlfn.NORM.DIST(0,INDEX(Rating,$F61)-INDEX(Rating,X$2),10,1),\"\")","v":0.17181938946717801},{"$f":"IF($F61<>Y$2,1-_xlfn.NORM.DIST(0,INDEX(Rating,$F61)-INDEX(Rating,Y$2),10,1),\"\")","v":0.92534881319404361},{"$f":"IF($F61<>Z$2,1-_xlfn.NORM.DIST(0,INDEX(Rating,$F61)-INDEX(Rating,Z$2),10,1),\"\")","v":0.94328926780525235},{"$f":"IF($F61<>AA$2,1-_xlfn.NORM.DIST(0,INDEX(Rating,$F61)-INDEX(Rating,AA$2),10,1),\"\")","v":0.24698758289778677},{"$f":"IF($F61<>AB$2,1-_xlfn.NORM.DIST(0,INDEX(Rating,$F61)-INDEX(Rating,AB$2),10,1),\"\")","v":0.34568373030336685},{"$f":"IF($F61<>AC$2,1-_xlfn.NORM.DIST(0,INDEX(Rating,$F61)-INDEX(Rating,AC$2),10,1),\"\")","v":0.22213577231232373},{"$f":"IF($F61<>AD$2,1-_xlfn.NORM.DIST(0,INDEX(Rating,$F61)-INDEX(Rating,AD$2),10,1),\"\")","v":0.46811862798601278},{"$f":"IF($F61<>AE$2,1-_xlfn.NORM.DIST(0,INDEX(Rating,$F61)-INDEX(Rating,AE$2),10,1),\"\")","v":0.16877937259391051},{"$f":"IF($F61<>AF$2,1-_xlfn.NORM.DIST(0,INDEX(Rating,$F61)-INDEX(Rating,AF$2),10,1),\"\")","v":0.5897881289157485},{"$f":"IF($F61<>AG$2,1-_xlfn.NORM.DIST(0,INDEX(Rating,$F61)-INDEX(Rating,AG$2),10,1),\"\")","v":0.26565747066375911},{"$f":"IF($F61<>AH$2,1-_xlfn.NORM.DIST(0,INDEX(Rating,$F61)-INDEX(Rating,AH$2),10,1),\"\")","v":0.32888286735302585},{"$f":"IF($F61<>AI$2,1-_xlfn.NORM.DIST(0,INDEX(Rating,$F61)-INDEX(Rating,AI$2),10,1),\"\")","v":0.28603688208997846},{"$f":"IF($F61<>AJ$2,1-_xlfn.NORM.DIST(0,INDEX(Rating,$F61)-INDEX(Rating,AJ$2),10,1),\"\")","v":0.69040547433658817},{"$f":"IF($F61<>AK$2,1-_xlfn.NORM.DIST(0,INDEX(Rating,$F61)-INDEX(Rating,AK$2),10,1),\"\")","v":0.30013926993161055},{"$f":"IF($F61<>AL$2,1-_xlfn.NORM.DIST(0,INDEX(Rating,$F61)-INDEX(Rating,AL$2),10,1),\"\")","v":0.32888286735302585},{"$f":"IF($F61<>AM$2,1-_xlfn.NORM.DIST(0,INDEX(Rating,$F61)-INDEX(Rating,AM$2),10,1),\"\")","v":0.21710728679530322},{"$f":"IF($F61<>AN$2,1-_xlfn.NORM.DIST(0,INDEX(Rating,$F61)-INDEX(Rating,AN$2),10,1),\"\")","v":0.61600306014646555},{"$f":"IF($F61<>AO$2,1-_xlfn.NORM.DIST(0,INDEX(Rating,$F61)-INDEX(Rating,AO$2),10,1),\"\")","v":0.11199246100513371},{"$f":"IF($F61<>AP$2,1-_xlfn.NORM.DIST(0,INDEX(Rating,$F61)-INDEX(Rating,AP$2),10,1),\"\")","v":0.76021676110667213},{"$f":"IF($F61<>AQ$2,1-_xlfn.NORM.DIST(0,INDEX(Rating,$F61)-INDEX(Rating,AQ$2),10,1),\"\")","v":0.3029272046094752},{"$f":"IF($F61<>AR$2,1-_xlfn.NORM.DIST(0,INDEX(Rating,$F61)-INDEX(Rating,AR$2),10,1),\"\")","v":0.28671744197021332},{"$f":"IF($F61<>AS$2,1-_xlfn.NORM.DIST(0,INDEX(Rating,$F61)-INDEX(Rating,AS$2),10,1),\"\")","v":0.32671582832100887},{"$f":"IF($F61<>AT$2,1-_xlfn.NORM.DIST(0,INDEX(Rating,$F61)-INDEX(Rating,AT$2),10,1),\"\")","v":0.4125462164891136},{"$f":"IF($F61<>AU$2,1-_xlfn.NORM.DIST(0,INDEX(Rating,$F61)-INDEX(Rating,AU$2),10,1),\"\")","v":0.2572005861989245},{"$f":"IF($F61<>AV$2,1-_xlfn.NORM.DIST(0,INDEX(Rating,$F61)-INDEX(Rating,AV$2),10,1),\"\")","v":0.44432999519409333},{"$f":"IF($F61<>AW$2,1-_xlfn.NORM.DIST(0,INDEX(Rating,$F61)-INDEX(Rating,AW$2),10,1),\"\")","v":0.31810658958927918},{"$f":"IF($F61<>AX$2,1-_xlfn.NORM.DIST(0,INDEX(Rating,$F61)-INDEX(Rating,AX$2),10,1),\"\")","v":0.39858938653611586},{"$f":"IF($F61<>AY$2,1-_xlfn.NORM.DIST(0,INDEX(Rating,$F61)-INDEX(Rating,AY$2),10,1),\"\")","v":0.42661451778662518},{"$f":"IF($F61<>AZ$2,1-_xlfn.NORM.DIST(0,INDEX(Rating,$F61)-INDEX(Rating,AZ$2),10,1),\"\")","v":0.24793574521579209},{"$f":"IF($F61<>BA$2,1-_xlfn.NORM.DIST(0,INDEX(Rating,$F61)-INDEX(Rating,BA$2),10,1),\"\")","v":0.7450521156700427},{"$f":"IF($F61<>BB$2,1-_xlfn.NORM.DIST(0,INDEX(Rating,$F61)-INDEX(Rating,BB$2),10,1),\"\")","v":0.26141146594486153},{"$f":"IF($F61<>BC$2,1-_xlfn.NORM.DIST(0,INDEX(Rating,$F61)-INDEX(Rating,BC$2),10,1),\"\")","v":0.33760806617587658},{"$f":"IF($F61<>BD$2,1-_xlfn.NORM.DIST(0,INDEX(Rating,$F61)-INDEX(Rating,BD$2),10,1),\"\")","v":0.14074013284626208},{"$f":"IF($F61<>BE$2,1-_xlfn.NORM.DIST(0,INDEX(Rating,$F61)-INDEX(Rating,BE$2),10,1),\"\")","v":0.63907971740955538},{"$f":"IF($F61<>BF$2,1-_xlfn.NORM.DIST(0,INDEX(Rating,$F61)-INDEX(Rating,BF$2),10,1),\"\")","v":0.15244579203281128},{"$f":"IF($F61<>BG$2,1-_xlfn.NORM.DIST(0,INDEX(Rating,$F61)-INDEX(Rating,BG$2),10,1),\"\")","v":0.85746516529629346},{"$f":"IF($F61<>BH$2,1-_xlfn.NORM.DIST(0,INDEX(Rating,$F61)-INDEX(Rating,BH$2),10,1),\"\")","v":0.27192545607022112},{"$f":"IF($F61<>BI$2,1-_xlfn.NORM.DIST(0,INDEX(Rating,$F61)-INDEX(Rating,BI$2),10,1),\"\")","v":0.2873987685922117},{"$f":"IF($F61<>BJ$2,1-_xlfn.NORM.DIST(0,INDEX(Rating,$F61)-INDEX(Rating,BJ$2),10,1),\"\")","v":0.25015565684032226},{"$f":"IF($F61<>BK$2,1-_xlfn.NORM.DIST(0,INDEX(Rating,$F61)-INDEX(Rating,BK$2),10,1),\"\")","v":0.35345844800948023},{"$f":"IF($F61<>BL$2,1-_xlfn.NORM.DIST(0,INDEX(Rating,$F61)-INDEX(Rating,BL$2),10,1),\"\")","v":0.1496350275432029},{"$f":"IF($F61<>BM$2,1-_xlfn.NORM.DIST(0,INDEX(Rating,$F61)-INDEX(Rating,BM$2),10,1),\"\")","v":""},{"$f":"IF($F61<>BN$2,1-_xlfn.NORM.DIST(0,INDEX(Rating,$F61)-INDEX(Rating,BN$2),10,1),\"\")","v":0.26565747066375911},{"$f":"IF($F61<>BO$2,1-_xlfn.NORM.DIST(0,INDEX(Rating,$F61)-INDEX(Rating,BO$2),10,1),\"\")","v":0.44828321334543897},{"$f":"IF($F61<>BP$2,1-_xlfn.NORM.DIST(0,INDEX(Rating,$F61)-INDEX(Rating,BP$2),10,1),\"\")","v":0.51914187869576156},{"$f":"IF($F61<>BQ$2,1-_xlfn.NORM.DIST(0,INDEX(Rating,$F61)-INDEX(Rating,BQ$2),10,1),\"\")","v":0.14051687806693514},{"$f":"IF($F61<>BR$2,1-_xlfn.NORM.DIST(0,INDEX(Rating,$F61)-INDEX(Rating,BR$2),10,1),\"\")","v":0.64393613761336721},{"$f":"IF($F61<>BS$2,1-_xlfn.NORM.DIST(0,INDEX(Rating,$F61)-INDEX(Rating,BS$2),10,1),\"\")","v":0.33578290664457089},{"$f":"IF($F61<>BT$2,1-_xlfn.NORM.DIST(0,INDEX(Rating,$F61)-INDEX(Rating,BT$2),10,1),\"\")","v":0.41293557735178532},{"$f":"IF($F61<>BU$2,1-_xlfn.NORM.DIST(0,INDEX(Rating,$F61)-INDEX(Rating,BU$2),10,1),\"\")","v":0.12466053666431109},{"$f":"IF($F61<>BV$2,1-_xlfn.NORM.DIST(0,INDEX(Rating,$F61)-INDEX(Rating,BV$2),10,1),\"\")","v":0.7533280395136579}]
[null,"TCU",60,85.95,null,60,{"$f":"IF($F62<>G$2,1-_xlfn.NORM.DIST(0,INDEX(Rating,$F62)-INDEX(Rating,G$2),10,1),\"\")","v":0.24258859703261471},{"$f":"IF($F62<>H$2,1-_xlfn.NORM.DIST(0,INDEX(Rating,$F62)-INDEX(Rating,H$2),10,1),\"\")","v":0.94190867560455971},{"$f":"IF($F62<>I$2,1-_xlfn.NORM.DIST(0,INDEX(Rating,$F62)-INDEX(Rating,I$2),10,1),\"\")","v":0.97263414625557332},{"$f":"IF($F62<>J$2,1-_xlfn.NORM.DIST(0,INDEX(Rating,$F62)-INDEX(Rating,J$2),10,1),\"\")","v":0.51914187869576156},{"$f":"IF($F62<>K$2,1-_xlfn.NORM.DIST(0,INDEX(Rating,$F62)-INDEX(Rating,K$2),10,1),\"\")","v":0.50359043205271492},{"$f":"IF($F62<>L$2,1-_xlfn.NORM.DIST(0,INDEX(Rating,$F62)-INDEX(Rating,L$2),10,1),\"\")","v":0.53029045090025684},{"$f":"IF($F62<>M$2,1-_xlfn.NORM.DIST(0,INDEX(Rating,$F62)-INDEX(Rating,M$2),10,1),\"\")","v":0.70055589651304706},{"$f":"IF($F62<>N$2,1-_xlfn.NORM.DIST(0,INDEX(Rating,$F62)-INDEX(Rating,N$2),10,1),\"\")","v":0.53466424394571477},{"$f":"IF($F62<>O$2,1-_xlfn.NORM.DIST(0,INDEX(Rating,$F62)-INDEX(Rating,O$2),10,1),\"\")","v":0.7411840282621297},{"$f":"IF($F62<>P$2,1-_xlfn.NORM.DIST(0,INDEX(Rating,$F62)-INDEX(Rating,P$2),10,1),\"\")","v":0.43329163953941574},{"$f":"IF($F62<>Q$2,1-_xlfn.NORM.DIST(0,INDEX(Rating,$F62)-INDEX(Rating,Q$2),10,1),\"\")","v":0.60641987319803969},{"$f":"IF($F62<>R$2,1-_xlfn.NORM.DIST(0,INDEX(Rating,$F62)-INDEX(Rating,R$2),10,1),\"\")","v":0.44393497117142555},{"$f":"IF($F62<>S$2,1-_xlfn.NORM.DIST(0,INDEX(Rating,$F62)-INDEX(Rating,S$2),10,1),\"\")","v":0.82995817880974088},{"$f":"IF($F62<>T$2,1-_xlfn.NORM.DIST(0,INDEX(Rating,$F62)-INDEX(Rating,T$2),10,1),\"\")","v":0.63945409713252688},{"$f":"IF($F62<>U$2,1-_xlfn.NORM.DIST(0,INDEX(Rating,$F62)-INDEX(Rating,U$2),10,1),\"\")","v":0.57260099069130987},{"$f":"IF($F62<>V$2,1-_xlfn.NORM.DIST(0,INDEX(Rating,$F62)-INDEX(Rating,V$2),10,1),\"\")","v":0.3478986179290362},{"$f":"IF($F62<>W$2,1-_xlfn.NORM.DIST(0,INDEX(Rating,$F62)-INDEX(Rating,W$2),10,1),\"\")","v":0.8324770370639254},{"$f":"IF($F62<>X$2,1-_xlfn.NORM.DIST(0,INDEX(Rating,$F62)-INDEX(Rating,X$2),10,1),\"\")","v":0.37410519545209997},{"$f":"IF($F62<>Y$2,1-_xlfn.NORM.DIST(0,INDEX(Rating,$F62)-INDEX(Rating,Y$2),10,1),\"\")","v":0.98067998845105742},{"$f":"IF($F62<>Z$2,1-_xlfn.NORM.DIST(0,INDEX(Rating,$F62)-INDEX(Rating,Z$2),10,1),\"\")","v":0.98641267954761891},{"$f":"IF($F62<>AA$2,1-_xlfn.NORM.DIST(0,INDEX(Rating,$F62)-INDEX(Rating,AA$2),10,1),\"\")","v":0.4768743142641616},{"$f":"IF($F62<>AB$2,1-_xlfn.NORM.DIST(0,INDEX(Rating,$F62)-INDEX(Rating,AB$2),10,1),\"\")","v":0.5905655419372432},{"$f":"IF($F62<>AC$2,1-_xlfn.NORM.DIST(0,INDEX(Rating,$F62)-INDEX(Rating,AC$2),10,1),\"\")","v":0.44472507452399168},{"$f":"IF($F62<>AD$2,1-_xlfn.NORM.DIST(0,INDEX(Rating,$F62)-INDEX(Rating,AD$2),10,1),\"\")","v":0.70746703139554001},{"$f":"IF($F62<>AE$2,1-_xlfn.NORM.DIST(0,INDEX(Rating,$F62)-INDEX(Rating,AE$2),10,1),\"\")","v":0.36956714157750215},{"$f":"IF($F62<>AF$2,1-_xlfn.NORM.DIST(0,INDEX(Rating,$F62)-INDEX(Rating,AF$2),10,1),\"\")","v":0.8031703478981933},{"$f":"IF($F62<>AG$2,1-_xlfn.NORM.DIST(0,INDEX(Rating,$F62)-INDEX(Rating,AG$2),10,1),\"\")","v":0.5},{"$f":"IF($F62<>AH$2,1-_xlfn.NORM.DIST(0,INDEX(Rating,$F62)-INDEX(Rating,AH$2),10,1),\"\")","v":0.57260099069130987},{"$f":"IF($F62<>AI$2,1-_xlfn.NORM.DIST(0,INDEX(Rating,$F62)-INDEX(Rating,AI$2),10,1),\"\")","v":0.52432039547142861},{"$f":"IF($F62<>AJ$2,1-_xlfn.NORM.DIST(0,INDEX(Rating,$F62)-INDEX(Rating,AJ$2),10,1),\"\")","v":0.86928125277442303},{"$f":"IF($F62<>AK$2,1-_xlfn.NORM.DIST(0,INDEX(Rating,$F62)-INDEX(Rating,AK$2),10,1),\"\")","v":0.54062166245757548},{"$f":"IF($F62<>AL$2,1-_xlfn.NORM.DIST(0,INDEX(Rating,$F62)-INDEX(Rating,AL$2),10,1),\"\")","v":0.57260099069130987},{"$f":"IF($F62<>AM$2,1-_xlfn.NORM.DIST(0,INDEX(Rating,$F62)-INDEX(Rating,AM$2),10,1),\"\")","v":0.43801651061064395},{"$f":"IF($F62<>AN$2,1-_xlfn.NORM.DIST(0,INDEX(Rating,$F62)-INDEX(Rating,AN$2),10,1),\"\")","v":0.82147478648851213},{"$f":"IF($F62<>AO$2,1-_xlfn.NORM.DIST(0,INDEX(Rating,$F62)-INDEX(Rating,AO$2),10,1),\"\")","v":0.27759532475346516},{"$f":"IF($F62<>AP$2,1-_xlfn.NORM.DIST(0,INDEX(Rating,$F62)-INDEX(Rating,AP$2),10,1),\"\")","v":0.90873409809955841},{"$f":"IF($F62<>AQ$2,1-_xlfn.NORM.DIST(0,INDEX(Rating,$F62)-INDEX(Rating,AQ$2),10,1),\"\")","v":0.54379531254231717},{"$f":"IF($F62<>AR$2,1-_xlfn.NORM.DIST(0,INDEX(Rating,$F62)-INDEX(Rating,AR$2),10,1),\"\")","v":0.52511674783867346},{"$f":"IF($F62<>AS$2,1-_xlfn.NORM.DIST(0,INDEX(Rating,$F62)-INDEX(Rating,AS$2),10,1),\"\")","v":0.57024580521090396},{"$f":"IF($F62<>AT$2,1-_xlfn.NORM.DIST(0,INDEX(Rating,$F62)-INDEX(Rating,AT$2),10,1),\"\")","v":0.65726124452732615},{"$f":"IF($F62<>AU$2,1-_xlfn.NORM.DIST(0,INDEX(Rating,$F62)-INDEX(Rating,AU$2),10,1),\"\")","v":0.48962866922599313},{"$f":"IF($F62<>AV$2,1-_xlfn.NORM.DIST(0,INDEX(Rating,$F62)-INDEX(Rating,AV$2),10,1),\"\")","v":0.68651641702908639},{"$f":"IF($F62<>AW$2,1-_xlfn.NORM.DIST(0,INDEX(Rating,$F62)-INDEX(Rating,AW$2),10,1),\"\")","v":0.56080086235479887},{"$f":"IF($F62<>AX$2,1-_xlfn.NORM.DIST(0,INDEX(Rating,$F62)-INDEX(Rating,AX$2),10,1),\"\")","v":0.64393613761336721},{"$f":"IF($F62<>AY$2,1-_xlfn.NORM.DIST(0,INDEX(Rating,$F62)-INDEX(Rating,AY$2),10,1),\"\")","v":0.67039350150349286},{"$f":"IF($F62<>AZ$2,1-_xlfn.NORM.DIST(0,INDEX(Rating,$F62)-INDEX(Rating,AZ$2),10,1),\"\")","v":0.47806923189717665},{"$f":"IF($F62<>BA$2,1-_xlfn.NORM.DIST(0,INDEX(Rating,$F62)-INDEX(Rating,BA$2),10,1),\"\")","v":0.90060385798489451},{"$f":"IF($F62<>BB$2,1-_xlfn.NORM.DIST(0,INDEX(Rating,$F62)-INDEX(Rating,BB$2),10,1),\"\")","v":0.4948138964304436},{"$f":"IF($F62<>BC$2,1-_xlfn.NORM.DIST(0,INDEX(Rating,$F62)-INDEX(Rating,BC$2),10,1),\"\")","v":0.5819950707506184},{"$f":"IF($F62<>BD$2,1-_xlfn.NORM.DIST(0,INDEX(Rating,$F62)-INDEX(Rating,BD$2),10,1),\"\")","v":0.32599477449192638},{"$f":"IF($F62<>BE$2,1-_xlfn.NORM.DIST(0,INDEX(Rating,$F62)-INDEX(Rating,BE$2),10,1),\"\")","v":0.83695007589413761},{"$f":"IF($F62<>BF$2,1-_xlfn.NORM.DIST(0,INDEX(Rating,$F62)-INDEX(Rating,BF$2),10,1),\"\")","v":0.34457825838967571},{"$f":"IF($F62<>BG$2,1-_xlfn.NORM.DIST(0,INDEX(Rating,$F62)-INDEX(Rating,BG$2),10,1),\"\")","v":0.95496228960896856},{"$f":"IF($F62<>BH$2,1-_xlfn.NORM.DIST(0,INDEX(Rating,$F62)-INDEX(Rating,BH$2),10,1),\"\")","v":0.50757944729480475},{"$f":"IF($F62<>BI$2,1-_xlfn.NORM.DIST(0,INDEX(Rating,$F62)-INDEX(Rating,BI$2),10,1),\"\")","v":0.52591299987187401},{"$f":"IF($F62<>BJ$2,1-_xlfn.NORM.DIST(0,INDEX(Rating,$F62)-INDEX(Rating,BJ$2),10,1),\"\")","v":0.48085812130423844},{"$f":"IF($F62<>BK$2,1-_xlfn.NORM.DIST(0,INDEX(Rating,$F62)-INDEX(Rating,BK$2),10,1),\"\")","v":0.5987063256829237},{"$f":"IF($F62<>BL$2,1-_xlfn.NORM.DIST(0,INDEX(Rating,$F62)-INDEX(Rating,BL$2),10,1),\"\")","v":0.34016971161496157},{"$f":"IF($F62<>BM$2,1-_xlfn.NORM.DIST(0,INDEX(Rating,$F62)-INDEX(Rating,BM$2),10,1),\"\")","v":0.73434252933624089},{"$f":"IF($F62<>BN$2,1-_xlfn.NORM.DIST(0,INDEX(Rating,$F62)-INDEX(Rating,BN$2),10,1),\"\")","v":""},{"$f":"IF($F62<>BO$2,1-_xlfn.NORM.DIST(0,INDEX(Rating,$F62)-INDEX(Rating,BO$2),10,1),\"\")","v":0.6900527945273307},{"$f":"IF($F62<>BP$2,1-_xlfn.NORM.DIST(0,INDEX(Rating,$F62)-INDEX(Rating,BP$2),10,1),\"\")","v":0.74984434315967774},{"$f":"IF($F62<>BQ$2,1-_xlfn.NORM.DIST(0,INDEX(Rating,$F62)-INDEX(Rating,BQ$2),10,1),\"\")","v":0.32563449122032062},{"$f":"IF($F62<>BR$2,1-_xlfn.NORM.DIST(0,INDEX(Rating,$F62)-INDEX(Rating,BR$2),10,1),\"\")","v":0.84013186782450611},{"$f":"IF($F62<>BS$2,1-_xlfn.NORM.DIST(0,INDEX(Rating,$F62)-INDEX(Rating,BS$2),10,1),\"\")","v":0.58004163790959617},{"$f":"IF($F62<>BT$2,1-_xlfn.NORM.DIST(0,INDEX(Rating,$F62)-INDEX(Rating,BT$2),10,1),\"\")","v":0.65762869979328531},{"$f":"IF($F62<>BU$2,1-_xlfn.NORM.DIST(0,INDEX(Rating,$F62)-INDEX(Rating,BU$2),10,1),\"\")","v":0.29944410348695338},{"$f":"IF($F62<>BV$2,1-_xlfn.NORM.DIST(0,INDEX(Rating,$F62)-INDEX(Rating,BV$2),10,1),\"\")","v":0.90507111819473374}]
[null,"Arizona St",61,80.989999999999995,null,61,{"$f":"IF($F63<>G$2,1-_xlfn.NORM.DIST(0,INDEX(Rating,$F63)-INDEX(Rating,G$2),10,1),\"\")","v":0.11623898402662736},{"$f":"IF($F63<>H$2,1-_xlfn.NORM.DIST(0,INDEX(Rating,$F63)-INDEX(Rating,H$2),10,1),\"\")","v":0.85881263583487111},{"$f":"IF($F63<>I$2,1-_xlfn.NORM.DIST(0,INDEX(Rating,$F63)-INDEX(Rating,I$2),10,1),\"\")","v":0.92292139944792817},{"$f":"IF($F63<>J$2,1-_xlfn.NORM.DIST(0,INDEX(Rating,$F63)-INDEX(Rating,J$2),10,1),\"\")","v":0.32707659830344671},{"$f":"IF($F63<>K$2,1-_xlfn.NORM.DIST(0,INDEX(Rating,$F63)-INDEX(Rating,K$2),10,1),\"\")","v":0.31312916547366787},{"$f":"IF($F63<>L$2,1-_xlfn.NORM.DIST(0,INDEX(Rating,$F63)-INDEX(Rating,L$2),10,1),\"\")","v":0.33724272684824941},{"$f":"IF($F63<>M$2,1-_xlfn.NORM.DIST(0,INDEX(Rating,$F63)-INDEX(Rating,M$2),10,1),\"\")","v":0.5119664734141125},{"$f":"IF($F63<>N$2,1-_xlfn.NORM.DIST(0,INDEX(Rating,$F63)-INDEX(Rating,N$2),10,1),\"\")","v":0.34126983057412863},{"$f":"IF($F63<>O$2,1-_xlfn.NORM.DIST(0,INDEX(Rating,$F63)-INDEX(Rating,O$2),10,1),\"\")","v":0.5600121420509403},{"$f":"IF($F63<>P$2,1-_xlfn.NORM.DIST(0,INDEX(Rating,$F63)-INDEX(Rating,P$2),10,1),\"\")","v":0.25334515554302672},{"$f":"IF($F63<>Q$2,1-_xlfn.NORM.DIST(0,INDEX(Rating,$F63)-INDEX(Rating,Q$2),10,1),\"\")","v":0.41060071016398281},{"$f":"IF($F63<>R$2,1-_xlfn.NORM.DIST(0,INDEX(Rating,$F63)-INDEX(Rating,R$2),10,1),\"\")","v":0.26206242179899042},{"$f":"IF($F63<>S$2,1-_xlfn.NORM.DIST(0,INDEX(Rating,$F63)-INDEX(Rating,S$2),10,1),\"\")","v":0.67652377936608965},{"$f":"IF($F63<>T$2,1-_xlfn.NORM.DIST(0,INDEX(Rating,$F63)-INDEX(Rating,T$2),10,1),\"\")","v":0.44472507452399168},{"$f":"IF($F63<>U$2,1-_xlfn.NORM.DIST(0,INDEX(Rating,$F63)-INDEX(Rating,U$2),10,1),\"\")","v":0.37714033107492395},{"$f":"IF($F63<>V$2,1-_xlfn.NORM.DIST(0,INDEX(Rating,$F63)-INDEX(Rating,V$2),10,1),\"\")","v":0.18753945024160257},{"$f":"IF($F63<>W$2,1-_xlfn.NORM.DIST(0,INDEX(Rating,$F63)-INDEX(Rating,W$2),10,1),\"\")","v":0.68010770514658325},{"$f":"IF($F63<>X$2,1-_xlfn.NORM.DIST(0,INDEX(Rating,$F63)-INDEX(Rating,X$2),10,1),\"\")","v":0.20696421402340581},{"$f":"IF($F63<>Y$2,1-_xlfn.NORM.DIST(0,INDEX(Rating,$F63)-INDEX(Rating,Y$2),10,1),\"\")","v":0.9420247243917611},{"$f":"IF($F63<>Z$2,1-_xlfn.NORM.DIST(0,INDEX(Rating,$F63)-INDEX(Rating,Z$2),10,1),\"\")","v":0.95664373020371851},{"$f":"IF($F63<>AA$2,1-_xlfn.NORM.DIST(0,INDEX(Rating,$F63)-INDEX(Rating,AA$2),10,1),\"\")","v":0.28978942286730203},{"$f":"IF($F63<>AB$2,1-_xlfn.NORM.DIST(0,INDEX(Rating,$F63)-INDEX(Rating,AB$2),10,1),\"\")","v":0.39473458054517274},{"$f":"IF($F63<>AC$2,1-_xlfn.NORM.DIST(0,INDEX(Rating,$F63)-INDEX(Rating,AC$2),10,1),\"\")","v":0.26271420749910057},{"$f":"IF($F63<>AD$2,1-_xlfn.NORM.DIST(0,INDEX(Rating,$F63)-INDEX(Rating,AD$2),10,1),\"\")","v":0.51993880583837249},{"$f":"IF($F63<>AE$2,1-_xlfn.NORM.DIST(0,INDEX(Rating,$F63)-INDEX(Rating,AE$2),10,1),\"\")","v":0.20355220361365256},{"$f":"IF($F63<>AF$2,1-_xlfn.NORM.DIST(0,INDEX(Rating,$F63)-INDEX(Rating,AF$2),10,1),\"\")","v":0.63945409713252632},{"$f":"IF($F63<>AG$2,1-_xlfn.NORM.DIST(0,INDEX(Rating,$F63)-INDEX(Rating,AG$2),10,1),\"\")","v":0.3099472054726693},{"$f":"IF($F63<>AH$2,1-_xlfn.NORM.DIST(0,INDEX(Rating,$F63)-INDEX(Rating,AH$2),10,1),\"\")","v":0.37714033107492395},{"$f":"IF($F63<>AI$2,1-_xlfn.NORM.DIST(0,INDEX(Rating,$F63)-INDEX(Rating,AI$2),10,1),\"\")","v":0.33178121371901881},{"$f":"IF($F63<>AJ$2,1-_xlfn.NORM.DIST(0,INDEX(Rating,$F63)-INDEX(Rating,AJ$2),10,1),\"\")","v":0.73467038242091554},{"$f":"IF($F63<>AK$2,1-_xlfn.NORM.DIST(0,INDEX(Rating,$F63)-INDEX(Rating,AK$2),10,1),\"\")","v":0.34679051961747476},{"$f":"IF($F63<>AL$2,1-_xlfn.NORM.DIST(0,INDEX(Rating,$F63)-INDEX(Rating,AL$2),10,1),\"\")","v":0.37714033107492395},{"$f":"IF($F63<>AM$2,1-_xlfn.NORM.DIST(0,INDEX(Rating,$F63)-INDEX(Rating,AM$2),10,1),\"\")","v":0.25720058619892405},{"$f":"IF($F63<>AN$2,1-_xlfn.NORM.DIST(0,INDEX(Rating,$F63)-INDEX(Rating,AN$2),10,1),\"\")","v":0.66458166262983043},{"$f":"IF($F63<>AO$2,1-_xlfn.NORM.DIST(0,INDEX(Rating,$F63)-INDEX(Rating,AO$2),10,1),\"\")","v":0.1387394961227193},{"$f":"IF($F63<>AP$2,1-_xlfn.NORM.DIST(0,INDEX(Rating,$F63)-INDEX(Rating,AP$2),10,1),\"\")","v":0.79870371598064971},{"$f":"IF($F63<>AQ$2,1-_xlfn.NORM.DIST(0,INDEX(Rating,$F63)-INDEX(Rating,AQ$2),10,1),\"\")","v":0.34974833440254849},{"$f":"IF($F63<>AR$2,1-_xlfn.NORM.DIST(0,INDEX(Rating,$F63)-INDEX(Rating,AR$2),10,1),\"\")","v":0.33250738491274934},{"$f":"IF($F63<>AS$2,1-_xlfn.NORM.DIST(0,INDEX(Rating,$F63)-INDEX(Rating,AS$2),10,1),\"\")","v":0.37486325639099882},{"$f":"IF($F63<>AT$2,1-_xlfn.NORM.DIST(0,INDEX(Rating,$F63)-INDEX(Rating,AT$2),10,1),\"\")","v":0.46374629552877189},{"$f":"IF($F63<>AU$2,1-_xlfn.NORM.DIST(0,INDEX(Rating,$F63)-INDEX(Rating,AU$2),10,1),\"\")","v":0.30083516529234511},{"$f":"IF($F63<>AV$2,1-_xlfn.NORM.DIST(0,INDEX(Rating,$F63)-INDEX(Rating,AV$2),10,1),\"\")","v":0.49601064368536807},{"$f":"IF($F63<>AW$2,1-_xlfn.NORM.DIST(0,INDEX(Rating,$F63)-INDEX(Rating,AW$2),10,1),\"\")","v":0.36579923007762405},{"$f":"IF($F63<>AX$2,1-_xlfn.NORM.DIST(0,INDEX(Rating,$F63)-INDEX(Rating,AX$2),10,1),\"\")","v":0.4494701992748571},{"$f":"IF($F63<>AY$2,1-_xlfn.NORM.DIST(0,INDEX(Rating,$F63)-INDEX(Rating,AY$2),10,1),\"\")","v":0.47806923189717609},{"$f":"IF($F63<>AZ$2,1-_xlfn.NORM.DIST(0,INDEX(Rating,$F63)-INDEX(Rating,AZ$2),10,1),\"\")","v":0.29081683728273289},{"$f":"IF($F63<>BA$2,1-_xlfn.NORM.DIST(0,INDEX(Rating,$F63)-INDEX(Rating,BA$2),10,1),\"\")","v":0.78494399673365778},{"$f":"IF($F63<>BB$2,1-_xlfn.NORM.DIST(0,INDEX(Rating,$F63)-INDEX(Rating,BB$2),10,1),\"\")","v":0.30537611205732085},{"$f":"IF($F63<>BC$2,1-_xlfn.NORM.DIST(0,INDEX(Rating,$F63)-INDEX(Rating,BC$2),10,1),\"\")","v":0.386290688777994},{"$f":"IF($F63<>BD$2,1-_xlfn.NORM.DIST(0,INDEX(Rating,$F63)-INDEX(Rating,BD$2),10,1),\"\")","v":0.17181938946717801},{"$f":"IF($F63<>BE$2,1-_xlfn.NORM.DIST(0,INDEX(Rating,$F63)-INDEX(Rating,BE$2),10,1),\"\")","v":0.68651641702908639},{"$f":"IF($F63<>BF$2,1-_xlfn.NORM.DIST(0,INDEX(Rating,$F63)-INDEX(Rating,BF$2),10,1),\"\")","v":0.1851263816152906},{"$f":"IF($F63<>BG$2,1-_xlfn.NORM.DIST(0,INDEX(Rating,$F63)-INDEX(Rating,BG$2),10,1),\"\")","v":0.88473602719745026},{"$f":"IF($F63<>BH$2,1-_xlfn.NORM.DIST(0,INDEX(Rating,$F63)-INDEX(Rating,BH$2),10,1),\"\")","v":0.3166810608191275},{"$f":"IF($F63<>BI$2,1-_xlfn.NORM.DIST(0,INDEX(Rating,$F63)-INDEX(Rating,BI$2),10,1),\"\")","v":0.33323418524290005},{"$f":"IF($F63<>BJ$2,1-_xlfn.NORM.DIST(0,INDEX(Rating,$F63)-INDEX(Rating,BJ$2),10,1),\"\")","v":0.29322073642386004},{"$f":"IF($F63<>BK$2,1-_xlfn.NORM.DIST(0,INDEX(Rating,$F63)-INDEX(Rating,BK$2),10,1),\"\")","v":0.40284111625081953},{"$f":"IF($F63<>BL$2,1-_xlfn.NORM.DIST(0,INDEX(Rating,$F63)-INDEX(Rating,BL$2),10,1),\"\")","v":0.18193911082747671},{"$f":"IF($F63<>BM$2,1-_xlfn.NORM.DIST(0,INDEX(Rating,$F63)-INDEX(Rating,BM$2),10,1),\"\")","v":0.55171678665456103},{"$f":"IF($F63<>BN$2,1-_xlfn.NORM.DIST(0,INDEX(Rating,$F63)-INDEX(Rating,BN$2),10,1),\"\")","v":0.3099472054726693},{"$f":"IF($F63<>BO$2,1-_xlfn.NORM.DIST(0,INDEX(Rating,$F63)-INDEX(Rating,BO$2),10,1),\"\")","v":""},{"$f":"IF($F63<>BP$2,1-_xlfn.NORM.DIST(0,INDEX(Rating,$F63)-INDEX(Rating,BP$2),10,1),\"\")","v":0.57063851212988337},{"$f":"IF($F63<>BQ$2,1-_xlfn.NORM.DIST(0,INDEX(Rating,$F63)-INDEX(Rating,BQ$2),10,1),\"\")","v":0.17156472710026216},{"$f":"IF($F63<>BR$2,1-_xlfn.NORM.DIST(0,INDEX(Rating,$F63)-INDEX(Rating,BR$2),10,1),\"\")","v":0.69111030797494533},{"$f":"IF($F63<>BS$2,1-_xlfn.NORM.DIST(0,INDEX(Rating,$F63)-INDEX(Rating,BS$2),10,1),\"\")","v":0.38437895168583036},{"$f":"IF($F63<>BT$2,1-_xlfn.NORM.DIST(0,INDEX(Rating,$F63)-INDEX(Rating,BT$2),10,1),\"\")","v":0.46414360741482774},{"$f":"IF($F63<>BU$2,1-_xlfn.NORM.DIST(0,INDEX(Rating,$F63)-INDEX(Rating,BU$2),10,1),\"\")","v":0.15339045020478892},{"$f":"IF($F63<>BV$2,1-_xlfn.NORM.DIST(0,INDEX(Rating,$F63)-INDEX(Rating,BV$2),10,1),\"\")","v":0.792463844958612}]
[null,"Nevada",62,79.209999999999994,null,62,{"$f":"IF($F64<>G$2,1-_xlfn.NORM.DIST(0,INDEX(Rating,$F64)-INDEX(Rating,G$2),10,1),\"\")","v":8.5031718906563469E-2},{"$f":"IF($F64<>H$2,1-_xlfn.NORM.DIST(0,INDEX(Rating,$F64)-INDEX(Rating,H$2),10,1),\"\")","v":0.81514054148755566},{"$f":"IF($F64<>I$2,1-_xlfn.NORM.DIST(0,INDEX(Rating,$F64)-INDEX(Rating,I$2),10,1),\"\")","v":0.89380125121465093},{"$f":"IF($F64<>J$2,1-_xlfn.NORM.DIST(0,INDEX(Rating,$F64)-INDEX(Rating,J$2),10,1),\"\")","v":0.26565747066375911},{"$f":"IF($F64<>K$2,1-_xlfn.NORM.DIST(0,INDEX(Rating,$F64)-INDEX(Rating,K$2),10,1),\"\")","v":0.25302524653753766},{"$f":"IF($F64<>L$2,1-_xlfn.NORM.DIST(0,INDEX(Rating,$F64)-INDEX(Rating,L$2),10,1),\"\")","v":0.27491996654067696},{"$f":"IF($F64<>M$2,1-_xlfn.NORM.DIST(0,INDEX(Rating,$F64)-INDEX(Rating,M$2),10,1),\"\")","v":0.44117138412111712},{"$f":"IF($F64<>N$2,1-_xlfn.NORM.DIST(0,INDEX(Rating,$F64)-INDEX(Rating,N$2),10,1),\"\")","v":0.2786018533578366},{"$f":"IF($F64<>O$2,1-_xlfn.NORM.DIST(0,INDEX(Rating,$F64)-INDEX(Rating,O$2),10,1),\"\")","v":0.48922986701621451},{"$f":"IF($F64<>P$2,1-_xlfn.NORM.DIST(0,INDEX(Rating,$F64)-INDEX(Rating,P$2),10,1),\"\")","v":0.1998939767260568},{"$f":"IF($F64<>Q$2,1-_xlfn.NORM.DIST(0,INDEX(Rating,$F64)-INDEX(Rating,Q$2),10,1),\"\")","v":0.34310635958814273},{"$f":"IF($F64<>R$2,1-_xlfn.NORM.DIST(0,INDEX(Rating,$F64)-INDEX(Rating,R$2),10,1),\"\")","v":0.20753615504138767},{"$f":"IF($F64<>S$2,1-_xlfn.NORM.DIST(0,INDEX(Rating,$F64)-INDEX(Rating,S$2),10,1),\"\")","v":0.61026124755579714},{"$f":"IF($F64<>T$2,1-_xlfn.NORM.DIST(0,INDEX(Rating,$F64)-INDEX(Rating,T$2),10,1),\"\")","v":0.37562180112693122},{"$f":"IF($F64<>U$2,1-_xlfn.NORM.DIST(0,INDEX(Rating,$F64)-INDEX(Rating,U$2),10,1),\"\")","v":0.31171322377571353},{"$f":"IF($F64<>V$2,1-_xlfn.NORM.DIST(0,INDEX(Rating,$F64)-INDEX(Rating,V$2),10,1),\"\")","v":0.14343796487675087},{"$f":"IF($F64<>W$2,1-_xlfn.NORM.DIST(0,INDEX(Rating,$F64)-INDEX(Rating,W$2),10,1),\"\")","v":0.61409188119887703},{"$f":"IF($F64<>X$2,1-_xlfn.NORM.DIST(0,INDEX(Rating,$F64)-INDEX(Rating,X$2),10,1),\"\")","v":0.15986813217549389},{"$f":"IF($F64<>Y$2,1-_xlfn.NORM.DIST(0,INDEX(Rating,$F64)-INDEX(Rating,Y$2),10,1),\"\")","v":0.91834119767751909},{"$f":"IF($F64<>Z$2,1-_xlfn.NORM.DIST(0,INDEX(Rating,$F64)-INDEX(Rating,Z$2),10,1),\"\")","v":0.93760808598087686},{"$f":"IF($F64<>AA$2,1-_xlfn.NORM.DIST(0,INDEX(Rating,$F64)-INDEX(Rating,AA$2),10,1),\"\")","v":0.23208428388683311},{"$f":"IF($F64<>AB$2,1-_xlfn.NORM.DIST(0,INDEX(Rating,$F64)-INDEX(Rating,AB$2),10,1),\"\")","v":0.32815987706258465},{"$f":"IF($F64<>AC$2,1-_xlfn.NORM.DIST(0,INDEX(Rating,$F64)-INDEX(Rating,AC$2),10,1),\"\")","v":0.20810902908312545},{"$f":"IF($F64<>AD$2,1-_xlfn.NORM.DIST(0,INDEX(Rating,$F64)-INDEX(Rating,AD$2),10,1),\"\")","v":0.44907448652068827},{"$f":"IF($F64<>AE$2,1-_xlfn.NORM.DIST(0,INDEX(Rating,$F64)-INDEX(Rating,AE$2),10,1),\"\")","v":0.1569673870942272},{"$f":"IF($F64<>AF$2,1-_xlfn.NORM.DIST(0,INDEX(Rating,$F64)-INDEX(Rating,AF$2),10,1),\"\")","v":0.57103114915325748},{"$f":"IF($F64<>AG$2,1-_xlfn.NORM.DIST(0,INDEX(Rating,$F64)-INDEX(Rating,AG$2),10,1),\"\")","v":0.25015565684032226},{"$f":"IF($F64<>AH$2,1-_xlfn.NORM.DIST(0,INDEX(Rating,$F64)-INDEX(Rating,AH$2),10,1),\"\")","v":0.31171322377571353},{"$f":"IF($F64<>AI$2,1-_xlfn.NORM.DIST(0,INDEX(Rating,$F64)-INDEX(Rating,AI$2),10,1),\"\")","v":0.2699381698608001},{"$f":"IF($F64<>AJ$2,1-_xlfn.NORM.DIST(0,INDEX(Rating,$F64)-INDEX(Rating,AJ$2),10,1),\"\")","v":0.67328417167899057},{"$f":"IF($F64<>AK$2,1-_xlfn.NORM.DIST(0,INDEX(Rating,$F64)-INDEX(Rating,AK$2),10,1),\"\")","v":0.28366098732654454},{"$f":"IF($F64<>AL$2,1-_xlfn.NORM.DIST(0,INDEX(Rating,$F64)-INDEX(Rating,AL$2),10,1),\"\")","v":0.31171322377571353},{"$f":"IF($F64<>AM$2,1-_xlfn.NORM.DIST(0,INDEX(Rating,$F64)-INDEX(Rating,AM$2),10,1),\"\")","v":0.20326939182806802},{"$f":"IF($F64<>AN$2,1-_xlfn.NORM.DIST(0,INDEX(Rating,$F64)-INDEX(Rating,AN$2),10,1),\"\")","v":0.59754588796309616},{"$f":"IF($F64<>AO$2,1-_xlfn.NORM.DIST(0,INDEX(Rating,$F64)-INDEX(Rating,AO$2),10,1),\"\")","v":0.10311501347578123},{"$f":"IF($F64<>AP$2,1-_xlfn.NORM.DIST(0,INDEX(Rating,$F64)-INDEX(Rating,AP$2),10,1),\"\")","v":0.74505211567004226},{"$f":"IF($F64<>AQ$2,1-_xlfn.NORM.DIST(0,INDEX(Rating,$F64)-INDEX(Rating,AQ$2),10,1),\"\")","v":0.28637706607116331},{"$f":"IF($F64<>AR$2,1-_xlfn.NORM.DIST(0,INDEX(Rating,$F64)-INDEX(Rating,AR$2),10,1),\"\")","v":0.27059979015793145},{"$f":"IF($F64<>AS$2,1-_xlfn.NORM.DIST(0,INDEX(Rating,$F64)-INDEX(Rating,AS$2),10,1),\"\")","v":0.30959452566341139},{"$f":"IF($F64<>AT$2,1-_xlfn.NORM.DIST(0,INDEX(Rating,$F64)-INDEX(Rating,AT$2),10,1),\"\")","v":0.39396484133326859},{"$f":"IF($F64<>AU$2,1-_xlfn.NORM.DIST(0,INDEX(Rating,$F64)-INDEX(Rating,AU$2),10,1),\"\")","v":0.24196365222307303},{"$f":"IF($F64<>AV$2,1-_xlfn.NORM.DIST(0,INDEX(Rating,$F64)-INDEX(Rating,AV$2),10,1),\"\")","v":0.42543832559014161},{"$f":"IF($F64<>AW$2,1-_xlfn.NORM.DIST(0,INDEX(Rating,$F64)-INDEX(Rating,AW$2),10,1),\"\")","v":0.30118338568461622},{"$f":"IF($F64<>AX$2,1-_xlfn.NORM.DIST(0,INDEX(Rating,$F64)-INDEX(Rating,AX$2),10,1),\"\")","v":0.38018307615983449},{"$f":"IF($F64<>AY$2,1-_xlfn.NORM.DIST(0,INDEX(Rating,$F64)-INDEX(Rating,AY$2),10,1),\"\")","v":0.40788070288413036},{"$f":"IF($F64<>AZ$2,1-_xlfn.NORM.DIST(0,INDEX(Rating,$F64)-INDEX(Rating,AZ$2),10,1),\"\")","v":0.23300083124111604},{"$f":"IF($F64<>BA$2,1-_xlfn.NORM.DIST(0,INDEX(Rating,$F64)-INDEX(Rating,BA$2),10,1),\"\")","v":0.72940020984206855},{"$f":"IF($F64<>BB$2,1-_xlfn.NORM.DIST(0,INDEX(Rating,$F64)-INDEX(Rating,BB$2),10,1),\"\")","v":0.24604136421255096},{"$f":"IF($F64<>BC$2,1-_xlfn.NORM.DIST(0,INDEX(Rating,$F64)-INDEX(Rating,BC$2),10,1),\"\")","v":0.32024993903580834},{"$f":"IF($F64<>BD$2,1-_xlfn.NORM.DIST(0,INDEX(Rating,$F64)-INDEX(Rating,BD$2),10,1),\"\")","v":0.13029451713680884},{"$f":"IF($F64<>BE$2,1-_xlfn.NORM.DIST(0,INDEX(Rating,$F64)-INDEX(Rating,BE$2),10,1),\"\")","v":0.62095883383065331},{"$f":"IF($F64<>BF$2,1-_xlfn.NORM.DIST(0,INDEX(Rating,$F64)-INDEX(Rating,BF$2),10,1),\"\")","v":0.1414113407752311},{"$f":"IF($F64<>BG$2,1-_xlfn.NORM.DIST(0,INDEX(Rating,$F64)-INDEX(Rating,BG$2),10,1),\"\")","v":0.84637278064360533},{"$f":"IF($F64<>BH$2,1-_xlfn.NORM.DIST(0,INDEX(Rating,$F64)-INDEX(Rating,BH$2),10,1),\"\")","v":0.25623387702961176},{"$f":"IF($F64<>BI$2,1-_xlfn.NORM.DIST(0,INDEX(Rating,$F64)-INDEX(Rating,BI$2),10,1),\"\")","v":0.27126221944899043},{"$f":"IF($F64<>BJ$2,1-_xlfn.NORM.DIST(0,INDEX(Rating,$F64)-INDEX(Rating,BJ$2),10,1),\"\")","v":0.23514723876144095},{"$f":"IF($F64<>BK$2,1-_xlfn.NORM.DIST(0,INDEX(Rating,$F64)-INDEX(Rating,BK$2),10,1),\"\")","v":0.33578290664457089},{"$f":"IF($F64<>BL$2,1-_xlfn.NORM.DIST(0,INDEX(Rating,$F64)-INDEX(Rating,BL$2),10,1),\"\")","v":0.1387394961227193},{"$f":"IF($F64<>BM$2,1-_xlfn.NORM.DIST(0,INDEX(Rating,$F64)-INDEX(Rating,BM$2),10,1),\"\")","v":0.48085812130423844},{"$f":"IF($F64<>BN$2,1-_xlfn.NORM.DIST(0,INDEX(Rating,$F64)-INDEX(Rating,BN$2),10,1),\"\")","v":0.25015565684032226},{"$f":"IF($F64<>BO$2,1-_xlfn.NORM.DIST(0,INDEX(Rating,$F64)-INDEX(Rating,BO$2),10,1),\"\")","v":0.42936148787011663},{"$f":"IF($F64<>BP$2,1-_xlfn.NORM.DIST(0,INDEX(Rating,$F64)-INDEX(Rating,BP$2),10,1),\"\")","v":""},{"$f":"IF($F64<>BQ$2,1-_xlfn.NORM.DIST(0,INDEX(Rating,$F64)-INDEX(Rating,BQ$2),10,1),\"\")","v":0.13008275966224903},{"$f":"IF($F64<>BR$2,1-_xlfn.NORM.DIST(0,INDEX(Rating,$F64)-INDEX(Rating,BR$2),10,1),\"\")","v":0.62589480454790003},{"$f":"IF($F64<>BS$2,1-_xlfn.NORM.DIST(0,INDEX(Rating,$F64)-INDEX(Rating,BS$2),10,1),\"\")","v":0.31846339429468395},{"$f":"IF($F64<>BT$2,1-_xlfn.NORM.DIST(0,INDEX(Rating,$F64)-INDEX(Rating,BT$2),10,1),\"\")","v":0.39434965936669808},{"$f":"IF($F64<>BU$2,1-_xlfn.NORM.DIST(0,INDEX(Rating,$F64)-INDEX(Rating,BU$2),10,1),\"\")","v":0.11506967022170822},{"$f":"IF($F64<>BV$2,1-_xlfn.NORM.DIST(0,INDEX(Rating,$F64)-INDEX(Rating,BV$2),10,1),\"\")","v":0.73793757820100903}]
[null,"Gonzaga",63,90.47,null,63,{"$f":"IF($F65<>G$2,1-_xlfn.NORM.DIST(0,INDEX(Rating,$F65)-INDEX(Rating,G$2),10,1),\"\")","v":0.40284111625081953},{"$f":"IF($F65<>H$2,1-_xlfn.NORM.DIST(0,INDEX(Rating,$F65)-INDEX(Rating,H$2),10,1),\"\")","v":0.97846342624102967},{"$f":"IF($F65<>I$2,1-_xlfn.NORM.DIST(0,INDEX(Rating,$F65)-INDEX(Rating,I$2),10,1),\"\")","v":0.99117786803888486},{"$f":"IF($F65<>J$2,1-_xlfn.NORM.DIST(0,INDEX(Rating,$F65)-INDEX(Rating,J$2),10,1),\"\")","v":0.69146246127401312},{"$f":"IF($F65<>K$2,1-_xlfn.NORM.DIST(0,INDEX(Rating,$F65)-INDEX(Rating,K$2),10,1),\"\")","v":0.67760069744877993},{"$f":"IF($F65<>L$2,1-_xlfn.NORM.DIST(0,INDEX(Rating,$F65)-INDEX(Rating,L$2),10,1),\"\")","v":0.7012503320273854},{"$f":"IF($F65<>M$2,1-_xlfn.NORM.DIST(0,INDEX(Rating,$F65)-INDEX(Rating,M$2),10,1),\"\")","v":0.83596283795793269},{"$f":"IF($F65<>N$2,1-_xlfn.NORM.DIST(0,INDEX(Rating,$F65)-INDEX(Rating,N$2),10,1),\"\")","v":0.70505657272273481},{"$f":"IF($F65<>O$2,1-_xlfn.NORM.DIST(0,INDEX(Rating,$F65)-INDEX(Rating,O$2),10,1),\"\")","v":0.86411596705028038},{"$f":"IF($F65<>P$2,1-_xlfn.NORM.DIST(0,INDEX(Rating,$F65)-INDEX(Rating,P$2),10,1),\"\")","v":0.61179480967866917},{"$f":"IF($F65<>Q$2,1-_xlfn.NORM.DIST(0,INDEX(Rating,$F65)-INDEX(Rating,Q$2),10,1),\"\")","v":0.7648527612385585},{"$f":"IF($F65<>R$2,1-_xlfn.NORM.DIST(0,INDEX(Rating,$F65)-INDEX(Rating,R$2),10,1),\"\")","v":0.62209968918441882},{"$f":"IF($F65<>S$2,1-_xlfn.NORM.DIST(0,INDEX(Rating,$F65)-INDEX(Rating,S$2),10,1),\"\")","v":0.92013793761421514},{"$f":"IF($F65<>T$2,1-_xlfn.NORM.DIST(0,INDEX(Rating,$F65)-INDEX(Rating,T$2),10,1),\"\")","v":0.79074242686349505},{"$f":"IF($F65<>U$2,1-_xlfn.NORM.DIST(0,INDEX(Rating,$F65)-INDEX(Rating,U$2),10,1),\"\")","v":0.73728579250089898},{"$f":"IF($F65<>V$2,1-_xlfn.NORM.DIST(0,INDEX(Rating,$F65)-INDEX(Rating,V$2),10,1),\"\")","v":0.52432039547142861},{"$f":"IF($F65<>W$2,1-_xlfn.NORM.DIST(0,INDEX(Rating,$F65)-INDEX(Rating,W$2),10,1),\"\")","v":0.92161224776881379},{"$f":"IF($F65<>X$2,1-_xlfn.NORM.DIST(0,INDEX(Rating,$F65)-INDEX(Rating,X$2),10,1),\"\")","v":0.55211234629753636},{"$f":"IF($F65<>Y$2,1-_xlfn.NORM.DIST(0,INDEX(Rating,$F65)-INDEX(Rating,Y$2),10,1),\"\")","v":0.99413225828466745},{"$f":"IF($F65<>Z$2,1-_xlfn.NORM.DIST(0,INDEX(Rating,$F65)-INDEX(Rating,Z$2),10,1),\"\")","v":0.99610455214382232},{"$f":"IF($F65<>AA$2,1-_xlfn.NORM.DIST(0,INDEX(Rating,$F65)-INDEX(Rating,AA$2),10,1),\"\")","v":0.6532094803825248},{"$f":"IF($F65<>AB$2,1-_xlfn.NORM.DIST(0,INDEX(Rating,$F65)-INDEX(Rating,AB$2),10,1),\"\")","v":0.75206425478420791},{"$f":"IF($F65<>AC$2,1-_xlfn.NORM.DIST(0,INDEX(Rating,$F65)-INDEX(Rating,AC$2),10,1),\"\")","v":0.6228596689250756},{"$f":"IF($F65<>AD$2,1-_xlfn.NORM.DIST(0,INDEX(Rating,$F65)-INDEX(Rating,AD$2),10,1),\"\")","v":0.84086032067837846},{"$f":"IF($F65<>AE$2,1-_xlfn.NORM.DIST(0,INDEX(Rating,$F65)-INDEX(Rating,AE$2),10,1),\"\")","v":0.54736232210904612},{"$f":"IF($F65<>AF$2,1-_xlfn.NORM.DIST(0,INDEX(Rating,$F65)-INDEX(Rating,AF$2),10,1),\"\")","v":0.90405357610601234},{"$f":"IF($F65<>AG$2,1-_xlfn.NORM.DIST(0,INDEX(Rating,$F65)-INDEX(Rating,AG$2),10,1),\"\")","v":0.67436550877967938},{"$f":"IF($F65<>AH$2,1-_xlfn.NORM.DIST(0,INDEX(Rating,$F65)-INDEX(Rating,AH$2),10,1),\"\")","v":0.73728579250089898},{"$f":"IF($F65<>AI$2,1-_xlfn.NORM.DIST(0,INDEX(Rating,$F65)-INDEX(Rating,AI$2),10,1),\"\")","v":0.69602433965372701},{"$f":"IF($F65<>AJ$2,1-_xlfn.NORM.DIST(0,INDEX(Rating,$F65)-INDEX(Rating,AJ$2),10,1),\"\")","v":0.94237177772384684},{"$f":"IF($F65<>AK$2,1-_xlfn.NORM.DIST(0,INDEX(Rating,$F65)-INDEX(Rating,AK$2),10,1),\"\")","v":0.71021057713269753},{"$f":"IF($F65<>AL$2,1-_xlfn.NORM.DIST(0,INDEX(Rating,$F65)-INDEX(Rating,AL$2),10,1),\"\")","v":0.73728579250089898},{"$f":"IF($F65<>AM$2,1-_xlfn.NORM.DIST(0,INDEX(Rating,$F65)-INDEX(Rating,AM$2),10,1),\"\")","v":0.61638495930190107},{"$f":"IF($F65<>AN$2,1-_xlfn.NORM.DIST(0,INDEX(Rating,$F65)-INDEX(Rating,AN$2),10,1),\"\")","v":0.9151238266500985},{"$f":"IF($F65<>AO$2,1-_xlfn.NORM.DIST(0,INDEX(Rating,$F65)-INDEX(Rating,AO$2),10,1),\"\")","v":0.44512020877372915},{"$f":"IF($F65<>AP$2,1-_xlfn.NORM.DIST(0,INDEX(Rating,$F65)-INDEX(Rating,AP$2),10,1),\"\")","v":0.96286934155934634},{"$f":"IF($F65<>AQ$2,1-_xlfn.NORM.DIST(0,INDEX(Rating,$F65)-INDEX(Rating,AQ$2),10,1),\"\")","v":0.71294199044516771},{"$f":"IF($F65<>AR$2,1-_xlfn.NORM.DIST(0,INDEX(Rating,$F65)-INDEX(Rating,AR$2),10,1),\"\")","v":0.6967234899978606},{"$f":"IF($F65<>AS$2,1-_xlfn.NORM.DIST(0,INDEX(Rating,$F65)-INDEX(Rating,AS$2),10,1),\"\")","v":0.73532547189332265},{"$f":"IF($F65<>AT$2,1-_xlfn.NORM.DIST(0,INDEX(Rating,$F65)-INDEX(Rating,AT$2),10,1),\"\")","v":0.80427755768889286},{"$f":"IF($F65<>AU$2,1-_xlfn.NORM.DIST(0,INDEX(Rating,$F65)-INDEX(Rating,AU$2),10,1),\"\")","v":0.66494607699522423},{"$f":"IF($F65<>AV$2,1-_xlfn.NORM.DIST(0,INDEX(Rating,$F65)-INDEX(Rating,AV$2),10,1),\"\")","v":0.82587779494663516},{"$f":"IF($F65<>AW$2,1-_xlfn.NORM.DIST(0,INDEX(Rating,$F65)-INDEX(Rating,AW$2),10,1),\"\")","v":0.72741050165062293},{"$f":"IF($F65<>AX$2,1-_xlfn.NORM.DIST(0,INDEX(Rating,$F65)-INDEX(Rating,AX$2),10,1),\"\")","v":0.79417686589222847},{"$f":"IF($F65<>AY$2,1-_xlfn.NORM.DIST(0,INDEX(Rating,$F65)-INDEX(Rating,AY$2),10,1),\"\")","v":0.81407141366682989},{"$f":"IF($F65<>AZ$2,1-_xlfn.NORM.DIST(0,INDEX(Rating,$F65)-INDEX(Rating,AZ$2),10,1),\"\")","v":0.65431626969663315},{"$f":"IF($F65<>BA$2,1-_xlfn.NORM.DIST(0,INDEX(Rating,$F65)-INDEX(Rating,BA$2),10,1),\"\")","v":0.95880641456504501},{"$f":"IF($F65<>BB$2,1-_xlfn.NORM.DIST(0,INDEX(Rating,$F65)-INDEX(Rating,BB$2),10,1),\"\")","v":0.66966923183600868},{"$f":"IF($F65<>BC$2,1-_xlfn.NORM.DIST(0,INDEX(Rating,$F65)-INDEX(Rating,BC$2),10,1),\"\")","v":0.7450521156700427},{"$f":"IF($F65<>BD$2,1-_xlfn.NORM.DIST(0,INDEX(Rating,$F65)-INDEX(Rating,BD$2),10,1),\"\")","v":0.50039894221391124},{"$f":"IF($F65<>BE$2,1-_xlfn.NORM.DIST(0,INDEX(Rating,$F65)-INDEX(Rating,BE$2),10,1),\"\")","v":0.92421386857489174},{"$f":"IF($F65<>BF$2,1-_xlfn.NORM.DIST(0,INDEX(Rating,$F65)-INDEX(Rating,BF$2),10,1),\"\")","v":0.52073565329228022},{"$f":"IF($F65<>BG$2,1-_xlfn.NORM.DIST(0,INDEX(Rating,$F65)-INDEX(Rating,BG$2),10,1),\"\")","v":0.98410335919230851},{"$f":"IF($F65<>BH$2,1-_xlfn.NORM.DIST(0,INDEX(Rating,$F65)-INDEX(Rating,BH$2),10,1),\"\")","v":0.68117963254835212},{"$f":"IF($F65<>BI$2,1-_xlfn.NORM.DIST(0,INDEX(Rating,$F65)-INDEX(Rating,BI$2),10,1),\"\")","v":0.69742192058811614},{"$f":"IF($F65<>BJ$2,1-_xlfn.NORM.DIST(0,INDEX(Rating,$F65)-INDEX(Rating,BJ$2),10,1),\"\")","v":0.65689364041185672},{"$f":"IF($F65<>BK$2,1-_xlfn.NORM.DIST(0,INDEX(Rating,$F65)-INDEX(Rating,BK$2),10,1),\"\")","v":0.7586604182761868},{"$f":"IF($F65<>BL$2,1-_xlfn.NORM.DIST(0,INDEX(Rating,$F65)-INDEX(Rating,BL$2),10,1),\"\")","v":0.51595343685283102},{"$f":"IF($F65<>BM$2,1-_xlfn.NORM.DIST(0,INDEX(Rating,$F65)-INDEX(Rating,BM$2),10,1),\"\")","v":0.85948312193306486},{"$f":"IF($F65<>BN$2,1-_xlfn.NORM.DIST(0,INDEX(Rating,$F65)-INDEX(Rating,BN$2),10,1),\"\")","v":0.67436550877967938},{"$f":"IF($F65<>BO$2,1-_xlfn.NORM.DIST(0,INDEX(Rating,$F65)-INDEX(Rating,BO$2),10,1),\"\")","v":0.82843527289973784},{"$f":"IF($F65<>BP$2,1-_xlfn.NORM.DIST(0,INDEX(Rating,$F65)-INDEX(Rating,BP$2),10,1),\"\")","v":0.86991724033775097},{"$f":"IF($F65<>BQ$2,1-_xlfn.NORM.DIST(0,INDEX(Rating,$F65)-INDEX(Rating,BQ$2),10,1),\"\")","v":""},{"$f":"IF($F65<>BR$2,1-_xlfn.NORM.DIST(0,INDEX(Rating,$F65)-INDEX(Rating,BR$2),10,1),\"\")","v":0.92605153821543351},{"$f":"IF($F65<>BS$2,1-_xlfn.NORM.DIST(0,INDEX(Rating,$F65)-INDEX(Rating,BS$2),10,1),\"\")","v":0.74344409719280025},{"$f":"IF($F65<>BT$2,1-_xlfn.NORM.DIST(0,INDEX(Rating,$F65)-INDEX(Rating,BT$2),10,1),\"\")","v":0.80455376828655145},{"$f":"IF($F65<>BU$2,1-_xlfn.NORM.DIST(0,INDEX(Rating,$F65)-INDEX(Rating,BU$2),10,1),\"\")","v":0.47050519263109725},{"$f":"IF($F65<>BV$2,1-_xlfn.NORM.DIST(0,INDEX(Rating,$F65)-INDEX(Rating,BV$2),10,1),\"\")","v":0.96104975516783064}]
[null,"Grand Canyon",64,76,null,64,{"$f":"IF($F66<>G$2,1-_xlfn.NORM.DIST(0,INDEX(Rating,$F66)-INDEX(Rating,G$2),10,1),\"\")","v":4.522773360394805E-2},{"$f":"IF($F66<>H$2,1-_xlfn.NORM.DIST(0,INDEX(Rating,$F66)-INDEX(Rating,H$2),10,1),\"\")","v":0.71769240920345467},{"$f":"IF($F66<>I$2,1-_xlfn.NORM.DIST(0,INDEX(Rating,$F66)-INDEX(Rating,I$2),10,1),\"\")","v":0.82277700987510038},{"$f":"IF($F66<>J$2,1-_xlfn.NORM.DIST(0,INDEX(Rating,$F66)-INDEX(Rating,J$2),10,1),\"\")","v":0.17181938946717801},{"$f":"IF($F66<>K$2,1-_xlfn.NORM.DIST(0,INDEX(Rating,$F66)-INDEX(Rating,K$2),10,1),\"\")","v":0.16206655642894519},{"$f":"IF($F66<>L$2,1-_xlfn.NORM.DIST(0,INDEX(Rating,$F66)-INDEX(Rating,L$2),10,1),\"\")","v":0.17904778610060945},{"$f":"IF($F66<>M$2,1-_xlfn.NORM.DIST(0,INDEX(Rating,$F66)-INDEX(Rating,M$2),10,1),\"\")","v":0.31953481800932793},{"$f":"IF($F66<>N$2,1-_xlfn.NORM.DIST(0,INDEX(Rating,$F66)-INDEX(Rating,N$2),10,1),\"\")","v":0.18193911082747671},{"$f":"IF($F66<>O$2,1-_xlfn.NORM.DIST(0,INDEX(Rating,$F66)-INDEX(Rating,O$2),10,1),\"\")","v":0.36392009174717455},{"$f":"IF($F66<>P$2,1-_xlfn.NORM.DIST(0,INDEX(Rating,$F66)-INDEX(Rating,P$2),10,1),\"\")","v":0.12241475121120671},{"$f":"IF($F66<>Q$2,1-_xlfn.NORM.DIST(0,INDEX(Rating,$F66)-INDEX(Rating,Q$2),10,1),\"\")","v":0.23422601521269493},{"$f":"IF($F66<>R$2,1-_xlfn.NORM.DIST(0,INDEX(Rating,$F66)-INDEX(Rating,R$2),10,1),\"\")","v":0.12797828215141538},{"$f":"IF($F66<>S$2,1-_xlfn.NORM.DIST(0,INDEX(Rating,$F66)-INDEX(Rating,S$2),10,1),\"\")","v":0.4836479479317588},{"$f":"IF($F66<>T$2,1-_xlfn.NORM.DIST(0,INDEX(Rating,$F66)-INDEX(Rating,T$2),10,1),\"\")","v":0.26173684004447961},{"$f":"IF($F66<>U$2,1-_xlfn.NORM.DIST(0,INDEX(Rating,$F66)-INDEX(Rating,U$2),10,1),\"\")","v":0.20839581574663102},{"$f":"IF($F66<>V$2,1-_xlfn.NORM.DIST(0,INDEX(Rating,$F66)-INDEX(Rating,V$2),10,1),\"\")","v":8.2873451745050675E-2},{"$f":"IF($F66<>W$2,1-_xlfn.NORM.DIST(0,INDEX(Rating,$F66)-INDEX(Rating,W$2),10,1),\"\")","v":0.4876347698369663},{"$f":"IF($F66<>X$2,1-_xlfn.NORM.DIST(0,INDEX(Rating,$F66)-INDEX(Rating,X$2),10,1),\"\")","v":9.4087021334600562E-2},{"$f":"IF($F66<>Y$2,1-_xlfn.NORM.DIST(0,INDEX(Rating,$F66)-INDEX(Rating,Y$2),10,1),\"\")","v":0.85836444193458517},{"$f":"IF($F66<>Z$2,1-_xlfn.NORM.DIST(0,INDEX(Rating,$F66)-INDEX(Rating,Z$2),10,1),\"\")","v":0.88762613792216127},{"$f":"IF($F66<>AA$2,1-_xlfn.NORM.DIST(0,INDEX(Rating,$F66)-INDEX(Rating,AA$2),10,1),\"\")","v":0.14617049603938015},{"$f":"IF($F66<>AB$2,1-_xlfn.NORM.DIST(0,INDEX(Rating,$F66)-INDEX(Rating,AB$2),10,1),\"\")","v":0.22183815109251837},{"$f":"IF($F66<>AC$2,1-_xlfn.NORM.DIST(0,INDEX(Rating,$F66)-INDEX(Rating,AC$2),10,1),\"\")","v":0.12839727400381018},{"$f":"IF($F66<>AD$2,1-_xlfn.NORM.DIST(0,INDEX(Rating,$F66)-INDEX(Rating,AD$2),10,1),\"\")","v":0.32671582832100943},{"$f":"IF($F66<>AE$2,1-_xlfn.NORM.DIST(0,INDEX(Rating,$F66)-INDEX(Rating,AE$2),10,1),\"\")","v":9.2089053457380943E-2},{"$f":"IF($F66<>AF$2,1-_xlfn.NORM.DIST(0,INDEX(Rating,$F66)-INDEX(Rating,AF$2),10,1),\"\")","v":0.44354000284321315},{"$f":"IF($F66<>AG$2,1-_xlfn.NORM.DIST(0,INDEX(Rating,$F66)-INDEX(Rating,AG$2),10,1),\"\")","v":0.15986813217549389},{"$f":"IF($F66<>AH$2,1-_xlfn.NORM.DIST(0,INDEX(Rating,$F66)-INDEX(Rating,AH$2),10,1),\"\")","v":0.20839581574663102},{"$f":"IF($F66<>AI$2,1-_xlfn.NORM.DIST(0,INDEX(Rating,$F66)-INDEX(Rating,AI$2),10,1),\"\")","v":0.17515194649718513},{"$f":"IF($F66<>AJ$2,1-_xlfn.NORM.DIST(0,INDEX(Rating,$F66)-INDEX(Rating,AJ$2),10,1),\"\")","v":0.55092551347931173},{"$f":"IF($F66<>AK$2,1-_xlfn.NORM.DIST(0,INDEX(Rating,$F66)-INDEX(Rating,AK$2),10,1),\"\")","v":0.18592858633316967},{"$f":"IF($F66<>AL$2,1-_xlfn.NORM.DIST(0,INDEX(Rating,$F66)-INDEX(Rating,AL$2),10,1),\"\")","v":0.20839581574663102},{"$f":"IF($F66<>AM$2,1-_xlfn.NORM.DIST(0,INDEX(Rating,$F66)-INDEX(Rating,AM$2),10,1),\"\")","v":0.124866117770699},{"$f":"IF($F66<>AN$2,1-_xlfn.NORM.DIST(0,INDEX(Rating,$F66)-INDEX(Rating,AN$2),10,1),\"\")","v":0.47050519263109725},{"$f":"IF($F66<>AO$2,1-_xlfn.NORM.DIST(0,INDEX(Rating,$F66)-INDEX(Rating,AO$2),10,1),\"\")","v":5.6483167134220191E-2},{"$f":"IF($F66<>AP$2,1-_xlfn.NORM.DIST(0,INDEX(Rating,$F66)-INDEX(Rating,AP$2),10,1),\"\")","v":0.63231840611134993},{"$f":"IF($F66<>AQ$2,1-_xlfn.NORM.DIST(0,INDEX(Rating,$F66)-INDEX(Rating,AQ$2),10,1),\"\")","v":0.18807831568066347},{"$f":"IF($F66<>AR$2,1-_xlfn.NORM.DIST(0,INDEX(Rating,$F66)-INDEX(Rating,AR$2),10,1),\"\")","v":0.17566826271590308},{"$f":"IF($F66<>AS$2,1-_xlfn.NORM.DIST(0,INDEX(Rating,$F66)-INDEX(Rating,AS$2),10,1),\"\")","v":0.20667859363755214},{"$f":"IF($F66<>AT$2,1-_xlfn.NORM.DIST(0,INDEX(Rating,$F66)-INDEX(Rating,AT$2),10,1),\"\")","v":0.27759532475346471},{"$f":"IF($F66<>AU$2,1-_xlfn.NORM.DIST(0,INDEX(Rating,$F66)-INDEX(Rating,AU$2),10,1),\"\")","v":0.15362721935639467},{"$f":"IF($F66<>AV$2,1-_xlfn.NORM.DIST(0,INDEX(Rating,$F66)-INDEX(Rating,AV$2),10,1),\"\")","v":0.30537611205732085},{"$f":"IF($F66<>AW$2,1-_xlfn.NORM.DIST(0,INDEX(Rating,$F66)-INDEX(Rating,AW$2),10,1),\"\")","v":0.1998939767260568},{"$f":"IF($F66<>AX$2,1-_xlfn.NORM.DIST(0,INDEX(Rating,$F66)-INDEX(Rating,AX$2),10,1),\"\")","v":0.26565747066375911},{"$f":"IF($F66<>AY$2,1-_xlfn.NORM.DIST(0,INDEX(Rating,$F66)-INDEX(Rating,AY$2),10,1),\"\")","v":0.28978942286730203},{"$f":"IF($F66<>AZ$2,1-_xlfn.NORM.DIST(0,INDEX(Rating,$F66)-INDEX(Rating,AZ$2),10,1),\"\")","v":0.14685905637589591},{"$f":"IF($F66<>BA$2,1-_xlfn.NORM.DIST(0,INDEX(Rating,$F66)-INDEX(Rating,BA$2),10,1),\"\")","v":0.61409188119887759},{"$f":"IF($F66<>BB$2,1-_xlfn.NORM.DIST(0,INDEX(Rating,$F66)-INDEX(Rating,BB$2),10,1),\"\")","v":0.15672723111602849},{"$f":"IF($F66<>BC$2,1-_xlfn.NORM.DIST(0,INDEX(Rating,$F66)-INDEX(Rating,BC$2),10,1),\"\")","v":0.21534835294194943},{"$f":"IF($F66<>BD$2,1-_xlfn.NORM.DIST(0,INDEX(Rating,$F66)-INDEX(Rating,BD$2),10,1),\"\")","v":7.408860090776237E-2},{"$f":"IF($F66<>BE$2,1-_xlfn.NORM.DIST(0,INDEX(Rating,$F66)-INDEX(Rating,BE$2),10,1),\"\")","v":0.4948138964304436},{"$f":"IF($F66<>BF$2,1-_xlfn.NORM.DIST(0,INDEX(Rating,$F66)-INDEX(Rating,BF$2),10,1),\"\")","v":8.1507919781451332E-2},{"$f":"IF($F66<>BG$2,1-_xlfn.NORM.DIST(0,INDEX(Rating,$F66)-INDEX(Rating,BG$2),10,1),\"\")","v":0.75803634777692697},{"$f":"IF($F66<>BH$2,1-_xlfn.NORM.DIST(0,INDEX(Rating,$F66)-INDEX(Rating,BH$2),10,1),\"\")","v":0.16453223216684809},{"$f":"IF($F66<>BI$2,1-_xlfn.NORM.DIST(0,INDEX(Rating,$F66)-INDEX(Rating,BI$2),10,1),\"\")","v":0.17618554224525806},{"$f":"IF($F66<>BJ$2,1-_xlfn.NORM.DIST(0,INDEX(Rating,$F66)-INDEX(Rating,BJ$2),10,1),\"\")","v":0.14847414637987078},{"$f":"IF($F66<>BK$2,1-_xlfn.NORM.DIST(0,INDEX(Rating,$F66)-INDEX(Rating,BK$2),10,1),\"\")","v":0.22813585994198959},{"$f":"IF($F66<>BL$2,1-_xlfn.NORM.DIST(0,INDEX(Rating,$F66)-INDEX(Rating,BL$2),10,1),\"\")","v":7.9713694387642642E-2},{"$f":"IF($F66<>BM$2,1-_xlfn.NORM.DIST(0,INDEX(Rating,$F66)-INDEX(Rating,BM$2),10,1),\"\")","v":0.35606386238663279},{"$f":"IF($F66<>BN$2,1-_xlfn.NORM.DIST(0,INDEX(Rating,$F66)-INDEX(Rating,BN$2),10,1),\"\")","v":0.15986813217549389},{"$f":"IF($F66<>BO$2,1-_xlfn.NORM.DIST(0,INDEX(Rating,$F66)-INDEX(Rating,BO$2),10,1),\"\")","v":0.30888969202505467},{"$f":"IF($F66<>BP$2,1-_xlfn.NORM.DIST(0,INDEX(Rating,$F66)-INDEX(Rating,BP$2),10,1),\"\")","v":0.37410519545209997},{"$f":"IF($F66<>BQ$2,1-_xlfn.NORM.DIST(0,INDEX(Rating,$F66)-INDEX(Rating,BQ$2),10,1),\"\")","v":7.3948461784566488E-2},{"$f":"IF($F66<>BR$2,1-_xlfn.NORM.DIST(0,INDEX(Rating,$F66)-INDEX(Rating,BR$2),10,1),\"\")","v":""},{"$f":"IF($F66<>BS$2,1-_xlfn.NORM.DIST(0,INDEX(Rating,$F66)-INDEX(Rating,BS$2),10,1),\"\")","v":0.2138889113905752},{"$f":"IF($F66<>BT$2,1-_xlfn.NORM.DIST(0,INDEX(Rating,$F66)-INDEX(Rating,BT$2),10,1),\"\")","v":0.277930636804403},{"$f":"IF($F66<>BU$2,1-_xlfn.NORM.DIST(0,INDEX(Rating,$F66)-INDEX(Rating,BU$2),10,1),\"\")","v":6.4129918659820095E-2},{"$f":"IF($F66<>BV$2,1-_xlfn.NORM.DIST(0,INDEX(Rating,$F66)-INDEX(Rating,BV$2),10,1),\"\")","v":0.62399874593329308}]
[null,"Northwestern",65,83.93,null,65,{"$f":"IF($F67<>G$2,1-_xlfn.NORM.DIST(0,INDEX(Rating,$F67)-INDEX(Rating,G$2),10,1),\"\")","v":0.18406012534675953},{"$f":"IF($F67<>H$2,1-_xlfn.NORM.DIST(0,INDEX(Rating,$F67)-INDEX(Rating,H$2),10,1),\"\")","v":0.91450036254508027},{"$f":"IF($F67<>I$2,1-_xlfn.NORM.DIST(0,INDEX(Rating,$F67)-INDEX(Rating,I$2),10,1),\"\")","v":0.9571928140371877},{"$f":"IF($F67<>J$2,1-_xlfn.NORM.DIST(0,INDEX(Rating,$F67)-INDEX(Rating,J$2),10,1),\"\")","v":0.43880486779253891},{"$f":"IF($F67<>K$2,1-_xlfn.NORM.DIST(0,INDEX(Rating,$F67)-INDEX(Rating,K$2),10,1),\"\")","v":0.42347948404449487},{"$f":"IF($F67<>L$2,1-_xlfn.NORM.DIST(0,INDEX(Rating,$F67)-INDEX(Rating,L$2),10,1),\"\")","v":0.44986596228773412},{"$f":"IF($F67<>M$2,1-_xlfn.NORM.DIST(0,INDEX(Rating,$F67)-INDEX(Rating,M$2),10,1),\"\")","v":0.62703098288455095},{"$f":"IF($F67<>N$2,1-_xlfn.NORM.DIST(0,INDEX(Rating,$F67)-INDEX(Rating,N$2),10,1),\"\")","v":0.45422256102219005},{"$f":"IF($F67<>O$2,1-_xlfn.NORM.DIST(0,INDEX(Rating,$F67)-INDEX(Rating,O$2),10,1),\"\")","v":0.67184012293741535},{"$f":"IF($F67<>P$2,1-_xlfn.NORM.DIST(0,INDEX(Rating,$F67)-INDEX(Rating,P$2),10,1),\"\")","v":0.35569124519945361},{"$f":"IF($F67<>Q$2,1-_xlfn.NORM.DIST(0,INDEX(Rating,$F67)-INDEX(Rating,Q$2),10,1),\"\")","v":0.52710718285702307},{"$f":"IF($F67<>R$2,1-_xlfn.NORM.DIST(0,INDEX(Rating,$F67)-INDEX(Rating,R$2),10,1),\"\")","v":0.3657992300776246},{"$f":"IF($F67<>S$2,1-_xlfn.NORM.DIST(0,INDEX(Rating,$F67)-INDEX(Rating,S$2),10,1),\"\")","v":0.773974470605997},{"$f":"IF($F67<>T$2,1-_xlfn.NORM.DIST(0,INDEX(Rating,$F67)-INDEX(Rating,T$2),10,1),\"\")","v":0.56158934134724725},{"$f":"IF($F67<>U$2,1-_xlfn.NORM.DIST(0,INDEX(Rating,$F67)-INDEX(Rating,U$2),10,1),\"\")","v":0.49242055270519525},{"$f":"IF($F67<>V$2,1-_xlfn.NORM.DIST(0,INDEX(Rating,$F67)-INDEX(Rating,V$2),10,1),\"\")","v":0.27659057612764226},{"$f":"IF($F67<>W$2,1-_xlfn.NORM.DIST(0,INDEX(Rating,$F67)-INDEX(Rating,W$2),10,1),\"\")","v":0.7769699979199377},{"$f":"IF($F67<>X$2,1-_xlfn.NORM.DIST(0,INDEX(Rating,$F67)-INDEX(Rating,X$2),10,1),\"\")","v":0.30048712662366961},{"$f":"IF($F67<>Y$2,1-_xlfn.NORM.DIST(0,INDEX(Rating,$F67)-INDEX(Rating,Y$2),10,1),\"\")","v":0.96897931725207487},{"$f":"IF($F67<>Z$2,1-_xlfn.NORM.DIST(0,INDEX(Rating,$F67)-INDEX(Rating,Z$2),10,1),\"\")","v":0.97762516850866443},{"$f":"IF($F67<>AA$2,1-_xlfn.NORM.DIST(0,INDEX(Rating,$F67)-INDEX(Rating,AA$2),10,1),\"\")","v":0.39743188679823971},{"$f":"IF($F67<>AB$2,1-_xlfn.NORM.DIST(0,INDEX(Rating,$F67)-INDEX(Rating,AB$2),10,1),\"\")","v":0.51077013298378549},{"$f":"IF($F67<>AC$2,1-_xlfn.NORM.DIST(0,INDEX(Rating,$F67)-INDEX(Rating,AC$2),10,1),\"\")","v":0.36655179086894252},{"$f":"IF($F67<>AD$2,1-_xlfn.NORM.DIST(0,INDEX(Rating,$F67)-INDEX(Rating,AD$2),10,1),\"\")","v":0.63457685695412669},{"$f":"IF($F67<>AE$2,1-_xlfn.NORM.DIST(0,INDEX(Rating,$F67)-INDEX(Rating,AE$2),10,1),\"\")","v":0.29632492864234461},{"$f":"IF($F67<>AF$2,1-_xlfn.NORM.DIST(0,INDEX(Rating,$F67)-INDEX(Rating,AF$2),10,1),\"\")","v":0.74247675655672296},{"$f":"IF($F67<>AG$2,1-_xlfn.NORM.DIST(0,INDEX(Rating,$F67)-INDEX(Rating,AG$2),10,1),\"\")","v":0.41995836209040383},{"$f":"IF($F67<>AH$2,1-_xlfn.NORM.DIST(0,INDEX(Rating,$F67)-INDEX(Rating,AH$2),10,1),\"\")","v":0.49242055270519525},{"$f":"IF($F67<>AI$2,1-_xlfn.NORM.DIST(0,INDEX(Rating,$F67)-INDEX(Rating,AI$2),10,1),\"\")","v":0.44393497117142555},{"$f":"IF($F67<>AJ$2,1-_xlfn.NORM.DIST(0,INDEX(Rating,$F67)-INDEX(Rating,AJ$2),10,1),\"\")","v":0.82147478648851213},{"$f":"IF($F67<>AK$2,1-_xlfn.NORM.DIST(0,INDEX(Rating,$F67)-INDEX(Rating,AK$2),10,1),\"\")","v":0.46017216272297101},{"$f":"IF($F67<>AL$2,1-_xlfn.NORM.DIST(0,INDEX(Rating,$F67)-INDEX(Rating,AL$2),10,1),\"\")","v":0.49242055270519525},{"$f":"IF($F67<>AM$2,1-_xlfn.NORM.DIST(0,INDEX(Rating,$F67)-INDEX(Rating,AM$2),10,1),\"\")","v":0.36017165677419782},{"$f":"IF($F67<>AN$2,1-_xlfn.NORM.DIST(0,INDEX(Rating,$F67)-INDEX(Rating,AN$2),10,1),\"\")","v":0.76392954015855863},{"$f":"IF($F67<>AO$2,1-_xlfn.NORM.DIST(0,INDEX(Rating,$F67)-INDEX(Rating,AO$2),10,1),\"\")","v":0.21418033811653792},{"$f":"IF($F67<>AP$2,1-_xlfn.NORM.DIST(0,INDEX(Rating,$F67)-INDEX(Rating,AP$2),10,1),\"\")","v":0.87097245428412173},{"$f":"IF($F67<>AQ$2,1-_xlfn.NORM.DIST(0,INDEX(Rating,$F67)-INDEX(Rating,AQ$2),10,1),\"\")","v":0.46334901979645093},{"$f":"IF($F67<>AR$2,1-_xlfn.NORM.DIST(0,INDEX(Rating,$F67)-INDEX(Rating,AR$2),10,1),\"\")","v":0.44472507452399224},{"$f":"IF($F67<>AS$2,1-_xlfn.NORM.DIST(0,INDEX(Rating,$F67)-INDEX(Rating,AS$2),10,1),\"\")","v":0.49002748180476197},{"$f":"IF($F67<>AT$2,1-_xlfn.NORM.DIST(0,INDEX(Rating,$F67)-INDEX(Rating,AT$2),10,1),\"\")","v":0.58043248389408397},{"$f":"IF($F67<>AU$2,1-_xlfn.NORM.DIST(0,INDEX(Rating,$F67)-INDEX(Rating,AU$2),10,1),\"\")","v":0.40982312026096634},{"$f":"IF($F67<>AV$2,1-_xlfn.NORM.DIST(0,INDEX(Rating,$F67)-INDEX(Rating,AV$2),10,1),\"\")","v":0.61179480967866917},{"$f":"IF($F67<>AW$2,1-_xlfn.NORM.DIST(0,INDEX(Rating,$F67)-INDEX(Rating,AW$2),10,1),\"\")","v":0.4804596479705765},{"$f":"IF($F67<>AX$2,1-_xlfn.NORM.DIST(0,INDEX(Rating,$F67)-INDEX(Rating,AX$2),10,1),\"\")","v":0.56631497553761634},{"$f":"IF($F67<>AY$2,1-_xlfn.NORM.DIST(0,INDEX(Rating,$F67)-INDEX(Rating,AY$2),10,1),\"\")","v":0.59444720862957001},{"$f":"IF($F67<>AZ$2,1-_xlfn.NORM.DIST(0,INDEX(Rating,$F67)-INDEX(Rating,AZ$2),10,1),\"\")","v":0.39858938653611653},{"$f":"IF($F67<>BA$2,1-_xlfn.NORM.DIST(0,INDEX(Rating,$F67)-INDEX(Rating,BA$2),10,1),\"\")","v":0.86059578847969243},{"$f":"IF($F67<>BB$2,1-_xlfn.NORM.DIST(0,INDEX(Rating,$F67)-INDEX(Rating,BB$2),10,1),\"\")","v":0.41488365927980464},{"$f":"IF($F67<>BC$2,1-_xlfn.NORM.DIST(0,INDEX(Rating,$F67)-INDEX(Rating,BC$2),10,1),\"\")","v":0.50199470309074123},{"$f":"IF($F67<>BD$2,1-_xlfn.NORM.DIST(0,INDEX(Rating,$F67)-INDEX(Rating,BD$2),10,1),\"\")","v":0.25687813925851122},{"$f":"IF($F67<>BE$2,1-_xlfn.NORM.DIST(0,INDEX(Rating,$F67)-INDEX(Rating,BE$2),10,1),\"\")","v":0.78230456241426727},{"$f":"IF($F67<>BF$2,1-_xlfn.NORM.DIST(0,INDEX(Rating,$F67)-INDEX(Rating,BF$2),10,1),\"\")","v":0.27358706869781324},{"$f":"IF($F67<>BG$2,1-_xlfn.NORM.DIST(0,INDEX(Rating,$F67)-INDEX(Rating,BG$2),10,1),\"\")","v":0.93228140654940406},{"$f":"IF($F67<>BH$2,1-_xlfn.NORM.DIST(0,INDEX(Rating,$F67)-INDEX(Rating,BH$2),10,1),\"\")","v":0.42739900930869013},{"$f":"IF($F67<>BI$2,1-_xlfn.NORM.DIST(0,INDEX(Rating,$F67)-INDEX(Rating,BI$2),10,1),\"\")","v":0.4455153975557512},{"$f":"IF($F67<>BJ$2,1-_xlfn.NORM.DIST(0,INDEX(Rating,$F67)-INDEX(Rating,BJ$2),10,1),\"\")","v":0.4012936743170763},{"$f":"IF($F67<>BK$2,1-_xlfn.NORM.DIST(0,INDEX(Rating,$F67)-INDEX(Rating,BK$2),10,1),\"\")","v":0.51914187869576156},{"$f":"IF($F67<>BL$2,1-_xlfn.NORM.DIST(0,INDEX(Rating,$F67)-INDEX(Rating,BL$2),10,1),\"\")","v":0.26960766360255839},{"$f":"IF($F67<>BM$2,1-_xlfn.NORM.DIST(0,INDEX(Rating,$F67)-INDEX(Rating,BM$2),10,1),\"\")","v":0.66421709335542911},{"$f":"IF($F67<>BN$2,1-_xlfn.NORM.DIST(0,INDEX(Rating,$F67)-INDEX(Rating,BN$2),10,1),\"\")","v":0.41995836209040383},{"$f":"IF($F67<>BO$2,1-_xlfn.NORM.DIST(0,INDEX(Rating,$F67)-INDEX(Rating,BO$2),10,1),\"\")","v":0.61562104831416964},{"$f":"IF($F67<>BP$2,1-_xlfn.NORM.DIST(0,INDEX(Rating,$F67)-INDEX(Rating,BP$2),10,1),\"\")","v":0.68153660570531605},{"$f":"IF($F67<>BQ$2,1-_xlfn.NORM.DIST(0,INDEX(Rating,$F67)-INDEX(Rating,BQ$2),10,1),\"\")","v":0.25655590280719975},{"$f":"IF($F67<>BR$2,1-_xlfn.NORM.DIST(0,INDEX(Rating,$F67)-INDEX(Rating,BR$2),10,1),\"\")","v":0.7861110886094248},{"$f":"IF($F67<>BS$2,1-_xlfn.NORM.DIST(0,INDEX(Rating,$F67)-INDEX(Rating,BS$2),10,1),\"\")","v":""},{"$f":"IF($F67<>BT$2,1-_xlfn.NORM.DIST(0,INDEX(Rating,$F67)-INDEX(Rating,BT$2),10,1),\"\")","v":0.58082325054489603},{"$f":"IF($F67<>BU$2,1-_xlfn.NORM.DIST(0,INDEX(Rating,$F67)-INDEX(Rating,BU$2),10,1),\"\")","v":0.23330679314626512},{"$f":"IF($F67<>BV$2,1-_xlfn.NORM.DIST(0,INDEX(Rating,$F67)-INDEX(Rating,BV$2),10,1),\"\")","v":0.86628490900788591}]
[null,"Boise St",66,81.89,null,66,{"$f":"IF($F68<>G$2,1-_xlfn.NORM.DIST(0,INDEX(Rating,$F68)-INDEX(Rating,G$2),10,1),\"\")","v":0.13479656884485114},{"$f":"IF($F68<>H$2,1-_xlfn.NORM.DIST(0,INDEX(Rating,$F68)-INDEX(Rating,H$2),10,1),\"\")","v":0.87799050358085085},{"$f":"IF($F68<>I$2,1-_xlfn.NORM.DIST(0,INDEX(Rating,$F68)-INDEX(Rating,I$2),10,1),\"\")","v":0.93511379794182359},{"$f":"IF($F68<>J$2,1-_xlfn.NORM.DIST(0,INDEX(Rating,$F68)-INDEX(Rating,J$2),10,1),\"\")","v":0.36017165677419782},{"$f":"IF($F68<>K$2,1-_xlfn.NORM.DIST(0,INDEX(Rating,$F68)-INDEX(Rating,K$2),10,1),\"\")","v":0.34568373030336685},{"$f":"IF($F68<>L$2,1-_xlfn.NORM.DIST(0,INDEX(Rating,$F68)-INDEX(Rating,L$2),10,1),\"\")","v":0.37069998105934654},{"$f":"IF($F68<>M$2,1-_xlfn.NORM.DIST(0,INDEX(Rating,$F68)-INDEX(Rating,M$2),10,1),\"\")","v":0.54775842602058389},{"$f":"IF($F68<>N$2,1-_xlfn.NORM.DIST(0,INDEX(Rating,$F68)-INDEX(Rating,N$2),10,1),\"\")","v":0.37486325639099927},{"$f":"IF($F68<>O$2,1-_xlfn.NORM.DIST(0,INDEX(Rating,$F68)-INDEX(Rating,O$2),10,1),\"\")","v":0.59522244173805672},{"$f":"IF($F68<>P$2,1-_xlfn.NORM.DIST(0,INDEX(Rating,$F68)-INDEX(Rating,P$2),10,1),\"\")","v":0.28298390063691348},{"$f":"IF($F68<>Q$2,1-_xlfn.NORM.DIST(0,INDEX(Rating,$F68)-INDEX(Rating,Q$2),10,1),\"\")","v":0.44591064048234008},{"$f":"IF($F68<>R$2,1-_xlfn.NORM.DIST(0,INDEX(Rating,$F68)-INDEX(Rating,R$2),10,1),\"\")","v":0.29218936606131429},{"$f":"IF($F68<>S$2,1-_xlfn.NORM.DIST(0,INDEX(Rating,$F68)-INDEX(Rating,S$2),10,1),\"\")","v":0.70815404858265141},{"$f":"IF($F68<>T$2,1-_xlfn.NORM.DIST(0,INDEX(Rating,$F68)-INDEX(Rating,T$2),10,1),\"\")","v":0.4804596479705765},{"$f":"IF($F68<>U$2,1-_xlfn.NORM.DIST(0,INDEX(Rating,$F68)-INDEX(Rating,U$2),10,1),\"\")","v":0.41176775325165438},{"$f":"IF($F68<>V$2,1-_xlfn.NORM.DIST(0,INDEX(Rating,$F68)-INDEX(Rating,V$2),10,1),\"\")","v":0.21272551566012454},{"$f":"IF($F68<>W$2,1-_xlfn.NORM.DIST(0,INDEX(Rating,$F68)-INDEX(Rating,W$2),10,1),\"\")","v":0.711577807914896},{"$f":"IF($F68<>X$2,1-_xlfn.NORM.DIST(0,INDEX(Rating,$F68)-INDEX(Rating,X$2),10,1),\"\")","v":0.23361297787275892},{"$f":"IF($F68<>Y$2,1-_xlfn.NORM.DIST(0,INDEX(Rating,$F68)-INDEX(Rating,Y$2),10,1),\"\")","v":0.9517436127588691},{"$f":"IF($F68<>Z$2,1-_xlfn.NORM.DIST(0,INDEX(Rating,$F68)-INDEX(Rating,Z$2),10,1),\"\")","v":0.96430589266139621},{"$f":"IF($F68<>AA$2,1-_xlfn.NORM.DIST(0,INDEX(Rating,$F68)-INDEX(Rating,AA$2),10,1),\"\")","v":0.32132387281569263},{"$f":"IF($F68<>AB$2,1-_xlfn.NORM.DIST(0,INDEX(Rating,$F68)-INDEX(Rating,AB$2),10,1),\"\")","v":0.42975419478909604},{"$f":"IF($F68<>AC$2,1-_xlfn.NORM.DIST(0,INDEX(Rating,$F68)-INDEX(Rating,AC$2),10,1),\"\")","v":0.29287675880580499},{"$f":"IF($F68<>AD$2,1-_xlfn.NORM.DIST(0,INDEX(Rating,$F68)-INDEX(Rating,AD$2),10,1),\"\")","v":0.55567000480590667},{"$f":"IF($F68<>AE$2,1-_xlfn.NORM.DIST(0,INDEX(Rating,$F68)-INDEX(Rating,AE$2),10,1),\"\")","v":0.22995349867968329},{"$f":"IF($F68<>AF$2,1-_xlfn.NORM.DIST(0,INDEX(Rating,$F68)-INDEX(Rating,AF$2),10,1),\"\")","v":0.67256247005296765},{"$f":"IF($F68<>AG$2,1-_xlfn.NORM.DIST(0,INDEX(Rating,$F68)-INDEX(Rating,AG$2),10,1),\"\")","v":0.34237130020671469},{"$f":"IF($F68<>AH$2,1-_xlfn.NORM.DIST(0,INDEX(Rating,$F68)-INDEX(Rating,AH$2),10,1),\"\")","v":0.41176775325165438},{"$f":"IF($F68<>AI$2,1-_xlfn.NORM.DIST(0,INDEX(Rating,$F68)-INDEX(Rating,AI$2),10,1),\"\")","v":0.3650471853658015},{"$f":"IF($F68<>AJ$2,1-_xlfn.NORM.DIST(0,INDEX(Rating,$F68)-INDEX(Rating,AJ$2),10,1),\"\")","v":0.76331295167028701},{"$f":"IF($F68<>AK$2,1-_xlfn.NORM.DIST(0,INDEX(Rating,$F68)-INDEX(Rating,AK$2),10,1),\"\")","v":0.380563945578407},{"$f":"IF($F68<>AL$2,1-_xlfn.NORM.DIST(0,INDEX(Rating,$F68)-INDEX(Rating,AL$2),10,1),\"\")","v":0.41176775325165438},{"$f":"IF($F68<>AM$2,1-_xlfn.NORM.DIST(0,INDEX(Rating,$F68)-INDEX(Rating,AM$2),10,1),\"\")","v":0.28705800955483229},{"$f":"IF($F68<>AN$2,1-_xlfn.NORM.DIST(0,INDEX(Rating,$F68)-INDEX(Rating,AN$2),10,1),\"\")","v":0.6967234899978606},{"$f":"IF($F68<>AO$2,1-_xlfn.NORM.DIST(0,INDEX(Rating,$F68)-INDEX(Rating,AO$2),10,1),\"\")","v":0.15962507259016379},{"$f":"IF($F68<>AP$2,1-_xlfn.NORM.DIST(0,INDEX(Rating,$F68)-INDEX(Rating,AP$2),10,1),\"\")","v":0.82303673285858259},{"$f":"IF($F68<>AQ$2,1-_xlfn.NORM.DIST(0,INDEX(Rating,$F68)-INDEX(Rating,AQ$2),10,1),\"\")","v":0.38361504069809893},{"$f":"IF($F68<>AR$2,1-_xlfn.NORM.DIST(0,INDEX(Rating,$F68)-INDEX(Rating,AR$2),10,1),\"\")","v":0.3657992300776246},{"$f":"IF($F68<>AS$2,1-_xlfn.NORM.DIST(0,INDEX(Rating,$F68)-INDEX(Rating,AS$2),10,1),\"\")","v":0.4094344580627568},{"$f":"IF($F68<>AT$2,1-_xlfn.NORM.DIST(0,INDEX(Rating,$F68)-INDEX(Rating,AT$2),10,1),\"\")","v":0.49960105778608876},{"$f":"IF($F68<>AU$2,1-_xlfn.NORM.DIST(0,INDEX(Rating,$F68)-INDEX(Rating,AU$2),10,1),\"\")","v":0.33287070658339701},{"$f":"IF($F68<>AV$2,1-_xlfn.NORM.DIST(0,INDEX(Rating,$F68)-INDEX(Rating,AV$2),10,1),\"\")","v":0.53188137201398722},{"$f":"IF($F68<>AW$2,1-_xlfn.NORM.DIST(0,INDEX(Rating,$F68)-INDEX(Rating,AW$2),10,1),\"\")","v":0.40013410659859483},{"$f":"IF($F68<>AX$2,1-_xlfn.NORM.DIST(0,INDEX(Rating,$F68)-INDEX(Rating,AX$2),10,1),\"\")","v":0.48524250287087511},{"$f":"IF($F68<>AY$2,1-_xlfn.NORM.DIST(0,INDEX(Rating,$F68)-INDEX(Rating,AY$2),10,1),\"\")","v":0.51396012956275805},{"$f":"IF($F68<>AZ$2,1-_xlfn.NORM.DIST(0,INDEX(Rating,$F68)-INDEX(Rating,AZ$2),10,1),\"\")","v":0.32239930255122007},{"$f":"IF($F68<>BA$2,1-_xlfn.NORM.DIST(0,INDEX(Rating,$F68)-INDEX(Rating,BA$2),10,1),\"\")","v":0.81029936208154874},{"$f":"IF($F68<>BB$2,1-_xlfn.NORM.DIST(0,INDEX(Rating,$F68)-INDEX(Rating,BB$2),10,1),\"\")","v":0.33760806617587658},{"$f":"IF($F68<>BC$2,1-_xlfn.NORM.DIST(0,INDEX(Rating,$F68)-INDEX(Rating,BC$2),10,1),\"\")","v":0.4211313722965655},{"$f":"IF($F68<>BD$2,1-_xlfn.NORM.DIST(0,INDEX(Rating,$F68)-INDEX(Rating,BD$2),10,1),\"\")","v":0.19572244231110714},{"$f":"IF($F68<>BE$2,1-_xlfn.NORM.DIST(0,INDEX(Rating,$F68)-INDEX(Rating,BE$2),10,1),\"\")","v":0.71769240920345467},{"$f":"IF($F68<>BF$2,1-_xlfn.NORM.DIST(0,INDEX(Rating,$F68)-INDEX(Rating,BF$2),10,1),\"\")","v":0.21012142455006355},{"$f":"IF($F68<>BG$2,1-_xlfn.NORM.DIST(0,INDEX(Rating,$F68)-INDEX(Rating,BG$2),10,1),\"\")","v":0.90130095671058541},{"$f":"IF($F68<>BH$2,1-_xlfn.NORM.DIST(0,INDEX(Rating,$F68)-INDEX(Rating,BH$2),10,1),\"\")","v":0.34937810397633851},{"$f":"IF($F68<>BI$2,1-_xlfn.NORM.DIST(0,INDEX(Rating,$F68)-INDEX(Rating,BI$2),10,1),\"\")","v":0.36655179086894252},{"$f":"IF($F68<>BJ$2,1-_xlfn.NORM.DIST(0,INDEX(Rating,$F68)-INDEX(Rating,BJ$2),10,1),\"\")","v":0.32491441339717397},{"$f":"IF($F68<>BK$2,1-_xlfn.NORM.DIST(0,INDEX(Rating,$F68)-INDEX(Rating,BK$2),10,1),\"\")","v":0.43801651061064395},{"$f":"IF($F68<>BL$2,1-_xlfn.NORM.DIST(0,INDEX(Rating,$F68)-INDEX(Rating,BL$2),10,1),\"\")","v":0.20667859363755259},{"$f":"IF($F68<>BM$2,1-_xlfn.NORM.DIST(0,INDEX(Rating,$F68)-INDEX(Rating,BM$2),10,1),\"\")","v":0.58706442264821468},{"$f":"IF($F68<>BN$2,1-_xlfn.NORM.DIST(0,INDEX(Rating,$F68)-INDEX(Rating,BN$2),10,1),\"\")","v":0.34237130020671469},{"$f":"IF($F68<>BO$2,1-_xlfn.NORM.DIST(0,INDEX(Rating,$F68)-INDEX(Rating,BO$2),10,1),\"\")","v":0.53585639258517226},{"$f":"IF($F68<>BP$2,1-_xlfn.NORM.DIST(0,INDEX(Rating,$F68)-INDEX(Rating,BP$2),10,1),\"\")","v":0.60565034063330192},{"$f":"IF($F68<>BQ$2,1-_xlfn.NORM.DIST(0,INDEX(Rating,$F68)-INDEX(Rating,BQ$2),10,1),\"\")","v":0.19544623171344855},{"$f":"IF($F68<>BR$2,1-_xlfn.NORM.DIST(0,INDEX(Rating,$F68)-INDEX(Rating,BR$2),10,1),\"\")","v":0.722069363195597},{"$f":"IF($F68<>BS$2,1-_xlfn.NORM.DIST(0,INDEX(Rating,$F68)-INDEX(Rating,BS$2),10,1),\"\")","v":0.41917674945510397},{"$f":"IF($F68<>BT$2,1-_xlfn.NORM.DIST(0,INDEX(Rating,$F68)-INDEX(Rating,BT$2),10,1),\"\")","v":""},{"$f":"IF($F68<>BU$2,1-_xlfn.NORM.DIST(0,INDEX(Rating,$F68)-INDEX(Rating,BU$2),10,1),\"\")","v":0.17566826271590308},{"$f":"IF($F68<>BV$2,1-_xlfn.NORM.DIST(0,INDEX(Rating,$F68)-INDEX(Rating,BV$2),10,1),\"\")","v":0.81726730640406808}]
[null,"UCLA",67,91.21,null,67,{"$f":"IF($F69<>G$2,1-_xlfn.NORM.DIST(0,INDEX(Rating,$F69)-INDEX(Rating,G$2),10,1),\"\")","v":0.43171876449917224},{"$f":"IF($F69<>H$2,1-_xlfn.NORM.DIST(0,INDEX(Rating,$F69)-INDEX(Rating,H$2),10,1),\"\")","v":0.98200321232889265},{"$f":"IF($F69<>I$2,1-_xlfn.NORM.DIST(0,INDEX(Rating,$F69)-INDEX(Rating,I$2),10,1),\"\")","v":0.99279745804766473},{"$f":"IF($F69<>J$2,1-_xlfn.NORM.DIST(0,INDEX(Rating,$F69)-INDEX(Rating,J$2),10,1),\"\")","v":0.71701609936308652},{"$f":"IF($F69<>K$2,1-_xlfn.NORM.DIST(0,INDEX(Rating,$F69)-INDEX(Rating,K$2),10,1),\"\")","v":0.70367507135765539},{"$f":"IF($F69<>L$2,1-_xlfn.NORM.DIST(0,INDEX(Rating,$F69)-INDEX(Rating,L$2),10,1),\"\")","v":0.72641293130218676},{"$f":"IF($F69<>M$2,1-_xlfn.NORM.DIST(0,INDEX(Rating,$F69)-INDEX(Rating,M$2),10,1),\"\")","v":0.85360022518469947},{"$f":"IF($F69<>N$2,1-_xlfn.NORM.DIST(0,INDEX(Rating,$F69)-INDEX(Rating,N$2),10,1),\"\")","v":0.73006183013919945},{"$f":"IF($F69<>O$2,1-_xlfn.NORM.DIST(0,INDEX(Rating,$F69)-INDEX(Rating,O$2),10,1),\"\")","v":0.87960209715320392},{"$f":"IF($F69<>P$2,1-_xlfn.NORM.DIST(0,INDEX(Rating,$F69)-INDEX(Rating,P$2),10,1),\"\")","v":0.63982834322580218},{"$f":"IF($F69<>Q$2,1-_xlfn.NORM.DIST(0,INDEX(Rating,$F69)-INDEX(Rating,Q$2),10,1),\"\")","v":0.78698398229787014},{"$f":"IF($F69<>R$2,1-_xlfn.NORM.DIST(0,INDEX(Rating,$F69)-INDEX(Rating,R$2),10,1),\"\")","v":0.64988129223472413},{"$f":"IF($F69<>S$2,1-_xlfn.NORM.DIST(0,INDEX(Rating,$F69)-INDEX(Rating,S$2),10,1),\"\")","v":0.93056337666666822},{"$f":"IF($F69<>T$2,1-_xlfn.NORM.DIST(0,INDEX(Rating,$F69)-INDEX(Rating,T$2),10,1),\"\")","v":0.81138186424416325},{"$f":"IF($F69<>U$2,1-_xlfn.NORM.DIST(0,INDEX(Rating,$F69)-INDEX(Rating,U$2),10,1),\"\")","v":0.76083776157942784},{"$f":"IF($F69<>V$2,1-_xlfn.NORM.DIST(0,INDEX(Rating,$F69)-INDEX(Rating,V$2),10,1),\"\")","v":0.5536940628343815},{"$f":"IF($F69<>W$2,1-_xlfn.NORM.DIST(0,INDEX(Rating,$F69)-INDEX(Rating,W$2),10,1),\"\")","v":0.93188788203327444},{"$f":"IF($F69<>X$2,1-_xlfn.NORM.DIST(0,INDEX(Rating,$F69)-INDEX(Rating,X$2),10,1),\"\")","v":0.5812139374874481},{"$f":"IF($F69<>Y$2,1-_xlfn.NORM.DIST(0,INDEX(Rating,$F69)-INDEX(Rating,Y$2),10,1),\"\")","v":0.99525667565417686},{"$f":"IF($F69<>Z$2,1-_xlfn.NORM.DIST(0,INDEX(Rating,$F69)-INDEX(Rating,Z$2),10,1),\"\")","v":0.99688098619696719},{"$f":"IF($F69<>AA$2,1-_xlfn.NORM.DIST(0,INDEX(Rating,$F69)-INDEX(Rating,AA$2),10,1),\"\")","v":0.68010770514658325},{"$f":"IF($F69<>AB$2,1-_xlfn.NORM.DIST(0,INDEX(Rating,$F69)-INDEX(Rating,AB$2),10,1),\"\")","v":0.77487550889007295},{"$f":"IF($F69<>AC$2,1-_xlfn.NORM.DIST(0,INDEX(Rating,$F69)-INDEX(Rating,AC$2),10,1),\"\")","v":0.65062189602366094},{"$f":"IF($F69<>AD$2,1-_xlfn.NORM.DIST(0,INDEX(Rating,$F69)-INDEX(Rating,AD$2),10,1),\"\")","v":0.85813998393014901},{"$f":"IF($F69<>AE$2,1-_xlfn.NORM.DIST(0,INDEX(Rating,$F69)-INDEX(Rating,AE$2),10,1),\"\")","v":0.57652051595550513},{"$f":"IF($F69<>AF$2,1-_xlfn.NORM.DIST(0,INDEX(Rating,$F69)-INDEX(Rating,AF$2),10,1),\"\")","v":0.91605262305070967},{"$f":"IF($F69<>AG$2,1-_xlfn.NORM.DIST(0,INDEX(Rating,$F69)-INDEX(Rating,AG$2),10,1),\"\")","v":0.70055589651304662},{"$f":"IF($F69<>AH$2,1-_xlfn.NORM.DIST(0,INDEX(Rating,$F69)-INDEX(Rating,AH$2),10,1),\"\")","v":0.76083776157942784},{"$f":"IF($F69<>AI$2,1-_xlfn.NORM.DIST(0,INDEX(Rating,$F69)-INDEX(Rating,AI$2),10,1),\"\")","v":0.72139814664216295},{"$f":"IF($F69<>AJ$2,1-_xlfn.NORM.DIST(0,INDEX(Rating,$F69)-INDEX(Rating,AJ$2),10,1),\"\")","v":0.95042618264386847},{"$f":"IF($F69<>AK$2,1-_xlfn.NORM.DIST(0,INDEX(Rating,$F69)-INDEX(Rating,AK$2),10,1),\"\")","v":0.73499803000615405},{"$f":"IF($F69<>AL$2,1-_xlfn.NORM.DIST(0,INDEX(Rating,$F69)-INDEX(Rating,AL$2),10,1),\"\")","v":0.76083776157942784},{"$f":"IF($F69<>AM$2,1-_xlfn.NORM.DIST(0,INDEX(Rating,$F69)-INDEX(Rating,AM$2),10,1),\"\")","v":0.64430875480054639},{"$f":"IF($F69<>AN$2,1-_xlfn.NORM.DIST(0,INDEX(Rating,$F69)-INDEX(Rating,AN$2),10,1),\"\")","v":0.92605153821543351},{"$f":"IF($F69<>AO$2,1-_xlfn.NORM.DIST(0,INDEX(Rating,$F69)-INDEX(Rating,AO$2),10,1),\"\")","v":0.47448511340469501},{"$f":"IF($F69<>AP$2,1-_xlfn.NORM.DIST(0,INDEX(Rating,$F69)-INDEX(Rating,AP$2),10,1),\"\")","v":0.96848643080822294},{"$f":"IF($F69<>AQ$2,1-_xlfn.NORM.DIST(0,INDEX(Rating,$F69)-INDEX(Rating,AQ$2),10,1),\"\")","v":0.73761178898486846},{"$f":"IF($F69<>AR$2,1-_xlfn.NORM.DIST(0,INDEX(Rating,$F69)-INDEX(Rating,AR$2),10,1),\"\")","v":0.722069363195597},{"$f":"IF($F69<>AS$2,1-_xlfn.NORM.DIST(0,INDEX(Rating,$F69)-INDEX(Rating,AS$2),10,1),\"\")","v":0.75897212526236579},{"$f":"IF($F69<>AT$2,1-_xlfn.NORM.DIST(0,INDEX(Rating,$F69)-INDEX(Rating,AT$2),10,1),\"\")","v":0.82407321791621102},{"$f":"IF($F69<>AU$2,1-_xlfn.NORM.DIST(0,INDEX(Rating,$F69)-INDEX(Rating,AU$2),10,1),\"\")","v":0.69146246127401312},{"$f":"IF($F69<>AV$2,1-_xlfn.NORM.DIST(0,INDEX(Rating,$F69)-INDEX(Rating,AV$2),10,1),\"\")","v":0.84423097328772312},{"$f":"IF($F69<>AW$2,1-_xlfn.NORM.DIST(0,INDEX(Rating,$F69)-INDEX(Rating,AW$2),10,1),\"\")","v":0.75143106902551926},{"$f":"IF($F69<>AX$2,1-_xlfn.NORM.DIST(0,INDEX(Rating,$F69)-INDEX(Rating,AX$2),10,1),\"\")","v":0.8146064560116052},{"$f":"IF($F69<>AY$2,1-_xlfn.NORM.DIST(0,INDEX(Rating,$F69)-INDEX(Rating,AY$2),10,1),\"\")","v":0.83322798316828084},{"$f":"IF($F69<>AZ$2,1-_xlfn.NORM.DIST(0,INDEX(Rating,$F69)-INDEX(Rating,AZ$2),10,1),\"\")","v":0.68117963254835212},{"$f":"IF($F69<>BA$2,1-_xlfn.NORM.DIST(0,INDEX(Rating,$F69)-INDEX(Rating,BA$2),10,1),\"\")","v":0.96492957416557146},{"$f":"IF($F69<>BB$2,1-_xlfn.NORM.DIST(0,INDEX(Rating,$F69)-INDEX(Rating,BB$2),10,1),\"\")","v":0.69602433965372701},{"$f":"IF($F69<>BC$2,1-_xlfn.NORM.DIST(0,INDEX(Rating,$F69)-INDEX(Rating,BC$2),10,1),\"\")","v":0.76822078530259552},{"$f":"IF($F69<>BD$2,1-_xlfn.NORM.DIST(0,INDEX(Rating,$F69)-INDEX(Rating,BD$2),10,1),\"\")","v":0.52989264405289482},{"$f":"IF($F69<>BE$2,1-_xlfn.NORM.DIST(0,INDEX(Rating,$F69)-INDEX(Rating,BE$2),10,1),\"\")","v":0.93422273649176257},{"$f":"IF($F69<>BF$2,1-_xlfn.NORM.DIST(0,INDEX(Rating,$F69)-INDEX(Rating,BF$2),10,1),\"\")","v":0.55013403771226588},{"$f":"IF($F69<>BG$2,1-_xlfn.NORM.DIST(0,INDEX(Rating,$F69)-INDEX(Rating,BG$2),10,1),\"\")","v":0.98682451930389514},{"$f":"IF($F69<>BH$2,1-_xlfn.NORM.DIST(0,INDEX(Rating,$F69)-INDEX(Rating,BH$2),10,1),\"\")","v":0.70712324119419456},{"$f":"IF($F69<>BI$2,1-_xlfn.NORM.DIST(0,INDEX(Rating,$F69)-INDEX(Rating,BI$2),10,1),\"\")","v":0.72273978952172924},{"$f":"IF($F69<>BJ$2,1-_xlfn.NORM.DIST(0,INDEX(Rating,$F69)-INDEX(Rating,BJ$2),10,1),\"\")","v":0.68367489748067634},{"$f":"IF($F69<>BK$2,1-_xlfn.NORM.DIST(0,INDEX(Rating,$F69)-INDEX(Rating,BK$2),10,1),\"\")","v":0.78112550706691597},{"$f":"IF($F69<>BL$2,1-_xlfn.NORM.DIST(0,INDEX(Rating,$F69)-INDEX(Rating,BL$2),10,1),\"\")","v":0.54538110327771205},{"$f":"IF($F69<>BM$2,1-_xlfn.NORM.DIST(0,INDEX(Rating,$F69)-INDEX(Rating,BM$2),10,1),\"\")","v":0.87533946333568891},{"$f":"IF($F69<>BN$2,1-_xlfn.NORM.DIST(0,INDEX(Rating,$F69)-INDEX(Rating,BN$2),10,1),\"\")","v":0.70055589651304662},{"$f":"IF($F69<>BO$2,1-_xlfn.NORM.DIST(0,INDEX(Rating,$F69)-INDEX(Rating,BO$2),10,1),\"\")","v":0.84660954979521108},{"$f":"IF($F69<>BP$2,1-_xlfn.NORM.DIST(0,INDEX(Rating,$F69)-INDEX(Rating,BP$2),10,1),\"\")","v":0.88493032977829178},{"$f":"IF($F69<>BQ$2,1-_xlfn.NORM.DIST(0,INDEX(Rating,$F69)-INDEX(Rating,BQ$2),10,1),\"\")","v":0.52949480736890275},{"$f":"IF($F69<>BR$2,1-_xlfn.NORM.DIST(0,INDEX(Rating,$F69)-INDEX(Rating,BR$2),10,1),\"\")","v":0.9358700813401799},{"$f":"IF($F69<>BS$2,1-_xlfn.NORM.DIST(0,INDEX(Rating,$F69)-INDEX(Rating,BS$2),10,1),\"\")","v":0.76669320685373488},{"$f":"IF($F69<>BT$2,1-_xlfn.NORM.DIST(0,INDEX(Rating,$F69)-INDEX(Rating,BT$2),10,1),\"\")","v":0.82433173728409692},{"$f":"IF($F69<>BU$2,1-_xlfn.NORM.DIST(0,INDEX(Rating,$F69)-INDEX(Rating,BU$2),10,1),\"\")","v":""},{"$f":"IF($F69<>BV$2,1-_xlfn.NORM.DIST(0,INDEX(Rating,$F69)-INDEX(Rating,BV$2),10,1),\"\")","v":0.96689505230647121}]
[null,"UNC Asheville",68,72.84,null,68,{"$f":"IF($F70<>G$2,1-_xlfn.NORM.DIST(0,INDEX(Rating,$F70)-INDEX(Rating,G$2),10,1),\"\")","v":2.2268566867792439E-2},{"$f":"IF($F70<>H$2,1-_xlfn.NORM.DIST(0,INDEX(Rating,$F70)-INDEX(Rating,H$2),10,1),\"\")","v":0.60256811320176085},{"$f":"IF($F70<>I$2,1-_xlfn.NORM.DIST(0,INDEX(Rating,$F70)-INDEX(Rating,I$2),10,1),\"\")","v":0.72906909621699467},{"$f":"IF($F70<>J$2,1-_xlfn.NORM.DIST(0,INDEX(Rating,$F70)-INDEX(Rating,J$2),10,1),\"\")","v":0.10329458985809548},{"$f":"IF($F70<>K$2,1-_xlfn.NORM.DIST(0,INDEX(Rating,$F70)-INDEX(Rating,K$2),10,1),\"\")","v":9.6458192802000631E-2},{"$f":"IF($F70<>L$2,1-_xlfn.NORM.DIST(0,INDEX(Rating,$F70)-INDEX(Rating,L$2),10,1),\"\")","v":0.10841525206980407},{"$f":"IF($F70<>M$2,1-_xlfn.NORM.DIST(0,INDEX(Rating,$F70)-INDEX(Rating,M$2),10,1),\"\")","v":0.21622678429757569},{"$f":"IF($F70<>N$2,1-_xlfn.NORM.DIST(0,INDEX(Rating,$F70)-INDEX(Rating,N$2),10,1),\"\")","v":0.11047611376552458},{"$f":"IF($F70<>O$2,1-_xlfn.NORM.DIST(0,INDEX(Rating,$F70)-INDEX(Rating,O$2),10,1),\"\")","v":0.25334515554302672},{"$f":"IF($F70<>P$2,1-_xlfn.NORM.DIST(0,INDEX(Rating,$F70)-INDEX(Rating,P$2),10,1),\"\")","v":6.9570157405874578E-2},{"$f":"IF($F70<>Q$2,1-_xlfn.NORM.DIST(0,INDEX(Rating,$F70)-INDEX(Rating,Q$2),10,1),\"\")","v":0.14893777411750198},{"$f":"IF($F70<>R$2,1-_xlfn.NORM.DIST(0,INDEX(Rating,$F70)-INDEX(Rating,R$2),10,1),\"\")","v":7.3250802620316691E-2},{"$f":"IF($F70<>S$2,1-_xlfn.NORM.DIST(0,INDEX(Rating,$F70)-INDEX(Rating,S$2),10,1),\"\")","v":0.36054590286747368},{"$f":"IF($F70<>T$2,1-_xlfn.NORM.DIST(0,INDEX(Rating,$F70)-INDEX(Rating,T$2),10,1),\"\")","v":0.17004182119025946},{"$f":"IF($F70<>U$2,1-_xlfn.NORM.DIST(0,INDEX(Rating,$F70)-INDEX(Rating,U$2),10,1),\"\")","v":0.12965995957034815},{"$f":"IF($F70<>V$2,1-_xlfn.NORM.DIST(0,INDEX(Rating,$F70)-INDEX(Rating,V$2),10,1),\"\")","v":4.4377684133637185E-2},{"$f":"IF($F70<>W$2,1-_xlfn.NORM.DIST(0,INDEX(Rating,$F70)-INDEX(Rating,W$2),10,1),\"\")","v":0.3642956593856741},{"$f":"IF($F70<>X$2,1-_xlfn.NORM.DIST(0,INDEX(Rating,$F70)-INDEX(Rating,X$2),10,1),\"\")","v":5.1339743094844459E-2},{"$f":"IF($F70<>Y$2,1-_xlfn.NORM.DIST(0,INDEX(Rating,$F70)-INDEX(Rating,Y$2),10,1),\"\")","v":0.77547506877139893},{"$f":"IF($F70<>Z$2,1-_xlfn.NORM.DIST(0,INDEX(Rating,$F70)-INDEX(Rating,Z$2),10,1),\"\")","v":0.81540722526775122},{"$f":"IF($F70<>AA$2,1-_xlfn.NORM.DIST(0,INDEX(Rating,$F70)-INDEX(Rating,AA$2),10,1),\"\")","v":8.5499637454919841E-2},{"$f":"IF($F70<>AB$2,1-_xlfn.NORM.DIST(0,INDEX(Rating,$F70)-INDEX(Rating,AB$2),10,1),\"\")","v":0.13962626397312983},{"$f":"IF($F70<>AC$2,1-_xlfn.NORM.DIST(0,INDEX(Rating,$F70)-INDEX(Rating,AC$2),10,1),\"\")","v":7.3529259609648401E-2},{"$f":"IF($F70<>AD$2,1-_xlfn.NORM.DIST(0,INDEX(Rating,$F70)-INDEX(Rating,AD$2),10,1),\"\")","v":0.22213577231232406},{"$f":"IF($F70<>AE$2,1-_xlfn.NORM.DIST(0,INDEX(Rating,$F70)-INDEX(Rating,AE$2),10,1),\"\")","v":5.0088101188171752E-2},{"$f":"IF($F70<>AF$2,1-_xlfn.NORM.DIST(0,INDEX(Rating,$F70)-INDEX(Rating,AF$2),10,1),\"\")","v":0.32347622063391035},{"$f":"IF($F70<>AG$2,1-_xlfn.NORM.DIST(0,INDEX(Rating,$F70)-INDEX(Rating,AG$2),10,1),\"\")","v":9.4928881805266263E-2},{"$f":"IF($F70<>AH$2,1-_xlfn.NORM.DIST(0,INDEX(Rating,$F70)-INDEX(Rating,AH$2),10,1),\"\")","v":0.12965995957034815},{"$f":"IF($F70<>AI$2,1-_xlfn.NORM.DIST(0,INDEX(Rating,$F70)-INDEX(Rating,AI$2),10,1),\"\")","v":0.10564977366685524},{"$f":"IF($F70<>AJ$2,1-_xlfn.NORM.DIST(0,INDEX(Rating,$F70)-INDEX(Rating,AJ$2),10,1),\"\")","v":0.42543832559014216},{"$f":"IF($F70<>AK$2,1-_xlfn.NORM.DIST(0,INDEX(Rating,$F70)-INDEX(Rating,AK$2),10,1),\"\")","v":0.11333142268890994},{"$f":"IF($F70<>AL$2,1-_xlfn.NORM.DIST(0,INDEX(Rating,$F70)-INDEX(Rating,AL$2),10,1),\"\")","v":0.12965995957034815},{"$f":"IF($F70<>AM$2,1-_xlfn.NORM.DIST(0,INDEX(Rating,$F70)-INDEX(Rating,AM$2),10,1),\"\")","v":7.1188027673750542E-2},{"$f":"IF($F70<>AN$2,1-_xlfn.NORM.DIST(0,INDEX(Rating,$F70)-INDEX(Rating,AN$2),10,1),\"\")","v":0.3482682734640179},{"$f":"IF($F70<>AO$2,1-_xlfn.NORM.DIST(0,INDEX(Rating,$F70)-INDEX(Rating,AO$2),10,1),\"\")","v":2.8651006307711557E-2},{"$f":"IF($F70<>AP$2,1-_xlfn.NORM.DIST(0,INDEX(Rating,$F70)-INDEX(Rating,AP$2),10,1),\"\")","v":0.50877602223066165},{"$f":"IF($F70<>AQ$2,1-_xlfn.NORM.DIST(0,INDEX(Rating,$F70)-INDEX(Rating,AQ$2),10,1),\"\")","v":0.11487560066410274},{"$f":"IF($F70<>AR$2,1-_xlfn.NORM.DIST(0,INDEX(Rating,$F70)-INDEX(Rating,AR$2),10,1),\"\")","v":0.10601552859711472},{"$f":"IF($F70<>AS$2,1-_xlfn.NORM.DIST(0,INDEX(Rating,$F70)-INDEX(Rating,AS$2),10,1),\"\")","v":0.12839727400381018},{"$f":"IF($F70<>AT$2,1-_xlfn.NORM.DIST(0,INDEX(Rating,$F70)-INDEX(Rating,AT$2),10,1),\"\")","v":0.18246792622013874},{"$f":"IF($F70<>AU$2,1-_xlfn.NORM.DIST(0,INDEX(Rating,$F70)-INDEX(Rating,AU$2),10,1),\"\")","v":9.0611318418204911E-2},{"$f":"IF($F70<>AV$2,1-_xlfn.NORM.DIST(0,INDEX(Rating,$F70)-INDEX(Rating,AV$2),10,1),\"\")","v":0.20468579534725262},{"$f":"IF($F70<>AW$2,1-_xlfn.NORM.DIST(0,INDEX(Rating,$F70)-INDEX(Rating,AW$2),10,1),\"\")","v":0.12343201820709082},{"$f":"IF($F70<>AX$2,1-_xlfn.NORM.DIST(0,INDEX(Rating,$F70)-INDEX(Rating,AX$2),10,1),\"\")","v":0.17309631995527108},{"$f":"IF($F70<>AY$2,1-_xlfn.NORM.DIST(0,INDEX(Rating,$F70)-INDEX(Rating,AY$2),10,1),\"\")","v":0.19215020210369604},{"$f":"IF($F70<>AZ$2,1-_xlfn.NORM.DIST(0,INDEX(Rating,$F70)-INDEX(Rating,AZ$2),10,1),\"\")","v":8.5969481695011174E-2},{"$f":"IF($F70<>BA$2,1-_xlfn.NORM.DIST(0,INDEX(Rating,$F70)-INDEX(Rating,BA$2),10,1),\"\")","v":0.48962866922599313},{"$f":"IF($F70<>BB$2,1-_xlfn.NORM.DIST(0,INDEX(Rating,$F70)-INDEX(Rating,BB$2),10,1),\"\")","v":9.275152235675288E-2},{"$f":"IF($F70<>BC$2,1-_xlfn.NORM.DIST(0,INDEX(Rating,$F70)-INDEX(Rating,BC$2),10,1),\"\")","v":0.13479656884485136},{"$f":"IF($F70<>BD$2,1-_xlfn.NORM.DIST(0,INDEX(Rating,$F70)-INDEX(Rating,BD$2),10,1),\"\")","v":3.9034648740565836E-2},{"$f":"IF($F70<>BE$2,1-_xlfn.NORM.DIST(0,INDEX(Rating,$F70)-INDEX(Rating,BE$2),10,1),\"\")","v":0.3710778440168645},{"$f":"IF($F70<>BF$2,1-_xlfn.NORM.DIST(0,INDEX(Rating,$F70)-INDEX(Rating,BF$2),10,1),\"\")","v":4.3540556413543818E-2},{"$f":"IF($F70<>BG$2,1-_xlfn.NORM.DIST(0,INDEX(Rating,$F70)-INDEX(Rating,BG$2),10,1),\"\")","v":0.64951077625081155},{"$f":"IF($F70<>BH$2,1-_xlfn.NORM.DIST(0,INDEX(Rating,$F70)-INDEX(Rating,BH$2),10,1),\"\")","v":9.8178572295596789E-2},{"$f":"IF($F70<>BI$2,1-_xlfn.NORM.DIST(0,INDEX(Rating,$F70)-INDEX(Rating,BI$2),10,1),\"\")","v":0.10638219759165291},{"$f":"IF($F70<>BJ$2,1-_xlfn.NORM.DIST(0,INDEX(Rating,$F70)-INDEX(Rating,BJ$2),10,1),\"\")","v":8.7073294352707054E-2},{"$f":"IF($F70<>BK$2,1-_xlfn.NORM.DIST(0,INDEX(Rating,$F70)-INDEX(Rating,BK$2),10,1),\"\")","v":0.14434495058565266},{"$f":"IF($F70<>BL$2,1-_xlfn.NORM.DIST(0,INDEX(Rating,$F70)-INDEX(Rating,BL$2),10,1),\"\")","v":4.2444262518508191E-2},{"$f":"IF($F70<>BM$2,1-_xlfn.NORM.DIST(0,INDEX(Rating,$F70)-INDEX(Rating,BM$2),10,1),\"\")","v":0.2466719604863421},{"$f":"IF($F70<>BN$2,1-_xlfn.NORM.DIST(0,INDEX(Rating,$F70)-INDEX(Rating,BN$2),10,1),\"\")","v":9.4928881805266263E-2},{"$f":"IF($F70<>BO$2,1-_xlfn.NORM.DIST(0,INDEX(Rating,$F70)-INDEX(Rating,BO$2),10,1),\"\")","v":0.207536155041388},{"$f":"IF($F70<>BP$2,1-_xlfn.NORM.DIST(0,INDEX(Rating,$F70)-INDEX(Rating,BP$2),10,1),\"\")","v":0.26206242179899097},{"$f":"IF($F70<>BQ$2,1-_xlfn.NORM.DIST(0,INDEX(Rating,$F70)-INDEX(Rating,BQ$2),10,1),\"\")","v":3.8950244832169356E-2},{"$f":"IF($F70<>BR$2,1-_xlfn.NORM.DIST(0,INDEX(Rating,$F70)-INDEX(Rating,BR$2),10,1),\"\")","v":0.37600125406670692},{"$f":"IF($F70<>BS$2,1-_xlfn.NORM.DIST(0,INDEX(Rating,$F70)-INDEX(Rating,BS$2),10,1),\"\")","v":0.13371509099211409},{"$f":"IF($F70<>BT$2,1-_xlfn.NORM.DIST(0,INDEX(Rating,$F70)-INDEX(Rating,BT$2),10,1),\"\")","v":0.18273269359593192},{"$f":"IF($F70<>BU$2,1-_xlfn.NORM.DIST(0,INDEX(Rating,$F70)-INDEX(Rating,BU$2),10,1),\"\")","v":3.3104947693528786E-2},{"$f":"IF($F70<>BV$2,1-_xlfn.NORM.DIST(0,INDEX(Rating,$F70)-INDEX(Rating,BV$2),10,1),\"\")","v":""}]

{"sheet":"South","index":1,"n_rows":19,"n_cols":27,"rows_kept":19,"cut":false,"hidden":false,"merged":[]}
[]
[null,"Team","Index","Into Game 1","G1 Opp1","G1 Opp2","Into Game 2","G2 Opp1","G2 Opp2","G2 Opp3","Into Game 3","G3 Opp1","G3 Opp2","G3 Opp3","G3 Opp4","G3 Opp5","Into Game 4","G4 Opp1","G4 Opp2","G4 Opp3","G4 Opp4","G4 Opp5","G4 Opp6","G4 Opp7","G4 Opp8","G4 Opp9","Into Game 5"]
[null,"Alabama",1,1,2,3,{"$f":"INDEX(InGame1,C3)*(INDEX(InGame1,E3)*INDEX(PrBeat,C3,E3)+INDEX(InGame1,F3)*INDEX(PrBeat,C3,F3))","v":0.99098965046890819},4,5,null,{"$f":"INDEX(InGame2,C3)*(INDEX(InGame2,H3)*INDEX(PrBeat,C3,H3)+INDEX(InGame2,I3)*INDEX(PrBeat,C3,I3))","v":0.75910367546850943},6,7,8,9,null,{"$f":"INDEX($K$3:$K$19,C3)*(INDEX($K$3:$K$19,L3)*INDEX(PrBeat,C3,L3)+INDEX($K$3:$K$19,M3)*INDEX(PrBeat,C3,M3)+INDEX($K$3:$K$19,N3)*INDEX(PrBeat,C3,N3)+INDEX($K$3:$K$19,O3)*INDEX(PrBeat,C3,O3))","v":0.61371641344869765},10,11,12,13,14,15,16,17,null,{"$f":"INDEX(InGame4,C3)*(INDEX(InGame4,R3)*INDEX(PrBeat,C3,R3)+INDEX(InGame4,S3)*INDEX(PrBeat,C3,S3)+INDEX(InGame4,T3)*INDEX(PrBeat,C3,T3)+INDEX(InGame4,U3)*INDEX(PrBeat,C3,U3)+INDEX(InGame4,V3)*INDEX(PrBeat,C3,V3)+INDEX(InGame4,W3)*INDEX(PrBeat,C3,W3)+INDEX(InGame4,X3)*INDEX(PrBeat,C3,X3)+INDEX(InGame4,Y3)*INDEX(PrBeat,C3,Y3))","v":0.42434807491274856}]
[null,"Texas A&M-CC",2,{"$f":"INDEX(PrBeat,C4,C5)","v":0.6368306511756191},1,null,{"$f":"INDEX(InGame1,C4)*INDEX(PrBeat,C4,E4)","v":7.4089915575160578E-3},4,5,null,{"$f":"INDEX(InGame2,C4)*(INDEX(InGame2,H4)*INDEX(PrBeat,C4,H4)+INDEX(InGame2,I4)*INDEX(PrBeat,C4,I4))","v":4.5519374180548185E-4},6,7,8,9,null,{"$f":"INDEX($K$3:$K$19,C4)*(INDEX($K$3:$K$19,L4)*INDEX(PrBeat,C4,L4)+INDEX($K$3:$K$19,M4)*INDEX(PrBeat,C4,M4)+INDEX($K$3:$K$19,N4)*INDEX(PrBeat,C4,N4)+INDEX($K$3:$K$19,O4)*INDEX(PrBeat,C4,O4))","v":4.05619410013128E-5},10,11,12,13,14,15,16,17,null,{"$f":"INDEX(InGame4,C4)*(INDEX(InGame4,R4)*INDEX(PrBeat,C4,R4)+INDEX(InGame4,S4)*INDEX(PrBeat,C4,S4)+INDEX(InGame4,T4)*INDEX(PrBeat,C4,T4)+INDEX(InGame4,U4)*INDEX(PrBeat,C4,U4)+INDEX(InGame4,V4)*INDEX(PrBeat,C4,V4)+INDEX(InGame4,W4)*INDEX(PrBeat,C4,W4)+INDEX(InGame4,X4)*INDEX(PrBeat,C4,X4)+INDEX(InGame4,Y4)*INDEX(PrBeat,C4,Y4))","v":1.8116070167977852E-6}]
[null,"SE Missouri St",3,{"$f":"1-D4","v":0.3631693488243809},1,null,{"$f":"INDEX(InGame1,C5)*INDEX(PrBeat,C5,E5)","v":1.601357973575749E-3},4,5,null,{"$f":"INDEX(InGame2,C5)*(INDEX(InGame2,H5)*INDEX(PrBeat,C5,H5)+INDEX(InGame2,I5)*INDEX(PrBeat,C5,I5))","v":4.6752867875937154E-5},6,7,8,9,null,{"$f":"INDEX($K$3:$K$19,C5)*(INDEX($K$3:$K$19,L5)*INDEX(PrBeat,C5,L5)+INDEX($K$3:$K$19,M5)*INDEX(PrBeat,C5,M5)+INDEX($K$3:$K$19,N5)*INDEX(PrBeat,C5,N5)+INDEX($K$3:$K$19,O5)*INDEX(PrBeat,C5,O5))","v":2.142589780410073E-6},10,11,12,13,14,15,16,17,null,{"$f":"INDEX(InGame4,C5)*(INDEX(InGame4,R5)*INDEX(PrBeat,C5,R5)+INDEX(InGame4,S5)*INDEX(PrBeat,C5,S5)+INDEX(InGame4,T5)*INDEX(PrBeat,C5,T5)+INDEX(InGame4,U5)*INDEX(PrBeat,C5,U5)+INDEX(InGame4,V5)*INDEX(PrBeat,C5,V5)+INDEX(InGame4,W5)*INDEX(PrBeat,C5,W5)+INDEX(InGame4,X5)*INDEX(PrBeat,C5,X5)+INDEX(InGame4,Y5)*INDEX(PrBeat,C5,Y5))","v":4.4865410191856645E-8}]
[null,"Maryland",4,1,5,null,{"$f":"INDEX(InGame1,C6)*INDEX(PrBeat,C6,E6)","v":0.48444519430750599},1,2,3,{"$f":"INDEX(InGame2,C6)*(INDEX(InGame2,H6)*INDEX(PrBeat,C6,H6)+INDEX(InGame2,I6)*INDEX(PrBeat,C6,I6)+INDEX(InGame2,J6)*INDEX(PrBeat,C6,J6))","v":0.1134904999223289},6,7,8,9,null,{"$f":"INDEX($K$3:$K$19,C6)*(INDEX($K$3:$K$19,L6)*INDEX(PrBeat,C6,L6)+INDEX($K$3:$K$19,M6)*INDEX(PrBeat,C6,M6)+INDEX($K$3:$K$19,N6)*INDEX(PrBeat,C6,N6)+INDEX($K$3:$K$19,O6)*INDEX(PrBeat,C6,O6))","v":6.3089903976831077E-2},10,11,12,13,14,15,16,17,null,{"$f":"INDEX(InGame4,C6)*(INDEX(InGame4,R6)*INDEX(PrBeat,C6,R6)+INDEX(InGame4,S6)*INDEX(PrBeat,C6,S6)+INDEX(InGame4,T6)*INDEX(PrBeat,C6,T6)+INDEX(InGame4,U6)*INDEX(PrBeat,C6,U6)+INDEX(InGame4,V6)*INDEX(PrBeat,C6,V6)+INDEX(InGame4,W6)*INDEX(PrBeat,C6,W6)+INDEX(InGame4,X6)*INDEX(PrBeat,C6,X6)+INDEX(InGame4,Y6)*INDEX(PrBeat,C6,Y6))","v":2.5890251701555626E-2}]
[null,"West Virginia",5,1,4,null,{"$f":"INDEX(InGame1,C7)*INDEX(PrBeat,C7,E7)","v":0.51555480569249401},1,2,3,{"$f":"INDEX(InGame2,C7)*(INDEX(InGame2,H7)*INDEX(PrBeat,C7,H7)+INDEX(InGame2,I7)*INDEX(PrBeat,C7,I7)+INDEX(InGame2,J7)*INDEX(PrBeat,C7,J7))","v":0.12690387799948019},6,7,8,9,null,{"$f":"INDEX($K$3:$K$19,C7)*(INDEX($K$3:$K$19,L7)*INDEX(PrBeat,C7,L7)+INDEX($K$3:$K$19,M7)*INDEX(PrBeat,C7,M7)+INDEX($K$3:$K$19,N7)*INDEX(PrBeat,C7,N7)+INDEX($K$3:$K$19,O7)*INDEX(PrBeat,C7,O7))","v":7.245565475440309E-2},10,11,12,13,14,15,16,17,null,{"$f":"INDEX(InGame4,C7)*(INDEX(InGame4,R7)*INDEX(PrBeat,C7,R7)+INDEX(InGame4,S7)*INDEX(PrBeat,C7,S7)+INDEX(InGame4,T7)*INDEX(PrBeat,C7,T7)+INDEX(InGame4,U7)*INDEX(PrBeat,C7,U7)+INDEX(InGame4,V7)*INDEX(PrBeat,C7,V7)+INDEX(InGame4,W7)*INDEX(PrBeat,C7,W7)+INDEX(InGame4,X7)*INDEX(PrBeat,C7,X7)+INDEX(InGame4,Y7)*INDEX(PrBeat,C7,Y7))","v":3.0805983907484093E-2}]
[null,"San Diego St",6,1,7,null,{"$f":"INDEX(InGame1,C8)*INDEX(PrBeat,C8,E8)","v":0.67364477971208003},8,9,null,{"$f":"INDEX(InGame2,C8)*(INDEX(InGame2,H8)*INDEX(PrBeat,C8,H8)+INDEX(InGame2,I8)*INDEX(PrBeat,C8,I8))","v":0.38079618695993328},1,2,3,4,5,{"$f":"INDEX($K$3:$K$19,C8)*(INDEX($K$3:$K$19,L8)*INDEX(PrBeat,C8,L8)+INDEX($K$3:$K$19,M8)*INDEX(PrBeat,C8,M8)+INDEX($K$3:$K$19,N8)*INDEX(PrBeat,C8,N8)+INDEX($K$3:$K$19,O8)*INDEX(PrBeat,C8,O8)+INDEX($K$3:$K$19,P8)*INDEX(PrBeat,C8,P8))","v":0.10761560565398015},10,11,12,13,14,15,16,17,null,{"$f":"INDEX(InGame4,C8)*(INDEX(InGame4,R8)*INDEX(PrBeat,C8,R8)+INDEX(InGame4,S8)*INDEX(PrBeat,C8,S8)+INDEX(InGame4,T8)*INDEX(PrBeat,C8,T8)+INDEX(InGame4,U8)*INDEX(PrBeat,C8,U8)+INDEX(InGame4,V8)*INDEX(PrBeat,C8,V8)+INDEX(InGame4,W8)*INDEX(PrBeat,C8,W8)+INDEX(InGame4,X8)*INDEX(PrBeat,C8,X8)+INDEX(InGame4,Y8)*INDEX(PrBeat,C8,Y8))","v":4.3027358203419817E-2}]
[null,"Charleston",7,1,6,null,{"$f":"INDEX(InGame1,C9)*INDEX(PrBeat,C9,E9)","v":0.32635522028791997},8,9,null,{"$f":"INDEX(InGame2,C9)*(INDEX(InGame2,H9)*INDEX(PrBeat,C9,H9)+INDEX(InGame2,I9)*INDEX(PrBeat,C9,I9))","v":0.12825998476832196},1,2,3,4,5,{"$f":"INDEX($K$3:$K$19,C9)*(INDEX($K$3:$K$19,L9)*INDEX(PrBeat,C9,L9)+INDEX($K$3:$K$19,M9)*INDEX(PrBeat,C9,M9)+INDEX($K$3:$K$19,N9)*INDEX(PrBeat,C9,N9)+INDEX($K$3:$K$19,O9)*INDEX(PrBeat,C9,O9)+INDEX($K$3:$K$19,P9)*INDEX(PrBeat,C9,P9))","v":2.0340983351469062E-2},10,11,12,13,14,15,16,17,null,{"$f":"INDEX(InGame4,C9)*(INDEX(InGame4,R9)*INDEX(PrBeat,C9,R9)+INDEX(InGame4,S9)*INDEX(PrBeat,C9,S9)+INDEX(InGame4,T9)*INDEX(PrBeat,C9,T9)+INDEX(InGame4,U9)*INDEX(PrBeat,C9,U9)+INDEX(InGame4,V9)*INDEX(PrBeat,C9,V9)+INDEX(InGame4,W9)*INDEX(PrBeat,C9,W9)+INDEX(InGame4,X9)*INDEX(PrBeat,C9,X9)+INDEX(InGame4,Y9)*INDEX(PrBeat,C9,Y9))","v":4.9826352335181866E-3}]
[null,"Virginia",8,1,9,null,{"$f":"INDEX(InGame1,C10)*INDEX(PrBeat,C10,E10)","v":0.71226028115097284},6,7,null,{"$f":"INDEX(InGame2,C10)*(INDEX(InGame2,H10)*INDEX(PrBeat,C10,H10)+INDEX(InGame2,I10)*INDEX(PrBeat,C10,I10))","v":0.39346418909121822},1,2,3,4,5,{"$f":"INDEX($K$3:$K$19,C10)*(INDEX($K$3:$K$19,L10)*INDEX(PrBeat,C10,L10)+INDEX($K$3:$K$19,M10)*INDEX(PrBeat,C10,M10)+INDEX($K$3:$K$19,N10)*INDEX(PrBeat,C10,N10)+INDEX($K$3:$K$19,O10)*INDEX(PrBeat,C10,O10)+INDEX($K$3:$K$19,P10)*INDEX(PrBeat,C10,P10))","v":0.10981369347942653},10,11,12,13,14,15,16,17,null,{"$f":"INDEX(InGame4,C10)*(INDEX(InGame4,R10)*INDEX(PrBeat,C10,R10)+INDEX(InGame4,S10)*INDEX(PrBeat,C10,S10)+INDEX(InGame4,T10)*INDEX(PrBeat,C10,T10)+INDEX(InGame4,U10)*INDEX(PrBeat,C10,U10)+INDEX(InGame4,V10)*INDEX(PrBeat,C10,V10)+INDEX(InGame4,W10)*INDEX(PrBeat,C10,W10)+INDEX(InGame4,X10)*INDEX(PrBeat,C10,X10)+INDEX(InGame4,Y10)*INDEX(PrBeat,C10,Y10))","v":4.3453420901104288E-2}]
[null,"Furman",9,1,8,null,{"$f":"INDEX(InGame1,C11)*INDEX(PrBeat,C11,E11)","v":0.28773971884902716},6,7,null,{"$f":"INDEX(InGame2,C11)*(INDEX(InGame2,H11)*INDEX(PrBeat,C11,H11)+INDEX(InGame2,I11)*INDEX(PrBeat,C11,I11))","v":9.7479639180526476E-2},1,2,3,4,5,{"$f":"INDEX($K$3:$K$19,C11)*(INDEX($K$3:$K$19,L11)*INDEX(PrBeat,C11,L11)+INDEX($K$3:$K$19,M11)*INDEX(PrBeat,C11,M11)+INDEX($K$3:$K$19,N11)*INDEX(PrBeat,C11,N11)+INDEX($K$3:$K$19,O11)*INDEX(PrBeat,C11,O11)+INDEX($K$3:$K$19,P11)*INDEX(PrBeat,C11,P11))","v":1.2925040804410554E-2},10,11,12,13,14,15,16,17,null,{"$f":"INDEX(InGame4,C11)*(INDEX(InGame4,R11)*INDEX(PrBeat,C11,R11)+INDEX(InGame4,S11)*INDEX(PrBeat,C11,S11)+INDEX(InGame4,T11)*INDEX(PrBeat,C11,T11)+INDEX(InGame4,U11)*INDEX(PrBeat,C11,U11)+INDEX(InGame4,V11)*INDEX(PrBeat,C11,V11)+INDEX(InGame4,W11)*INDEX(PrBeat,C11,W11)+INDEX(InGame4,X11)*INDEX(PrBeat,C11,X11)+INDEX(InGame4,Y11)*INDEX(PrBeat,C11,Y11))","v":2.7097255531232461E-3}]
[null,"Creighton",10,1,11,null,{"$f":"INDEX(InGame1,C12)*INDEX(PrBeat,C12,E12)","v":0.66930685828554881},12,13,null,{"$f":"INDEX(InGame2,C12)*(INDEX(InGame2,H12)*INDEX(PrBeat,C12,H12)+INDEX(InGame2,I12)*INDEX(PrBeat,C12,I12))","v":0.3746582035157508},14,15,16,17,null,{"$f":"INDEX($K$3:$K$19,C12)*(INDEX($K$3:$K$19,L12)*INDEX(PrBeat,C12,L12)+INDEX($K$3:$K$19,M12)*INDEX(PrBeat,C12,M12)+INDEX($K$3:$K$19,N12)*INDEX(PrBeat,C12,N12)+INDEX($K$3:$K$19,O12)*INDEX(PrBeat,C12,O12))","v":0.18624439931974973},1,2,3,4,5,6,7,8,9,{"$f":"INDEX(InGame4,C12)*(INDEX(InGame4,R12)*INDEX(PrBeat,C12,R12)+INDEX(InGame4,S12)*INDEX(PrBeat,C12,S12)+INDEX(InGame4,T12)*INDEX(PrBeat,C12,T12)+INDEX(InGame4,U12)*INDEX(PrBeat,C12,U12)+INDEX(InGame4,V12)*INDEX(PrBeat,C12,V12)+INDEX(InGame4,W12)*INDEX(PrBeat,C12,W12)+INDEX(InGame4,X12)*INDEX(PrBeat,C12,X12)+INDEX(InGame4,Y12)*INDEX(PrBeat,C12,Y12)+INDEX(InGame4,Z12)*INDEX(PrBeat,C12,Z12))","v":7.7660591282778843E-2}]
[null,"NC State",11,1,10,null,{"$f":"INDEX(InGame1,C13)*INDEX(PrBeat,C13,E13)","v":0.33069314171445119},12,13,null,{"$f":"INDEX(InGame2,C13)*(INDEX(InGame2,H13)*INDEX(PrBeat,C13,H13)+INDEX(InGame2,I13)*INDEX(PrBeat,C13,I13))","v":0.1312672576293982},14,15,16,17,null,{"$f":"INDEX($K$3:$K$19,C13)*(INDEX($K$3:$K$19,L13)*INDEX(PrBeat,C13,L13)+INDEX($K$3:$K$19,M13)*INDEX(PrBeat,C13,M13)+INDEX($K$3:$K$19,N13)*INDEX(PrBeat,C13,N13)+INDEX($K$3:$K$19,O13)*INDEX(PrBeat,C13,O13))","v":4.4226017010885472E-2},1,2,3,4,5,6,7,8,9,{"$f":"INDEX(InGame4,C13)*(INDEX(InGame4,R13)*INDEX(PrBeat,C13,R13)+INDEX(InGame4,S13)*INDEX(PrBeat,C13,S13)+INDEX(InGame4,T13)*INDEX(PrBeat,C13,T13)+INDEX(InGame4,U13)*INDEX(PrBeat,C13,U13)+INDEX(InGame4,V13)*INDEX(PrBeat,C13,V13)+INDEX(InGame4,W13)*INDEX(PrBeat,C13,W13)+INDEX(InGame4,X13)*INDEX(PrBeat,C13,X13)+INDEX(InGame4,Y13)*INDEX(PrBeat,C13,Y13)+INDEX(InGame4,Z13)*INDEX(PrBeat,C13,Z13))","v":1.1943642983975251E-2}]
[null,"Baylor",12,1,13,null,{"$f":"INDEX(InGame1,C14)*INDEX(PrBeat,C14,E14)","v":0.86324168175910354},10,11,null,{"$f":"INDEX(InGame2,C14)*(INDEX(InGame2,H14)*INDEX(PrBeat,C14,H14)+INDEX(InGame2,I14)*INDEX(PrBeat,C14,I14))","v":0.47091995199456921},14,15,16,17,null,{"$f":"INDEX($K$3:$K$19,C14)*(INDEX($K$3:$K$19,L14)*INDEX(PrBeat,C14,L14)+INDEX($K$3:$K$19,M14)*INDEX(PrBeat,C14,M14)+INDEX($K$3:$K$19,N14)*INDEX(PrBeat,C14,N14)+INDEX($K$3:$K$19,O14)*INDEX(PrBeat,C14,O14))","v":0.22929354103214727},1,2,3,4,5,6,7,8,9,{"$f":"INDEX(InGame4,C14)*(INDEX(InGame4,R14)*INDEX(PrBeat,C14,R14)+INDEX(InGame4,S14)*INDEX(PrBeat,C14,S14)+INDEX(InGame4,T14)*INDEX(PrBeat,C14,T14)+INDEX(InGame4,U14)*INDEX(PrBeat,C14,U14)+INDEX(InGame4,V14)*INDEX(PrBeat,C14,V14)+INDEX(InGame4,W14)*INDEX(PrBeat,C14,W14)+INDEX(InGame4,X14)*INDEX(PrBeat,C14,X14)+INDEX(InGame4,Y14)*INDEX(PrBeat,C14,Y14)+INDEX(InGame4,Z14)*INDEX(PrBeat,C14,Z14))","v":9.3389209162305142E-2}]
[null,"UCSB",13,1,12,null,{"$f":"INDEX(InGame1,C15)*INDEX(PrBeat,C15,E15)","v":0.13675831824089646},10,11,null,{"$f":"INDEX(InGame2,C15)*(INDEX(InGame2,H15)*INDEX(PrBeat,C15,H15)+INDEX(InGame2,I15)*INDEX(PrBeat,C15,I15))","v":2.3154586860281795E-2},14,15,16,17,null,{"$f":"INDEX($K$3:$K$19,C15)*(INDEX($K$3:$K$19,L15)*INDEX(PrBeat,C15,L15)+INDEX($K$3:$K$19,M15)*INDEX(PrBeat,C15,M15)+INDEX($K$3:$K$19,N15)*INDEX(PrBeat,C15,N15)+INDEX($K$3:$K$19,O15)*INDEX(PrBeat,C15,O15))","v":3.3382390412029428E-3},1,2,3,4,5,6,7,8,9,{"$f":"INDEX(InGame4,C15)*(INDEX(InGame4,R15)*INDEX(PrBeat,C15,R15)+INDEX(InGame4,S15)*INDEX(PrBeat,C15,S15)+INDEX(InGame4,T15)*INDEX(PrBeat,C15,T15)+INDEX(InGame4,U15)*INDEX(PrBeat,C15,U15)+INDEX(InGame4,V15)*INDEX(PrBeat,C15,V15)+INDEX(InGame4,W15)*INDEX(PrBeat,C15,W15)+INDEX(InGame4,X15)*INDEX(PrBeat,C15,X15)+INDEX(InGame4,Y15)*INDEX(PrBeat,C15,Y15)+INDEX(InGame4,Z15)*INDEX(PrBeat,C15,Z15))","v":3.5921141317506346E-4}]
[null,"Missouri",14,1,15,null,{"$f":"INDEX(InGame1,C16)*INDEX(PrBeat,C16,E16)","v":0.43093273111529096},16,17,null,{"$f":"INDEX(InGame2,C16)*(INDEX(InGame2,H16)*INDEX(PrBeat,C16,H16)+INDEX(InGame2,I16)*INDEX(PrBeat,C16,I16))","v":0.11685108806832231},10,11,12,13,null,{"$f":"INDEX($K$3:$K$19,C16)*(INDEX($K$3:$K$19,L16)*INDEX(PrBeat,C16,L16)+INDEX($K$3:$K$19,M16)*INDEX(PrBeat,C16,M16)+INDEX($K$3:$K$19,N16)*INDEX(PrBeat,C16,N16)+INDEX($K$3:$K$19,O16)*INDEX(PrBeat,C16,O16))","v":3.9240017248775981E-2},1,2,3,4,5,6,7,8,9,{"$f":"INDEX(InGame4,C16)*(INDEX(InGame4,R16)*INDEX(PrBeat,C16,R16)+INDEX(InGame4,S16)*INDEX(PrBeat,C16,S16)+INDEX(InGame4,T16)*INDEX(PrBeat,C16,T16)+INDEX(InGame4,U16)*INDEX(PrBeat,C16,U16)+INDEX(InGame4,V16)*INDEX(PrBeat,C16,V16)+INDEX(InGame4,W16)*INDEX(PrBeat,C16,W16)+INDEX(InGame4,X16)*INDEX(PrBeat,C16,X16)+INDEX(InGame4,Y16)*INDEX(PrBeat,C16,Y16)+INDEX(InGame4,Z16)*INDEX(PrBeat,C16,Z16))","v":9.5869547928489202E-3}]
[null,"Utah St",15,1,14,null,{"$f":"INDEX(InGame1,C17)*INDEX(PrBeat,C17,E17)","v":0.56906726888470904},16,17,null,{"$f":"INDEX(InGame2,C17)*(INDEX(InGame2,H17)*INDEX(PrBeat,C17,H17)+INDEX(InGame2,I17)*INDEX(PrBeat,C17,I17))","v":0.18597374941536765},10,11,12,13,null,{"$f":"INDEX($K$3:$K$19,C17)*(INDEX($K$3:$K$19,L17)*INDEX(PrBeat,C17,L17)+INDEX($K$3:$K$19,M17)*INDEX(PrBeat,C17,M17)+INDEX($K$3:$K$19,N17)*INDEX(PrBeat,C17,N17)+INDEX($K$3:$K$19,O17)*INDEX(PrBeat,C17,O17))","v":7.4352057232050267E-2},1,2,3,4,5,6,7,8,9,{"$f":"INDEX(InGame4,C17)*(INDEX(InGame4,R17)*INDEX(PrBeat,C17,R17)+INDEX(InGame4,S17)*INDEX(PrBeat,C17,S17)+INDEX(InGame4,T17)*INDEX(PrBeat,C17,T17)+INDEX(InGame4,U17)*INDEX(PrBeat,C17,U17)+INDEX(InGame4,V17)*INDEX(PrBeat,C17,V17)+INDEX(InGame4,W17)*INDEX(PrBeat,C17,W17)+INDEX(InGame4,X17)*INDEX(PrBeat,C17,X17)+INDEX(InGame4,Y17)*INDEX(PrBeat,C17,Y17)+INDEX(InGame4,Z17)*INDEX(PrBeat,C17,Z17))","v":2.2090938881443277E-2}]
[null,"Arizona",16,1,17,null,{"$f":"INDEX(InGame1,C18)*INDEX(PrBeat,C18,E18)","v":0.91229122148551389},14,15,null,{"$f":"INDEX(InGame2,C18)*(INDEX(InGame2,H18)*INDEX(PrBeat,C18,H18)+INDEX(InGame2,I18)*INDEX(PrBeat,C18,I18))","v":0.67604633585758933},10,11,12,13,null,{"$f":"INDEX($K$3:$K$19,C18)*(INDEX($K$3:$K$19,L18)*INDEX(PrBeat,C18,L18)+INDEX($K$3:$K$19,M18)*INDEX(PrBeat,C18,M18)+INDEX($K$3:$K$19,N18)*INDEX(PrBeat,C18,N18)+INDEX($K$3:$K$19,O18)*INDEX(PrBeat,C18,O18))","v":0.42002797172042111},1,2,3,4,5,6,7,8,9,{"$f":"INDEX(InGame4,C18)*(INDEX(InGame4,R18)*INDEX(PrBeat,C18,R18)+INDEX(InGame4,S18)*INDEX(PrBeat,C18,S18)+INDEX(InGame4,T18)*INDEX(PrBeat,C18,T18)+INDEX(InGame4,U18)*INDEX(PrBeat,C18,U18)+INDEX(InGame4,V18)*INDEX(PrBeat,C18,V18)+INDEX(InGame4,W18)*INDEX(PrBeat,C18,W18)+INDEX(InGame4,X18)*INDEX(PrBeat,C18,X18)+INDEX(InGame4,Y18)*INDEX(PrBeat,C18,Y18)+INDEX(InGame4,Z18)*INDEX(PrBeat,C18,Z18))","v":0.20940296134479389}]
[null,"Princeton",17,1,16,null,{"$f":"INDEX(InGame1,C19)*INDEX(PrBeat,C19,E19)","v":8.7708778514486108E-2},14,15,null,{"$f":"INDEX(InGame2,C19)*(INDEX(InGame2,H19)*INDEX(PrBeat,C19,H19)+INDEX(InGame2,I19)*INDEX(PrBeat,C19,I19))","v":2.1128826658720731E-2},10,11,12,13,null,{"$f":"INDEX($K$3:$K$19,C19)*(INDEX($K$3:$K$19,L19)*INDEX(PrBeat,C19,L19)+INDEX($K$3:$K$19,M19)*INDEX(PrBeat,C19,M19)+INDEX($K$3:$K$19,N19)*INDEX(PrBeat,C19,N19)+INDEX($K$3:$K$19,O19)*INDEX(PrBeat,C19,O19))","v":3.2777573947672294E-3},1,2,3,4,5,6,7,8,9,{"$f":"INDEX(InGame4,C19)*(INDEX(InGame4,R19)*INDEX(PrBeat,C19,R19)+INDEX(InGame4,S19)*INDEX(PrBeat,C19,S19)+INDEX(InGame4,T19)*INDEX(PrBeat,C19,T19)+INDEX(InGame4,U19)*INDEX(PrBeat,C19,U19)+INDEX(InGame4,V19)*INDEX(PrBeat,C19,V19)+INDEX(InGame4,W19)*INDEX(PrBeat,C19,W19)+INDEX(InGame4,X19)*INDEX(PrBeat,C19,X19)+INDEX(InGame4,Y19)*INDEX(PrBeat,C19,Y19)+INDEX(InGame4,Z19)*INDEX(PrBeat,C19,Z19))","v":3.4718325329862869E-4}]

{"sheet":"East","index":2,"n_rows":19,"n_cols":27,"rows_kept":19,"cut":false,"hidden":false,"merged":[]}
[]
[null,"Team","Index","Into Game 1","G1 Opp1","G1 Opp2","Into Game 2","G2 Opp1","G2 Opp2","G2 Opp3","Into Game 3","G3 Opp1","G3 Opp2","G3 Opp3","G3 Opp4","G3 Opp5","Into Game 4","G4 Opp1","G4 Opp2","G4 Opp3","G4 Opp4","G4 Opp5","G4 Opp6","G4 Opp7","G4 Opp8","G4 Opp9","Into Game 5"]
[null,"Purdue",18,1,19,20,{"$f":"INDEX(InGame1,C3-17)*(INDEX(InGame1,E3-17)*INDEX(PrBeat,C3,E3)+INDEX(InGame1,F3-17)*INDEX(PrBeat,C3,F3))","v":0.99277101741072249},21,22,null,{"$f":"INDEX(InGame2,C3-17)*(INDEX(InGame2,H3-17)*INDEX(PrBeat,C3,H3)+INDEX(InGame2,I3-17)*INDEX(PrBeat,C3,I3))","v":0.63975192080364052},23,24,25,26,null,{"$f":"INDEX(InGame3,C3-17)*(INDEX(InGame3,L3-17)*INDEX(PrBeat,C3,L3)+INDEX(InGame3,M3-17)*INDEX(PrBeat,C3,M3)+INDEX(InGame3,N3-17)*INDEX(PrBeat,C3,N3)+INDEX(InGame3,O3-17)*INDEX(PrBeat,C3,O3))","v":0.3523854703091277},27,28,29,30,31,32,33,34,null,{"$f":"INDEX(InGame4,C3-17)*(INDEX(InGame4,R3-17)*INDEX(PrBeat,C3,R3)+INDEX(InGame4,S3-17)*INDEX(PrBeat,C3,S3)+INDEX(InGame4,T3-17)*INDEX(PrBeat,C3,T3)+INDEX(InGame4,U3-17)*INDEX(PrBeat,C3,U3)+INDEX(InGame4,V3-17)*INDEX(PrBeat,C3,V3)+INDEX(InGame4,W3-17)*INDEX(PrBeat,C3,W3)+INDEX(InGame4,X3-17)*INDEX(PrBeat,C3,X3)+INDEX(InGame4,Y3-17)*INDEX(PrBeat,C3,Y3))","v":0.2223808002396008}]
[null,"Texas Southern",19,{"$f":"INDEX(PrBeat,C4,C5)","v":0.55606502882857445},18,null,{"$f":"INDEX(InGame1,C4-17)*INDEX(PrBeat,C4,E4)","v":4.6971653650719975E-3},21,22,null,{"$f":"INDEX(InGame2,C4-17)*(INDEX(InGame2,H4-17)*INDEX(PrBeat,C4,H4)+INDEX(InGame2,I4-17)*INDEX(PrBeat,C4,I4))","v":1.081486987629536E-4},23,24,25,26,null,{"$f":"INDEX(InGame3,C4-17)*(INDEX(InGame3,L4-17)*INDEX(PrBeat,C4,L4)+INDEX(InGame3,M4-17)*INDEX(PrBeat,C4,M4)+INDEX(InGame3,N4-17)*INDEX(PrBeat,C4,N4)+INDEX(InGame3,O4-17)*INDEX(PrBeat,C4,O4))","v":1.7374868148342024E-6},27,28,29,30,31,32,33,34,null,{"$f":"INDEX(InGame4,C4-17)*(INDEX(InGame4,R4-17)*INDEX(PrBeat,C4,R4)+INDEX(InGame4,S4-17)*INDEX(PrBeat,C4,S4)+INDEX(InGame4,T4-17)*INDEX(PrBeat,C4,T4)+INDEX(InGame4,U4-17)*INDEX(PrBeat,C4,U4)+INDEX(InGame4,V4-17)*INDEX(PrBeat,C4,V4)+INDEX(InGame4,W4-17)*INDEX(PrBeat,C4,W4)+INDEX(InGame4,X4-17)*INDEX(PrBeat,C4,X4)+INDEX(InGame4,Y4-17)*INDEX(PrBeat,C4,Y4))","v":3.7635745575480228E-8}]
[null,"Fairleigh Dickinson",20,{"$f":"1-D4","v":0.44393497117142555},18,null,{"$f":"INDEX(InGame1,C5-17)*INDEX(PrBeat,C5,E5)","v":2.5318172242054537E-3},21,22,null,{"$f":"INDEX(InGame2,C5-17)*(INDEX(InGame2,H5-17)*INDEX(PrBeat,C5,H5)+INDEX(InGame2,I5-17)*INDEX(PrBeat,C5,I5))","v":4.1522865085075528E-5},23,24,25,26,null,{"$f":"INDEX(InGame3,C5-17)*(INDEX(InGame3,L5-17)*INDEX(PrBeat,C5,L5)+INDEX(InGame3,M5-17)*INDEX(PrBeat,C5,M5)+INDEX(InGame3,N5-17)*INDEX(PrBeat,C5,N5)+INDEX(InGame3,O5-17)*INDEX(PrBeat,C5,O5))","v":4.779646277893134E-7},27,28,29,30,31,32,33,34,null,{"$f":"INDEX(InGame4,C5-17)*(INDEX(InGame4,R5-17)*INDEX(PrBeat,C5,R5)+INDEX(InGame4,S5-17)*INDEX(PrBeat,C5,S5)+INDEX(InGame4,T5-17)*INDEX(PrBeat,C5,T5)+INDEX(InGame4,U5-17)*INDEX(PrBeat,C5,U5)+INDEX(InGame4,V5-17)*INDEX(PrBeat,C5,V5)+INDEX(InGame4,W5-17)*INDEX(PrBeat,C5,W5)+INDEX(InGame4,X5-17)*INDEX(PrBeat,C5,X5)+INDEX(InGame4,Y5-17)*INDEX(PrBeat,C5,Y5))","v":7.3778766007542617E-9}]
[null,"Memphis",21,1,22,null,{"$f":"INDEX(InGame1,C6-17)*INDEX(PrBeat,C6,E6)","v":0.61294383988301671},18,19,20,{"$f":"INDEX(InGame2,C6-17)*(INDEX(InGame2,H6-17)*INDEX(PrBeat,C6,H6)+INDEX(InGame2,I6-17)*INDEX(PrBeat,C6,I6)+INDEX(InGame2,J6-17)*INDEX(PrBeat,C6,J6))","v":0.24550319909245436},23,24,25,26,null,{"$f":"INDEX(InGame3,C6-17)*(INDEX(InGame3,L6-17)*INDEX(PrBeat,C6,L6)+INDEX(InGame3,M6-17)*INDEX(PrBeat,C6,M6)+INDEX(InGame3,N6-17)*INDEX(PrBeat,C6,N6)+INDEX(InGame3,O6-17)*INDEX(PrBeat,C6,O6))","v":0.11033070394048199},27,28,29,30,31,32,33,34,null,{"$f":"INDEX(InGame4,C6-17)*(INDEX(InGame4,R6-17)*INDEX(PrBeat,C6,R6)+INDEX(InGame4,S6-17)*INDEX(PrBeat,C6,S6)+INDEX(InGame4,T6-17)*INDEX(PrBeat,C6,T6)+INDEX(InGame4,U6-17)*INDEX(PrBeat,C6,U6)+INDEX(InGame4,V6-17)*INDEX(PrBeat,C6,V6)+INDEX(InGame4,W6-17)*INDEX(PrBeat,C6,W6)+INDEX(InGame4,X6-17)*INDEX(PrBeat,C6,X6)+INDEX(InGame4,Y6-17)*INDEX(PrBeat,C6,Y6))","v":5.8444829841189816E-2}]
[null,"Florida Atlantic",22,1,21,null,{"$f":"INDEX(InGame1,C7-17)*INDEX(PrBeat,C7,E7)","v":0.38705616011698329},18,19,20,{"$f":"INDEX(InGame2,C7-17)*(INDEX(InGame2,H7-17)*INDEX(PrBeat,C7,H7)+INDEX(InGame2,I7-17)*INDEX(PrBeat,C7,I7)+INDEX(InGame2,J7-17)*INDEX(PrBeat,C7,J7))","v":0.11459520854005711},23,24,25,26,null,{"$f":"INDEX(InGame3,C7-17)*(INDEX(InGame3,L7-17)*INDEX(PrBeat,C7,L7)+INDEX(InGame3,M7-17)*INDEX(PrBeat,C7,M7)+INDEX(InGame3,N7-17)*INDEX(PrBeat,C7,N7)+INDEX(InGame3,O7-17)*INDEX(PrBeat,C7,O7))","v":3.9309921926284658E-2},27,28,29,30,31,32,33,34,null,{"$f":"INDEX(InGame4,C7-17)*(INDEX(InGame4,R7-17)*INDEX(PrBeat,C7,R7)+INDEX(InGame4,S7-17)*INDEX(PrBeat,C7,S7)+INDEX(InGame4,T7-17)*INDEX(PrBeat,C7,T7)+INDEX(InGame4,U7-17)*INDEX(PrBeat,C7,U7)+INDEX(InGame4,V7-17)*INDEX(PrBeat,C7,V7)+INDEX(InGame4,W7-17)*INDEX(PrBeat,C7,W7)+INDEX(InGame4,X7-17)*INDEX(PrBeat,C7,X7)+INDEX(InGame4,Y7-17)*INDEX(PrBeat,C7,Y7))","v":1.6398978411101366E-2}]
[null,"Duke",23,1,24,null,{"$f":"INDEX(InGame1,C8-17)*INDEX(PrBeat,C8,E8)","v":0.75332803951365834},25,26,null,{"$f":"INDEX(InGame2,C8-17)*(INDEX(InGame2,H8-17)*INDEX(PrBeat,C8,H8)+INDEX(InGame2,I8-17)*INDEX(PrBeat,C8,I8))","v":0.35567199836070723},18,19,20,21,22,{"$f":"INDEX(InGame3,C8-17)*(INDEX(InGame3,L8-17)*INDEX(PrBeat,C8,L8)+INDEX(InGame3,M8-17)*INDEX(PrBeat,C8,M8)+INDEX(InGame3,N8-17)*INDEX(PrBeat,C8,N8)+INDEX(InGame3,O8-17)*INDEX(PrBeat,C8,O8)+INDEX(InGame3,P8-17)*INDEX(PrBeat,C8,P8))","v":0.17010142504336945},27,28,29,30,31,32,33,34,null,{"$f":"INDEX(InGame4,C8-17)*(INDEX(InGame4,R8-17)*INDEX(PrBeat,C8,R8)+INDEX(InGame4,S8-17)*INDEX(PrBeat,C8,S8)+INDEX(InGame4,T8-17)*INDEX(PrBeat,C8,T8)+INDEX(InGame4,U8-17)*INDEX(PrBeat,C8,U8)+INDEX(InGame4,V8-17)*INDEX(PrBeat,C8,V8)+INDEX(InGame4,W8-17)*INDEX(PrBeat,C8,W8)+INDEX(InGame4,X8-17)*INDEX(PrBeat,C8,X8)+INDEX(InGame4,Y8-17)*INDEX(PrBeat,C8,Y8))","v":9.550545766184769E-2}]
[null,"Oral Roberts",24,1,23,null,{"$f":"INDEX(InGame1,C9-17)*INDEX(PrBeat,C9,E9)","v":0.24667196048634166},25,26,null,{"$f":"INDEX(InGame2,C9-17)*(INDEX(InGame2,H9-17)*INDEX(PrBeat,C9,H9)+INDEX(InGame2,I9-17)*INDEX(PrBeat,C9,I9))","v":5.9315438275285313E-2},18,19,20,21,22,{"$f":"INDEX(InGame3,C9-17)*(INDEX(InGame3,L9-17)*INDEX(PrBeat,C9,L9)+INDEX(InGame3,M9-17)*INDEX(PrBeat,C9,M9)+INDEX(InGame3,N9-17)*INDEX(PrBeat,C9,N9)+INDEX(InGame3,O9-17)*INDEX(PrBeat,C9,O9)+INDEX(InGame3,P9-17)*INDEX(PrBeat,C9,P9))","v":1.385857524465498E-2},27,28,29,30,31,32,33,34,null,{"$f":"INDEX(InGame4,C9-17)*(INDEX(InGame4,R9-17)*INDEX(PrBeat,C9,R9)+INDEX(InGame4,S9-17)*INDEX(PrBeat,C9,S9)+INDEX(InGame4,T9-17)*INDEX(PrBeat,C9,T9)+INDEX(InGame4,U9-17)*INDEX(PrBeat,C9,U9)+INDEX(InGame4,V9-17)*INDEX(PrBeat,C9,V9)+INDEX(InGame4,W9-17)*INDEX(PrBeat,C9,W9)+INDEX(InGame4,X9-17)*INDEX(PrBeat,C9,X9)+INDEX(InGame4,Y9-17)*INDEX(PrBeat,C9,Y9))","v":4.1677537840413481E-3}]
[null,"Tennessee",25,1,26,null,{"$f":"INDEX(InGame1,C10-17)*INDEX(PrBeat,C10,E10)","v":0.88218885023801386},23,24,null,{"$f":"INDEX(InGame2,C10-17)*(INDEX(InGame2,H10-17)*INDEX(PrBeat,C10,H10)+INDEX(InGame2,I10-17)*INDEX(PrBeat,C10,I10))","v":0.55973308955610468},18,19,20,21,22,{"$f":"INDEX(InGame3,C10-17)*(INDEX(InGame3,L10-17)*INDEX(PrBeat,C10,L10)+INDEX(InGame3,M10-17)*INDEX(PrBeat,C10,M10)+INDEX(InGame3,N10-17)*INDEX(PrBeat,C10,N10)+INDEX(InGame3,O10-17)*INDEX(PrBeat,C10,O10)+INDEX(InGame3,P10-17)*INDEX(PrBeat,C10,P10))","v":0.31016867429681089},27,28,29,30,31,32,33,34,null,{"$f":"INDEX(InGame4,C10-17)*(INDEX(InGame4,R10-17)*INDEX(PrBeat,C10,R10)+INDEX(InGame4,S10-17)*INDEX(PrBeat,C10,S10)+INDEX(InGame4,T10-17)*INDEX(PrBeat,C10,T10)+INDEX(InGame4,U10-17)*INDEX(PrBeat,C10,U10)+INDEX(InGame4,V10-17)*INDEX(PrBeat,C10,V10)+INDEX(InGame4,W10-17)*INDEX(PrBeat,C10,W10)+INDEX(InGame4,X10-17)*INDEX(PrBeat,C10,X10)+INDEX(InGame4,Y10-17)*INDEX(PrBeat,C10,Y10))","v":0.19712507539668025}]
[null,"Louisiana",26,1,25,null,{"$f":"INDEX(InGame1,C11-17)*INDEX(PrBeat,C11,E11)","v":0.11781114976198614},23,24,null,{"$f":"INDEX(InGame2,C11-17)*(INDEX(InGame2,H11-17)*INDEX(PrBeat,C11,H11)+INDEX(InGame2,I11-17)*INDEX(PrBeat,C11,I11))","v":2.5279473807902825E-2},18,19,20,21,22,{"$f":"INDEX(InGame3,C11-17)*(INDEX(InGame3,L11-17)*INDEX(PrBeat,C11,L11)+INDEX(InGame3,M11-17)*INDEX(PrBeat,C11,M11)+INDEX(InGame3,N11-17)*INDEX(PrBeat,C11,N11)+INDEX(InGame3,O11-17)*INDEX(PrBeat,C11,O11)+INDEX(InGame3,P11-17)*INDEX(PrBeat,C11,P11))","v":3.8430137878276952E-3},27,28,29,30,31,32,33,34,null,{"$f":"INDEX(InGame4,C11-17)*(INDEX(InGame4,R11-17)*INDEX(PrBeat,C11,R11)+INDEX(InGame4,S11-17)*INDEX(PrBeat,C11,S11)+INDEX(InGame4,T11-17)*INDEX(PrBeat,C11,T11)+INDEX(InGame4,U11-17)*INDEX(PrBeat,C11,U11)+INDEX(InGame4,V11-17)*INDEX(PrBeat,C11,V11)+INDEX(InGame4,W11-17)*INDEX(PrBeat,C11,W11)+INDEX(InGame4,X11-17)*INDEX(PrBeat,C11,X11)+INDEX(InGame4,Y11-17)*INDEX(PrBeat,C11,Y11))","v":7.8628132338087763E-4}]
[null,"Kentucky",27,1,28,null,{"$f":"INDEX(InGame1,C12-17)*INDEX(PrBeat,C12,E12)","v":0.57260099069130987},29,30,null,{"$f":"INDEX(InGame2,C12-17)*(INDEX(InGame2,H12-17)*INDEX(PrBeat,C12,H12)+INDEX(InGame2,I12-17)*INDEX(PrBeat,C12,I12))","v":0.32869324446149284},31,32,33,34,null,{"$f":"INDEX(InGame3,C12-17)*(INDEX(InGame3,L12-17)*INDEX(PrBeat,C12,L12)+INDEX(InGame3,M12-17)*INDEX(PrBeat,C12,M12)+INDEX(InGame3,N12-17)*INDEX(PrBeat,C12,N12)+INDEX(InGame3,O12-17)*INDEX(PrBeat,C12,O12))","v":0.16475120824457085},18,19,20,21,22,23,24,25,26,{"$f":"INDEX(InGame4,C12-17)*(INDEX(InGame4,R12-17)*INDEX(PrBeat,C12,R12)+INDEX(InGame4,S12-17)*INDEX(PrBeat,C12,S12)+INDEX(InGame4,T12-17)*INDEX(PrBeat,C12,T12)+INDEX(InGame4,U12-17)*INDEX(PrBeat,C12,U12)+INDEX(InGame4,V12-17)*INDEX(PrBeat,C12,V12)+INDEX(InGame4,W12-17)*INDEX(PrBeat,C12,W12)+INDEX(InGame4,X12-17)*INDEX(PrBeat,C12,X12)+INDEX(InGame4,Y12-17)*INDEX(PrBeat,C12,Y12)+INDEX(InGame4,Z12-17)*INDEX(PrBeat,C12,Z12))","v":6.7684405075366286E-2}]
[null,"Providence",28,1,27,null,{"$f":"INDEX(InGame1,C13-17)*INDEX(PrBeat,C13,E13)","v":0.42739900930869013},29,30,null,{"$f":"INDEX(InGame2,C13-17)*(INDEX(InGame2,H13-17)*INDEX(PrBeat,C13,H13)+INDEX(InGame2,I13-17)*INDEX(PrBeat,C13,I13))","v":0.21604391625035888},31,32,33,34,null,{"$f":"INDEX(InGame3,C13-17)*(INDEX(InGame3,L13-17)*INDEX(PrBeat,C13,L13)+INDEX(InGame3,M13-17)*INDEX(PrBeat,C13,M13)+INDEX(InGame3,N13-17)*INDEX(PrBeat,C13,N13)+INDEX(InGame3,O13-17)*INDEX(PrBeat,C13,O13))","v":9.294142844216477E-2},18,19,20,21,22,23,24,25,26,{"$f":"INDEX(InGame4,C13-17)*(INDEX(InGame4,R13-17)*INDEX(PrBeat,C13,R13)+INDEX(InGame4,S13-17)*INDEX(PrBeat,C13,S13)+INDEX(InGame4,T13-17)*INDEX(PrBeat,C13,T13)+INDEX(InGame4,U13-17)*INDEX(PrBeat,C13,U13)+INDEX(InGame4,V13-17)*INDEX(PrBeat,C13,V13)+INDEX(InGame4,W13-17)*INDEX(PrBeat,C13,W13)+INDEX(InGame4,X13-17)*INDEX(PrBeat,C13,X13)+INDEX(InGame4,Y13-17)*INDEX(PrBeat,C13,Y13)+INDEX(InGame4,Z13-17)*INDEX(PrBeat,C13,Z13))","v":3.1838548457900927E-2}]
[null,"Kansas St",29,1,30,null,{"$f":"INDEX(InGame1,C14-17)*INDEX(PrBeat,C14,E14)","v":0.85588215740317297},27,28,null,{"$f":"INDEX(InGame2,C14-17)*(INDEX(InGame2,H14-17)*INDEX(PrBeat,C14,H14)+INDEX(InGame2,I14-17)*INDEX(PrBeat,C14,I14))","v":0.43378208855652695},31,32,33,34,null,{"$f":"INDEX(InGame3,C14-17)*(INDEX(InGame3,L14-17)*INDEX(PrBeat,C14,L14)+INDEX(InGame3,M14-17)*INDEX(PrBeat,C14,M14)+INDEX(InGame3,N14-17)*INDEX(PrBeat,C14,N14)+INDEX(InGame3,O14-17)*INDEX(PrBeat,C14,O14))","v":0.20710310189185763},18,19,20,21,22,23,24,25,26,{"$f":"INDEX(InGame4,C14-17)*(INDEX(InGame4,R14-17)*INDEX(PrBeat,C14,R14)+INDEX(InGame4,S14-17)*INDEX(PrBeat,C14,S14)+INDEX(InGame4,T14-17)*INDEX(PrBeat,C14,T14)+INDEX(InGame4,U14-17)*INDEX(PrBeat,C14,U14)+INDEX(InGame4,V14-17)*INDEX(PrBeat,C14,V14)+INDEX(InGame4,W14-17)*INDEX(PrBeat,C14,W14)+INDEX(InGame4,X14-17)*INDEX(PrBeat,C14,X14)+INDEX(InGame4,Y14-17)*INDEX(PrBeat,C14,Y14)+INDEX(InGame4,Z14-17)*INDEX(PrBeat,C14,Z14))","v":8.0283325472585709E-2}]
[null,"Montana St",30,1,29,null,{"$f":"INDEX(InGame1,C15-17)*INDEX(PrBeat,C15,E15)","v":0.14411784259682703},27,28,null,{"$f":"INDEX(InGame2,C15-17)*(INDEX(InGame2,H15-17)*INDEX(PrBeat,C15,H15)+INDEX(InGame2,I15-17)*INDEX(PrBeat,C15,I15))","v":2.1480750731621433E-2},31,32,33,34,null,{"$f":"INDEX(InGame3,C15-17)*(INDEX(InGame3,L15-17)*INDEX(PrBeat,C15,L15)+INDEX(InGame3,M15-17)*INDEX(PrBeat,C15,M15)+INDEX(InGame3,N15-17)*INDEX(PrBeat,C15,N15)+INDEX(InGame3,O15-17)*INDEX(PrBeat,C15,O15))","v":2.9554285942091254E-3},18,19,20,21,22,23,24,25,26,{"$f":"INDEX(InGame4,C15-17)*(INDEX(InGame4,R15-17)*INDEX(PrBeat,C15,R15)+INDEX(InGame4,S15-17)*INDEX(PrBeat,C15,S15)+INDEX(InGame4,T15-17)*INDEX(PrBeat,C15,T15)+INDEX(InGame4,U15-17)*INDEX(PrBeat,C15,U15)+INDEX(InGame4,V15-17)*INDEX(PrBeat,C15,V15)+INDEX(InGame4,W15-17)*INDEX(PrBeat,C15,W15)+INDEX(InGame4,X15-17)*INDEX(PrBeat,C15,X15)+INDEX(InGame4,Y15-17)*INDEX(PrBeat,C15,Y15)+INDEX(InGame4,Z15-17)*INDEX(PrBeat,C15,Z15))","v":2.7244270955602848E-4}]
[null,"Michigan St",31,1,32,null,{"$f":"INDEX(InGame1,C16-17)*INDEX(PrBeat,C16,E16)","v":0.53227902374694103},33,34,null,{"$f":"INDEX(InGame2,C16-17)*(INDEX(InGame2,H16-17)*INDEX(PrBeat,C16,H16)+INDEX(InGame2,I16-17)*INDEX(PrBeat,C16,I16))","v":0.24157620403150137},27,28,29,30,null,{"$f":"INDEX(InGame3,C16-17)*(INDEX(InGame3,L16-17)*INDEX(PrBeat,C16,L16)+INDEX(InGame3,M16-17)*INDEX(PrBeat,C16,M16)+INDEX(InGame3,N16-17)*INDEX(PrBeat,C16,N16)+INDEX(InGame3,O16-17)*INDEX(PrBeat,C16,O16))","v":0.1193310932975389},18,19,20,21,22,23,24,25,26,{"$f":"INDEX(InGame4,C16-17)*(INDEX(InGame4,R16-17)*INDEX(PrBeat,C16,R16)+INDEX(InGame4,S16-17)*INDEX(PrBeat,C16,S16)+INDEX(InGame4,T16-17)*INDEX(PrBeat,C16,T16)+INDEX(InGame4,U16-17)*INDEX(PrBeat,C16,U16)+INDEX(InGame4,V16-17)*INDEX(PrBeat,C16,V16)+INDEX(InGame4,W16-17)*INDEX(PrBeat,C16,W16)+INDEX(InGame4,X16-17)*INDEX(PrBeat,C16,X16)+INDEX(InGame4,Y16-17)*INDEX(PrBeat,C16,Y16)+INDEX(InGame4,Z16-17)*INDEX(PrBeat,C16,Z16))","v":4.4425788925551497E-2}]
[null,"USC",32,1,31,null,{"$f":"INDEX(InGame1,C17-17)*INDEX(PrBeat,C17,E17)","v":0.46772097625305897},33,34,null,{"$f":"INDEX(InGame2,C17-17)*(INDEX(InGame2,H17-17)*INDEX(PrBeat,C17,H17)+INDEX(InGame2,I17-17)*INDEX(PrBeat,C17,I17))","v":0.19828751561028782},27,28,29,30,null,{"$f":"INDEX(InGame3,C17-17)*(INDEX(InGame3,L17-17)*INDEX(PrBeat,C17,L17)+INDEX(InGame3,M17-17)*INDEX(PrBeat,C17,M17)+INDEX(InGame3,N17-17)*INDEX(PrBeat,C17,N17)+INDEX(InGame3,O17-17)*INDEX(PrBeat,C17,O17))","v":9.1626150627988442E-2},18,19,20,21,22,23,24,25,26,{"$f":"INDEX(InGame4,C17-17)*(INDEX(InGame4,R17-17)*INDEX(PrBeat,C17,R17)+INDEX(InGame4,S17-17)*INDEX(PrBeat,C17,S17)+INDEX(InGame4,T17-17)*INDEX(PrBeat,C17,T17)+INDEX(InGame4,U17-17)*INDEX(PrBeat,C17,U17)+INDEX(InGame4,V17-17)*INDEX(PrBeat,C17,V17)+INDEX(InGame4,W17-17)*INDEX(PrBeat,C17,W17)+INDEX(InGame4,X17-17)*INDEX(PrBeat,C17,X17)+INDEX(InGame4,Y17-17)*INDEX(PrBeat,C17,Y17)+INDEX(InGame4,Z17-17)*INDEX(PrBeat,C17,Z17))","v":3.1387979350838903E-2}]
[null,"Marquette",33,1,34,null,{"$f":"INDEX(InGame1,C18-17)*INDEX(PrBeat,C18,E18)","v":0.85925986715373837},31,32,null,{"$f":"INDEX(InGame2,C18-17)*(INDEX(InGame2,H18-17)*INDEX(PrBeat,C18,H18)+INDEX(InGame2,I18-17)*INDEX(PrBeat,C18,I18))","v":0.5295175736369564},27,28,29,30,null,{"$f":"INDEX(InGame3,C18-17)*(INDEX(InGame3,L18-17)*INDEX(PrBeat,C18,L18)+INDEX(InGame3,M18-17)*INDEX(PrBeat,C18,M18)+INDEX(InGame3,N18-17)*INDEX(PrBeat,C18,N18)+INDEX(InGame3,O18-17)*INDEX(PrBeat,C18,O18))","v":0.31500167412559393},18,19,20,21,22,23,24,25,26,{"$f":"INDEX(InGame4,C18-17)*(INDEX(InGame4,R18-17)*INDEX(PrBeat,C18,R18)+INDEX(InGame4,S18-17)*INDEX(PrBeat,C18,S18)+INDEX(InGame4,T18-17)*INDEX(PrBeat,C18,T18)+INDEX(InGame4,U18-17)*INDEX(PrBeat,C18,U18)+INDEX(InGame4,V18-17)*INDEX(PrBeat,C18,V18)+INDEX(InGame4,W18-17)*INDEX(PrBeat,C18,W18)+INDEX(InGame4,X18-17)*INDEX(PrBeat,C18,X18)+INDEX(InGame4,Y18-17)*INDEX(PrBeat,C18,Y18)+INDEX(InGame4,Z18-17)*INDEX(PrBeat,C18,Z18))","v":0.14848509001452015}]
[null,"Vermont",34,1,33,null,{"$f":"INDEX(InGame1,C19-17)*INDEX(PrBeat,C19,E19)","v":0.14074013284626163},31,32,null,{"$f":"INDEX(InGame2,C19-17)*(INDEX(InGame2,H19-17)*INDEX(PrBeat,C19,H19)+INDEX(InGame2,I19-17)*INDEX(PrBeat,C19,I19))","v":3.0618706721254441E-2},27,28,29,30,null,{"$f":"INDEX(InGame3,C19-17)*(INDEX(InGame3,L19-17)*INDEX(PrBeat,C19,L19)+INDEX(InGame3,M19-17)*INDEX(PrBeat,C19,M19)+INDEX(InGame3,N19-17)*INDEX(PrBeat,C19,N19)+INDEX(InGame3,O19-17)*INDEX(PrBeat,C19,O19))","v":6.2899147760765405E-3},18,19,20,21,22,23,24,25,26,{"$f":"INDEX(InGame4,C19-17)*(INDEX(InGame4,R19-17)*INDEX(PrBeat,C19,R19)+INDEX(InGame4,S19-17)*INDEX(PrBeat,C19,S19)+INDEX(InGame4,T19-17)*INDEX(PrBeat,C19,T19)+INDEX(InGame4,U19-17)*INDEX(PrBeat,C19,U19)+INDEX(InGame4,V19-17)*INDEX(PrBeat,C19,V19)+INDEX(InGame4,W19-17)*INDEX(PrBeat,C19,W19)+INDEX(InGame4,X19-17)*INDEX(PrBeat,C19,X19)+INDEX(InGame4,Y19-17)*INDEX(PrBeat,C19,Y19)+INDEX(InGame4,Z19-17)*INDEX(PrBeat,C19,Z19))","v":8.1319832221636709E-4}]

{"sheet":"Midwest","index":3,"n_rows":19,"n_cols":27,"rows_kept":19,"cut":false,"hidden":false,"merged":[]}
[]
[null,"Team","Index","Into Game 1","G1 Opp1","G1 Opp2","Into Game 2","G2 Opp1","G2 Opp2","G2 Opp3","Into Game 3","G3 Opp1","G3 Opp2","G3 Opp3","G3 Opp4","G3 Opp5","Into Game 4","G4 Opp1","G4 Opp2","G4 Opp3","G4 Opp4","G4 Opp5","G4 Opp6","G4 Opp7","G4 Opp8","G4 Opp9","Into Game 5"]
[null,"Houston",35,1,36,null,{"$f":"INDEX(InGame1,C3-34)*INDEX(PrBeat,C3,E3)","v":0.97275997507098333},37,38,null,{"$f":"INDEX(InGame2,C3-34)*(INDEX(InGame2,H3-34)*INDEX(PrBeat,C3,H3)+INDEX(InGame2,I3-34)*INDEX(PrBeat,C3,I3))","v":0.72986137765123105},39,40,41,42,null,{"$f":"INDEX(InGame3,C3-34)*(INDEX(InGame3,L3-34)*INDEX(PrBeat,C3,L3)+INDEX(InGame3,M3-34)*INDEX(PrBeat,C3,M3)+INDEX(InGame3,N3-34)*INDEX(PrBeat,C3,N3)+INDEX(InGame3,O3-34)*INDEX(PrBeat,C3,O3))","v":0.56258944809768763},43,44,45,46,47,48,49,50,51,{"$f":"INDEX(InGame4,C3-34)*(INDEX(InGame4,R3-34)*INDEX(PrBeat,C3,R3)+INDEX(InGame4,S3-34)*INDEX(PrBeat,C3,S3)+INDEX(InGame4,T3-34)*INDEX(PrBeat,C3,T3)+INDEX(InGame4,U3-34)*INDEX(PrBeat,C3,U3)+INDEX(InGame4,V3-34)*INDEX(PrBeat,C3,V3)+INDEX(InGame4,W3-34)*INDEX(PrBeat,C3,W3)+INDEX(InGame4,X3-34)*INDEX(PrBeat,C3,X3)+INDEX(InGame4,Y3-34)*INDEX(PrBeat,C3,Y3)+INDEX(InGame4,Z3-34)*INDEX(PrBeat,C3,Z3))","v":0.36863225811068173}]
[null,"Northern Kentucky",36,1,35,null,{"$f":"INDEX(InGame1,C4-34)*INDEX(PrBeat,C4,E4)","v":2.7240024929016671E-2},37,38,null,{"$f":"INDEX(InGame2,C4-34)*(INDEX(InGame2,H4-34)*INDEX(PrBeat,C4,H4)+INDEX(InGame2,I4-34)*INDEX(PrBeat,C4,I4))","v":2.8926718050121757E-3},39,40,41,42,null,{"$f":"INDEX(InGame3,C4-34)*(INDEX(InGame3,L4-34)*INDEX(PrBeat,C4,L4)+INDEX(InGame3,M4-34)*INDEX(PrBeat,C4,M4)+INDEX(InGame3,N4-34)*INDEX(PrBeat,C4,N4)+INDEX(InGame3,O4-34)*INDEX(PrBeat,C4,O4))","v":3.6463106707253906E-4},43,44,45,46,47,48,49,50,51,{"$f":"INDEX(InGame4,C4-34)*(INDEX(InGame4,R4-34)*INDEX(PrBeat,C4,R4)+INDEX(InGame4,S4-34)*INDEX(PrBeat,C4,S4)+INDEX(InGame4,T4-34)*INDEX(PrBeat,C4,T4)+INDEX(InGame4,U4-34)*INDEX(PrBeat,C4,U4)+INDEX(InGame4,V4-34)*INDEX(PrBeat,C4,V4)+INDEX(InGame4,W4-34)*INDEX(PrBeat,C4,W4)+INDEX(InGame4,X4-34)*INDEX(PrBeat,C4,X4)+INDEX(InGame4,Y4-34)*INDEX(PrBeat,C4,Y4)+INDEX(InGame4,Z4-34)*INDEX(PrBeat,C4,Z4))","v":2.6832837826407176E-5}]
[null,"Iowa",37,1,38,null,{"$f":"INDEX(InGame1,C5-34)*INDEX(PrBeat,C5,E5)","v":0.48125661376507822},35,36,null,{"$f":"INDEX(InGame2,C5-34)*(INDEX(InGame2,H5-34)*INDEX(PrBeat,C5,H5)+INDEX(InGame2,I5-34)*INDEX(PrBeat,C5,I5))","v":0.12493328715107807},39,40,41,42,null,{"$f":"INDEX(InGame3,C5-34)*(INDEX(InGame3,L5-34)*INDEX(PrBeat,C5,L5)+INDEX(InGame3,M5-34)*INDEX(PrBeat,C5,M5)+INDEX(InGame3,N5-34)*INDEX(PrBeat,C5,N5)+INDEX(InGame3,O5-34)*INDEX(PrBeat,C5,O5))","v":6.5170944638789197E-2},43,44,45,46,47,48,49,50,51,{"$f":"INDEX(InGame4,C5-34)*(INDEX(InGame4,R5-34)*INDEX(PrBeat,C5,R5)+INDEX(InGame4,S5-34)*INDEX(PrBeat,C5,S5)+INDEX(InGame4,T5-34)*INDEX(PrBeat,C5,T5)+INDEX(InGame4,U5-34)*INDEX(PrBeat,C5,U5)+INDEX(InGame4,V5-34)*INDEX(PrBeat,C5,V5)+INDEX(InGame4,W5-34)*INDEX(PrBeat,C5,W5)+INDEX(InGame4,X5-34)*INDEX(PrBeat,C5,X5)+INDEX(InGame4,Y5-34)*INDEX(PrBeat,C5,Y5)+INDEX(InGame4,Z5-34)*INDEX(PrBeat,C5,Z5))","v":2.5528879305529436E-2}]
[null,"Auburn",38,1,37,null,{"$f":"INDEX(InGame1,C6-34)*INDEX(PrBeat,C6,E6)","v":0.51874338623492178},35,36,null,{"$f":"INDEX(InGame2,C6-34)*(INDEX(InGame2,H6-34)*INDEX(PrBeat,C6,H6)+INDEX(InGame2,I6-34)*INDEX(PrBeat,C6,I6))","v":0.14231266339267867},39,40,41,42,null,{"$f":"INDEX(InGame3,C6-34)*(INDEX(InGame3,L6-34)*INDEX(PrBeat,C6,L6)+INDEX(InGame3,M6-34)*INDEX(PrBeat,C6,M6)+INDEX(InGame3,N6-34)*INDEX(PrBeat,C6,N6)+INDEX(InGame3,O6-34)*INDEX(PrBeat,C6,O6))","v":7.6847535830358193E-2},43,44,45,46,47,48,49,50,51,{"$f":"INDEX(InGame4,C6-34)*(INDEX(InGame4,R6-34)*INDEX(PrBeat,C6,R6)+INDEX(InGame4,S6-34)*INDEX(PrBeat,C6,S6)+INDEX(InGame4,T6-34)*INDEX(PrBeat,C6,T6)+INDEX(InGame4,U6-34)*INDEX(PrBeat,C6,U6)+INDEX(InGame4,V6-34)*INDEX(PrBeat,C6,V6)+INDEX(InGame4,W6-34)*INDEX(PrBeat,C6,W6)+INDEX(InGame4,X6-34)*INDEX(PrBeat,C6,X6)+INDEX(InGame4,Y6-34)*INDEX(PrBeat,C6,Y6)+INDEX(InGame4,Z6-34)*INDEX(PrBeat,C6,Z6))","v":3.1446027852789347E-2}]
[null,"Miami (FL)",39,1,40,null,{"$f":"INDEX(InGame1,C7-34)*INDEX(PrBeat,C7,E7)","v":0.59017687973903421},41,42,null,{"$f":"INDEX(InGame2,C7-34)*(INDEX(InGame2,H7-34)*INDEX(PrBeat,C7,H7)+INDEX(InGame2,I7-34)*INDEX(PrBeat,C7,I7))","v":0.2838584342738123},35,36,37,38,null,{"$f":"INDEX(InGame3,C7-34)*(INDEX(InGame3,L7-34)*INDEX(PrBeat,C7,L7)+INDEX(InGame3,M7-34)*INDEX(PrBeat,C7,M7)+INDEX(InGame3,N7-34)*INDEX(PrBeat,C7,N7)+INDEX(InGame3,O7-34)*INDEX(PrBeat,C7,O7))","v":8.1767208090160692E-2},43,44,45,46,47,48,49,50,51,{"$f":"INDEX(InGame4,C7-34)*(INDEX(InGame4,R7-34)*INDEX(PrBeat,C7,R7)+INDEX(InGame4,S7-34)*INDEX(PrBeat,C7,S7)+INDEX(InGame4,T7-34)*INDEX(PrBeat,C7,T7)+INDEX(InGame4,U7-34)*INDEX(PrBeat,C7,U7)+INDEX(InGame4,V7-34)*INDEX(PrBeat,C7,V7)+INDEX(InGame4,W7-34)*INDEX(PrBeat,C7,W7)+INDEX(InGame4,X7-34)*INDEX(PrBeat,C7,X7)+INDEX(InGame4,Y7-34)*INDEX(PrBeat,C7,Y7)+INDEX(InGame4,Z7-34)*INDEX(PrBeat,C7,Z7))","v":3.0024190981508443E-2}]
[null,"Drake",40,1,39,null,{"$f":"INDEX(InGame1,C8-34)*INDEX(PrBeat,C8,E8)","v":0.40982312026096579},41,42,null,{"$f":"INDEX(InGame2,C8-34)*(INDEX(InGame2,H8-34)*INDEX(PrBeat,C8,H8)+INDEX(InGame2,I8-34)*INDEX(PrBeat,C8,I8))","v":0.16139187177651995},35,36,37,38,null,{"$f":"INDEX(InGame3,C8-34)*(INDEX(InGame3,L8-34)*INDEX(PrBeat,C8,L8)+INDEX(InGame3,M8-34)*INDEX(PrBeat,C8,M8)+INDEX(InGame3,N8-34)*INDEX(PrBeat,C8,N8)+INDEX(InGame3,O8-34)*INDEX(PrBeat,C8,O8))","v":3.5368787241528241E-2},43,44,45,46,47,48,49,50,51,{"$f":"INDEX(InGame4,C8-34)*(INDEX(InGame4,R8-34)*INDEX(PrBeat,C8,R8)+INDEX(InGame4,S8-34)*INDEX(PrBeat,C8,S8)+INDEX(InGame4,T8-34)*INDEX(PrBeat,C8,T8)+INDEX(InGame4,U8-34)*INDEX(PrBeat,C8,U8)+INDEX(InGame4,V8-34)*INDEX(PrBeat,C8,V8)+INDEX(InGame4,W8-34)*INDEX(PrBeat,C8,W8)+INDEX(InGame4,X8-34)*INDEX(PrBeat,C8,X8)+INDEX(InGame4,Y8-34)*INDEX(PrBeat,C8,Y8)+INDEX(InGame4,Z8-34)*INDEX(PrBeat,C8,Z8))","v":1.0194034089208879E-2}]
[null,"Indiana",41,1,42,null,{"$f":"INDEX(InGame1,C9-34)*INDEX(PrBeat,C9,E9)","v":0.69567449521669544},39,40,null,{"$f":"INDEX(InGame2,C9-34)*(INDEX(InGame2,H9-34)*INDEX(PrBeat,C9,H9)+INDEX(InGame2,I9-34)*INDEX(PrBeat,C9,I9))","v":0.42840600937267997},35,36,37,38,null,{"$f":"INDEX(InGame3,C9-34)*(INDEX(InGame3,L9-34)*INDEX(PrBeat,C9,L9)+INDEX(InGame3,M9-34)*INDEX(PrBeat,C9,M9)+INDEX(InGame3,N9-34)*INDEX(PrBeat,C9,N9)+INDEX(InGame3,O9-34)*INDEX(PrBeat,C9,O9))","v":0.15297657381530999},43,44,45,46,47,48,49,50,51,{"$f":"INDEX(InGame4,C9-34)*(INDEX(InGame4,R9-34)*INDEX(PrBeat,C9,R9)+INDEX(InGame4,S9-34)*INDEX(PrBeat,C9,S9)+INDEX(InGame4,T9-34)*INDEX(PrBeat,C9,T9)+INDEX(InGame4,U9-34)*INDEX(PrBeat,C9,U9)+INDEX(InGame4,V9-34)*INDEX(PrBeat,C9,V9)+INDEX(InGame4,W9-34)*INDEX(PrBeat,C9,W9)+INDEX(InGame4,X9-34)*INDEX(PrBeat,C9,X9)+INDEX(InGame4,Y9-34)*INDEX(PrBeat,C9,Y9)+INDEX(InGame4,Z9-34)*INDEX(PrBeat,C9,Z9))","v":6.7734391323041945E-2}]
[null,"Kent St",42,1,41,null,{"$f":"INDEX(InGame1,C10-34)*INDEX(PrBeat,C10,E10)","v":0.30432550478330456},39,40,null,{"$f":"INDEX(InGame2,C10-34)*(INDEX(InGame2,H10-34)*INDEX(PrBeat,C10,H10)+INDEX(InGame2,I10-34)*INDEX(PrBeat,C10,I10))","v":0.1263436845769878},35,36,37,38,null,{"$f":"INDEX(InGame3,C10-34)*(INDEX(InGame3,L10-34)*INDEX(PrBeat,C10,L10)+INDEX(InGame3,M10-34)*INDEX(PrBeat,C10,M10)+INDEX(InGame3,N10-34)*INDEX(PrBeat,C10,N10)+INDEX(InGame3,O10-34)*INDEX(PrBeat,C10,O10))","v":2.4914871219093547E-2},43,44,45,46,47,48,49,50,51,{"$f":"INDEX(InGame4,C10-34)*(INDEX(InGame4,R10-34)*INDEX(PrBeat,C10,R10)+INDEX(InGame4,S10-34)*INDEX(PrBeat,C10,S10)+INDEX(InGame4,T10-34)*INDEX(PrBeat,C10,T10)+INDEX(InGame4,U10-34)*INDEX(PrBeat,C10,U10)+INDEX(InGame4,V10-34)*INDEX(PrBeat,C10,V10)+INDEX(InGame4,W10-34)*INDEX(PrBeat,C10,W10)+INDEX(InGame4,X10-34)*INDEX(PrBeat,C10,X10)+INDEX(InGame4,Y10-34)*INDEX(PrBeat,C10,Y10)+INDEX(InGame4,Z10-34)*INDEX(PrBeat,C10,Z10))","v":6.533652204505927E-3}]
[null,"Iowa St",43,1,44,45,{"$f":"INDEX(InGame1,C11-34)*(INDEX(InGame1,E11-34)*INDEX(PrBeat,C11,E11)+INDEX(InGame1,F11-34)*INDEX(PrBeat,C11,F11))","v":0.59861795650302896},46,47,null,{"$f":"INDEX(InGame2,C11-34)*(INDEX(InGame2,H11-34)*INDEX(PrBeat,C11,H11)+INDEX(InGame2,I11-34)*INDEX(PrBeat,C11,I11))","v":0.2744611076834938},48,49,50,51,null,{"$f":"INDEX(InGame3,C11-34)*(INDEX(InGame3,L11-34)*INDEX(PrBeat,C11,L11)+INDEX(InGame3,M11-34)*INDEX(PrBeat,C11,M11)+INDEX(InGame3,N11-34)*INDEX(PrBeat,C11,N11)+INDEX(InGame3,O11-34)*INDEX(PrBeat,C11,O11))","v":9.482604118975109E-2},35,36,37,38,39,40,41,42,null,{"$f":"INDEX(InGame4,C11-34)*(INDEX(InGame4,R11-34)*INDEX(PrBeat,C11,R11)+INDEX(InGame4,S11-34)*INDEX(PrBeat,C11,S11)+INDEX(InGame4,T11-34)*INDEX(PrBeat,C11,T11)+INDEX(InGame4,U11-34)*INDEX(PrBeat,C11,U11)+INDEX(InGame4,V11-34)*INDEX(PrBeat,C11,V11)+INDEX(InGame4,W11-34)*INDEX(PrBeat,C11,W11)+INDEX(InGame4,X11-34)*INDEX(PrBeat,C11,X11)+INDEX(InGame4,Y11-34)*INDEX(PrBeat,C11,Y11))","v":3.2273395913622369E-2}]
[null,"Mississippi St",44,{"$f":"INDEX(PrBeat,C12,C13)","v":0.52869904607363161},43,null,{"$f":"INDEX(InGame1,C12-34)*INDEX(PrBeat,C12,E12)","v":0.21914251567214249},46,47,null,{"$f":"INDEX(InGame2,C12-34)*(INDEX(InGame2,H12-34)*INDEX(PrBeat,C12,H12)+INDEX(InGame2,I12-34)*INDEX(PrBeat,C12,I12))","v":8.315074701166246E-2},48,49,50,51,null,{"$f":"INDEX(InGame3,C12-34)*(INDEX(InGame3,L12-34)*INDEX(PrBeat,C12,L12)+INDEX(InGame3,M12-34)*INDEX(PrBeat,C12,M12)+INDEX(InGame3,N12-34)*INDEX(PrBeat,C12,N12)+INDEX(InGame3,O12-34)*INDEX(PrBeat,C12,O12))","v":2.2691042829511125E-2},35,36,37,38,39,40,41,42,null,{"$f":"INDEX(InGame4,C12-34)*(INDEX(InGame4,R12-34)*INDEX(PrBeat,C12,R12)+INDEX(InGame4,S12-34)*INDEX(PrBeat,C12,S12)+INDEX(InGame4,T12-34)*INDEX(PrBeat,C12,T12)+INDEX(InGame4,U12-34)*INDEX(PrBeat,C12,U12)+INDEX(InGame4,V12-34)*INDEX(PrBeat,C12,V12)+INDEX(InGame4,W12-34)*INDEX(PrBeat,C12,W12)+INDEX(InGame4,X12-34)*INDEX(PrBeat,C12,X12)+INDEX(InGame4,Y12-34)*INDEX(PrBeat,C12,Y12))","v":6.122795659481664E-3}]
[null,"Pittsburgh",45,{"$f":"1-D12","v":0.47130095392636839},43,null,{"$f":"INDEX(InGame1,C13-34)*INDEX(PrBeat,C13,E13)","v":0.18223952782482858},46,47,null,{"$f":"INDEX(InGame2,C13-34)*(INDEX(InGame2,H13-34)*INDEX(PrBeat,C13,H13)+INDEX(InGame2,I13-34)*INDEX(PrBeat,C13,I13))","v":6.4544143757538572E-2},48,49,50,51,null,{"$f":"INDEX(InGame3,C13-34)*(INDEX(InGame3,L13-34)*INDEX(PrBeat,C13,L13)+INDEX(InGame3,M13-34)*INDEX(PrBeat,C13,M13)+INDEX(InGame3,N13-34)*INDEX(PrBeat,C13,N13)+INDEX(InGame3,O13-34)*INDEX(PrBeat,C13,O13))","v":1.6169787577698706E-2},35,36,37,38,39,40,41,42,null,{"$f":"INDEX(InGame4,C13-34)*(INDEX(InGame4,R13-34)*INDEX(PrBeat,C13,R13)+INDEX(InGame4,S13-34)*INDEX(PrBeat,C13,S13)+INDEX(InGame4,T13-34)*INDEX(PrBeat,C13,T13)+INDEX(InGame4,U13-34)*INDEX(PrBeat,C13,U13)+INDEX(InGame4,V13-34)*INDEX(PrBeat,C13,V13)+INDEX(InGame4,W13-34)*INDEX(PrBeat,C13,W13)+INDEX(InGame4,X13-34)*INDEX(PrBeat,C13,X13)+INDEX(InGame4,Y13-34)*INDEX(PrBeat,C13,Y13))","v":4.0114346559407092E-3}]
[null,"Xavier",46,1,47,null,{"$f":"INDEX(InGame1,C14-34)*INDEX(PrBeat,C14,E14)","v":0.90987732753554762},43,44,45,{"$f":"INDEX(InGame2,C14-34)*(INDEX(InGame2,H14-34)*INDEX(PrBeat,C14,H14)+INDEX(InGame2,I14-34)*INDEX(PrBeat,C14,I14)+INDEX(InGame2,J14-34)*INDEX(PrBeat,C14,J14))","v":0.56406892089531213},48,49,50,51,null,{"$f":"INDEX(InGame3,C14-34)*(INDEX(InGame3,L14-34)*INDEX(PrBeat,C14,L14)+INDEX(InGame3,M14-34)*INDEX(PrBeat,C14,M14)+INDEX(InGame3,N14-34)*INDEX(PrBeat,C14,N14)+INDEX(InGame3,O14-34)*INDEX(PrBeat,C14,O14))","v":0.23774605419623421},35,36,37,38,39,40,41,42,null,{"$f":"INDEX(InGame4,C14-34)*(INDEX(InGame4,R14-34)*INDEX(PrBeat,C14,R14)+INDEX(InGame4,S14-34)*INDEX(PrBeat,C14,S14)+INDEX(InGame4,T14-34)*INDEX(PrBeat,C14,T14)+INDEX(InGame4,U14-34)*INDEX(PrBeat,C14,U14)+INDEX(InGame4,V14-34)*INDEX(PrBeat,C14,V14)+INDEX(InGame4,W14-34)*INDEX(PrBeat,C14,W14)+INDEX(InGame4,X14-34)*INDEX(PrBeat,C14,X14)+INDEX(InGame4,Y14-34)*INDEX(PrBeat,C14,Y14))","v":9.845341441487164E-2}]
[null,"Kennesaw St",47,1,46,null,{"$f":"INDEX(InGame1,C15-34)*INDEX(PrBeat,C15,E15)","v":9.012267246445238E-2},43,44,45,{"$f":"INDEX(InGame2,C15-34)*(INDEX(InGame2,H15-34)*INDEX(PrBeat,C15,H15)+INDEX(InGame2,I15-34)*INDEX(PrBeat,C15,I15)+INDEX(InGame2,J15-34)*INDEX(PrBeat,C15,J15))","v":1.3775080651993078E-2},48,49,50,51,null,{"$f":"INDEX(InGame3,C15-34)*(INDEX(InGame3,L15-34)*INDEX(PrBeat,C15,L15)+INDEX(InGame3,M15-34)*INDEX(PrBeat,C15,M15)+INDEX(InGame3,N15-34)*INDEX(PrBeat,C15,N15)+INDEX(InGame3,O15-34)*INDEX(PrBeat,C15,O15))","v":9.6763710094764329E-4},35,36,37,38,39,40,41,42,null,{"$f":"INDEX(InGame4,C15-34)*(INDEX(InGame4,R15-34)*INDEX(PrBeat,C15,R15)+INDEX(InGame4,S15-34)*INDEX(PrBeat,C15,S15)+INDEX(InGame4,T15-34)*INDEX(PrBeat,C15,T15)+INDEX(InGame4,U15-34)*INDEX(PrBeat,C15,U15)+INDEX(InGame4,V15-34)*INDEX(PrBeat,C15,V15)+INDEX(InGame4,W15-34)*INDEX(PrBeat,C15,W15)+INDEX(InGame4,X15-34)*INDEX(PrBeat,C15,X15)+INDEX(InGame4,Y15-34)*INDEX(PrBeat,C15,Y15))","v":6.8787067278233783E-5}]
[null,"Texas A&M",48,1,49,null,{"$f":"INDEX(InGame1,C16-34)*INDEX(PrBeat,C16,E16)","v":0.58706442264821468},50,51,null,{"$f":"INDEX(InGame2,C16-34)*(INDEX(InGame2,H16-34)*INDEX(PrBeat,C16,H16)+INDEX(InGame2,I16-34)*INDEX(PrBeat,C16,I16))","v":0.21684649450317015},43,44,45,46,47,{"$f":"INDEX(InGame3,C16-34)*(INDEX(InGame3,L16-34)*INDEX(PrBeat,C16,L16)+INDEX(InGame3,M16-34)*INDEX(PrBeat,C16,M16)+INDEX(InGame3,N16-34)*INDEX(PrBeat,C16,N16)+INDEX(InGame3,O16-34)*INDEX(PrBeat,C16,O16)+INDEX(InGame3,P16-34)*INDEX(PrBeat,C16,P16))","v":0.11663409223069299},35,36,37,38,39,40,41,42,null,{"$f":"INDEX(InGame4,C16-34)*(INDEX(InGame4,R16-34)*INDEX(PrBeat,C16,R16)+INDEX(InGame4,S16-34)*INDEX(PrBeat,C16,S16)+INDEX(InGame4,T16-34)*INDEX(PrBeat,C16,T16)+INDEX(InGame4,U16-34)*INDEX(PrBeat,C16,U16)+INDEX(InGame4,V16-34)*INDEX(PrBeat,C16,V16)+INDEX(InGame4,W16-34)*INDEX(PrBeat,C16,W16)+INDEX(InGame4,X16-34)*INDEX(PrBeat,C16,X16)+INDEX(InGame4,Y16-34)*INDEX(PrBeat,C16,Y16))","v":4.6521316865004068E-2}]
[null,"Penn St",49,1,48,null,{"$f":"INDEX(InGame1,C17-34)*INDEX(PrBeat,C17,E17)","v":0.41293557735178532},50,51,null,{"$f":"INDEX(InGame2,C17-34)*(INDEX(InGame2,H17-34)*INDEX(PrBeat,C17,H17)+INDEX(InGame2,I17-34)*INDEX(PrBeat,C17,I17))","v":0.12188799143873846},43,44,45,46,47,{"$f":"INDEX(InGame3,C17-34)*(INDEX(InGame3,L17-34)*INDEX(PrBeat,C17,L17)+INDEX(InGame3,M17-34)*INDEX(PrBeat,C17,M17)+INDEX(InGame3,N17-34)*INDEX(PrBeat,C17,N17)+INDEX(InGame3,O17-34)*INDEX(PrBeat,C17,O17)+INDEX(InGame3,P17-34)*INDEX(PrBeat,C17,P17))","v":5.5102263549437966E-2},35,36,37,38,39,40,41,42,null,{"$f":"INDEX(InGame4,C17-34)*(INDEX(InGame4,R17-34)*INDEX(PrBeat,C17,R17)+INDEX(InGame4,S17-34)*INDEX(PrBeat,C17,S17)+INDEX(InGame4,T17-34)*INDEX(PrBeat,C17,T17)+INDEX(InGame4,U17-34)*INDEX(PrBeat,C17,U17)+INDEX(InGame4,V17-34)*INDEX(PrBeat,C17,V17)+INDEX(InGame4,W17-34)*INDEX(PrBeat,C17,W17)+INDEX(InGame4,X17-34)*INDEX(PrBeat,C17,X17)+INDEX(InGame4,Y17-34)*INDEX(PrBeat,C17,Y17))","v":1.7745268981513417E-2}]
[null,"Texas",50,1,51,null,{"$f":"INDEX(InGame1,C18-34)*INDEX(PrBeat,C18,E18)","v":0.924071081338524},48,49,null,{"$f":"INDEX(InGame2,C18-34)*(INDEX(InGame2,H18-34)*INDEX(PrBeat,C18,H18)+INDEX(InGame2,I18-34)*INDEX(PrBeat,C18,I18))","v":0.64726756894128157},43,44,45,46,47,{"$f":"INDEX(InGame3,C18-34)*(INDEX(InGame3,L18-34)*INDEX(PrBeat,C18,L18)+INDEX(InGame3,M18-34)*INDEX(PrBeat,C18,M18)+INDEX(InGame3,N18-34)*INDEX(PrBeat,C18,N18)+INDEX(InGame3,O18-34)*INDEX(PrBeat,C18,O18)+INDEX(InGame3,P18-34)*INDEX(PrBeat,C18,P18))","v":0.45319831411248407},35,36,37,38,39,40,41,42,null,{"$f":"INDEX(InGame4,C18-34)*(INDEX(InGame4,R18-34)*INDEX(PrBeat,C18,R18)+INDEX(InGame4,S18-34)*INDEX(PrBeat,C18,S18)+INDEX(InGame4,T18-34)*INDEX(PrBeat,C18,T18)+INDEX(InGame4,U18-34)*INDEX(PrBeat,C18,U18)+INDEX(InGame4,V18-34)*INDEX(PrBeat,C18,V18)+INDEX(InGame4,W18-34)*INDEX(PrBeat,C18,W18)+INDEX(InGame4,X18-34)*INDEX(PrBeat,C18,X18)+INDEX(InGame4,Y18-34)*INDEX(PrBeat,C18,Y18))","v":0.25436895588993064}]
[null,"Colgate",51,1,50,null,{"$f":"INDEX(InGame1,C19-34)*INDEX(PrBeat,C19,E19)","v":7.5928918661475997E-2},48,49,null,{"$f":"INDEX(InGame2,C19-34)*(INDEX(InGame2,H19-34)*INDEX(PrBeat,C19,H19)+INDEX(InGame2,I19-34)*INDEX(PrBeat,C19,I19))","v":1.399794511680983E-2},43,44,45,46,47,{"$f":"INDEX(InGame3,C19-34)*(INDEX(InGame3,L19-34)*INDEX(PrBeat,C19,L19)+INDEX(InGame3,M19-34)*INDEX(PrBeat,C19,M19)+INDEX(InGame3,N19-34)*INDEX(PrBeat,C19,N19)+INDEX(InGame3,O19-34)*INDEX(PrBeat,C19,O19)+INDEX(InGame3,P19-34)*INDEX(PrBeat,C19,P19))","v":2.664767213242237E-3},35,36,37,38,39,40,41,42,null,{"$f":"INDEX(InGame4,C19-34)*(INDEX(InGame4,R19-34)*INDEX(PrBeat,C19,R19)+INDEX(InGame4,S19-34)*INDEX(PrBeat,C19,S19)+INDEX(InGame4,T19-34)*INDEX(PrBeat,C19,T19)+INDEX(InGame4,U19-34)*INDEX(PrBeat,C19,U19)+INDEX(InGame4,V19-34)*INDEX(PrBeat,C19,V19)+INDEX(InGame4,W19-34)*INDEX(PrBeat,C19,W19)+INDEX(InGame4,X19-34)*INDEX(PrBeat,C19,X19)+INDEX(InGame4,Y19-34)*INDEX(PrBeat,C19,Y19))","v":3.1436384726522295E-4}]

{"sheet":"West","index":4,"n_rows":19,"n_cols":27,"rows_kept":19,"cut":false,"hidden":false,"merged":[]}
[]
[null,"Team","Index","Into Game 1","G1 Opp1","G1 Opp2","Into Game 2","G2 Opp1","G2 Opp2","G2 Opp3","Into Game 3","G3 Opp1","G3 Opp2","G3 Opp3","G3 Opp4","G3 Opp5","Into Game 4","G4 Opp1","G4 Opp2","G4 Opp3","G4 Opp4","G4 Opp5","G4 Opp6","G4 Opp7","G4 Opp8","G4 Opp9","Into Game 5"]
[null,"Kansas",52,1,53,null,{"$f":"INDEX(InGame1,C3-51)*INDEX(PrBeat,C3,E3)","v":0.98191450375983191},54,55,null,{"$f":"INDEX(InGame2,C3-51)*(INDEX(InGame2,H3-51)*INDEX(PrBeat,C3,H3)+INDEX(InGame2,I3-51)*INDEX(PrBeat,C3,I3))","v":0.65828314338750471},56,57,58,59,null,{"$f":"INDEX(InGame3,C3-51)*(INDEX(InGame3,L3-51)*INDEX(PrBeat,C3,L3)+INDEX(InGame3,M3-51)*INDEX(PrBeat,C3,M3)+INDEX(InGame3,N3-51)*INDEX(PrBeat,C3,N3)+INDEX(InGame3,O3-51)*INDEX(PrBeat,C3,O3))","v":0.37960129850132129},60,61,62,63,64,65,66,67,68,{"$f":"INDEX(InGame4,C3-51)*(INDEX(InGame4,R3-51)*INDEX(PrBeat,C3,R3)+INDEX(InGame4,S3-51)*INDEX(PrBeat,C3,S3)+INDEX(InGame4,T3-51)*INDEX(PrBeat,C3,T3)+INDEX(InGame4,U3-51)*INDEX(PrBeat,C3,U3)+INDEX(InGame4,V3-51)*INDEX(PrBeat,C3,V3)+INDEX(InGame4,W3-51)*INDEX(PrBeat,C3,W3)+INDEX(InGame4,X3-51)*INDEX(PrBeat,C3,X3)+INDEX(InGame4,Y3-51)*INDEX(PrBeat,C3,Y3)+INDEX(InGame4,Z3-51)*INDEX(PrBeat,C3,Z3))","v":0.1922251328799022}]
[null,"Howard",53,1,52,null,{"$f":"INDEX(InGame1,C4-51)*INDEX(PrBeat,C4,E4)","v":1.8085496240168086E-2},54,55,null,{"$f":"INDEX(InGame2,C4-51)*(INDEX(InGame2,H4-51)*INDEX(PrBeat,C4,H4)+INDEX(InGame2,I4-51)*INDEX(PrBeat,C4,I4))","v":8.8843260587950334E-4},56,57,58,59,null,{"$f":"INDEX(InGame3,C4-51)*(INDEX(InGame3,L4-51)*INDEX(PrBeat,C4,L4)+INDEX(InGame3,M4-51)*INDEX(PrBeat,C4,M4)+INDEX(InGame3,N4-51)*INDEX(PrBeat,C4,N4)+INDEX(InGame3,O4-51)*INDEX(PrBeat,C4,O4))","v":3.1719060825468284E-5},60,61,62,63,64,65,66,67,68,{"$f":"INDEX(InGame4,C4-51)*(INDEX(InGame4,R4-51)*INDEX(PrBeat,C4,R4)+INDEX(InGame4,S4-51)*INDEX(PrBeat,C4,S4)+INDEX(InGame4,T4-51)*INDEX(PrBeat,C4,T4)+INDEX(InGame4,U4-51)*INDEX(PrBeat,C4,U4)+INDEX(InGame4,V4-51)*INDEX(PrBeat,C4,V4)+INDEX(InGame4,W4-51)*INDEX(PrBeat,C4,W4)+INDEX(InGame4,X4-51)*INDEX(PrBeat,C4,X4)+INDEX(InGame4,Y4-51)*INDEX(PrBeat,C4,Y4)+INDEX(InGame4,Z4-51)*INDEX(PrBeat,C4,Z4))","v":7.4536111881886982E-7}]
[null,"Arkansas",54,1,55,null,{"$f":"INDEX(InGame1,C5-51)*INDEX(PrBeat,C5,E5)","v":0.51834487504449811},52,53,null,{"$f":"INDEX(InGame2,C5-51)*(INDEX(InGame2,H5-51)*INDEX(PrBeat,C5,H5)+INDEX(InGame2,I5-51)*INDEX(PrBeat,C5,I5))","v":0.18076764466653433},56,57,58,59,null,{"$f":"INDEX(InGame3,C5-51)*(INDEX(InGame3,L5-51)*INDEX(PrBeat,C5,L5)+INDEX(InGame3,M5-51)*INDEX(PrBeat,C5,M5)+INDEX(InGame3,N5-51)*INDEX(PrBeat,C5,N5)+INDEX(InGame3,O5-51)*INDEX(PrBeat,C5,O5))","v":7.5427115851445292E-2},60,61,62,63,64,65,66,67,68,{"$f":"INDEX(InGame4,C5-51)*(INDEX(InGame4,R5-51)*INDEX(PrBeat,C5,R5)+INDEX(InGame4,S5-51)*INDEX(PrBeat,C5,S5)+INDEX(InGame4,T5-51)*INDEX(PrBeat,C5,T5)+INDEX(InGame4,U5-51)*INDEX(PrBeat,C5,U5)+INDEX(InGame4,V5-51)*INDEX(PrBeat,C5,V5)+INDEX(InGame4,W5-51)*INDEX(PrBeat,C5,W5)+INDEX(InGame4,X5-51)*INDEX(PrBeat,C5,X5)+INDEX(InGame4,Y5-51)*INDEX(PrBeat,C5,Y5)+INDEX(InGame4,Z5-51)*INDEX(PrBeat,C5,Z5))","v":2.6293288342572049E-2}]
[null,"Illinois",55,1,54,null,{"$f":"INDEX(InGame1,C6-51)*INDEX(PrBeat,C6,E6)","v":0.48165512495550189},52,53,null,{"$f":"INDEX(InGame2,C6-51)*(INDEX(InGame2,H6-51)*INDEX(PrBeat,C6,H6)+INDEX(InGame2,I6-51)*INDEX(PrBeat,C6,I6))","v":0.16006077934008145},56,57,58,59,null,{"$f":"INDEX(InGame3,C6-51)*(INDEX(InGame3,L6-51)*INDEX(PrBeat,C6,L6)+INDEX(InGame3,M6-51)*INDEX(PrBeat,C6,M6)+INDEX(InGame3,N6-51)*INDEX(PrBeat,C6,N6)+INDEX(InGame3,O6-51)*INDEX(PrBeat,C6,O6))","v":6.4047170864836717E-2},60,61,62,63,64,65,66,67,68,{"$f":"INDEX(InGame4,C6-51)*(INDEX(InGame4,R6-51)*INDEX(PrBeat,C6,R6)+INDEX(InGame4,S6-51)*INDEX(PrBeat,C6,S6)+INDEX(InGame4,T6-51)*INDEX(PrBeat,C6,T6)+INDEX(InGame4,U6-51)*INDEX(PrBeat,C6,U6)+INDEX(InGame4,V6-51)*INDEX(PrBeat,C6,V6)+INDEX(InGame4,W6-51)*INDEX(PrBeat,C6,W6)+INDEX(InGame4,X6-51)*INDEX(PrBeat,C6,X6)+INDEX(InGame4,Y6-51)*INDEX(PrBeat,C6,Y6)+INDEX(InGame4,Z6-51)*INDEX(PrBeat,C6,Z6))","v":2.1285012996007002E-2}]
[null,"Saint Mary's",56,1,57,null,{"$f":"INDEX(InGame1,C7-51)*INDEX(PrBeat,C7,E7)","v":0.61714841818831467},58,59,null,{"$f":"INDEX(InGame2,C7-51)*(INDEX(InGame2,H7-51)*INDEX(PrBeat,C7,H7)+INDEX(InGame2,I7-51)*INDEX(PrBeat,C7,I7))","v":0.25708753288539982},52,53,54,55,null,{"$f":"INDEX(InGame3,C7-51)*(INDEX(InGame3,L7-51)*INDEX(PrBeat,C7,L7)+INDEX(InGame3,M7-51)*INDEX(PrBeat,C7,M7)+INDEX(InGame3,N7-51)*INDEX(PrBeat,C7,N7)+INDEX(InGame3,O7-51)*INDEX(PrBeat,C7,O7))","v":0.10845735280759577},60,61,62,63,64,65,66,67,68,{"$f":"INDEX(InGame4,C7-51)*(INDEX(InGame4,R7-51)*INDEX(PrBeat,C7,R7)+INDEX(InGame4,S7-51)*INDEX(PrBeat,C7,S7)+INDEX(InGame4,T7-51)*INDEX(PrBeat,C7,T7)+INDEX(InGame4,U7-51)*INDEX(PrBeat,C7,U7)+INDEX(InGame4,V7-51)*INDEX(PrBeat,C7,V7)+INDEX(InGame4,W7-51)*INDEX(PrBeat,C7,W7)+INDEX(InGame4,X7-51)*INDEX(PrBeat,C7,X7)+INDEX(InGame4,Y7-51)*INDEX(PrBeat,C7,Y7)+INDEX(InGame4,Z7-51)*INDEX(PrBeat,C7,Z7))","v":4.0431684989408932E-2}]
[null,"VCU",57,1,56,null,{"$f":"INDEX(InGame1,C8-51)*INDEX(PrBeat,C8,E8)","v":0.38285158181168533},58,59,null,{"$f":"INDEX(InGame2,C8-51)*(INDEX(InGame2,H8-51)*INDEX(PrBeat,C8,H8)+INDEX(InGame2,I8-51)*INDEX(PrBeat,C8,I8))","v":0.11972754036950795},52,53,54,55,null,{"$f":"INDEX(InGame3,C8-51)*(INDEX(InGame3,L8-51)*INDEX(PrBeat,C8,L8)+INDEX(InGame3,M8-51)*INDEX(PrBeat,C8,M8)+INDEX(InGame3,N8-51)*INDEX(PrBeat,C8,N8)+INDEX(InGame3,O8-51)*INDEX(PrBeat,C8,O8))","v":3.744054050612395E-2},60,61,62,63,64,65,66,67,68,{"$f":"INDEX(InGame4,C8-51)*(INDEX(InGame4,R8-51)*INDEX(PrBeat,C8,R8)+INDEX(InGame4,S8-51)*INDEX(PrBeat,C8,S8)+INDEX(InGame4,T8-51)*INDEX(PrBeat,C8,T8)+INDEX(InGame4,U8-51)*INDEX(PrBeat,C8,U8)+INDEX(InGame4,V8-51)*INDEX(PrBeat,C8,V8)+INDEX(InGame4,W8-51)*INDEX(PrBeat,C8,W8)+INDEX(InGame4,X8-51)*INDEX(PrBeat,C8,X8)+INDEX(InGame4,Y8-51)*INDEX(PrBeat,C8,Y8)+INDEX(InGame4,Z8-51)*INDEX(PrBeat,C8,Z8))","v":1.0123982557410743E-2}]
[null,"UConn",58,1,59,null,{"$f":"INDEX(InGame1,C9-51)*INDEX(PrBeat,C9,E9)","v":0.8503649724567971},56,57,null,{"$f":"INDEX(InGame2,C9-51)*(INDEX(InGame2,H9-51)*INDEX(PrBeat,C9,H9)+INDEX(InGame2,I9-51)*INDEX(PrBeat,C9,I9))","v":0.57983486712118448},52,53,54,55,null,{"$f":"INDEX(InGame3,C9-51)*(INDEX(InGame3,L9-51)*INDEX(PrBeat,C9,L9)+INDEX(InGame3,M9-51)*INDEX(PrBeat,C9,M9)+INDEX(InGame3,N9-51)*INDEX(PrBeat,C9,N9)+INDEX(InGame3,O9-51)*INDEX(PrBeat,C9,O9))","v":0.32648644761144019},60,61,62,63,64,65,66,67,68,{"$f":"INDEX(InGame4,C9-51)*(INDEX(InGame4,R9-51)*INDEX(PrBeat,C9,R9)+INDEX(InGame4,S9-51)*INDEX(PrBeat,C9,S9)+INDEX(InGame4,T9-51)*INDEX(PrBeat,C9,T9)+INDEX(InGame4,U9-51)*INDEX(PrBeat,C9,U9)+INDEX(InGame4,V9-51)*INDEX(PrBeat,C9,V9)+INDEX(InGame4,W9-51)*INDEX(PrBeat,C9,W9)+INDEX(InGame4,X9-51)*INDEX(PrBeat,C9,X9)+INDEX(InGame4,Y9-51)*INDEX(PrBeat,C9,Y9)+INDEX(InGame4,Z9-51)*INDEX(PrBeat,C9,Z9))","v":0.16684306841721269}]
[null,"Iona",59,1,58,null,{"$f":"INDEX(InGame1,C10-51)*INDEX(PrBeat,C10,E10)","v":0.1496350275432029},56,57,null,{"$f":"INDEX(InGame2,C10-51)*(INDEX(InGame2,H10-51)*INDEX(PrBeat,C10,H10)+INDEX(InGame2,I10-51)*INDEX(PrBeat,C10,I10))","v":4.3350059623907748E-2},52,53,54,55,null,{"$f":"INDEX(InGame3,C10-51)*(INDEX(InGame3,L10-51)*INDEX(PrBeat,C10,L10)+INDEX(InGame3,M10-51)*INDEX(PrBeat,C10,M10)+INDEX(InGame3,N10-51)*INDEX(PrBeat,C10,N10)+INDEX(InGame3,O10-51)*INDEX(PrBeat,C10,O10))","v":8.5083547964113337E-3},60,61,62,63,64,65,66,67,68,{"$f":"INDEX(InGame4,C10-51)*(INDEX(InGame4,R10-51)*INDEX(PrBeat,C10,R10)+INDEX(InGame4,S10-51)*INDEX(PrBeat,C10,S10)+INDEX(InGame4,T10-51)*INDEX(PrBeat,C10,T10)+INDEX(InGame4,U10-51)*INDEX(PrBeat,C10,U10)+INDEX(InGame4,V10-51)*INDEX(PrBeat,C10,V10)+INDEX(InGame4,W10-51)*INDEX(PrBeat,C10,W10)+INDEX(InGame4,X10-51)*INDEX(PrBeat,C10,X10)+INDEX(InGame4,Y10-51)*INDEX(PrBeat,C10,Y10)+INDEX(InGame4,Z10-51)*INDEX(PrBeat,C10,Z10))","v":1.4078236239100531E-3}]
[null,"TCU",60,1,61,62,{"$f":"INDEX(InGame1,C11-51)*(INDEX(InGame1,E11-51)*INDEX(PrBeat,C11,E11)+INDEX(InGame1,F11-51)*INDEX(PrBeat,C11,F11))","v":0.71572498281017372},63,64,null,{"$f":"INDEX(InGame2,C11-51)*(INDEX(InGame2,H11-51)*INDEX(PrBeat,C11,H11)+INDEX(InGame2,I11-51)*INDEX(PrBeat,C11,I11))","v":0.26029542059534194},65,66,67,68,null,{"$f":"INDEX(InGame3,C11-51)*(INDEX(InGame3,L11-51)*INDEX(PrBeat,C11,L11)+INDEX(InGame3,M11-51)*INDEX(PrBeat,C11,M11)+INDEX(InGame3,N11-51)*INDEX(PrBeat,C11,N11)+INDEX(InGame3,O11-51)*INDEX(PrBeat,C11,O11))","v":9.7230806168092807E-2},52,53,54,55,56,57,58,59,null,{"$f":"INDEX(InGame4,C11-51)*(INDEX(InGame4,R11-51)*INDEX(PrBeat,C11,R11)+INDEX(InGame4,S11-51)*INDEX(PrBeat,C11,S11)+INDEX(InGame4,T11-51)*INDEX(PrBeat,C11,T11)+INDEX(InGame4,U11-51)*INDEX(PrBeat,C11,U11)+INDEX(InGame4,V11-51)*INDEX(PrBeat,C11,V11)+INDEX(InGame4,W11-51)*INDEX(PrBeat,C11,W11)+INDEX(InGame4,X11-51)*INDEX(PrBeat,C11,X11)+INDEX(InGame4,Y11-51)*INDEX(PrBeat,C11,Y11))","v":3.837490612908287E-2}]
[null,"Arizona St",61,{"$f":"INDEX(PrBeat,C12,C13)","v":0.57063851212988337},60,null,{"$f":"INDEX(InGame1,C12-51)*INDEX(PrBeat,C12,E12)","v":0.17686781216973926},63,64,null,{"$f":"INDEX(InGame2,C12-51)*(INDEX(InGame2,H12-51)*INDEX(PrBeat,C12,H12)+INDEX(InGame2,I12-51)*INDEX(PrBeat,C12,I12))","v":3.7139467910895986E-2},65,66,67,68,null,{"$f":"INDEX(InGame3,C12-51)*(INDEX(InGame3,L12-51)*INDEX(PrBeat,C12,L12)+INDEX(InGame3,M12-51)*INDEX(PrBeat,C12,M12)+INDEX(InGame3,N12-51)*INDEX(PrBeat,C12,N12)+INDEX(InGame3,O12-51)*INDEX(PrBeat,C12,O12))","v":8.0375783669000521E-3},52,53,54,55,56,57,58,59,null,{"$f":"INDEX(InGame4,C12-51)*(INDEX(InGame4,R12-51)*INDEX(PrBeat,C12,R12)+INDEX(InGame4,S12-51)*INDEX(PrBeat,C12,S12)+INDEX(InGame4,T12-51)*INDEX(PrBeat,C12,T12)+INDEX(InGame4,U12-51)*INDEX(PrBeat,C12,U12)+INDEX(InGame4,V12-51)*INDEX(PrBeat,C12,V12)+INDEX(InGame4,W12-51)*INDEX(PrBeat,C12,W12)+INDEX(InGame4,X12-51)*INDEX(PrBeat,C12,X12)+INDEX(InGame4,Y12-51)*INDEX(PrBeat,C12,Y12))","v":1.8205976134433905E-3}]
[null,"Nevada",62,{"$f":"1-D12","v":0.42936148787011663},60,null,{"$f":"INDEX(InGame1,C13-51)*INDEX(PrBeat,C13,E13)","v":0.10740720502008709},63,64,null,{"$f":"INDEX(InGame2,C13-51)*(INDEX(InGame2,H13-51)*INDEX(PrBeat,C13,H13)+INDEX(InGame2,I13-51)*INDEX(PrBeat,C13,I13))","v":1.7909861192306791E-2},65,66,67,68,null,{"$f":"INDEX(InGame3,C13-51)*(INDEX(InGame3,L13-51)*INDEX(PrBeat,C13,L13)+INDEX(InGame3,M13-51)*INDEX(PrBeat,C13,M13)+INDEX(InGame3,N13-51)*INDEX(PrBeat,C13,N13)+INDEX(InGame3,O13-51)*INDEX(PrBeat,C13,O13))","v":3.0686675346074548E-3},52,53,54,55,56,57,58,59,null,{"$f":"INDEX(InGame4,C13-51)*(INDEX(InGame4,R13-51)*INDEX(PrBeat,C13,R13)+INDEX(InGame4,S13-51)*INDEX(PrBeat,C13,S13)+INDEX(InGame4,T13-51)*INDEX(PrBeat,C13,T13)+INDEX(InGame4,U13-51)*INDEX(PrBeat,C13,U13)+INDEX(InGame4,V13-51)*INDEX(PrBeat,C13,V13)+INDEX(InGame4,W13-51)*INDEX(PrBeat,C13,W13)+INDEX(InGame4,X13-51)*INDEX(PrBeat,C13,X13)+INDEX(InGame4,Y13-51)*INDEX(PrBeat,C13,Y13))","v":5.4582558848663995E-4}]
[null,"Gonzaga",63,1,64,null,{"$f":"INDEX(InGame1,C14-51)*INDEX(PrBeat,C14,E14)","v":0.92605153821543351},60,61,62,{"$f":"INDEX(InGame2,C14-51)*(INDEX(InGame2,H14-51)*INDEX(PrBeat,C14,H14)+INDEX(InGame2,I14-51)*INDEX(PrBeat,C14,I14)+INDEX(InGame2,J14-51)*INDEX(PrBeat,C14,J14))","v":0.66918258077678128},65,66,67,68,null,{"$f":"INDEX(InGame3,C14-51)*(INDEX(InGame3,L14-51)*INDEX(PrBeat,C14,L14)+INDEX(InGame3,M14-51)*INDEX(PrBeat,C14,M14)+INDEX(InGame3,N14-51)*INDEX(PrBeat,C14,N14)+INDEX(InGame3,O14-51)*INDEX(PrBeat,C14,O14))","v":0.36195442372136072},52,53,54,55,56,57,58,59,null,{"$f":"INDEX(InGame4,C14-51)*(INDEX(InGame4,R14-51)*INDEX(PrBeat,C14,R14)+INDEX(InGame4,S14-51)*INDEX(PrBeat,C14,S14)+INDEX(InGame4,T14-51)*INDEX(PrBeat,C14,T14)+INDEX(InGame4,U14-51)*INDEX(PrBeat,C14,U14)+INDEX(InGame4,V14-51)*INDEX(PrBeat,C14,V14)+INDEX(InGame4,W14-51)*INDEX(PrBeat,C14,W14)+INDEX(InGame4,X14-51)*INDEX(PrBeat,C14,X14)+INDEX(InGame4,Y14-51)*INDEX(PrBeat,C14,Y14))","v":0.20601166451583741}]
[null,"Grand Canyon",64,1,63,null,{"$f":"INDEX(InGame1,C15-51)*INDEX(PrBeat,C15,E15)","v":7.3948461784566488E-2},60,61,62,{"$f":"INDEX(InGame2,C15-51)*(INDEX(InGame2,H15-51)*INDEX(PrBeat,C15,H15)+INDEX(InGame2,I15-51)*INDEX(PrBeat,C15,I15)+INDEX(InGame2,J15-51)*INDEX(PrBeat,C15,J15))","v":1.5472669524674203E-2},65,66,67,68,null,{"$f":"INDEX(InGame3,C15-51)*(INDEX(InGame3,L15-51)*INDEX(PrBeat,C15,L15)+INDEX(InGame3,M15-51)*INDEX(PrBeat,C15,M15)+INDEX(InGame3,N15-51)*INDEX(PrBeat,C15,N15)+INDEX(InGame3,O15-51)*INDEX(PrBeat,C15,O15))","v":1.6517480158900514E-3},52,53,54,55,56,57,58,59,null,{"$f":"INDEX(InGame4,C15-51)*(INDEX(InGame4,R15-51)*INDEX(PrBeat,C15,R15)+INDEX(InGame4,S15-51)*INDEX(PrBeat,C15,S15)+INDEX(InGame4,T15-51)*INDEX(PrBeat,C15,T15)+INDEX(InGame4,U15-51)*INDEX(PrBeat,C15,U15)+INDEX(InGame4,V15-51)*INDEX(PrBeat,C15,V15)+INDEX(InGame4,W15-51)*INDEX(PrBeat,C15,W15)+INDEX(InGame4,X15-51)*INDEX(PrBeat,C15,X15)+INDEX(InGame4,Y15-51)*INDEX(PrBeat,C15,Y15))","v":1.7898099521247945E-4}]
[null,"Northwestern",65,1,66,null,{"$f":"INDEX(InGame1,C16-51)*INDEX(PrBeat,C16,E16)","v":0.58082325054489603},67,68,null,{"$f":"INDEX(InGame2,C16-51)*(INDEX(InGame2,H16-51)*INDEX(PrBeat,C16,H16)+INDEX(InGame2,I16-51)*INDEX(PrBeat,C16,I16))","v":0.1476809912454318},60,61,62,63,64,{"$f":"INDEX(InGame3,C16-51)*(INDEX(InGame3,L16-51)*INDEX(PrBeat,C16,L16)+INDEX(InGame3,M16-51)*INDEX(PrBeat,C16,M16)+INDEX(InGame3,N16-51)*INDEX(PrBeat,C16,N16)+INDEX(InGame3,O16-51)*INDEX(PrBeat,C16,O16)+INDEX(InGame3,P16-51)*INDEX(PrBeat,C16,P16))","v":4.8473225559887922E-2},52,53,54,55,56,57,58,59,null,{"$f":"INDEX(InGame4,C16-51)*(INDEX(InGame4,R16-51)*INDEX(PrBeat,C16,R16)+INDEX(InGame4,S16-51)*INDEX(PrBeat,C16,S16)+INDEX(InGame4,T16-51)*INDEX(PrBeat,C16,T16)+INDEX(InGame4,U16-51)*INDEX(PrBeat,C16,U16)+INDEX(InGame4,V16-51)*INDEX(PrBeat,C16,V16)+INDEX(InGame4,W16-51)*INDEX(PrBeat,C16,W16)+INDEX(InGame4,X16-51)*INDEX(PrBeat,C16,X16)+INDEX(InGame4,Y16-51)*INDEX(PrBeat,C16,Y16))","v":1.5573957704821131E-2}]
[null,"Boise St",66,1,65,null,{"$f":"INDEX(InGame1,C17-51)*INDEX(PrBeat,C17,E17)","v":0.41917674945510397},67,68,null,{"$f":"INDEX(InGame2,C17-51)*(INDEX(InGame2,H17-51)*INDEX(PrBeat,C17,H17)+INDEX(InGame2,I17-51)*INDEX(PrBeat,C17,I17))","v":8.2539408589725166E-2},60,61,62,63,64,{"$f":"INDEX(InGame3,C17-51)*(INDEX(InGame3,L17-51)*INDEX(PrBeat,C17,L17)+INDEX(InGame3,M17-51)*INDEX(PrBeat,C17,M17)+INDEX(InGame3,N17-51)*INDEX(PrBeat,C17,N17)+INDEX(InGame3,O17-51)*INDEX(PrBeat,C17,O17)+INDEX(InGame3,P17-51)*INDEX(PrBeat,C17,P17))","v":2.1611109353197891E-2},52,53,54,55,56,57,58,59,null,{"$f":"INDEX(InGame4,C17-51)*(INDEX(InGame4,R17-51)*INDEX(PrBeat,C17,R17)+INDEX(InGame4,S17-51)*INDEX(PrBeat,C17,S17)+INDEX(InGame4,T17-51)*INDEX(PrBeat,C17,T17)+INDEX(InGame4,U17-51)*INDEX(PrBeat,C17,U17)+INDEX(InGame4,V17-51)*INDEX(PrBeat,C17,V17)+INDEX(InGame4,W17-51)*INDEX(PrBeat,C17,W17)+INDEX(InGame4,X17-51)*INDEX(PrBeat,C17,X17)+INDEX(InGame4,Y17-51)*INDEX(PrBeat,C17,Y17))","v":5.4834253786300892E-3}]
[null,"UCLA",67,1,68,null,{"$f":"INDEX(InGame1,C18-51)*INDEX(PrBeat,C18,E18)","v":0.96689505230647121},65,66,null,{"$f":"INDEX(InGame2,C18-51)*(INDEX(InGame2,H18-51)*INDEX(PrBeat,C18,H18)+INDEX(InGame2,I18-51)*INDEX(PrBeat,C18,I18))","v":0.76467276040958443},60,61,62,63,64,{"$f":"INDEX(InGame3,C18-51)*(INDEX(InGame3,L18-51)*INDEX(PrBeat,C18,L18)+INDEX(InGame3,M18-51)*INDEX(PrBeat,C18,M18)+INDEX(InGame3,N18-51)*INDEX(PrBeat,C18,N18)+INDEX(InGame3,O18-51)*INDEX(PrBeat,C18,O18)+INDEX(InGame3,P18-51)*INDEX(PrBeat,C18,P18))","v":0.45762010301304251},52,53,54,55,56,57,58,59,null,{"$f":"INDEX(InGame4,C18-51)*(INDEX(InGame4,R18-51)*INDEX(PrBeat,C18,R18)+INDEX(InGame4,S18-51)*INDEX(PrBeat,C18,S18)+INDEX(InGame4,T18-51)*INDEX(PrBeat,C18,T18)+INDEX(InGame4,U18-51)*INDEX(PrBeat,C18,U18)+INDEX(InGame4,V18-51)*INDEX(PrBeat,C18,V18)+INDEX(InGame4,W18-51)*INDEX(PrBeat,C18,W18)+INDEX(InGame4,X18-51)*INDEX(PrBeat,C18,X18)+INDEX(InGame4,Y18-51)*INDEX(PrBeat,C18,Y18))","v":0.27337820880564107}]
[null,"UNC Asheville",68,1,67,null,{"$f":"INDEX(InGame1,C19-51)*INDEX(PrBeat,C19,E19)","v":3.3104947693528786E-2},65,66,null,{"$f":"INDEX(InGame2,C19-51)*(INDEX(InGame2,H19-51)*INDEX(PrBeat,C19,H19)+INDEX(InGame2,I19-51)*INDEX(PrBeat,C19,I19))","v":5.1068397552586041E-3},60,61,62,63,64,{"$f":"INDEX(InGame3,C19-51)*(INDEX(InGame3,L19-51)*INDEX(PrBeat,C19,L19)+INDEX(InGame3,M19-51)*INDEX(PrBeat,C19,M19)+INDEX(InGame3,N19-51)*INDEX(PrBeat,C19,N19)+INDEX(InGame3,O19-51)*INDEX(PrBeat,C19,O19)+INDEX(InGame3,P19-51)*INDEX(PrBeat,C19,P19))","v":3.5233826702078396E-4},52,53,54,55,56,57,58,59,null,{"$f":"INDEX(InGame4,C19-51)*(INDEX(InGame4,R19-51)*INDEX(PrBeat,C19,R19)+INDEX(InGame4,S19-51)*INDEX(PrBeat,C19,S19)+INDEX(InGame4,T19-51)*INDEX(PrBeat,C19,T19)+INDEX(InGame4,U19-51)*INDEX(PrBeat,C19,U19)+INDEX(InGame4,V19-51)*INDEX(PrBeat,C19,V19)+INDEX(InGame4,W19-51)*INDEX(PrBeat,C19,W19)+INDEX(InGame4,X19-51)*INDEX(PrBeat,C19,X19)+INDEX(InGame4,Y19-51)*INDEX(PrBeat,C19,Y19))","v":2.1694101302640348E-5}]

{"sheet":"Final 4","index":5,"n_rows":70,"n_cols":57,"rows_kept":70,"cut":false,"hidden":false,"merged":[]}
[]
[null,"Team","Index","Into Final Four","G5 Opp1","G5 Opp2","G5 Opp3","G5 Opp4","G5 Opp5","G5 Opp6","G5 Opp7","G5 Opp8","G5 Opp9","G5 Opp10","G5 Opp11","G5 Opp12","G5 Opp13","G5 Opp14","G5 Opp15","G5 Opp16","G5 Opp17","Into Semis","G6 Opp1","G6 Opp2","G6 Opp3","G6 Opp4","G6 Opp5","G6 Opp6","G6 Opp7","G6 Opp8","G6 Opp9","G6 Opp10","G6 Opp11","G6 Opp12","G6 Opp13","G6 Opp14","G6 Opp15","G6 Opp16","G6 Opp17","G6 Opp18","G6 Opp19","G6 Opp20","G6 Opp21","G6 Opp22","G6 Opp23","G6 Opp24","G6 Opp25","G6 Opp26","G6 Opp27","G6 Opp28","G6 Opp29","G6 Opp30","G6 Opp31","G6 Opp32","G6 Opp33","G6 Opp34","Champ"]
[null,"Alabama",1,{"$f":"South!AA3","v":0.42434807491274856},18,19,20,21,22,23,24,25,26,27,28,29,30,31,32,33,34,{"$f":"INDEX(InGame5,C3)*(INDEX(InGame5,E3)*INDEX(PrBeat,C3,E3)+INDEX(InGame5,F3)*INDEX(PrBeat,C3,F3)+INDEX(InGame5,G3)*INDEX(PrBeat,C3,G3)+INDEX(InGame5,H3)*INDEX(PrBeat,C3,H3)+INDEX(InGame5,I3)*INDEX(PrBeat,C3,I3)+INDEX(InGame5,J3)*INDEX(PrBeat,C3,J3)+INDEX(InGame5,K3)*INDEX(PrBeat,C3,K3)+INDEX(InGame5,L3)*INDEX(PrBeat,C3,L3)+INDEX(InGame5,M3)*INDEX(PrBeat,C3,M3)+INDEX(InGame5,N3)*INDEX(PrBeat,C3,N3)+INDEX(InGame5,O3)*INDEX(PrBeat,C3,O3)+INDEX(InGame5,P3)*INDEX(PrBeat,C3,P3)+INDEX(InGame5,Q3)*INDEX(PrBeat,C3,Q3)+INDEX(InGame5,R3)*INDEX(PrBeat,C3,R3)+INDEX(InGame5,S3)*INDEX(PrBeat,C3,S3)+INDEX(InGame5,T3)*INDEX(PrBeat,C3,T3)+INDEX(InGame5,U3)*INDEX(PrBeat,C3,U3))","v":0.29932159861289598},35,36,37,38,39,40,41,42,43,44,45,46,47,48,49,50,51,52,53,54,55,56,57,58,59,60,61,62,63,64,65,66,67,68,{"$f":"INDEX(InGame6,C3)*(INDEX(InGame6,W3)*INDEX(PrBeat,C3,W3)+INDEX(InGame6,X3)*INDEX(PrBeat,C3,X3)+INDEX(InGame6,Y3)*INDEX(PrBeat,C3,Y3)+INDEX(InGame6,Z3)*INDEX(PrBeat,C3,Z3)+INDEX(InGame6,AA3)*INDEX(PrBeat,C3,AA3)+INDEX(InGame6,AB3)*INDEX(PrBeat,C3,AB3)+INDEX(InGame6,AC3)*INDEX(PrBeat,C3,AC3)+INDEX(InGame6,AD3)*INDEX(PrBeat,C3,AD3)+INDEX(InGame6,AE3)*INDEX(PrBeat,C3,AE3)+INDEX(InGame6,AF3)*INDEX(PrBeat,C3,AF3)+INDEX(InGame6,AG3)*INDEX(PrBeat,C3,AG3)+INDEX(InGame6,AH3)*INDEX(PrBeat,C3,AH3)+INDEX(InGame6,AI3)*INDEX(PrBeat,C3,AI3)+INDEX(InGame6,AJ3)*INDEX(PrBeat,C3,AJ3)+INDEX(InGame6,AK3)*INDEX(PrBeat,C3,AK3)+INDEX(InGame6,AL3)*INDEX(PrBeat,C3,AL3)+INDEX(InGame6,AM3)*INDEX(PrBeat,C3,AM3)+INDEX(InGame6,AN3)*INDEX(PrBeat,C3,AN3)+INDEX(InGame6,AO3)*INDEX(PrBeat,C3,AO3)+INDEX(InGame6,AP3)*INDEX(PrBeat,C3,AP3)+INDEX(InGame6,AQ3)*INDEX(PrBeat,C3,AQ3)+INDEX(InGame6,AR3)*INDEX(PrBeat,C3,AR3)+INDEX(InGame6,AS3)*INDEX(PrBeat,C3,AS3)+INDEX(InGame6,AT3)*INDEX(PrBeat,C3,AT3)+INDEX(InGame6,AU3)*INDEX(PrBeat,C3,AU3)+INDEX(InGame6,AV3)*INDEX(PrBeat,C3,AV3)+INDEX(InGame6,AW3)*INDEX(PrBeat,C3,AW3)+INDEX(InGame6,AX3)*INDEX(PrBeat,C3,AX3)+INDEX(InGame6,AY3)*INDEX(PrBeat,C3,AY3)+INDEX(InGame6,AZ3)*INDEX(PrBeat,C3,AZ3)+INDEX(InGame6,BA3)*INDEX(PrBeat,C3,BA3)+INDEX(InGame6,BB3)*INDEX(PrBeat,C3,BB3)+INDEX(InGame6,BC3)*INDEX(PrBeat,C3,BC3)+INDEX(InGame6,BD3)*INDEX(PrBeat,C3,BD3))","v":0.18444528281230341}]
[null,"Texas A&M-CC",2,{"$f":"South!AA4","v":1.8116070167977852E-6},18,19,20,21,22,23,24,25,26,27,28,29,30,31,32,33,34,{"$f":"INDEX(InGame5,C4)*(INDEX(InGame5,E4)*INDEX(PrBeat,C4,E4)+INDEX(InGame5,F4)*INDEX(PrBeat,C4,F4)+INDEX(InGame5,G4)*INDEX(PrBeat,C4,G4)+INDEX(InGame5,H4)*INDEX(PrBeat,C4,H4)+INDEX(InGame5,I4)*INDEX(PrBeat,C4,I4)+INDEX(InGame5,J4)*INDEX(PrBeat,C4,J4)+INDEX(InGame5,K4)*INDEX(PrBeat,C4,K4)+INDEX(InGame5,L4)*INDEX(PrBeat,C4,L4)+INDEX(InGame5,M4)*INDEX(PrBeat,C4,M4)+INDEX(InGame5,N4)*INDEX(PrBeat,C4,N4)+INDEX(InGame5,O4)*INDEX(PrBeat,C4,O4)+INDEX(InGame5,P4)*INDEX(PrBeat,C4,P4)+INDEX(InGame5,Q4)*INDEX(PrBeat,C4,Q4)+INDEX(InGame5,R4)*INDEX(PrBeat,C4,R4)+INDEX(InGame5,S4)*INDEX(PrBeat,C4,S4)+INDEX(InGame5,T4)*INDEX(PrBeat,C4,T4)+INDEX(InGame5,U4)*INDEX(PrBeat,C4,U4))","v":8.2799027886205142E-8},35,36,37,38,39,40,41,42,43,44,45,46,47,48,49,50,51,52,53,54,55,56,57,58,59,60,61,62,63,64,65,66,67,68,{"$f":"INDEX(InGame6,C4)*(INDEX(InGame6,W4)*INDEX(PrBeat,C4,W4)+INDEX(InGame6,X4)*INDEX(PrBeat,C4,X4)+INDEX(InGame6,Y4)*INDEX(PrBeat,C4,Y4)+INDEX(InGame6,Z4)*INDEX(PrBeat,C4,Z4)+INDEX(InGame6,AA4)*INDEX(PrBeat,C4,AA4)+INDEX(InGame6,AB4)*INDEX(PrBeat,C4,AB4)+INDEX(InGame6,AC4)*INDEX(PrBeat,C4,AC4)+INDEX(InGame6,AD4)*INDEX(PrBeat,C4,AD4)+INDEX(InGame6,AE4)*INDEX(PrBeat,C4,AE4)+INDEX(InGame6,AF4)*INDEX(PrBeat,C4,AF4)+INDEX(InGame6,AG4)*INDEX(PrBeat,C4,AG4)+INDEX(InGame6,AH4)*INDEX(PrBeat,C4,AH4)+INDEX(InGame6,AI4)*INDEX(PrBeat,C4,AI4)+INDEX(InGame6,AJ4)*INDEX(PrBeat,C4,AJ4)+INDEX(InGame6,AK4)*INDEX(PrBeat,C4,AK4)+INDEX(InGame6,AL4)*INDEX(PrBeat,C4,AL4)+INDEX(InGame6,AM4)*INDEX(PrBeat,C4,AM4)+INDEX(InGame6,AN4)*INDEX(PrBeat,C4,AN4)+INDEX(InGame6,AO4)*INDEX(PrBeat,C4,AO4)+INDEX(InGame6,AP4)*INDEX(PrBeat,C4,AP4)+INDEX(InGame6,AQ4)*INDEX(PrBeat,C4,AQ4)+INDEX(InGame6,AR4)*INDEX(PrBeat,C4,AR4)+INDEX(InGame6,AS4)*INDEX(PrBeat,C4,AS4)+INDEX(InGame6,AT4)*INDEX(PrBeat,C4,AT4)+INDEX(InGame6,AU4)*INDEX(PrBeat,C4,AU4)+INDEX(InGame6,AV4)*INDEX(PrBeat,C4,AV4)+INDEX(InGame6,AW4)*INDEX(PrBeat,C4,AW4)+INDEX(InGame6,AX4)*INDEX(PrBeat,C4,AX4)+INDEX(InGame6,AY4)*INDEX(PrBeat,C4,AY4)+INDEX(InGame6,AZ4)*INDEX(PrBeat,C4,AZ4)+INDEX(InGame6,BA4)*INDEX(PrBeat,C4,BA4)+INDEX(InGame6,BB4)*INDEX(PrBeat,C4,BB4)+INDEX(InGame6,BC4)*INDEX(PrBeat,C4,BC4)+INDEX(InGame6,BD4)*INDEX(PrBeat,C4,BD4))","v":2.3281688672798703E-9}]
[null,"SE Missouri St",3,{"$f":"South!AA5","v":4.4865410191856645E-8},18,19,20,21,22,23,24,25,26,27,28,29,30,31,32,33,34,{"$f":"INDEX(InGame5,C5)*(INDEX(InGame5,E5)*INDEX(PrBeat,C5,E5)+INDEX(InGame5,F5)*INDEX(PrBeat,C5,F5)+INDEX(InGame5,G5)*INDEX(PrBeat,C5,G5)+INDEX(InGame5,H5)*INDEX(PrBeat,C5,H5)+INDEX(InGame5,I5)*INDEX(PrBeat,C5,I5)+INDEX(InGame5,J5)*INDEX(PrBeat,C5,J5)+INDEX(InGame5,K5)*INDEX(PrBeat,C5,K5)+INDEX(InGame5,L5)*INDEX(PrBeat,C5,L5)+INDEX(InGame5,M5)*INDEX(PrBeat,C5,M5)+INDEX(InGame5,N5)*INDEX(PrBeat,C5,N5)+INDEX(InGame5,O5)*INDEX(PrBeat,C5,O5)+INDEX(InGame5,P5)*INDEX(PrBeat,C5,P5)+INDEX(InGame5,Q5)*INDEX(PrBeat,C5,Q5)+INDEX(InGame5,R5)*INDEX(PrBeat,C5,R5)+INDEX(InGame5,S5)*INDEX(PrBeat,C5,S5)+INDEX(InGame5,T5)*INDEX(PrBeat,C5,T5)+INDEX(InGame5,U5)*INDEX(PrBeat,C5,U5))","v":9.4875029638623086E-10},35,36,37,38,39,40,41,42,43,44,45,46,47,48,49,50,51,52,53,54,55,56,57,58,59,60,61,62,63,64,65,66,67,68,{"$f":"INDEX(InGame6,C5)*(INDEX(InGame6,W5)*INDEX(PrBeat,C5,W5)+INDEX(InGame6,X5)*INDEX(PrBeat,C5,X5)+INDEX(InGame6,Y5)*INDEX(PrBeat,C5,Y5)+INDEX(InGame6,Z5)*INDEX(PrBeat,C5,Z5)+INDEX(InGame6,AA5)*INDEX(PrBeat,C5,AA5)+INDEX(InGame6,AB5)*INDEX(PrBeat,C5,AB5)+INDEX(InGame6,AC5)*INDEX(PrBeat,C5,AC5)+INDEX(InGame6,AD5)*INDEX(PrBeat,C5,AD5)+INDEX(InGame6,AE5)*INDEX(PrBeat,C5,AE5)+INDEX(InGame6,AF5)*INDEX(PrBeat,C5,AF5)+INDEX(InGame6,AG5)*INDEX(PrBeat,C5,AG5)+INDEX(InGame6,AH5)*INDEX(PrBeat,C5,AH5)+INDEX(InGame6,AI5)*INDEX(PrBeat,C5,AI5)+INDEX(InGame6,AJ5)*INDEX(PrBeat,C5,AJ5)+INDEX(InGame6,AK5)*INDEX(PrBeat,C5,AK5)+INDEX(InGame6,AL5)*INDEX(PrBeat,C5,AL5)+INDEX(InGame6,AM5)*INDEX(PrBeat,C5,AM5)+INDEX(InGame6,AN5)*INDEX(PrBeat,C5,AN5)+INDEX(InGame6,AO5)*INDEX(PrBeat,C5,AO5)+INDEX(InGame6,AP5)*INDEX(PrBeat,C5,AP5)+INDEX(InGame6,AQ5)*INDEX(PrBeat,C5,AQ5)+INDEX(InGame6,AR5)*INDEX(PrBeat,C5,AR5)+INDEX(InGame6,AS5)*INDEX(PrBeat,C5,AS5)+INDEX(InGame6,AT5)*INDEX(PrBeat,C5,AT5)+INDEX(InGame6,AU5)*INDEX(PrBeat,C5,AU5)+INDEX(InGame6,AV5)*INDEX(PrBeat,C5,AV5)+INDEX(InGame6,AW5)*INDEX(PrBeat,C5,AW5)+INDEX(InGame6,AX5)*INDEX(PrBeat,C5,AX5)+INDEX(InGame6,AY5)*INDEX(PrBeat,C5,AY5)+INDEX(InGame6,AZ5)*INDEX(PrBeat,C5,AZ5)+INDEX(InGame6,BA5)*INDEX(PrBeat,C5,BA5)+INDEX(InGame6,BB5)*INDEX(PrBeat,C5,BB5)+INDEX(InGame6,BC5)*INDEX(PrBeat,C5,BC5)+INDEX(InGame6,BD5)*INDEX(PrBeat,C5,BD5))","v":1.1700661516073218E-11}]
[null,"Maryland",4,{"$f":"South!AA6","v":2.5890251701555626E-2},18,19,20,21,22,23,24,25,26,27,28,29,30,31,32,33,34,{"$f":"INDEX(InGame5,C6)*(INDEX(InGame5,E6)*INDEX(PrBeat,C6,E6)+INDEX(InGame5,F6)*INDEX(PrBeat,C6,F6)+INDEX(InGame5,G6)*INDEX(PrBeat,C6,G6)+INDEX(InGame5,H6)*INDEX(PrBeat,C6,H6)+INDEX(InGame5,I6)*INDEX(PrBeat,C6,I6)+INDEX(InGame5,J6)*INDEX(PrBeat,C6,J6)+INDEX(InGame5,K6)*INDEX(PrBeat,C6,K6)+INDEX(InGame5,L6)*INDEX(PrBeat,C6,L6)+INDEX(InGame5,M6)*INDEX(PrBeat,C6,M6)+INDEX(InGame5,N6)*INDEX(PrBeat,C6,N6)+INDEX(InGame5,O6)*INDEX(PrBeat,C6,O6)+INDEX(InGame5,P6)*INDEX(PrBeat,C6,P6)+INDEX(InGame5,Q6)*INDEX(PrBeat,C6,Q6)+INDEX(InGame5,R6)*INDEX(PrBeat,C6,R6)+INDEX(InGame5,S6)*INDEX(PrBeat,C6,S6)+INDEX(InGame5,T6)*INDEX(PrBeat,C6,T6)+INDEX(InGame5,U6)*INDEX(PrBeat,C6,U6))","v":1.0956968007110905E-2},35,36,37,38,39,40,41,42,43,44,45,46,47,48,49,50,51,52,53,54,55,56,57,58,59,60,61,62,63,64,65,66,67,68,{"$f":"INDEX(InGame6,C6)*(INDEX(InGame6,W6)*INDEX(PrBeat,C6,W6)+INDEX(InGame6,X6)*INDEX(PrBeat,C6,X6)+INDEX(InGame6,Y6)*INDEX(PrBeat,C6,Y6)+INDEX(InGame6,Z6)*INDEX(PrBeat,C6,Z6)+INDEX(InGame6,AA6)*INDEX(PrBeat,C6,AA6)+INDEX(InGame6,AB6)*INDEX(PrBeat,C6,AB6)+INDEX(InGame6,AC6)*INDEX(PrBeat,C6,AC6)+INDEX(InGame6,AD6)*INDEX(PrBeat,C6,AD6)+INDEX(InGame6,AE6)*INDEX(PrBeat,C6,AE6)+INDEX(InGame6,AF6)*INDEX(PrBeat,C6,AF6)+INDEX(InGame6,AG6)*INDEX(PrBeat,C6,AG6)+INDEX(InGame6,AH6)*INDEX(PrBeat,C6,AH6)+INDEX(InGame6,AI6)*INDEX(PrBeat,C6,AI6)+INDEX(InGame6,AJ6)*INDEX(PrBeat,C6,AJ6)+INDEX(InGame6,AK6)*INDEX(PrBeat,C6,AK6)+INDEX(InGame6,AL6)*INDEX(PrBeat,C6,AL6)+INDEX(InGame6,AM6)*INDEX(PrBeat,C6,AM6)+INDEX(InGame6,AN6)*INDEX(PrBeat,C6,AN6)+INDEX(InGame6,AO6)*INDEX(PrBeat,C6,AO6)+INDEX(InGame6,AP6)*INDEX(PrBeat,C6,AP6)+INDEX(InGame6,AQ6)*INDEX(PrBeat,C6,AQ6)+INDEX(InGame6,AR6)*INDEX(PrBeat,C6,AR6)+INDEX(InGame6,AS6)*INDEX(PrBeat,C6,AS6)+INDEX(InGame6,AT6)*INDEX(PrBeat,C6,AT6)+INDEX(InGame6,AU6)*INDEX(PrBeat,C6,AU6)+INDEX(InGame6,AV6)*INDEX(PrBeat,C6,AV6)+INDEX(InGame6,AW6)*INDEX(PrBeat,C6,AW6)+INDEX(InGame6,AX6)*INDEX(PrBeat,C6,AX6)+INDEX(InGame6,AY6)*INDEX(PrBeat,C6,AY6)+INDEX(InGame6,AZ6)*INDEX(PrBeat,C6,AZ6)+INDEX(InGame6,BA6)*INDEX(PrBeat,C6,BA6)+INDEX(InGame6,BB6)*INDEX(PrBeat,C6,BB6)+INDEX(InGame6,BC6)*INDEX(PrBeat,C6,BC6)+INDEX(InGame6,BD6)*INDEX(PrBeat,C6,BD6))","v":3.6449826574865524E-3}]
[null,"West Virginia",5,{"$f":"South!AA7","v":3.0805983907484093E-2},18,19,20,21,22,23,24,25,26,27,28,29,30,31,32,33,34,{"$f":"INDEX(InGame5,C7)*(INDEX(InGame5,E7)*INDEX(PrBeat,C7,E7)+INDEX(InGame5,F7)*INDEX(PrBeat,C7,F7)+INDEX(InGame5,G7)*INDEX(PrBeat,C7,G7)+INDEX(InGame5,H7)*INDEX(PrBeat,C7,H7)+INDEX(InGame5,I7)*INDEX(PrBeat,C7,I7)+INDEX(InGame5,J7)*INDEX(PrBeat,C7,J7)+INDEX(InGame5,K7)*INDEX(PrBeat,C7,K7)+INDEX(InGame5,L7)*INDEX(PrBeat,C7,L7)+INDEX(InGame5,M7)*INDEX(PrBeat,C7,M7)+INDEX(InGame5,N7)*INDEX(PrBeat,C7,N7)+INDEX(InGame5,O7)*INDEX(PrBeat,C7,O7)+INDEX(InGame5,P7)*INDEX(PrBeat,C7,P7)+INDEX(InGame5,Q7)*INDEX(PrBeat,C7,Q7)+INDEX(InGame5,R7)*INDEX(PrBeat,C7,R7)+INDEX(InGame5,S7)*INDEX(PrBeat,C7,S7)+INDEX(InGame5,T7)*INDEX(PrBeat,C7,T7)+INDEX(InGame5,U7)*INDEX(PrBeat,C7,U7))","v":1.350123412970723E-2},35,36,37,38,39,40,41,42,43,44,45,46,47,48,49,50,51,52,53,54,55,56,57,58,59,60,61,62,63,64,65,66,67,68,{"$f":"INDEX(InGame6,C7)*(INDEX(InGame6,W7)*INDEX(PrBeat,C7,W7)+INDEX(InGame6,X7)*INDEX(PrBeat,C7,X7)+INDEX(InGame6,Y7)*INDEX(PrBeat,C7,Y7)+INDEX(InGame6,Z7)*INDEX(PrBeat,C7,Z7)+INDEX(InGame6,AA7)*INDEX(PrBeat,C7,AA7)+INDEX(InGame6,AB7)*INDEX(PrBeat,C7,AB7)+INDEX(InGame6,AC7)*INDEX(PrBeat,C7,AC7)+INDEX(InGame6,AD7)*INDEX(PrBeat,C7,AD7)+INDEX(InGame6,AE7)*INDEX(PrBeat,C7,AE7)+INDEX(InGame6,AF7)*INDEX(PrBeat,C7,AF7)+INDEX(InGame6,AG7)*INDEX(PrBeat,C7,AG7)+INDEX(InGame6,AH7)*INDEX(PrBeat,C7,AH7)+INDEX(InGame6,AI7)*INDEX(PrBeat,C7,AI7)+INDEX(InGame6,AJ7)*INDEX(PrBeat,C7,AJ7)+INDEX(InGame6,AK7)*INDEX(PrBeat,C7,AK7)+INDEX(InGame6,AL7)*INDEX(PrBeat,C7,AL7)+INDEX(InGame6,AM7)*INDEX(PrBeat,C7,AM7)+INDEX(InGame6,AN7)*INDEX(PrBeat,C7,AN7)+INDEX(InGame6,AO7)*INDEX(PrBeat,C7,AO7)+INDEX(InGame6,AP7)*INDEX(PrBeat,C7,AP7)+INDEX(InGame6,AQ7)*INDEX(PrBeat,C7,AQ7)+INDEX(InGame6,AR7)*INDEX(PrBeat,C7,AR7)+INDEX(InGame6,AS7)*INDEX(PrBeat,C7,AS7)+INDEX(InGame6,AT7)*INDEX(PrBeat,C7,AT7)+INDEX(InGame6,AU7)*INDEX(PrBeat,C7,AU7)+INDEX(InGame6,AV7)*INDEX(PrBeat,C7,AV7)+INDEX(InGame6,AW7)*INDEX(PrBeat,C7,AW7)+INDEX(InGame6,AX7)*INDEX(PrBeat,C7,AX7)+INDEX(InGame6,AY7)*INDEX(PrBeat,C7,AY7)+INDEX(InGame6,AZ7)*INDEX(PrBeat,C7,AZ7)+INDEX(InGame6,BA7)*INDEX(PrBeat,C7,BA7)+INDEX(InGame6,BB7)*INDEX(PrBeat,C7,BB7)+INDEX(InGame6,BC7)*INDEX(PrBeat,C7,BC7)+INDEX(InGame6,BD7)*INDEX(PrBeat,C7,BD7))","v":4.6792095755804021E-3}]
[null,"San Diego St",6,{"$f":"South!AA8","v":4.3027358203419817E-2},18,19,20,21,22,23,24,25,26,27,28,29,30,31,32,33,34,{"$f":"INDEX(InGame5,C8)*(INDEX(InGame5,E8)*INDEX(PrBeat,C8,E8)+INDEX(InGame5,F8)*INDEX(PrBeat,C8,F8)+INDEX(InGame5,G8)*INDEX(PrBeat,C8,G8)+INDEX(InGame5,H8)*INDEX(PrBeat,C8,H8)+INDEX(InGame5,I8)*INDEX(PrBeat,C8,I8)+INDEX(InGame5,J8)*INDEX(PrBeat,C8,J8)+INDEX(InGame5,K8)*INDEX(PrBeat,C8,K8)+INDEX(InGame5,L8)*INDEX(PrBeat,C8,L8)+INDEX(InGame5,M8)*INDEX(PrBeat,C8,M8)+INDEX(InGame5,N8)*INDEX(PrBeat,C8,N8)+INDEX(InGame5,O8)*INDEX(PrBeat,C8,O8)+INDEX(InGame5,P8)*INDEX(PrBeat,C8,P8)+INDEX(InGame5,Q8)*INDEX(PrBeat,C8,Q8)+INDEX(InGame5,R8)*INDEX(PrBeat,C8,R8)+INDEX(InGame5,S8)*INDEX(PrBeat,C8,S8)+INDEX(InGame5,T8)*INDEX(PrBeat,C8,T8)+INDEX(InGame5,U8)*INDEX(PrBeat,C8,U8))","v":1.7747289221246122E-2},35,36,37,38,39,40,41,42,43,44,45,46,47,48,49,50,51,52,53,54,55,56,57,58,59,60,61,62,63,64,65,66,67,68,{"$f":"INDEX(InGame6,C8)*(INDEX(InGame6,W8)*INDEX(PrBeat,C8,W8)+INDEX(InGame6,X8)*INDEX(PrBeat,C8,X8)+INDEX(InGame6,Y8)*INDEX(PrBeat,C8,Y8)+INDEX(InGame6,Z8)*INDEX(PrBeat,C8,Z8)+INDEX(InGame6,AA8)*INDEX(PrBeat,C8,AA8)+INDEX(InGame6,AB8)*INDEX(PrBeat,C8,AB8)+INDEX(InGame6,AC8)*INDEX(PrBeat,C8,AC8)+INDEX(InGame6,AD8)*INDEX(PrBeat,C8,AD8)+INDEX(InGame6,AE8)*INDEX(PrBeat,C8,AE8)+INDEX(InGame6,AF8)*INDEX(PrBeat,C8,AF8)+INDEX(InGame6,AG8)*INDEX(PrBeat,C8,AG8)+INDEX(InGame6,AH8)*INDEX(PrBeat,C8,AH8)+INDEX(InGame6,AI8)*INDEX(PrBeat,C8,AI8)+INDEX(InGame6,AJ8)*INDEX(PrBeat,C8,AJ8)+INDEX(InGame6,AK8)*INDEX(PrBeat,C8,AK8)+INDEX(InGame6,AL8)*INDEX(PrBeat,C8,AL8)+INDEX(InGame6,AM8)*INDEX(PrBeat,C8,AM8)+INDEX(InGame6,AN8)*INDEX(PrBeat,C8,AN8)+INDEX(InGame6,AO8)*INDEX(PrBeat,C8,AO8)+INDEX(InGame6,AP8)*INDEX(PrBeat,C8,AP8)+INDEX(InGame6,AQ8)*INDEX(PrBeat,C8,AQ8)+INDEX(InGame6,AR8)*INDEX(PrBeat,C8,AR8)+INDEX(InGame6,AS8)*INDEX(PrBeat,C8,AS8)+INDEX(InGame6,AT8)*INDEX(PrBeat,C8,AT8)+INDEX(InGame6,AU8)*INDEX(PrBeat,C8,AU8)+INDEX(InGame6,AV8)*INDEX(PrBeat,C8,AV8)+INDEX(InGame6,AW8)*INDEX(PrBeat,C8,AW8)+INDEX(InGame6,AX8)*INDEX(PrBeat,C8,AX8)+INDEX(InGame6,AY8)*INDEX(PrBeat,C8,AY8)+INDEX(InGame6,AZ8)*INDEX(PrBeat,C8,AZ8)+INDEX(InGame6,BA8)*INDEX(PrBeat,C8,BA8)+INDEX(InGame6,BB8)*INDEX(PrBeat,C8,BB8)+INDEX(InGame6,BC8)*INDEX(PrBeat,C8,BC8)+INDEX(InGame6,BD8)*INDEX(PrBeat,C8,BD8))","v":5.7290985314939185E-3}]
[null,"Charleston",7,{"$f":"South!AA9","v":4.9826352335181866E-3},18,19,20,21,22,23,24,25,26,27,28,29,30,31,32,33,34,{"$f":"INDEX(InGame5,C9)*(INDEX(InGame5,E9)*INDEX(PrBeat,C9,E9)+INDEX(InGame5,F9)*INDEX(PrBeat,C9,F9)+INDEX(InGame5,G9)*INDEX(PrBeat,C9,G9)+INDEX(InGame5,H9)*INDEX(PrBeat,C9,H9)+INDEX(InGame5,I9)*INDEX(PrBeat,C9,I9)+INDEX(InGame5,J9)*INDEX(PrBeat,C9,J9)+INDEX(InGame5,K9)*INDEX(PrBeat,C9,K9)+INDEX(InGame5,L9)*INDEX(PrBeat,C9,L9)+INDEX(InGame5,M9)*INDEX(PrBeat,C9,M9)+INDEX(InGame5,N9)*INDEX(PrBeat,C9,N9)+INDEX(InGame5,O9)*INDEX(PrBeat,C9,O9)+INDEX(InGame5,P9)*INDEX(PrBeat,C9,P9)+INDEX(InGame5,Q9)*INDEX(PrBeat,C9,Q9)+INDEX(InGame5,R9)*INDEX(PrBeat,C9,R9)+INDEX(InGame5,S9)*INDEX(PrBeat,C9,S9)+INDEX(InGame5,T9)*INDEX(PrBeat,C9,T9)+INDEX(InGame5,U9)*INDEX(PrBeat,C9,U9))","v":1.2635765982472284E-3},35,36,37,38,39,40,41,42,43,44,45,46,47,48,49,50,51,52,53,54,55,56,57,58,59,60,61,62,63,64,65,66,67,68,{"$f":"INDEX(InGame6,C9)*(INDEX(InGame6,W9)*INDEX(PrBeat,C9,W9)+INDEX(InGame6,X9)*INDEX(PrBeat,C9,X9)+INDEX(InGame6,Y9)*INDEX(PrBeat,C9,Y9)+INDEX(InGame6,Z9)*INDEX(PrBeat,C9,Z9)+INDEX(InGame6,AA9)*INDEX(PrBeat,C9,AA9)+INDEX(InGame6,AB9)*INDEX(PrBeat,C9,AB9)+INDEX(InGame6,AC9)*INDEX(PrBeat,C9,AC9)+INDEX(InGame6,AD9)*INDEX(PrBeat,C9,AD9)+INDEX(InGame6,AE9)*INDEX(PrBeat,C9,AE9)+INDEX(InGame6,AF9)*INDEX(PrBeat,C9,AF9)+INDEX(InGame6,AG9)*INDEX(PrBeat,C9,AG9)+INDEX(InGame6,AH9)*INDEX(PrBeat,C9,AH9)+INDEX(InGame6,AI9)*INDEX(PrBeat,C9,AI9)+INDEX(InGame6,AJ9)*INDEX(PrBeat,C9,AJ9)+INDEX(InGame6,AK9)*INDEX(PrBeat,C9,AK9)+INDEX(InGame6,AL9)*INDEX(PrBeat,C9,AL9)+INDEX(InGame6,AM9)*INDEX(PrBeat,C9,AM9)+INDEX(InGame6,AN9)*INDEX(PrBeat,C9,AN9)+INDEX(InGame6,AO9)*INDEX(PrBeat,C9,AO9)+INDEX(InGame6,AP9)*INDEX(PrBeat,C9,AP9)+INDEX(InGame6,AQ9)*INDEX(PrBeat,C9,AQ9)+INDEX(InGame6,AR9)*INDEX(PrBeat,C9,AR9)+INDEX(InGame6,AS9)*INDEX(PrBeat,C9,AS9)+INDEX(InGame6,AT9)*INDEX(PrBeat,C9,AT9)+INDEX(InGame6,AU9)*INDEX(PrBeat,C9,AU9)+INDEX(InGame6,AV9)*INDEX(PrBeat,C9,AV9)+INDEX(InGame6,AW9)*INDEX(PrBeat,C9,AW9)+INDEX(InGame6,AX9)*INDEX(PrBeat,C9,AX9)+INDEX(InGame6,AY9)*INDEX(PrBeat,C9,AY9)+INDEX(InGame6,AZ9)*INDEX(PrBeat,C9,AZ9)+INDEX(InGame6,BA9)*INDEX(PrBeat,C9,BA9)+INDEX(InGame6,BB9)*INDEX(PrBeat,C9,BB9)+INDEX(InGame6,BC9)*INDEX(PrBeat,C9,BC9)+INDEX(InGame6,BD9)*INDEX(PrBeat,C9,BD9))","v":2.3341839825859642E-4}]
[null,"Virginia",8,{"$f":"South!AA10","v":4.3453420901104288E-2},18,19,20,21,22,23,24,25,26,27,28,29,30,31,32,33,34,{"$f":"INDEX(InGame5,C10)*(INDEX(InGame5,E10)*INDEX(PrBeat,C10,E10)+INDEX(InGame5,F10)*INDEX(PrBeat,C10,F10)+INDEX(InGame5,G10)*INDEX(PrBeat,C10,G10)+INDEX(InGame5,H10)*INDEX(PrBeat,C10,H10)+INDEX(InGame5,I10)*INDEX(PrBeat,C10,I10)+INDEX(InGame5,J10)*INDEX(PrBeat,C10,J10)+INDEX(InGame5,K10)*INDEX(PrBeat,C10,K10)+INDEX(InGame5,L10)*INDEX(PrBeat,C10,L10)+INDEX(InGame5,M10)*INDEX(PrBeat,C10,M10)+INDEX(InGame5,N10)*INDEX(PrBeat,C10,N10)+INDEX(InGame5,O10)*INDEX(PrBeat,C10,O10)+INDEX(InGame5,P10)*INDEX(PrBeat,C10,P10)+INDEX(InGame5,Q10)*INDEX(PrBeat,C10,Q10)+INDEX(InGame5,R10)*INDEX(PrBeat,C10,R10)+INDEX(InGame5,S10)*INDEX(PrBeat,C10,S10)+INDEX(InGame5,T10)*INDEX(PrBeat,C10,T10)+INDEX(InGame5,U10)*INDEX(PrBeat,C10,U10))","v":1.774039448174063E-2},35,36,37,38,39,40,41,42,43,44,45,46,47,48,49,50,51,52,53,54,55,56,57,58,59,60,61,62,63,64,65,66,67,68,{"$f":"INDEX(InGame6,C10)*(INDEX(InGame6,W10)*INDEX(PrBeat,C10,W10)+INDEX(InGame6,X10)*INDEX(PrBeat,C10,X10)+INDEX(InGame6,Y10)*INDEX(PrBeat,C10,Y10)+INDEX(InGame6,Z10)*INDEX(PrBeat,C10,Z10)+INDEX(InGame6,AA10)*INDEX(PrBeat,C10,AA10)+INDEX(InGame6,AB10)*INDEX(PrBeat,C10,AB10)+INDEX(InGame6,AC10)*INDEX(PrBeat,C10,AC10)+INDEX(InGame6,AD10)*INDEX(PrBeat,C10,AD10)+INDEX(InGame6,AE10)*INDEX(PrBeat,C10,AE10)+INDEX(InGame6,AF10)*INDEX(PrBeat,C10,AF10)+INDEX(InGame6,AG10)*INDEX(PrBeat,C10,AG10)+INDEX(InGame6,AH10)*INDEX(PrBeat,C10,AH10)+INDEX(InGame6,AI10)*INDEX(PrBeat,C10,AI10)+INDEX(InGame6,AJ10)*INDEX(PrBeat,C10,AJ10)+INDEX(InGame6,AK10)*INDEX(PrBeat,C10,AK10)+INDEX(InGame6,AL10)*INDEX(PrBeat,C10,AL10)+INDEX(InGame6,AM10)*INDEX(PrBeat,C10,AM10)+INDEX(InGame6,AN10)*INDEX(PrBeat,C10,AN10)+INDEX(InGame6,AO10)*INDEX(PrBeat,C10,AO10)+INDEX(InGame6,AP10)*INDEX(PrBeat,C10,AP10)+INDEX(InGame6,AQ10)*INDEX(PrBeat,C10,AQ10)+INDEX(InGame6,AR10)*INDEX(PrBeat,C10,AR10)+INDEX(InGame6,AS10)*INDEX(PrBeat,C10,AS10)+INDEX(InGame6,AT10)*INDEX(PrBeat,C10,AT10)+INDEX(InGame6,AU10)*INDEX(PrBeat,C10,AU10)+INDEX(InGame6,AV10)*INDEX(PrBeat,C10,AV10)+INDEX(InGame6,AW10)*INDEX(PrBeat,C10,AW10)+INDEX(InGame6,AX10)*INDEX(PrBeat,C10,AX10)+INDEX(InGame6,AY10)*INDEX(PrBeat,C10,AY10)+INDEX(InGame6,AZ10)*INDEX(PrBeat,C10,AZ10)+INDEX(InGame6,BA10)*INDEX(PrBeat,C10,BA10)+INDEX(InGame6,BB10)*INDEX(PrBeat,C10,BB10)+INDEX(InGame6,BC10)*INDEX(PrBeat,C10,BC10)+INDEX(InGame6,BD10)*INDEX(PrBeat,C10,BD10))","v":5.6588352364719914E-3}]
[null,"Furman",9,{"$f":"South!AA11","v":2.7097255531232461E-3},18,19,20,21,22,23,24,25,26,27,28,29,30,31,32,33,34,{"$f":"INDEX(InGame5,C11)*(INDEX(InGame5,E11)*INDEX(PrBeat,C11,E11)+INDEX(InGame5,F11)*INDEX(PrBeat,C11,F11)+INDEX(InGame5,G11)*INDEX(PrBeat,C11,G11)+INDEX(InGame5,H11)*INDEX(PrBeat,C11,H11)+INDEX(InGame5,I11)*INDEX(PrBeat,C11,I11)+INDEX(InGame5,J11)*INDEX(PrBeat,C11,J11)+INDEX(InGame5,K11)*INDEX(PrBeat,C11,K11)+INDEX(InGame5,L11)*INDEX(PrBeat,C11,L11)+INDEX(InGame5,M11)*INDEX(PrBeat,C11,M11)+INDEX(InGame5,N11)*INDEX(PrBeat,C11,N11)+INDEX(InGame5,O11)*INDEX(PrBeat,C11,O11)+INDEX(InGame5,P11)*INDEX(PrBeat,C11,P11)+INDEX(InGame5,Q11)*INDEX(PrBeat,C11,Q11)+INDEX(InGame5,R11)*INDEX(PrBeat,C11,R11)+INDEX(InGame5,S11)*INDEX(PrBeat,C11,S11)+INDEX(InGame5,T11)*INDEX(PrBeat,C11,T11)+INDEX(InGame5,U11)*INDEX(PrBeat,C11,U11))","v":5.8830126810955426E-4},35,36,37,38,39,40,41,42,43,44,45,46,47,48,49,50,51,52,53,54,55,56,57,58,59,60,61,62,63,64,65,66,67,68,{"$f":"INDEX(InGame6,C11)*(INDEX(InGame6,W11)*INDEX(PrBeat,C11,W11)+INDEX(InGame6,X11)*INDEX(PrBeat,C11,X11)+INDEX(InGame6,Y11)*INDEX(PrBeat,C11,Y11)+INDEX(InGame6,Z11)*INDEX(PrBeat,C11,Z11)+INDEX(InGame6,AA11)*INDEX(PrBeat,C11,AA11)+INDEX(InGame6,AB11)*INDEX(PrBeat,C11,AB11)+INDEX(InGame6,AC11)*INDEX(PrBeat,C11,AC11)+INDEX(InGame6,AD11)*INDEX(PrBeat,C11,AD11)+INDEX(InGame6,AE11)*INDEX(PrBeat,C11,AE11)+INDEX(InGame6,AF11)*INDEX(PrBeat,C11,AF11)+INDEX(InGame6,AG11)*INDEX(PrBeat,C11,AG11)+INDEX(InGame6,AH11)*INDEX(PrBeat,C11,AH11)+INDEX(InGame6,AI11)*INDEX(PrBeat,C11,AI11)+INDEX(InGame6,AJ11)*INDEX(PrBeat,C11,AJ11)+INDEX(InGame6,AK11)*INDEX(PrBeat,C11,AK11)+INDEX(InGame6,AL11)*INDEX(PrBeat,C11,AL11)+INDEX(InGame6,AM11)*INDEX(PrBeat,C11,AM11)+INDEX(InGame6,AN11)*INDEX(PrBeat,C11,AN11)+INDEX(InGame6,AO11)*INDEX(PrBeat,C11,AO11)+INDEX(InGame6,AP11)*INDEX(PrBeat,C11,AP11)+INDEX(InGame6,AQ11)*INDEX(PrBeat,C11,AQ11)+INDEX(InGame6,AR11)*INDEX(PrBeat,C11,AR11)+INDEX(InGame6,AS11)*INDEX(PrBeat,C11,AS11)+INDEX(InGame6,AT11)*INDEX(PrBeat,C11,AT11)+INDEX(InGame6,AU11)*INDEX(PrBeat,C11,AU11)+INDEX(InGame6,AV11)*INDEX(PrBeat,C11,AV11)+INDEX(InGame6,AW11)*INDEX(PrBeat,C11,AW11)+INDEX(InGame6,AX11)*INDEX(PrBeat,C11,AX11)+INDEX(InGame6,AY11)*INDEX(PrBeat,C11,AY11)+INDEX(InGame6,AZ11)*INDEX(PrBeat,C11,AZ11)+INDEX(InGame6,BA11)*INDEX(PrBeat,C11,BA11)+INDEX(InGame6,BB11)*INDEX(PrBeat,C11,BB11)+INDEX(InGame6,BC11)*INDEX(PrBeat,C11,BC11)+INDEX(InGame6,BD11)*INDEX(PrBeat,C11,BD11))","v":9.122205879140084E-5}]
[null,"Creighton",10,{"$f":"South!AA12","v":7.7660591282778843E-2},18,19,20,21,22,23,24,25,26,27,28,29,30,31,32,33,34,{"$f":"INDEX(InGame5,C12)*(INDEX(InGame5,E12)*INDEX(PrBeat,C12,E12)+INDEX(InGame5,F12)*INDEX(PrBeat,C12,F12)+INDEX(InGame5,G12)*INDEX(PrBeat,C12,G12)+INDEX(InGame5,H12)*INDEX(PrBeat,C12,H12)+INDEX(InGame5,I12)*INDEX(PrBeat,C12,I12)+INDEX(InGame5,J12)*INDEX(PrBeat,C12,J12)+INDEX(InGame5,K12)*INDEX(PrBeat,C12,K12)+INDEX(InGame5,L12)*INDEX(PrBeat,C12,L12)+INDEX(InGame5,M12)*INDEX(PrBeat,C12,M12)+INDEX(InGame5,N12)*INDEX(PrBeat,C12,N12)+INDEX(InGame5,O12)*INDEX(PrBeat,C12,O12)+INDEX(InGame5,P12)*INDEX(PrBeat,C12,P12)+INDEX(InGame5,Q12)*INDEX(PrBeat,C12,Q12)+INDEX(InGame5,R12)*INDEX(PrBeat,C12,R12)+INDEX(InGame5,S12)*INDEX(PrBeat,C12,S12)+INDEX(InGame5,T12)*INDEX(PrBeat,C12,T12)+INDEX(InGame5,U12)*INDEX(PrBeat,C12,U12))","v":3.9407019604008726E-2},35,36,37,38,39,40,41,42,43,44,45,46,47,48,49,50,51,52,53,54,55,56,57,58,59,60,61,62,63,64,65,66,67,68,{"$f":"INDEX(InGame6,C12)*(INDEX(InGame6,W12)*INDEX(PrBeat,C12,W12)+INDEX(InGame6,X12)*INDEX(PrBeat,C12,X12)+INDEX(InGame6,Y12)*INDEX(PrBeat,C12,Y12)+INDEX(InGame6,Z12)*INDEX(PrBeat,C12,Z12)+INDEX(InGame6,AA12)*INDEX(PrBeat,C12,AA12)+INDEX(InGame6,AB12)*INDEX(PrBeat,C12,AB12)+INDEX(InGame6,AC12)*INDEX(PrBeat,C12,AC12)+INDEX(InGame6,AD12)*INDEX(PrBeat,C12,AD12)+INDEX(InGame6,AE12)*INDEX(PrBeat,C12,AE12)+INDEX(InGame6,AF12)*INDEX(PrBeat,C12,AF12)+INDEX(InGame6,AG12)*INDEX(PrBeat,C12,AG12)+INDEX(InGame6,AH12)*INDEX(PrBeat,C12,AH12)+INDEX(InGame6,AI12)*INDEX(PrBeat,C12,AI12)+INDEX(InGame6,AJ12)*INDEX(PrBeat,C12,AJ12)+INDEX(InGame6,AK12)*INDEX(PrBeat,C12,AK12)+INDEX(InGame6,AL12)*INDEX(PrBeat,C12,AL12)+INDEX(InGame6,AM12)*INDEX(PrBeat,C12,AM12)+INDEX(InGame6,AN12)*INDEX(PrBeat,C12,AN12)+INDEX(InGame6,AO12)*INDEX(PrBeat,C12,AO12)+INDEX(InGame6,AP12)*INDEX(PrBeat,C12,AP12)+INDEX(InGame6,AQ12)*INDEX(PrBeat,C12,AQ12)+INDEX(InGame6,AR12)*INDEX(PrBeat,C12,AR12)+INDEX(InGame6,AS12)*INDEX(PrBeat,C12,AS12)+INDEX(InGame6,AT12)*INDEX(PrBeat,C12,AT12)+INDEX(InGame6,AU12)*INDEX(PrBeat,C12,AU12)+INDEX(InGame6,AV12)*INDEX(PrBeat,C12,AV12)+INDEX(InGame6,AW12)*INDEX(PrBeat,C12,AW12)+INDEX(InGame6,AX12)*INDEX(PrBeat,C12,AX12)+INDEX(InGame6,AY12)*INDEX(PrBeat,C12,AY12)+INDEX(InGame6,AZ12)*INDEX(PrBeat,C12,AZ12)+INDEX(InGame6,BA12)*INDEX(PrBeat,C12,BA12)+INDEX(InGame6,BB12)*INDEX(PrBeat,C12,BB12)+INDEX(InGame6,BC12)*INDEX(PrBeat,C12,BC12)+INDEX(InGame6,BD12)*INDEX(PrBeat,C12,BD12))","v":1.6241019931972116E-2}]
[null,"NC State",11,{"$f":"South!AA13","v":1.1943642983975251E-2},18,19,20,21,22,23,24,25,26,27,28,29,30,31,32,33,34,{"$f":"INDEX(InGame5,C13)*(INDEX(InGame5,E13)*INDEX(PrBeat,C13,E13)+INDEX(InGame5,F13)*INDEX(PrBeat,C13,F13)+INDEX(InGame5,G13)*INDEX(PrBeat,C13,G13)+INDEX(InGame5,H13)*INDEX(PrBeat,C13,H13)+INDEX(InGame5,I13)*INDEX(PrBeat,C13,I13)+INDEX(InGame5,J13)*INDEX(PrBeat,C13,J13)+INDEX(InGame5,K13)*INDEX(PrBeat,C13,K13)+INDEX(InGame5,L13)*INDEX(PrBeat,C13,L13)+INDEX(InGame5,M13)*INDEX(PrBeat,C13,M13)+INDEX(InGame5,N13)*INDEX(PrBeat,C13,N13)+INDEX(InGame5,O13)*INDEX(PrBeat,C13,O13)+INDEX(InGame5,P13)*INDEX(PrBeat,C13,P13)+INDEX(InGame5,Q13)*INDEX(PrBeat,C13,Q13)+INDEX(InGame5,R13)*INDEX(PrBeat,C13,R13)+INDEX(InGame5,S13)*INDEX(PrBeat,C13,S13)+INDEX(InGame5,T13)*INDEX(PrBeat,C13,T13)+INDEX(InGame5,U13)*INDEX(PrBeat,C13,U13))","v":4.0636975567243331E-3},35,36,37,38,39,40,41,42,43,44,45,46,47,48,49,50,51,52,53,54,55,56,57,58,59,60,61,62,63,64,65,66,67,68,{"$f":"INDEX(InGame6,C13)*(INDEX(InGame6,W13)*INDEX(PrBeat,C13,W13)+INDEX(InGame6,X13)*INDEX(PrBeat,C13,X13)+INDEX(InGame6,Y13)*INDEX(PrBeat,C13,Y13)+INDEX(InGame6,Z13)*INDEX(PrBeat,C13,Z13)+INDEX(InGame6,AA13)*INDEX(PrBeat,C13,AA13)+INDEX(InGame6,AB13)*INDEX(PrBeat,C13,AB13)+INDEX(InGame6,AC13)*INDEX(PrBeat,C13,AC13)+INDEX(InGame6,AD13)*INDEX(PrBeat,C13,AD13)+INDEX(InGame6,AE13)*INDEX(PrBeat,C13,AE13)+INDEX(InGame6,AF13)*INDEX(PrBeat,C13,AF13)+INDEX(InGame6,AG13)*INDEX(PrBeat,C13,AG13)+INDEX(InGame6,AH13)*INDEX(PrBeat,C13,AH13)+INDEX(InGame6,AI13)*INDEX(PrBeat,C13,AI13)+INDEX(InGame6,AJ13)*INDEX(PrBeat,C13,AJ13)+INDEX(InGame6,AK13)*INDEX(PrBeat,C13,AK13)+INDEX(InGame6,AL13)*INDEX(PrBeat,C13,AL13)+INDEX(InGame6,AM13)*INDEX(PrBeat,C13,AM13)+INDEX(InGame6,AN13)*INDEX(PrBeat,C13,AN13)+INDEX(InGame6,AO13)*INDEX(PrBeat,C13,AO13)+INDEX(InGame6,AP13)*INDEX(PrBeat,C13,AP13)+INDEX(InGame6,AQ13)*INDEX(PrBeat,C13,AQ13)+INDEX(InGame6,AR13)*INDEX(PrBeat,C13,AR13)+INDEX(InGame6,AS13)*INDEX(PrBeat,C13,AS13)+INDEX(InGame6,AT13)*INDEX(PrBeat,C13,AT13)+INDEX(InGame6,AU13)*INDEX(PrBeat,C13,AU13)+INDEX(InGame6,AV13)*INDEX(PrBeat,C13,AV13)+INDEX(InGame6,AW13)*INDEX(PrBeat,C13,AW13)+INDEX(InGame6,AX13)*INDEX(PrBeat,C13,AX13)+INDEX(InGame6,AY13)*INDEX(PrBeat,C13,AY13)+INDEX(InGame6,AZ13)*INDEX(PrBeat,C13,AZ13)+INDEX(InGame6,BA13)*INDEX(PrBeat,C13,BA13)+INDEX(InGame6,BB13)*INDEX(PrBeat,C13,BB13)+INDEX(InGame6,BC13)*INDEX(PrBeat,C13,BC13)+INDEX(InGame6,BD13)*INDEX(PrBeat,C13,BD13))","v":1.0495683702000699E-3}]
[null,"Baylor",12,{"$f":"South!AA14","v":9.3389209162305142E-2},18,19,20,21,22,23,24,25,26,27,28,29,30,31,32,33,34,{"$f":"INDEX(InGame5,C14)*(INDEX(InGame5,E14)*INDEX(PrBeat,C14,E14)+INDEX(InGame5,F14)*INDEX(PrBeat,C14,F14)+INDEX(InGame5,G14)*INDEX(PrBeat,C14,G14)+INDEX(InGame5,H14)*INDEX(PrBeat,C14,H14)+INDEX(InGame5,I14)*INDEX(PrBeat,C14,I14)+INDEX(InGame5,J14)*INDEX(PrBeat,C14,J14)+INDEX(InGame5,K14)*INDEX(PrBeat,C14,K14)+INDEX(InGame5,L14)*INDEX(PrBeat,C14,L14)+INDEX(InGame5,M14)*INDEX(PrBeat,C14,M14)+INDEX(InGame5,N14)*INDEX(PrBeat,C14,N14)+INDEX(InGame5,O14)*INDEX(PrBeat,C14,O14)+INDEX(InGame5,P14)*INDEX(PrBeat,C14,P14)+INDEX(InGame5,Q14)*INDEX(PrBeat,C14,Q14)+INDEX(InGame5,R14)*INDEX(PrBeat,C14,R14)+INDEX(InGame5,S14)*INDEX(PrBeat,C14,S14)+INDEX(InGame5,T14)*INDEX(PrBeat,C14,T14)+INDEX(InGame5,U14)*INDEX(PrBeat,C14,U14))","v":4.6399260843894348E-2},35,36,37,38,39,40,41,42,43,44,45,46,47,48,49,50,51,52,53,54,55,56,57,58,59,60,61,62,63,64,65,66,67,68,{"$f":"INDEX(InGame6,C14)*(INDEX(InGame6,W14)*INDEX(PrBeat,C14,W14)+INDEX(InGame6,X14)*INDEX(PrBeat,C14,X14)+INDEX(InGame6,Y14)*INDEX(PrBeat,C14,Y14)+INDEX(InGame6,Z14)*INDEX(PrBeat,C14,Z14)+INDEX(InGame6,AA14)*INDEX(PrBeat,C14,AA14)+INDEX(InGame6,AB14)*INDEX(PrBeat,C14,AB14)+INDEX(InGame6,AC14)*INDEX(PrBeat,C14,AC14)+INDEX(InGame6,AD14)*INDEX(PrBeat,C14,AD14)+INDEX(InGame6,AE14)*INDEX(PrBeat,C14,AE14)+INDEX(InGame6,AF14)*INDEX(PrBeat,C14,AF14)+INDEX(InGame6,AG14)*INDEX(PrBeat,C14,AG14)+INDEX(InGame6,AH14)*INDEX(PrBeat,C14,AH14)+INDEX(InGame6,AI14)*INDEX(PrBeat,C14,AI14)+INDEX(InGame6,AJ14)*INDEX(PrBeat,C14,AJ14)+INDEX(InGame6,AK14)*INDEX(PrBeat,C14,AK14)+INDEX(InGame6,AL14)*INDEX(PrBeat,C14,AL14)+INDEX(InGame6,AM14)*INDEX(PrBeat,C14,AM14)+INDEX(InGame6,AN14)*INDEX(PrBeat,C14,AN14)+INDEX(InGame6,AO14)*INDEX(PrBeat,C14,AO14)+INDEX(InGame6,AP14)*INDEX(PrBeat,C14,AP14)+INDEX(InGame6,AQ14)*INDEX(PrBeat,C14,AQ14)+INDEX(InGame6,AR14)*INDEX(PrBeat,C14,AR14)+INDEX(InGame6,AS14)*INDEX(PrBeat,C14,AS14)+INDEX(InGame6,AT14)*INDEX(PrBeat,C14,AT14)+INDEX(InGame6,AU14)*INDEX(PrBeat,C14,AU14)+INDEX(InGame6,AV14)*INDEX(PrBeat,C14,AV14)+INDEX(InGame6,AW14)*INDEX(PrBeat,C14,AW14)+INDEX(InGame6,AX14)*INDEX(PrBeat,C14,AX14)+INDEX(InGame6,AY14)*INDEX(PrBeat,C14,AY14)+INDEX(InGame6,AZ14)*INDEX(PrBeat,C14,AZ14)+INDEX(InGame6,BA14)*INDEX(PrBeat,C14,BA14)+INDEX(InGame6,BB14)*INDEX(PrBeat,C14,BB14)+INDEX(InGame6,BC14)*INDEX(PrBeat,C14,BC14)+INDEX(InGame6,BD14)*INDEX(PrBeat,C14,BD14))","v":1.8648724133241305E-2}]
[null,"UCSB",13,{"$f":"South!AA15","v":3.5921141317506346E-4},18,19,20,21,22,23,24,25,26,27,28,29,30,31,32,33,34,{"$f":"INDEX(InGame5,C15)*(INDEX(InGame5,E15)*INDEX(PrBeat,C15,E15)+INDEX(InGame5,F15)*INDEX(PrBeat,C15,F15)+INDEX(InGame5,G15)*INDEX(PrBeat,C15,G15)+INDEX(InGame5,H15)*INDEX(PrBeat,C15,H15)+INDEX(InGame5,I15)*INDEX(PrBeat,C15,I15)+INDEX(InGame5,J15)*INDEX(PrBeat,C15,J15)+INDEX(InGame5,K15)*INDEX(PrBeat,C15,K15)+INDEX(InGame5,L15)*INDEX(PrBeat,C15,L15)+INDEX(InGame5,M15)*INDEX(PrBeat,C15,M15)+INDEX(InGame5,N15)*INDEX(PrBeat,C15,N15)+INDEX(InGame5,O15)*INDEX(PrBeat,C15,O15)+INDEX(InGame5,P15)*INDEX(PrBeat,C15,P15)+INDEX(InGame5,Q15)*INDEX(PrBeat,C15,Q15)+INDEX(InGame5,R15)*INDEX(PrBeat,C15,R15)+INDEX(InGame5,S15)*INDEX(PrBeat,C15,S15)+INDEX(InGame5,T15)*INDEX(PrBeat,C15,T15)+INDEX(InGame5,U15)*INDEX(PrBeat,C15,U15))","v":5.0056468306794104E-5},35,36,37,38,39,40,41,42,43,44,45,46,47,48,49,50,51,52,53,54,55,56,57,58,59,60,61,62,63,64,65,66,67,68,{"$f":"INDEX(InGame6,C15)*(INDEX(InGame6,W15)*INDEX(PrBeat,C15,W15)+INDEX(InGame6,X15)*INDEX(PrBeat,C15,X15)+INDEX(InGame6,Y15)*INDEX(PrBeat,C15,Y15)+INDEX(InGame6,Z15)*INDEX(PrBeat,C15,Z15)+INDEX(InGame6,AA15)*INDEX(PrBeat,C15,AA15)+INDEX(InGame6,AB15)*INDEX(PrBeat,C15,AB15)+INDEX(InGame6,AC15)*INDEX(PrBeat,C15,AC15)+INDEX(InGame6,AD15)*INDEX(PrBeat,C15,AD15)+INDEX(InGame6,AE15)*INDEX(PrBeat,C15,AE15)+INDEX(InGame6,AF15)*INDEX(PrBeat,C15,AF15)+INDEX(InGame6,AG15)*INDEX(PrBeat,C15,AG15)+INDEX(InGame6,AH15)*INDEX(PrBeat,C15,AH15)+INDEX(InGame6,AI15)*INDEX(PrBeat,C15,AI15)+INDEX(InGame6,AJ15)*INDEX(PrBeat,C15,AJ15)+INDEX(InGame6,AK15)*INDEX(PrBeat,C15,AK15)+INDEX(InGame6,AL15)*INDEX(PrBeat,C15,AL15)+INDEX(InGame6,AM15)*INDEX(PrBeat,C15,AM15)+INDEX(InGame6,AN15)*INDEX(PrBeat,C15,AN15)+INDEX(InGame6,AO15)*INDEX(PrBeat,C15,AO15)+INDEX(InGame6,AP15)*INDEX(PrBeat,C15,AP15)+INDEX(InGame6,AQ15)*INDEX(PrBeat,C15,AQ15)+INDEX(InGame6,AR15)*INDEX(PrBeat,C15,AR15)+INDEX(InGame6,AS15)*INDEX(PrBeat,C15,AS15)+INDEX(InGame6,AT15)*INDEX(PrBeat,C15,AT15)+INDEX(InGame6,AU15)*INDEX(PrBeat,C15,AU15)+INDEX(InGame6,AV15)*INDEX(PrBeat,C15,AV15)+INDEX(InGame6,AW15)*INDEX(PrBeat,C15,AW15)+INDEX(InGame6,AX15)*INDEX(PrBeat,C15,AX15)+INDEX(InGame6,AY15)*INDEX(PrBeat,C15,AY15)+INDEX(InGame6,AZ15)*INDEX(PrBeat,C15,AZ15)+INDEX(InGame6,BA15)*INDEX(PrBeat,C15,BA15)+INDEX(InGame6,BB15)*INDEX(PrBeat,C15,BB15)+INDEX(InGame6,BC15)*INDEX(PrBeat,C15,BC15)+INDEX(InGame6,BD15)*INDEX(PrBeat,C15,BD15))","v":4.7379181587425633E-6}]
[null,"Missouri",14,{"$f":"South!AA16","v":9.5869547928489202E-3},18,19,20,21,22,23,24,25,26,27,28,29,30,31,32,33,34,{"$f":"INDEX(InGame5,C16)*(INDEX(InGame5,E16)*INDEX(PrBeat,C16,E16)+INDEX(InGame5,F16)*INDEX(PrBeat,C16,F16)+INDEX(InGame5,G16)*INDEX(PrBeat,C16,G16)+INDEX(InGame5,H16)*INDEX(PrBeat,C16,H16)+INDEX(InGame5,I16)*INDEX(PrBeat,C16,I16)+INDEX(InGame5,J16)*INDEX(PrBeat,C16,J16)+INDEX(InGame5,K16)*INDEX(PrBeat,C16,K16)+INDEX(InGame5,L16)*INDEX(PrBeat,C16,L16)+INDEX(InGame5,M16)*INDEX(PrBeat,C16,M16)+INDEX(InGame5,N16)*INDEX(PrBeat,C16,N16)+INDEX(InGame5,O16)*INDEX(PrBeat,C16,O16)+INDEX(InGame5,P16)*INDEX(PrBeat,C16,P16)+INDEX(InGame5,Q16)*INDEX(PrBeat,C16,Q16)+INDEX(InGame5,R16)*INDEX(PrBeat,C16,R16)+INDEX(InGame5,S16)*INDEX(PrBeat,C16,S16)+INDEX(InGame5,T16)*INDEX(PrBeat,C16,T16)+INDEX(InGame5,U16)*INDEX(PrBeat,C16,U16))","v":2.9671796716313611E-3},35,36,37,38,39,40,41,42,43,44,45,46,47,48,49,50,51,52,53,54,55,56,57,58,59,60,61,62,63,64,65,66,67,68,{"$f":"INDEX(InGame6,C16)*(INDEX(InGame6,W16)*INDEX(PrBeat,C16,W16)+INDEX(InGame6,X16)*INDEX(PrBeat,C16,X16)+INDEX(InGame6,Y16)*INDEX(PrBeat,C16,Y16)+INDEX(InGame6,Z16)*INDEX(PrBeat,C16,Z16)+INDEX(InGame6,AA16)*INDEX(PrBeat,C16,AA16)+INDEX(InGame6,AB16)*INDEX(PrBeat,C16,AB16)+INDEX(InGame6,AC16)*INDEX(PrBeat,C16,AC16)+INDEX(InGame6,AD16)*INDEX(PrBeat,C16,AD16)+INDEX(InGame6,AE16)*INDEX(PrBeat,C16,AE16)+INDEX(InGame6,AF16)*INDEX(PrBeat,C16,AF16)+INDEX(InGame6,AG16)*INDEX(PrBeat,C16,AG16)+INDEX(InGame6,AH16)*INDEX(PrBeat,C16,AH16)+INDEX(InGame6,AI16)*INDEX(PrBeat,C16,AI16)+INDEX(InGame6,AJ16)*INDEX(PrBeat,C16,AJ16)+INDEX(InGame6,AK16)*INDEX(PrBeat,C16,AK16)+INDEX(InGame6,AL16)*INDEX(PrBeat,C16,AL16)+INDEX(InGame6,AM16)*INDEX(PrBeat,C16,AM16)+INDEX(InGame6,AN16)*INDEX(PrBeat,C16,AN16)+INDEX(InGame6,AO16)*INDEX(PrBeat,C16,AO16)+INDEX(InGame6,AP16)*INDEX(PrBeat,C16,AP16)+INDEX(InGame6,AQ16)*INDEX(PrBeat,C16,AQ16)+INDEX(InGame6,AR16)*INDEX(PrBeat,C16,AR16)+INDEX(InGame6,AS16)*INDEX(PrBeat,C16,AS16)+INDEX(InGame6,AT16)*INDEX(PrBeat,C16,AT16)+INDEX(InGame6,AU16)*INDEX(PrBeat,C16,AU16)+INDEX(InGame6,AV16)*INDEX(PrBeat,C16,AV16)+INDEX(InGame6,AW16)*INDEX(PrBeat,C16,AW16)+INDEX(InGame6,AX16)*INDEX(PrBeat,C16,AX16)+INDEX(InGame6,AY16)*INDEX(PrBeat,C16,AY16)+INDEX(InGame6,AZ16)*INDEX(PrBeat,C16,AZ16)+INDEX(InGame6,BA16)*INDEX(PrBeat,C16,BA16)+INDEX(InGame6,BB16)*INDEX(PrBeat,C16,BB16)+INDEX(InGame6,BC16)*INDEX(PrBeat,C16,BC16)+INDEX(InGame6,BD16)*INDEX(PrBeat,C16,BD16))","v":6.8748948509684226E-4}]
[null,"Utah St",15,{"$f":"South!AA17","v":2.2090938881443277E-2},18,19,20,21,22,23,24,25,26,27,28,29,30,31,32,33,34,{"$f":"INDEX(InGame5,C17)*(INDEX(InGame5,E17)*INDEX(PrBeat,C17,E17)+INDEX(InGame5,F17)*INDEX(PrBeat,C17,F17)+INDEX(InGame5,G17)*INDEX(PrBeat,C17,G17)+INDEX(InGame5,H17)*INDEX(PrBeat,C17,H17)+INDEX(InGame5,I17)*INDEX(PrBeat,C17,I17)+INDEX(InGame5,J17)*INDEX(PrBeat,C17,J17)+INDEX(InGame5,K17)*INDEX(PrBeat,C17,K17)+INDEX(InGame5,L17)*INDEX(PrBeat,C17,L17)+INDEX(InGame5,M17)*INDEX(PrBeat,C17,M17)+INDEX(InGame5,N17)*INDEX(PrBeat,C17,N17)+INDEX(InGame5,O17)*INDEX(PrBeat,C17,O17)+INDEX(InGame5,P17)*INDEX(PrBeat,C17,P17)+INDEX(InGame5,Q17)*INDEX(PrBeat,C17,Q17)+INDEX(InGame5,R17)*INDEX(PrBeat,C17,R17)+INDEX(InGame5,S17)*INDEX(PrBeat,C17,S17)+INDEX(InGame5,T17)*INDEX(PrBeat,C17,T17)+INDEX(InGame5,U17)*INDEX(PrBeat,C17,U17))","v":8.2196544021329414E-3},35,36,37,38,39,40,41,42,43,44,45,46,47,48,49,50,51,52,53,54,55,56,57,58,59,60,61,62,63,64,65,66,67,68,{"$f":"INDEX(InGame6,C17)*(INDEX(InGame6,W17)*INDEX(PrBeat,C17,W17)+INDEX(InGame6,X17)*INDEX(PrBeat,C17,X17)+INDEX(InGame6,Y17)*INDEX(PrBeat,C17,Y17)+INDEX(InGame6,Z17)*INDEX(PrBeat,C17,Z17)+INDEX(InGame6,AA17)*INDEX(PrBeat,C17,AA17)+INDEX(InGame6,AB17)*INDEX(PrBeat,C17,AB17)+INDEX(InGame6,AC17)*INDEX(PrBeat,C17,AC17)+INDEX(InGame6,AD17)*INDEX(PrBeat,C17,AD17)+INDEX(InGame6,AE17)*INDEX(PrBeat,C17,AE17)+INDEX(InGame6,AF17)*INDEX(PrBeat,C17,AF17)+INDEX(InGame6,AG17)*INDEX(PrBeat,C17,AG17)+INDEX(InGame6,AH17)*INDEX(PrBeat,C17,AH17)+INDEX(InGame6,AI17)*INDEX(PrBeat,C17,AI17)+INDEX(InGame6,AJ17)*INDEX(PrBeat,C17,AJ17)+INDEX(InGame6,AK17)*INDEX(PrBeat,C17,AK17)+INDEX(InGame6,AL17)*INDEX(PrBeat,C17,AL17)+INDEX(InGame6,AM17)*INDEX(PrBeat,C17,AM17)+INDEX(InGame6,AN17)*INDEX(PrBeat,C17,AN17)+INDEX(InGame6,AO17)*INDEX(PrBeat,C17,AO17)+INDEX(InGame6,AP17)*INDEX(PrBeat,C17,AP17)+INDEX(InGame6,AQ17)*INDEX(PrBeat,C17,AQ17)+INDEX(InGame6,AR17)*INDEX(PrBeat,C17,AR17)+INDEX(InGame6,AS17)*INDEX(PrBeat,C17,AS17)+INDEX(InGame6,AT17)*INDEX(PrBeat,C17,AT17)+INDEX(InGame6,AU17)*INDEX(PrBeat,C17,AU17)+INDEX(InGame6,AV17)*INDEX(PrBeat,C17,AV17)+INDEX(InGame6,AW17)*INDEX(PrBeat,C17,AW17)+INDEX(InGame6,AX17)*INDEX(PrBeat,C17,AX17)+INDEX(InGame6,AY17)*INDEX(PrBeat,C17,AY17)+INDEX(InGame6,AZ17)*INDEX(PrBeat,C17,AZ17)+INDEX(InGame6,BA17)*INDEX(PrBeat,C17,BA17)+INDEX(InGame6,BB17)*INDEX(PrBeat,C17,BB17)+INDEX(InGame6,BC17)*INDEX(PrBeat,C17,BC17)+INDEX(InGame6,BD17)*INDEX(PrBeat,C17,BD17))","v":2.3538938436804486E-3}]
[null,"Arizona",16,{"$f":"South!AA18","v":0.20940296134479389},18,19,20,21,22,23,24,25,26,27,28,29,30,31,32,33,34,{"$f":"INDEX(InGame5,C18)*(INDEX(InGame5,E18)*INDEX(PrBeat,C18,E18)+INDEX(InGame5,F18)*INDEX(PrBeat,C18,F18)+INDEX(InGame5,G18)*INDEX(PrBeat,C18,G18)+INDEX(InGame5,H18)*INDEX(PrBeat,C18,H18)+INDEX(InGame5,I18)*INDEX(PrBeat,C18,I18)+INDEX(InGame5,J18)*INDEX(PrBeat,C18,J18)+INDEX(InGame5,K18)*INDEX(PrBeat,C18,K18)+INDEX(InGame5,L18)*INDEX(PrBeat,C18,L18)+INDEX(InGame5,M18)*INDEX(PrBeat,C18,M18)+INDEX(InGame5,N18)*INDEX(PrBeat,C18,N18)+INDEX(InGame5,O18)*INDEX(PrBeat,C18,O18)+INDEX(InGame5,P18)*INDEX(PrBeat,C18,P18)+INDEX(InGame5,Q18)*INDEX(PrBeat,C18,Q18)+INDEX(InGame5,R18)*INDEX(PrBeat,C18,R18)+INDEX(InGame5,S18)*INDEX(PrBeat,C18,S18)+INDEX(InGame5,T18)*INDEX(PrBeat,C18,T18)+INDEX(InGame5,U18)*INDEX(PrBeat,C18,U18))","v":0.12438898021102357},35,36,37,38,39,40,41,42,43,44,45,46,47,48,49,50,51,52,53,54,55,56,57,58,59,60,61,62,63,64,65,66,67,68,{"$f":"INDEX(InGame6,C18)*(INDEX(InGame6,W18)*INDEX(PrBeat,C18,W18)+INDEX(InGame6,X18)*INDEX(PrBeat,C18,X18)+INDEX(InGame6,Y18)*INDEX(PrBeat,C18,Y18)+INDEX(InGame6,Z18)*INDEX(PrBeat,C18,Z18)+INDEX(InGame6,AA18)*INDEX(PrBeat,C18,AA18)+INDEX(InGame6,AB18)*INDEX(PrBeat,C18,AB18)+INDEX(InGame6,AC18)*INDEX(PrBeat,C18,AC18)+INDEX(InGame6,AD18)*INDEX(PrBeat,C18,AD18)+INDEX(InGame6,AE18)*INDEX(PrBeat,C18,AE18)+INDEX(InGame6,AF18)*INDEX(PrBeat,C18,AF18)+INDEX(InGame6,AG18)*INDEX(PrBeat,C18,AG18)+INDEX(InGame6,AH18)*INDEX(PrBeat,C18,AH18)+INDEX(InGame6,AI18)*INDEX(PrBeat,C18,AI18)+INDEX(InGame6,AJ18)*INDEX(PrBeat,C18,AJ18)+INDEX(InGame6,AK18)*INDEX(PrBeat,C18,AK18)+INDEX(InGame6,AL18)*INDEX(PrBeat,C18,AL18)+INDEX(InGame6,AM18)*INDEX(PrBeat,C18,AM18)+INDEX(InGame6,AN18)*INDEX(PrBeat,C18,AN18)+INDEX(InGame6,AO18)*INDEX(PrBeat,C18,AO18)+INDEX(InGame6,AP18)*INDEX(PrBeat,C18,AP18)+INDEX(InGame6,AQ18)*INDEX(PrBeat,C18,AQ18)+INDEX(InGame6,AR18)*INDEX(PrBeat,C18,AR18)+INDEX(InGame6,AS18)*INDEX(PrBeat,C18,AS18)+INDEX(InGame6,AT18)*INDEX(PrBeat,C18,AT18)+INDEX(InGame6,AU18)*INDEX(PrBeat,C18,AU18)+INDEX(InGame6,AV18)*INDEX(PrBeat,C18,AV18)+INDEX(InGame6,AW18)*INDEX(PrBeat,C18,AW18)+INDEX(InGame6,AX18)*INDEX(PrBeat,C18,AX18)+INDEX(InGame6,AY18)*INDEX(PrBeat,C18,AY18)+INDEX(InGame6,AZ18)*INDEX(PrBeat,C18,AZ18)+INDEX(InGame6,BA18)*INDEX(PrBeat,C18,BA18)+INDEX(InGame6,BB18)*INDEX(PrBeat,C18,BB18)+INDEX(InGame6,BC18)*INDEX(PrBeat,C18,BC18)+INDEX(InGame6,BD18)*INDEX(PrBeat,C18,BD18))","v":6.1973546027180665E-2}]
[null,"Princeton",17,{"$f":"South!AA19","v":3.4718325329862869E-4},18,19,20,21,22,23,24,25,26,27,28,29,30,31,32,33,34,{"$f":"INDEX(InGame5,C19)*(INDEX(InGame5,E19)*INDEX(PrBeat,C19,E19)+INDEX(InGame5,F19)*INDEX(PrBeat,C19,F19)+INDEX(InGame5,G19)*INDEX(PrBeat,C19,G19)+INDEX(InGame5,H19)*INDEX(PrBeat,C19,H19)+INDEX(InGame5,I19)*INDEX(PrBeat,C19,I19)+INDEX(InGame5,J19)*INDEX(PrBeat,C19,J19)+INDEX(InGame5,K19)*INDEX(PrBeat,C19,K19)+INDEX(InGame5,L19)*INDEX(PrBeat,C19,L19)+INDEX(InGame5,M19)*INDEX(PrBeat,C19,M19)+INDEX(InGame5,N19)*INDEX(PrBeat,C19,N19)+INDEX(InGame5,O19)*INDEX(PrBeat,C19,O19)+INDEX(InGame5,P19)*INDEX(PrBeat,C19,P19)+INDEX(InGame5,Q19)*INDEX(PrBeat,C19,Q19)+INDEX(InGame5,R19)*INDEX(PrBeat,C19,R19)+INDEX(InGame5,S19)*INDEX(PrBeat,C19,S19)+INDEX(InGame5,T19)*INDEX(PrBeat,C19,T19)+INDEX(InGame5,U19)*INDEX(PrBeat,C19,U19))","v":4.7628749410662811E-5},35,36,37,38,39,40,41,42,43,44,45,46,47,48,49,50,51,52,53,54,55,56,57,58,59,60,61,62,63,64,65,66,67,68,{"$f":"INDEX(InGame6,C19)*(INDEX(InGame6,W19)*INDEX(PrBeat,C19,W19)+INDEX(InGame6,X19)*INDEX(PrBeat,C19,X19)+INDEX(InGame6,Y19)*INDEX(PrBeat,C19,Y19)+INDEX(InGame6,Z19)*INDEX(PrBeat,C19,Z19)+INDEX(InGame6,AA19)*INDEX(PrBeat,C19,AA19)+INDEX(InGame6,AB19)*INDEX(PrBeat,C19,AB19)+INDEX(InGame6,AC19)*INDEX(PrBeat,C19,AC19)+INDEX(InGame6,AD19)*INDEX(PrBeat,C19,AD19)+INDEX(InGame6,AE19)*INDEX(PrBeat,C19,AE19)+INDEX(InGame6,AF19)*INDEX(PrBeat,C19,AF19)+INDEX(InGame6,AG19)*INDEX(PrBeat,C19,AG19)+INDEX(InGame6,AH19)*INDEX(PrBeat,C19,AH19)+INDEX(InGame6,AI19)*INDEX(PrBeat,C19,AI19)+INDEX(InGame6,AJ19)*INDEX(PrBeat,C19,AJ19)+INDEX(InGame6,AK19)*INDEX(PrBeat,C19,AK19)+INDEX(InGame6,AL19)*INDEX(PrBeat,C19,AL19)+INDEX(InGame6,AM19)*INDEX(PrBeat,C19,AM19)+INDEX(InGame6,AN19)*INDEX(PrBeat,C19,AN19)+INDEX(InGame6,AO19)*INDEX(PrBeat,C19,AO19)+INDEX(InGame6,AP19)*INDEX(PrBeat,C19,AP19)+INDEX(InGame6,AQ19)*INDEX(PrBeat,C19,AQ19)+INDEX(InGame6,AR19)*INDEX(PrBeat,C19,AR19)+INDEX(InGame6,AS19)*INDEX(PrBeat,C19,AS19)+INDEX(InGame6,AT19)*INDEX(PrBeat,C19,AT19)+INDEX(InGame6,AU19)*INDEX(PrBeat,C19,AU19)+INDEX(InGame6,AV19)*INDEX(PrBeat,C19,AV19)+INDEX(InGame6,AW19)*INDEX(PrBeat,C19,AW19)+INDEX(InGame6,AX19)*INDEX(PrBeat,C19,AX19)+INDEX(InGame6,AY19)*INDEX(PrBeat,C19,AY19)+INDEX(InGame6,AZ19)*INDEX(PrBeat,C19,AZ19)+INDEX(InGame6,BA19)*INDEX(PrBeat,C19,BA19)+INDEX(InGame6,BB19)*INDEX(PrBeat,C19,BB19)+INDEX(InGame6,BC19)*INDEX(PrBeat,C19,BC19)+INDEX(InGame6,BD19)*INDEX(PrBeat,C19,BD19))","v":4.43085573242496E-6}]
[null,"Purdue",18,{"$f":"East!AA3","v":0.2223808002396008},1,2,3,4,5,6,7,8,9,10,11,12,13,14,15,16,17,{"$f":"INDEX(InGame5,C20)*(INDEX(InGame5,E20)*INDEX(PrBeat,C20,E20)+INDEX(InGame5,F20)*INDEX(PrBeat,C20,F20)+INDEX(InGame5,G20)*INDEX(PrBeat,C20,G20)+INDEX(InGame5,H20)*INDEX(PrBeat,C20,H20)+INDEX(InGame5,I20)*INDEX(PrBeat,C20,I20)+INDEX(InGame5,J20)*INDEX(PrBeat,C20,J20)+INDEX(InGame5,K20)*INDEX(PrBeat,C20,K20)+INDEX(InGame5,L20)*INDEX(PrBeat,C20,L20)+INDEX(InGame5,M20)*INDEX(PrBeat,C20,M20)+INDEX(InGame5,N20)*INDEX(PrBeat,C20,N20)+INDEX(InGame5,O20)*INDEX(PrBeat,C20,O20)+INDEX(InGame5,P20)*INDEX(PrBeat,C20,P20)+INDEX(InGame5,Q20)*INDEX(PrBeat,C20,Q20)+INDEX(InGame5,R20)*INDEX(PrBeat,C20,R20)+INDEX(InGame5,S20)*INDEX(PrBeat,C20,S20)+INDEX(InGame5,T20)*INDEX(PrBeat,C20,T20)+INDEX(InGame5,U20)*INDEX(PrBeat,C20,U20))","v":0.10595449803234508},35,36,37,38,39,40,41,42,43,44,45,46,47,48,49,50,51,52,53,54,55,56,57,58,59,60,61,62,63,64,65,66,67,68,{"$f":"INDEX(InGame6,C20)*(INDEX(InGame6,W20)*INDEX(PrBeat,C20,W20)+INDEX(InGame6,X20)*INDEX(PrBeat,C20,X20)+INDEX(InGame6,Y20)*INDEX(PrBeat,C20,Y20)+INDEX(InGame6,Z20)*INDEX(PrBeat,C20,Z20)+INDEX(InGame6,AA20)*INDEX(PrBeat,C20,AA20)+INDEX(InGame6,AB20)*INDEX(PrBeat,C20,AB20)+INDEX(InGame6,AC20)*INDEX(PrBeat,C20,AC20)+INDEX(InGame6,AD20)*INDEX(PrBeat,C20,AD20)+INDEX(InGame6,AE20)*INDEX(PrBeat,C20,AE20)+INDEX(InGame6,AF20)*INDEX(PrBeat,C20,AF20)+INDEX(InGame6,AG20)*INDEX(PrBeat,C20,AG20)+INDEX(InGame6,AH20)*INDEX(PrBeat,C20,AH20)+INDEX(InGame6,AI20)*INDEX(PrBeat,C20,AI20)+INDEX(InGame6,AJ20)*INDEX(PrBeat,C20,AJ20)+INDEX(InGame6,AK20)*INDEX(PrBeat,C20,AK20)+INDEX(InGame6,AL20)*INDEX(PrBeat,C20,AL20)+INDEX(InGame6,AM20)*INDEX(PrBeat,C20,AM20)+INDEX(InGame6,AN20)*INDEX(PrBeat,C20,AN20)+INDEX(InGame6,AO20)*INDEX(PrBeat,C20,AO20)+INDEX(InGame6,AP20)*INDEX(PrBeat,C20,AP20)+INDEX(InGame6,AQ20)*INDEX(PrBeat,C20,AQ20)+INDEX(InGame6,AR20)*INDEX(PrBeat,C20,AR20)+INDEX(InGame6,AS20)*INDEX(PrBeat,C20,AS20)+INDEX(InGame6,AT20)*INDEX(PrBeat,C20,AT20)+INDEX(InGame6,AU20)*INDEX(PrBeat,C20,AU20)+INDEX(InGame6,AV20)*INDEX(PrBeat,C20,AV20)+INDEX(InGame6,AW20)*INDEX(PrBeat,C20,AW20)+INDEX(InGame6,AX20)*INDEX(PrBeat,C20,AX20)+INDEX(InGame6,AY20)*INDEX(PrBeat,C20,AY20)+INDEX(InGame6,AZ20)*INDEX(PrBeat,C20,AZ20)+INDEX(InGame6,BA20)*INDEX(PrBeat,C20,BA20)+INDEX(InGame6,BB20)*INDEX(PrBeat,C20,BB20)+INDEX(InGame6,BC20)*INDEX(PrBeat,C20,BC20)+INDEX(InGame6,BD20)*INDEX(PrBeat,C20,BD20))","v":4.9903274854660409E-2}]
[null,"Texas Southern",19,{"$f":"East!AA4","v":3.7635745575480228E-8},1,2,3,4,5,6,7,8,9,10,11,12,13,14,15,16,17,{"$f":"INDEX(InGame5,C21)*(INDEX(InGame5,E21)*INDEX(PrBeat,C21,E21)+INDEX(InGame5,F21)*INDEX(PrBeat,C21,F21)+INDEX(InGame5,G21)*INDEX(PrBeat,C21,G21)+INDEX(InGame5,H21)*INDEX(PrBeat,C21,H21)+INDEX(InGame5,I21)*INDEX(PrBeat,C21,I21)+INDEX(InGame5,J21)*INDEX(PrBeat,C21,J21)+INDEX(InGame5,K21)*INDEX(PrBeat,C21,K21)+INDEX(InGame5,L21)*INDEX(PrBeat,C21,L21)+INDEX(InGame5,M21)*INDEX(PrBeat,C21,M21)+INDEX(InGame5,N21)*INDEX(PrBeat,C21,N21)+INDEX(InGame5,O21)*INDEX(PrBeat,C21,O21)+INDEX(InGame5,P21)*INDEX(PrBeat,C21,P21)+INDEX(InGame5,Q21)*INDEX(PrBeat,C21,Q21)+INDEX(InGame5,R21)*INDEX(PrBeat,C21,R21)+INDEX(InGame5,S21)*INDEX(PrBeat,C21,S21)+INDEX(InGame5,T21)*INDEX(PrBeat,C21,T21)+INDEX(InGame5,U21)*INDEX(PrBeat,C21,U21))","v":3.8518801812839986E-10},35,36,37,38,39,40,41,42,43,44,45,46,47,48,49,50,51,52,53,54,55,56,57,58,59,60,61,62,63,64,65,66,67,68,{"$f":"INDEX(InGame6,C21)*(INDEX(InGame6,W21)*INDEX(PrBeat,C21,W21)+INDEX(InGame6,X21)*INDEX(PrBeat,C21,X21)+INDEX(InGame6,Y21)*INDEX(PrBeat,C21,Y21)+INDEX(InGame6,Z21)*INDEX(PrBeat,C21,Z21)+INDEX(InGame6,AA21)*INDEX(PrBeat,C21,AA21)+INDEX(InGame6,AB21)*INDEX(PrBeat,C21,AB21)+INDEX(InGame6,AC21)*INDEX(PrBeat,C21,AC21)+INDEX(InGame6,AD21)*INDEX(PrBeat,C21,AD21)+INDEX(InGame6,AE21)*INDEX(PrBeat,C21,AE21)+INDEX(InGame6,AF21)*INDEX(PrBeat,C21,AF21)+INDEX(InGame6,AG21)*INDEX(PrBeat,C21,AG21)+INDEX(InGame6,AH21)*INDEX(PrBeat,C21,AH21)+INDEX(InGame6,AI21)*INDEX(PrBeat,C21,AI21)+INDEX(InGame6,AJ21)*INDEX(PrBeat,C21,AJ21)+INDEX(InGame6,AK21)*INDEX(PrBeat,C21,AK21)+INDEX(InGame6,AL21)*INDEX(PrBeat,C21,AL21)+INDEX(InGame6,AM21)*INDEX(PrBeat,C21,AM21)+INDEX(InGame6,AN21)*INDEX(PrBeat,C21,AN21)+INDEX(InGame6,AO21)*INDEX(PrBeat,C21,AO21)+INDEX(InGame6,AP21)*INDEX(PrBeat,C21,AP21)+INDEX(InGame6,AQ21)*INDEX(PrBeat,C21,AQ21)+INDEX(InGame6,AR21)*INDEX(PrBeat,C21,AR21)+INDEX(InGame6,AS21)*INDEX(PrBeat,C21,AS21)+INDEX(InGame6,AT21)*INDEX(PrBeat,C21,AT21)+INDEX(InGame6,AU21)*INDEX(PrBeat,C21,AU21)+INDEX(InGame6,AV21)*INDEX(PrBeat,C21,AV21)+INDEX(InGame6,AW21)*INDEX(PrBeat,C21,AW21)+INDEX(InGame6,AX21)*INDEX(PrBeat,C21,AX21)+INDEX(InGame6,AY21)*INDEX(PrBeat,C21,AY21)+INDEX(InGame6,AZ21)*INDEX(PrBeat,C21,AZ21)+INDEX(InGame6,BA21)*INDEX(PrBeat,C21,BA21)+INDEX(InGame6,BB21)*INDEX(PrBeat,C21,BB21)+INDEX(InGame6,BC21)*INDEX(PrBeat,C21,BC21)+INDEX(InGame6,BD21)*INDEX(PrBeat,C21,BD21))","v":3.2616707903592865E-12}]
[null,"Fairleigh Dickinson",20,{"$f":"East!AA5","v":7.3778766007542617E-9},1,2,3,4,5,6,7,8,9,10,11,12,13,14,15,16,17,{"$f":"INDEX(InGame5,C22)*(INDEX(InGame5,E22)*INDEX(PrBeat,C22,E22)+INDEX(InGame5,F22)*INDEX(PrBeat,C22,F22)+INDEX(InGame5,G22)*INDEX(PrBeat,C22,G22)+INDEX(InGame5,H22)*INDEX(PrBeat,C22,H22)+INDEX(InGame5,I22)*INDEX(PrBeat,C22,I22)+INDEX(InGame5,J22)*INDEX(PrBeat,C22,J22)+INDEX(InGame5,K22)*INDEX(PrBeat,C22,K22)+INDEX(InGame5,L22)*INDEX(PrBeat,C22,L22)+INDEX(InGame5,M22)*INDEX(PrBeat,C22,M22)+INDEX(InGame5,N22)*INDEX(PrBeat,C22,N22)+INDEX(InGame5,O22)*INDEX(PrBeat,C22,O22)+INDEX(InGame5,P22)*INDEX(PrBeat,C22,P22)+INDEX(InGame5,Q22)*INDEX(PrBeat,C22,Q22)+INDEX(InGame5,R22)*INDEX(PrBeat,C22,R22)+INDEX(InGame5,S22)*INDEX(PrBeat,C22,S22)+INDEX(InGame5,T22)*INDEX(PrBeat,C22,T22)+INDEX(InGame5,U22)*INDEX(PrBeat,C22,U22))","v":5.2620240160374796E-11},35,36,37,38,39,40,41,42,43,44,45,46,47,48,49,50,51,52,53,54,55,56,57,58,59,60,61,62,63,64,65,66,67,68,{"$f":"INDEX(InGame6,C22)*(INDEX(InGame6,W22)*INDEX(PrBeat,C22,W22)+INDEX(InGame6,X22)*INDEX(PrBeat,C22,X22)+INDEX(InGame6,Y22)*INDEX(PrBeat,C22,Y22)+INDEX(InGame6,Z22)*INDEX(PrBeat,C22,Z22)+INDEX(InGame6,AA22)*INDEX(PrBeat,C22,AA22)+INDEX(InGame6,AB22)*INDEX(PrBeat,C22,AB22)+INDEX(InGame6,AC22)*INDEX(PrBeat,C22,AC22)+INDEX(InGame6,AD22)*INDEX(PrBeat,C22,AD22)+INDEX(InGame6,AE22)*INDEX(PrBeat,C22,AE22)+INDEX(InGame6,AF22)*INDEX(PrBeat,C22,AF22)+INDEX(InGame6,AG22)*INDEX(PrBeat,C22,AG22)+INDEX(InGame6,AH22)*INDEX(PrBeat,C22,AH22)+INDEX(InGame6,AI22)*INDEX(PrBeat,C22,AI22)+INDEX(InGame6,AJ22)*INDEX(PrBeat,C22,AJ22)+INDEX(InGame6,AK22)*INDEX(PrBeat,C22,AK22)+INDEX(InGame6,AL22)*INDEX(PrBeat,C22,AL22)+INDEX(InGame6,AM22)*INDEX(PrBeat,C22,AM22)+INDEX(InGame6,AN22)*INDEX(PrBeat,C22,AN22)+INDEX(InGame6,AO22)*INDEX(PrBeat,C22,AO22)+INDEX(InGame6,AP22)*INDEX(PrBeat,C22,AP22)+INDEX(InGame6,AQ22)*INDEX(PrBeat,C22,AQ22)+INDEX(InGame6,AR22)*INDEX(PrBeat,C22,AR22)+INDEX(InGame6,AS22)*INDEX(PrBeat,C22,AS22)+INDEX(InGame6,AT22)*INDEX(PrBeat,C22,AT22)+INDEX(InGame6,AU22)*INDEX(PrBeat,C22,AU22)+INDEX(InGame6,AV22)*INDEX(PrBeat,C22,AV22)+INDEX(InGame6,AW22)*INDEX(PrBeat,C22,AW22)+INDEX(InGame6,AX22)*INDEX(PrBeat,C22,AX22)+INDEX(InGame6,AY22)*INDEX(PrBeat,C22,AY22)+INDEX(InGame6,AZ22)*INDEX(PrBeat,C22,AZ22)+INDEX(InGame6,BA22)*INDEX(PrBeat,C22,BA22)+INDEX(InGame6,BB22)*INDEX(PrBeat,C22,BB22)+INDEX(InGame6,BC22)*INDEX(PrBeat,C22,BC22)+INDEX(InGame6,BD22)*INDEX(PrBeat,C22,BD22))","v":3.0551316424290902E-13}]
[null,"Memphis",21,{"$f":"East!AA6","v":5.8444829841189816E-2},1,2,3,4,5,6,7,8,9,10,11,12,13,14,15,16,17,{"$f":"INDEX(InGame5,C23)*(INDEX(InGame5,E23)*INDEX(PrBeat,C23,E23)+INDEX(InGame5,F23)*INDEX(PrBeat,C23,F23)+INDEX(InGame5,G23)*INDEX(PrBeat,C23,G23)+INDEX(InGame5,H23)*INDEX(PrBeat,C23,H23)+INDEX(InGame5,I23)*INDEX(PrBeat,C23,I23)+INDEX(InGame5,J23)*INDEX(PrBeat,C23,J23)+INDEX(InGame5,K23)*INDEX(PrBeat,C23,K23)+INDEX(InGame5,L23)*INDEX(PrBeat,C23,L23)+INDEX(InGame5,M23)*INDEX(PrBeat,C23,M23)+INDEX(InGame5,N23)*INDEX(PrBeat,C23,N23)+INDEX(InGame5,O23)*INDEX(PrBeat,C23,O23)+INDEX(InGame5,P23)*INDEX(PrBeat,C23,P23)+INDEX(InGame5,Q23)*INDEX(PrBeat,C23,Q23)+INDEX(InGame5,R23)*INDEX(PrBeat,C23,R23)+INDEX(InGame5,S23)*INDEX(PrBeat,C23,S23)+INDEX(InGame5,T23)*INDEX(PrBeat,C23,T23)+INDEX(InGame5,U23)*INDEX(PrBeat,C23,U23))","v":2.2136344408089523E-2},35,36,37,38,39,40,41,42,43,44,45,46,47,48,49,50,51,52,53,54,55,56,57,58,59,60,61,62,63,64,65,66,67,68,{"$f":"INDEX(InGame6,C23)*(INDEX(InGame6,W23)*INDEX(PrBeat,C23,W23)+INDEX(InGame6,X23)*INDEX(PrBeat,C23,X23)+INDEX(InGame6,Y23)*INDEX(PrBeat,C23,Y23)+INDEX(InGame6,Z23)*INDEX(PrBeat,C23,Z23)+INDEX(InGame6,AA23)*INDEX(PrBeat,C23,AA23)+INDEX(InGame6,AB23)*INDEX(PrBeat,C23,AB23)+INDEX(InGame6,AC23)*INDEX(PrBeat,C23,AC23)+INDEX(InGame6,AD23)*INDEX(PrBeat,C23,AD23)+INDEX(InGame6,AE23)*INDEX(PrBeat,C23,AE23)+INDEX(InGame6,AF23)*INDEX(PrBeat,C23,AF23)+INDEX(InGame6,AG23)*INDEX(PrBeat,C23,AG23)+INDEX(InGame6,AH23)*INDEX(PrBeat,C23,AH23)+INDEX(InGame6,AI23)*INDEX(PrBeat,C23,AI23)+INDEX(InGame6,AJ23)*INDEX(PrBeat,C23,AJ23)+INDEX(InGame6,AK23)*INDEX(PrBeat,C23,AK23)+INDEX(InGame6,AL23)*INDEX(PrBeat,C23,AL23)+INDEX(InGame6,AM23)*INDEX(PrBeat,C23,AM23)+INDEX(InGame6,AN23)*INDEX(PrBeat,C23,AN23)+INDEX(InGame6,AO23)*INDEX(PrBeat,C23,AO23)+INDEX(InGame6,AP23)*INDEX(PrBeat,C23,AP23)+INDEX(InGame6,AQ23)*INDEX(PrBeat,C23,AQ23)+INDEX(InGame6,AR23)*INDEX(PrBeat,C23,AR23)+INDEX(InGame6,AS23)*INDEX(PrBeat,C23,AS23)+INDEX(InGame6,AT23)*INDEX(PrBeat,C23,AT23)+INDEX(InGame6,AU23)*INDEX(PrBeat,C23,AU23)+INDEX(InGame6,AV23)*INDEX(PrBeat,C23,AV23)+INDEX(InGame6,AW23)*INDEX(PrBeat,C23,AW23)+INDEX(InGame6,AX23)*INDEX(PrBeat,C23,AX23)+INDEX(InGame6,AY23)*INDEX(PrBeat,C23,AY23)+INDEX(InGame6,AZ23)*INDEX(PrBeat,C23,AZ23)+INDEX(InGame6,BA23)*INDEX(PrBeat,C23,BA23)+INDEX(InGame6,BB23)*INDEX(PrBeat,C23,BB23)+INDEX(InGame6,BC23)*INDEX(PrBeat,C23,BC23)+INDEX(InGame6,BD23)*INDEX(PrBeat,C23,BD23))","v":8.2118423364194379E-3}]
[null,"Florida Atlantic",22,{"$f":"East!AA7","v":1.6398978411101366E-2},1,2,3,4,5,6,7,8,9,10,11,12,13,14,15,16,17,{"$f":"INDEX(InGame5,C24)*(INDEX(InGame5,E24)*INDEX(PrBeat,C24,E24)+INDEX(InGame5,F24)*INDEX(PrBeat,C24,F24)+INDEX(InGame5,G24)*INDEX(PrBeat,C24,G24)+INDEX(InGame5,H24)*INDEX(PrBeat,C24,H24)+INDEX(InGame5,I24)*INDEX(PrBeat,C24,I24)+INDEX(InGame5,J24)*INDEX(PrBeat,C24,J24)+INDEX(InGame5,K24)*INDEX(PrBeat,C24,K24)+INDEX(InGame5,L24)*INDEX(PrBeat,C24,L24)+INDEX(InGame5,M24)*INDEX(PrBeat,C24,M24)+INDEX(InGame5,N24)*INDEX(PrBeat,C24,N24)+INDEX(InGame5,O24)*INDEX(PrBeat,C24,O24)+INDEX(InGame5,P24)*INDEX(PrBeat,C24,P24)+INDEX(InGame5,Q24)*INDEX(PrBeat,C24,Q24)+INDEX(InGame5,R24)*INDEX(PrBeat,C24,R24)+INDEX(InGame5,S24)*INDEX(PrBeat,C24,S24)+INDEX(InGame5,T24)*INDEX(PrBeat,C24,T24)+INDEX(InGame5,U24)*INDEX(PrBeat,C24,U24))","v":4.6028222143677643E-3},35,36,37,38,39,40,41,42,43,44,45,46,47,48,49,50,51,52,53,54,55,56,57,58,59,60,61,62,63,64,65,66,67,68,{"$f":"INDEX(InGame6,C24)*(INDEX(InGame6,W24)*INDEX(PrBeat,C24,W24)+INDEX(InGame6,X24)*INDEX(PrBeat,C24,X24)+INDEX(InGame6,Y24)*INDEX(PrBeat,C24,Y24)+INDEX(InGame6,Z24)*INDEX(PrBeat,C24,Z24)+INDEX(InGame6,AA24)*INDEX(PrBeat,C24,AA24)+INDEX(InGame6,AB24)*INDEX(PrBeat,C24,AB24)+INDEX(InGame6,AC24)*INDEX(PrBeat,C24,AC24)+INDEX(InGame6,AD24)*INDEX(PrBeat,C24,AD24)+INDEX(InGame6,AE24)*INDEX(PrBeat,C24,AE24)+INDEX(InGame6,AF24)*INDEX(PrBeat,C24,AF24)+INDEX(InGame6,AG24)*INDEX(PrBeat,C24,AG24)+INDEX(InGame6,AH24)*INDEX(PrBeat,C24,AH24)+INDEX(InGame6,AI24)*INDEX(PrBeat,C24,AI24)+INDEX(InGame6,AJ24)*INDEX(PrBeat,C24,AJ24)+INDEX(InGame6,AK24)*INDEX(PrBeat,C24,AK24)+INDEX(InGame6,AL24)*INDEX(PrBeat,C24,AL24)+INDEX(InGame6,AM24)*INDEX(PrBeat,C24,AM24)+INDEX(InGame6,AN24)*INDEX(PrBeat,C24,AN24)+INDEX(InGame6,AO24)*INDEX(PrBeat,C24,AO24)+INDEX(InGame6,AP24)*INDEX(PrBeat,C24,AP24)+INDEX(InGame6,AQ24)*INDEX(PrBeat,C24,AQ24)+INDEX(InGame6,AR24)*INDEX(PrBeat,C24,AR24)+INDEX(InGame6,AS24)*INDEX(PrBeat,C24,AS24)+INDEX(InGame6,AT24)*INDEX(PrBeat,C24,AT24)+INDEX(InGame6,AU24)*INDEX(PrBeat,C24,AU24)+INDEX(InGame6,AV24)*INDEX(PrBeat,C24,AV24)+INDEX(InGame6,AW24)*INDEX(PrBeat,C24,AW24)+INDEX(InGame6,AX24)*INDEX(PrBeat,C24,AX24)+INDEX(InGame6,AY24)*INDEX(PrBeat,C24,AY24)+INDEX(InGame6,AZ24)*INDEX(PrBeat,C24,AZ24)+INDEX(InGame6,BA24)*INDEX(PrBeat,C24,BA24)+INDEX(InGame6,BB24)*INDEX(PrBeat,C24,BB24)+INDEX(InGame6,BC24)*INDEX(PrBeat,C24,BC24)+INDEX(InGame6,BD24)*INDEX(PrBeat,C24,BD24))","v":1.248918779167817E-3}]
[null,"Duke",23,{"$f":"East!AA8","v":9.550545766184769E-2},1,2,3,4,5,6,7,8,9,10,11,12,13,14,15,16,17,{"$f":"INDEX(InGame5,C25)*(INDEX(InGame5,E25)*INDEX(PrBeat,C25,E25)+INDEX(InGame5,F25)*INDEX(PrBeat,C25,F25)+INDEX(InGame5,G25)*INDEX(PrBeat,C25,G25)+INDEX(InGame5,H25)*INDEX(PrBeat,C25,H25)+INDEX(InGame5,I25)*INDEX(PrBeat,C25,I25)+INDEX(InGame5,J25)*INDEX(PrBeat,C25,J25)+INDEX(InGame5,K25)*INDEX(PrBeat,C25,K25)+INDEX(InGame5,L25)*INDEX(PrBeat,C25,L25)+INDEX(InGame5,M25)*INDEX(PrBeat,C25,M25)+INDEX(InGame5,N25)*INDEX(PrBeat,C25,N25)+INDEX(InGame5,O25)*INDEX(PrBeat,C25,O25)+INDEX(InGame5,P25)*INDEX(PrBeat,C25,P25)+INDEX(InGame5,Q25)*INDEX(PrBeat,C25,Q25)+INDEX(InGame5,R25)*INDEX(PrBeat,C25,R25)+INDEX(InGame5,S25)*INDEX(PrBeat,C25,S25)+INDEX(InGame5,T25)*INDEX(PrBeat,C25,T25)+INDEX(InGame5,U25)*INDEX(PrBeat,C25,U25))","v":3.8996167817655317E-2},35,36,37,38,39,40,41,42,43,44,45,46,47,48,49,50,51,52,53,54,55,56,57,58,59,60,61,62,63,64,65,66,67,68,{"$f":"INDEX(InGame6,C25)*(INDEX(InGame6,W25)*INDEX(PrBeat,C25,W25)+INDEX(InGame6,X25)*INDEX(PrBeat,C25,X25)+INDEX(InGame6,Y25)*INDEX(PrBeat,C25,Y25)+INDEX(InGame6,Z25)*INDEX(PrBeat,C25,Z25)+INDEX(InGame6,AA25)*INDEX(PrBeat,C25,AA25)+INDEX(InGame6,AB25)*INDEX(PrBeat,C25,AB25)+INDEX(InGame6,AC25)*INDEX(PrBeat,C25,AC25)+INDEX(InGame6,AD25)*INDEX(PrBeat,C25,AD25)+INDEX(InGame6,AE25)*INDEX(PrBeat,C25,AE25)+INDEX(InGame6,AF25)*INDEX(PrBeat,C25,AF25)+INDEX(InGame6,AG25)*INDEX(PrBeat,C25,AG25)+INDEX(InGame6,AH25)*INDEX(PrBeat,C25,AH25)+INDEX(InGame6,AI25)*INDEX(PrBeat,C25,AI25)+INDEX(InGame6,AJ25)*INDEX(PrBeat,C25,AJ25)+INDEX(InGame6,AK25)*INDEX(PrBeat,C25,AK25)+INDEX(InGame6,AL25)*INDEX(PrBeat,C25,AL25)+INDEX(InGame6,AM25)*INDEX(PrBeat,C25,AM25)+INDEX(InGame6,AN25)*INDEX(PrBeat,C25,AN25)+INDEX(InGame6,AO25)*INDEX(PrBeat,C25,AO25)+INDEX(InGame6,AP25)*INDEX(PrBeat,C25,AP25)+INDEX(InGame6,AQ25)*INDEX(PrBeat,C25,AQ25)+INDEX(InGame6,AR25)*INDEX(PrBeat,C25,AR25)+INDEX(InGame6,AS25)*INDEX(PrBeat,C25,AS25)+INDEX(InGame6,AT25)*INDEX(PrBeat,C25,AT25)+INDEX(InGame6,AU25)*INDEX(PrBeat,C25,AU25)+INDEX(InGame6,AV25)*INDEX(PrBeat,C25,AV25)+INDEX(InGame6,AW25)*INDEX(PrBeat,C25,AW25)+INDEX(InGame6,AX25)*INDEX(PrBeat,C25,AX25)+INDEX(InGame6,AY25)*INDEX(PrBeat,C25,AY25)+INDEX(InGame6,AZ25)*INDEX(PrBeat,C25,AZ25)+INDEX(InGame6,BA25)*INDEX(PrBeat,C25,BA25)+INDEX(InGame6,BB25)*INDEX(PrBeat,C25,BB25)+INDEX(InGame6,BC25)*INDEX(PrBeat,C25,BC25)+INDEX(InGame6,BD25)*INDEX(PrBeat,C25,BD25))","v":1.5643874323158315E-2}]
[null,"Oral Roberts",24,{"$f":"East!AA9","v":4.1677537840413481E-3},1,2,3,4,5,6,7,8,9,10,11,12,13,14,15,16,17,{"$f":"INDEX(InGame5,C26)*(INDEX(InGame5,E26)*INDEX(PrBeat,C26,E26)+INDEX(InGame5,F26)*INDEX(PrBeat,C26,F26)+INDEX(InGame5,G26)*INDEX(PrBeat,C26,G26)+INDEX(InGame5,H26)*INDEX(PrBeat,C26,H26)+INDEX(InGame5,I26)*INDEX(PrBeat,C26,I26)+INDEX(InGame5,J26)*INDEX(PrBeat,C26,J26)+INDEX(InGame5,K26)*INDEX(PrBeat,C26,K26)+INDEX(InGame5,L26)*INDEX(PrBeat,C26,L26)+INDEX(InGame5,M26)*INDEX(PrBeat,C26,M26)+INDEX(InGame5,N26)*INDEX(PrBeat,C26,N26)+INDEX(InGame5,O26)*INDEX(PrBeat,C26,O26)+INDEX(InGame5,P26)*INDEX(PrBeat,C26,P26)+INDEX(InGame5,Q26)*INDEX(PrBeat,C26,Q26)+INDEX(InGame5,R26)*INDEX(PrBeat,C26,R26)+INDEX(InGame5,S26)*INDEX(PrBeat,C26,S26)+INDEX(InGame5,T26)*INDEX(PrBeat,C26,T26)+INDEX(InGame5,U26)*INDEX(PrBeat,C26,U26))","v":7.8845435489888433E-4},35,36,37,38,39,40,41,42,43,44,45,46,47,48,49,50,51,52,53,54,55,56,57,58,59,60,61,62,63,64,65,66,67,68,{"$f":"INDEX(InGame6,C26)*(INDEX(InGame6,W26)*INDEX(PrBeat,C26,W26)+INDEX(InGame6,X26)*INDEX(PrBeat,C26,X26)+INDEX(InGame6,Y26)*INDEX(PrBeat,C26,Y26)+INDEX(InGame6,Z26)*INDEX(PrBeat,C26,Z26)+INDEX(InGame6,AA26)*INDEX(PrBeat,C26,AA26)+INDEX(InGame6,AB26)*INDEX(PrBeat,C26,AB26)+INDEX(InGame6,AC26)*INDEX(PrBeat,C26,AC26)+INDEX(InGame6,AD26)*INDEX(PrBeat,C26,AD26)+INDEX(InGame6,AE26)*INDEX(PrBeat,C26,AE26)+INDEX(InGame6,AF26)*INDEX(PrBeat,C26,AF26)+INDEX(InGame6,AG26)*INDEX(PrBeat,C26,AG26)+INDEX(InGame6,AH26)*INDEX(PrBeat,C26,AH26)+INDEX(InGame6,AI26)*INDEX(PrBeat,C26,AI26)+INDEX(InGame6,AJ26)*INDEX(PrBeat,C26,AJ26)+INDEX(InGame6,AK26)*INDEX(PrBeat,C26,AK26)+INDEX(InGame6,AL26)*INDEX(PrBeat,C26,AL26)+INDEX(InGame6,AM26)*INDEX(PrBeat,C26,AM26)+INDEX(InGame6,AN26)*INDEX(PrBeat,C26,AN26)+INDEX(InGame6,AO26)*INDEX(PrBeat,C26,AO26)+INDEX(InGame6,AP26)*INDEX(PrBeat,C26,AP26)+INDEX(InGame6,AQ26)*INDEX(PrBeat,C26,AQ26)+INDEX(InGame6,AR26)*INDEX(PrBeat,C26,AR26)+INDEX(InGame6,AS26)*INDEX(PrBeat,C26,AS26)+INDEX(InGame6,AT26)*INDEX(PrBeat,C26,AT26)+INDEX(InGame6,AU26)*INDEX(PrBeat,C26,AU26)+INDEX(InGame6,AV26)*INDEX(PrBeat,C26,AV26)+INDEX(InGame6,AW26)*INDEX(PrBeat,C26,AW26)+INDEX(InGame6,AX26)*INDEX(PrBeat,C26,AX26)+INDEX(InGame6,AY26)*INDEX(PrBeat,C26,AY26)+INDEX(InGame6,AZ26)*INDEX(PrBeat,C26,AZ26)+INDEX(InGame6,BA26)*INDEX(PrBeat,C26,BA26)+INDEX(InGame6,BB26)*INDEX(PrBeat,C26,BB26)+INDEX(InGame6,BC26)*INDEX(PrBeat,C26,BC26)+INDEX(InGame6,BD26)*INDEX(PrBeat,C26,BD26))","v":1.41601261081624E-4}]
[null,"Tennessee",25,{"$f":"East!AA10","v":0.19712507539668025},1,2,3,4,5,6,7,8,9,10,11,12,13,14,15,16,17,{"$f":"INDEX(InGame5,C27)*(INDEX(InGame5,E27)*INDEX(PrBeat,C27,E27)+INDEX(InGame5,F27)*INDEX(PrBeat,C27,F27)+INDEX(InGame5,G27)*INDEX(PrBeat,C27,G27)+INDEX(InGame5,H27)*INDEX(PrBeat,C27,H27)+INDEX(InGame5,I27)*INDEX(PrBeat,C27,I27)+INDEX(InGame5,J27)*INDEX(PrBeat,C27,J27)+INDEX(InGame5,K27)*INDEX(PrBeat,C27,K27)+INDEX(InGame5,L27)*INDEX(PrBeat,C27,L27)+INDEX(InGame5,M27)*INDEX(PrBeat,C27,M27)+INDEX(InGame5,N27)*INDEX(PrBeat,C27,N27)+INDEX(InGame5,O27)*INDEX(PrBeat,C27,O27)+INDEX(InGame5,P27)*INDEX(PrBeat,C27,P27)+INDEX(InGame5,Q27)*INDEX(PrBeat,C27,Q27)+INDEX(InGame5,R27)*INDEX(PrBeat,C27,R27)+INDEX(InGame5,S27)*INDEX(PrBeat,C27,S27)+INDEX(InGame5,T27)*INDEX(PrBeat,C27,T27)+INDEX(InGame5,U27)*INDEX(PrBeat,C27,U27))","v":9.481666534366906E-2},35,36,37,38,39,40,41,42,43,44,45,46,47,48,49,50,51,52,53,54,55,56,57,58,59,60,61,62,63,64,65,66,67,68,{"$f":"INDEX(InGame6,C27)*(INDEX(InGame6,W27)*INDEX(PrBeat,C27,W27)+INDEX(InGame6,X27)*INDEX(PrBeat,C27,X27)+INDEX(InGame6,Y27)*INDEX(PrBeat,C27,Y27)+INDEX(InGame6,Z27)*INDEX(PrBeat,C27,Z27)+INDEX(InGame6,AA27)*INDEX(PrBeat,C27,AA27)+INDEX(InGame6,AB27)*INDEX(PrBeat,C27,AB27)+INDEX(InGame6,AC27)*INDEX(PrBeat,C27,AC27)+INDEX(InGame6,AD27)*INDEX(PrBeat,C27,AD27)+INDEX(InGame6,AE27)*INDEX(PrBeat,C27,AE27)+INDEX(InGame6,AF27)*INDEX(PrBeat,C27,AF27)+INDEX(InGame6,AG27)*INDEX(PrBeat,C27,AG27)+INDEX(InGame6,AH27)*INDEX(PrBeat,C27,AH27)+INDEX(InGame6,AI27)*INDEX(PrBeat,C27,AI27)+INDEX(InGame6,AJ27)*INDEX(PrBeat,C27,AJ27)+INDEX(InGame6,AK27)*INDEX(PrBeat,C27,AK27)+INDEX(InGame6,AL27)*INDEX(PrBeat,C27,AL27)+INDEX(InGame6,AM27)*INDEX(PrBeat,C27,AM27)+INDEX(InGame6,AN27)*INDEX(PrBeat,C27,AN27)+INDEX(InGame6,AO27)*INDEX(PrBeat,C27,AO27)+INDEX(InGame6,AP27)*INDEX(PrBeat,C27,AP27)+INDEX(InGame6,AQ27)*INDEX(PrBeat,C27,AQ27)+INDEX(InGame6,AR27)*INDEX(PrBeat,C27,AR27)+INDEX(InGame6,AS27)*INDEX(PrBeat,C27,AS27)+INDEX(InGame6,AT27)*INDEX(PrBeat,C27,AT27)+INDEX(InGame6,AU27)*INDEX(PrBeat,C27,AU27)+INDEX(InGame6,AV27)*INDEX(PrBeat,C27,AV27)+INDEX(InGame6,AW27)*INDEX(PrBeat,C27,AW27)+INDEX(InGame6,AX27)*INDEX(PrBeat,C27,AX27)+INDEX(InGame6,AY27)*INDEX(PrBeat,C27,AY27)+INDEX(InGame6,AZ27)*INDEX(PrBeat,C27,AZ27)+INDEX(InGame6,BA27)*INDEX(PrBeat,C27,BA27)+INDEX(InGame6,BB27)*INDEX(PrBeat,C27,BB27)+INDEX(InGame6,BC27)*INDEX(PrBeat,C27,BC27)+INDEX(InGame6,BD27)*INDEX(PrBeat,C27,BD27))","v":4.5099545727207951E-2}]
[null,"Louisiana",26,{"$f":"East!AA11","v":7.8628132338087763E-4},1,2,3,4,5,6,7,8,9,10,11,12,13,14,15,16,17,{"$f":"INDEX(InGame5,C28)*(INDEX(InGame5,E28)*INDEX(PrBeat,C28,E28)+INDEX(InGame5,F28)*INDEX(PrBeat,C28,F28)+INDEX(InGame5,G28)*INDEX(PrBeat,C28,G28)+INDEX(InGame5,H28)*INDEX(PrBeat,C28,H28)+INDEX(InGame5,I28)*INDEX(PrBeat,C28,I28)+INDEX(InGame5,J28)*INDEX(PrBeat,C28,J28)+INDEX(InGame5,K28)*INDEX(PrBeat,C28,K28)+INDEX(InGame5,L28)*INDEX(PrBeat,C28,L28)+INDEX(InGame5,M28)*INDEX(PrBeat,C28,M28)+INDEX(InGame5,N28)*INDEX(PrBeat,C28,N28)+INDEX(InGame5,O28)*INDEX(PrBeat,C28,O28)+INDEX(InGame5,P28)*INDEX(PrBeat,C28,P28)+INDEX(InGame5,Q28)*INDEX(PrBeat,C28,Q28)+INDEX(InGame5,R28)*INDEX(PrBeat,C28,R28)+INDEX(InGame5,S28)*INDEX(PrBeat,C28,S28)+INDEX(InGame5,T28)*INDEX(PrBeat,C28,T28)+INDEX(InGame5,U28)*INDEX(PrBeat,C28,U28))","v":9.4953187373204203E-5},35,36,37,38,39,40,41,42,43,44,45,46,47,48,49,50,51,52,53,54,55,56,57,58,59,60,61,62,63,64,65,66,67,68,{"$f":"INDEX(InGame6,C28)*(INDEX(InGame6,W28)*INDEX(PrBeat,C28,W28)+INDEX(InGame6,X28)*INDEX(PrBeat,C28,X28)+INDEX(InGame6,Y28)*INDEX(PrBeat,C28,Y28)+INDEX(InGame6,Z28)*INDEX(PrBeat,C28,Z28)+INDEX(InGame6,AA28)*INDEX(PrBeat,C28,AA28)+INDEX(InGame6,AB28)*INDEX(PrBeat,C28,AB28)+INDEX(InGame6,AC28)*INDEX(PrBeat,C28,AC28)+INDEX(InGame6,AD28)*INDEX(PrBeat,C28,AD28)+INDEX(InGame6,AE28)*INDEX(PrBeat,C28,AE28)+INDEX(InGame6,AF28)*INDEX(PrBeat,C28,AF28)+INDEX(InGame6,AG28)*INDEX(PrBeat,C28,AG28)+INDEX(InGame6,AH28)*INDEX(PrBeat,C28,AH28)+INDEX(InGame6,AI28)*INDEX(PrBeat,C28,AI28)+INDEX(InGame6,AJ28)*INDEX(PrBeat,C28,AJ28)+INDEX(InGame6,AK28)*INDEX(PrBeat,C28,AK28)+INDEX(InGame6,AL28)*INDEX(PrBeat,C28,AL28)+INDEX(InGame6,AM28)*INDEX(PrBeat,C28,AM28)+INDEX(InGame6,AN28)*INDEX(PrBeat,C28,AN28)+INDEX(InGame6,AO28)*INDEX(PrBeat,C28,AO28)+INDEX(InGame6,AP28)*INDEX(PrBeat,C28,AP28)+INDEX(InGame6,AQ28)*INDEX(PrBeat,C28,AQ28)+INDEX(InGame6,AR28)*INDEX(PrBeat,C28,AR28)+INDEX(InGame6,AS28)*INDEX(PrBeat,C28,AS28)+INDEX(InGame6,AT28)*INDEX(PrBeat,C28,AT28)+INDEX(InGame6,AU28)*INDEX(PrBeat,C28,AU28)+INDEX(InGame6,AV28)*INDEX(PrBeat,C28,AV28)+INDEX(InGame6,AW28)*INDEX(PrBeat,C28,AW28)+INDEX(InGame6,AX28)*INDEX(PrBeat,C28,AX28)+INDEX(InGame6,AY28)*INDEX(PrBeat,C28,AY28)+INDEX(InGame6,AZ28)*INDEX(PrBeat,C28,AZ28)+INDEX(InGame6,BA28)*INDEX(PrBeat,C28,BA28)+INDEX(InGame6,BB28)*INDEX(PrBeat,C28,BB28)+INDEX(InGame6,BC28)*INDEX(PrBeat,C28,BC28)+INDEX(InGame6,BD28)*INDEX(PrBeat,C28,BD28))","v":1.0656226863052994E-5}]
[null,"Kentucky",27,{"$f":"East!AA12","v":6.7684405075366286E-2},1,2,3,4,5,6,7,8,9,10,11,12,13,14,15,16,17,{"$f":"INDEX(InGame5,C29)*(INDEX(InGame5,E29)*INDEX(PrBeat,C29,E29)+INDEX(InGame5,F29)*INDEX(PrBeat,C29,F29)+INDEX(InGame5,G29)*INDEX(PrBeat,C29,G29)+INDEX(InGame5,H29)*INDEX(PrBeat,C29,H29)+INDEX(InGame5,I29)*INDEX(PrBeat,C29,I29)+INDEX(InGame5,J29)*INDEX(PrBeat,C29,J29)+INDEX(InGame5,K29)*INDEX(PrBeat,C29,K29)+INDEX(InGame5,L29)*INDEX(PrBeat,C29,L29)+INDEX(InGame5,M29)*INDEX(PrBeat,C29,M29)+INDEX(InGame5,N29)*INDEX(PrBeat,C29,N29)+INDEX(InGame5,O29)*INDEX(PrBeat,C29,O29)+INDEX(InGame5,P29)*INDEX(PrBeat,C29,P29)+INDEX(InGame5,Q29)*INDEX(PrBeat,C29,Q29)+INDEX(InGame5,R29)*INDEX(PrBeat,C29,R29)+INDEX(InGame5,S29)*INDEX(PrBeat,C29,S29)+INDEX(InGame5,T29)*INDEX(PrBeat,C29,T29)+INDEX(InGame5,U29)*INDEX(PrBeat,C29,U29))","v":2.4232114984625425E-2},35,36,37,38,39,40,41,42,43,44,45,46,47,48,49,50,51,52,53,54,55,56,57,58,59,60,61,62,63,64,65,66,67,68,{"$f":"INDEX(InGame6,C29)*(INDEX(InGame6,W29)*INDEX(PrBeat,C29,W29)+INDEX(InGame6,X29)*INDEX(PrBeat,C29,X29)+INDEX(InGame6,Y29)*INDEX(PrBeat,C29,Y29)+INDEX(InGame6,Z29)*INDEX(PrBeat,C29,Z29)+INDEX(InGame6,AA29)*INDEX(PrBeat,C29,AA29)+INDEX(InGame6,AB29)*INDEX(PrBeat,C29,AB29)+INDEX(InGame6,AC29)*INDEX(PrBeat,C29,AC29)+INDEX(InGame6,AD29)*INDEX(PrBeat,C29,AD29)+INDEX(InGame6,AE29)*INDEX(PrBeat,C29,AE29)+INDEX(InGame6,AF29)*INDEX(PrBeat,C29,AF29)+INDEX(InGame6,AG29)*INDEX(PrBeat,C29,AG29)+INDEX(InGame6,AH29)*INDEX(PrBeat,C29,AH29)+INDEX(InGame6,AI29)*INDEX(PrBeat,C29,AI29)+INDEX(InGame6,AJ29)*INDEX(PrBeat,C29,AJ29)+INDEX(InGame6,AK29)*INDEX(PrBeat,C29,AK29)+INDEX(InGame6,AL29)*INDEX(PrBeat,C29,AL29)+INDEX(InGame6,AM29)*INDEX(PrBeat,C29,AM29)+INDEX(InGame6,AN29)*INDEX(PrBeat,C29,AN29)+INDEX(InGame6,AO29)*INDEX(PrBeat,C29,AO29)+INDEX(InGame6,AP29)*INDEX(PrBeat,C29,AP29)+INDEX(InGame6,AQ29)*INDEX(PrBeat,C29,AQ29)+INDEX(InGame6,AR29)*INDEX(PrBeat,C29,AR29)+INDEX(InGame6,AS29)*INDEX(PrBeat,C29,AS29)+INDEX(InGame6,AT29)*INDEX(PrBeat,C29,AT29)+INDEX(InGame6,AU29)*INDEX(PrBeat,C29,AU29)+INDEX(InGame6,AV29)*INDEX(PrBeat,C29,AV29)+INDEX(InGame6,AW29)*INDEX(PrBeat,C29,AW29)+INDEX(InGame6,AX29)*INDEX(PrBeat,C29,AX29)+INDEX(InGame6,AY29)*INDEX(PrBeat,C29,AY29)+INDEX(InGame6,AZ29)*INDEX(PrBeat,C29,AZ29)+INDEX(InGame6,BA29)*INDEX(PrBeat,C29,BA29)+INDEX(InGame6,BB29)*INDEX(PrBeat,C29,BB29)+INDEX(InGame6,BC29)*INDEX(PrBeat,C29,BC29)+INDEX(InGame6,BD29)*INDEX(PrBeat,C29,BD29))","v":8.4768308085058676E-3}]
[null,"Providence",28,{"$f":"East!AA13","v":3.1838548457900927E-2},1,2,3,4,5,6,7,8,9,10,11,12,13,14,15,16,17,{"$f":"INDEX(InGame5,C30)*(INDEX(InGame5,E30)*INDEX(PrBeat,C30,E30)+INDEX(InGame5,F30)*INDEX(PrBeat,C30,F30)+INDEX(InGame5,G30)*INDEX(PrBeat,C30,G30)+INDEX(InGame5,H30)*INDEX(PrBeat,C30,H30)+INDEX(InGame5,I30)*INDEX(PrBeat,C30,I30)+INDEX(InGame5,J30)*INDEX(PrBeat,C30,J30)+INDEX(InGame5,K30)*INDEX(PrBeat,C30,K30)+INDEX(InGame5,L30)*INDEX(PrBeat,C30,L30)+INDEX(InGame5,M30)*INDEX(PrBeat,C30,M30)+INDEX(InGame5,N30)*INDEX(PrBeat,C30,N30)+INDEX(InGame5,O30)*INDEX(PrBeat,C30,O30)+INDEX(InGame5,P30)*INDEX(PrBeat,C30,P30)+INDEX(InGame5,Q30)*INDEX(PrBeat,C30,Q30)+INDEX(InGame5,R30)*INDEX(PrBeat,C30,R30)+INDEX(InGame5,S30)*INDEX(PrBeat,C30,S30)+INDEX(InGame5,T30)*INDEX(PrBeat,C30,T30)+INDEX(InGame5,U30)*INDEX(PrBeat,C30,U30))","v":9.409826132526335E-3},35,36,37,38,39,40,41,42,43,44,45,46,47,48,49,50,51,52,53,54,55,56,57,58,59,60,61,62,63,64,65,66,67,68,{"$f":"INDEX(InGame6,C30)*(INDEX(InGame6,W30)*INDEX(PrBeat,C30,W30)+INDEX(InGame6,X30)*INDEX(PrBeat,C30,X30)+INDEX(InGame6,Y30)*INDEX(PrBeat,C30,Y30)+INDEX(InGame6,Z30)*INDEX(PrBeat,C30,Z30)+INDEX(InGame6,AA30)*INDEX(PrBeat,C30,AA30)+INDEX(InGame6,AB30)*INDEX(PrBeat,C30,AB30)+INDEX(InGame6,AC30)*INDEX(PrBeat,C30,AC30)+INDEX(InGame6,AD30)*INDEX(PrBeat,C30,AD30)+INDEX(InGame6,AE30)*INDEX(PrBeat,C30,AE30)+INDEX(InGame6,AF30)*INDEX(PrBeat,C30,AF30)+INDEX(InGame6,AG30)*INDEX(PrBeat,C30,AG30)+INDEX(InGame6,AH30)*INDEX(PrBeat,C30,AH30)+INDEX(InGame6,AI30)*INDEX(PrBeat,C30,AI30)+INDEX(InGame6,AJ30)*INDEX(PrBeat,C30,AJ30)+INDEX(InGame6,AK30)*INDEX(PrBeat,C30,AK30)+INDEX(InGame6,AL30)*INDEX(PrBeat,C30,AL30)+INDEX(InGame6,AM30)*INDEX(PrBeat,C30,AM30)+INDEX(InGame6,AN30)*INDEX(PrBeat,C30,AN30)+INDEX(InGame6,AO30)*INDEX(PrBeat,C30,AO30)+INDEX(InGame6,AP30)*INDEX(PrBeat,C30,AP30)+INDEX(InGame6,AQ30)*INDEX(PrBeat,C30,AQ30)+INDEX(InGame6,AR30)*INDEX(PrBeat,C30,AR30)+INDEX(InGame6,AS30)*INDEX(PrBeat,C30,AS30)+INDEX(InGame6,AT30)*INDEX(PrBeat,C30,AT30)+INDEX(InGame6,AU30)*INDEX(PrBeat,C30,AU30)+INDEX(InGame6,AV30)*INDEX(PrBeat,C30,AV30)+INDEX(InGame6,AW30)*INDEX(PrBeat,C30,AW30)+INDEX(InGame6,AX30)*INDEX(PrBeat,C30,AX30)+INDEX(InGame6,AY30)*INDEX(PrBeat,C30,AY30)+INDEX(InGame6,AZ30)*INDEX(PrBeat,C30,AZ30)+INDEX(InGame6,BA30)*INDEX(PrBeat,C30,BA30)+INDEX(InGame6,BB30)*INDEX(PrBeat,C30,BB30)+INDEX(InGame6,BC30)*INDEX(PrBeat,C30,BC30)+INDEX(InGame6,BD30)*INDEX(PrBeat,C30,BD30))","v":2.6947278705184304E-3}]
[null,"Kansas St",29,{"$f":"East!AA14","v":8.0283325472585709E-2},1,2,3,4,5,6,7,8,9,10,11,12,13,14,15,16,17,{"$f":"INDEX(InGame5,C31)*(INDEX(InGame5,E31)*INDEX(PrBeat,C31,E31)+INDEX(InGame5,F31)*INDEX(PrBeat,C31,F31)+INDEX(InGame5,G31)*INDEX(PrBeat,C31,G31)+INDEX(InGame5,H31)*INDEX(PrBeat,C31,H31)+INDEX(InGame5,I31)*INDEX(PrBeat,C31,I31)+INDEX(InGame5,J31)*INDEX(PrBeat,C31,J31)+INDEX(InGame5,K31)*INDEX(PrBeat,C31,K31)+INDEX(InGame5,L31)*INDEX(PrBeat,C31,L31)+INDEX(InGame5,M31)*INDEX(PrBeat,C31,M31)+INDEX(InGame5,N31)*INDEX(PrBeat,C31,N31)+INDEX(InGame5,O31)*INDEX(PrBeat,C31,O31)+INDEX(InGame5,P31)*INDEX(PrBeat,C31,P31)+INDEX(InGame5,Q31)*INDEX(PrBeat,C31,Q31)+INDEX(InGame5,R31)*INDEX(PrBeat,C31,R31)+INDEX(InGame5,S31)*INDEX(PrBeat,C31,S31)+INDEX(InGame5,T31)*INDEX(PrBeat,C31,T31)+INDEX(InGame5,U31)*INDEX(PrBeat,C31,U31))","v":2.7027727235359966E-2},35,36,37,38,39,40,41,42,43,44,45,46,47,48,49,50,51,52,53,54,55,56,57,58,59,60,61,62,63,64,65,66,67,68,{"$f":"INDEX(InGame6,C31)*(INDEX(InGame6,W31)*INDEX(PrBeat,C31,W31)+INDEX(InGame6,X31)*INDEX(PrBeat,C31,X31)+INDEX(InGame6,Y31)*INDEX(PrBeat,C31,Y31)+INDEX(InGame6,Z31)*INDEX(PrBeat,C31,Z31)+INDEX(InGame6,AA31)*INDEX(PrBeat,C31,AA31)+INDEX(InGame6,AB31)*INDEX(PrBeat,C31,AB31)+INDEX(InGame6,AC31)*INDEX(PrBeat,C31,AC31)+INDEX(InGame6,AD31)*INDEX(PrBeat,C31,AD31)+INDEX(InGame6,AE31)*INDEX(PrBeat,C31,AE31)+INDEX(InGame6,AF31)*INDEX(PrBeat,C31,AF31)+INDEX(InGame6,AG31)*INDEX(PrBeat,C31,AG31)+INDEX(InGame6,AH31)*INDEX(PrBeat,C31,AH31)+INDEX(InGame6,AI31)*INDEX(PrBeat,C31,AI31)+INDEX(InGame6,AJ31)*INDEX(PrBeat,C31,AJ31)+INDEX(InGame6,AK31)*INDEX(PrBeat,C31,AK31)+INDEX(InGame6,AL31)*INDEX(PrBeat,C31,AL31)+INDEX(InGame6,AM31)*INDEX(PrBeat,C31,AM31)+INDEX(InGame6,AN31)*INDEX(PrBeat,C31,AN31)+INDEX(InGame6,AO31)*INDEX(PrBeat,C31,AO31)+INDEX(InGame6,AP31)*INDEX(PrBeat,C31,AP31)+INDEX(InGame6,AQ31)*INDEX(PrBeat,C31,AQ31)+INDEX(InGame6,AR31)*INDEX(PrBeat,C31,AR31)+INDEX(InGame6,AS31)*INDEX(PrBeat,C31,AS31)+INDEX(InGame6,AT31)*INDEX(PrBeat,C31,AT31)+INDEX(InGame6,AU31)*INDEX(PrBeat,C31,AU31)+INDEX(InGame6,AV31)*INDEX(PrBeat,C31,AV31)+INDEX(InGame6,AW31)*INDEX(PrBeat,C31,AW31)+INDEX(InGame6,AX31)*INDEX(PrBeat,C31,AX31)+INDEX(InGame6,AY31)*INDEX(PrBeat,C31,AY31)+INDEX(InGame6,AZ31)*INDEX(PrBeat,C31,AZ31)+INDEX(InGame6,BA31)*INDEX(PrBeat,C31,BA31)+INDEX(InGame6,BB31)*INDEX(PrBeat,C31,BB31)+INDEX(InGame6,BC31)*INDEX(PrBeat,C31,BC31)+INDEX(InGame6,BD31)*INDEX(PrBeat,C31,BD31))","v":8.8671500062075317E-3}]
[null,"Montana St",30,{"$f":"East!AA15","v":2.7244270955602848E-4},1,2,3,4,5,6,7,8,9,10,11,12,13,14,15,16,17,{"$f":"INDEX(InGame5,C32)*(INDEX(InGame5,E32)*INDEX(PrBeat,C32,E32)+INDEX(InGame5,F32)*INDEX(PrBeat,C32,F32)+INDEX(InGame5,G32)*INDEX(PrBeat,C32,G32)+INDEX(InGame5,H32)*INDEX(PrBeat,C32,H32)+INDEX(InGame5,I32)*INDEX(PrBeat,C32,I32)+INDEX(InGame5,J32)*INDEX(PrBeat,C32,J32)+INDEX(InGame5,K32)*INDEX(PrBeat,C32,K32)+INDEX(InGame5,L32)*INDEX(PrBeat,C32,L32)+INDEX(InGame5,M32)*INDEX(PrBeat,C32,M32)+INDEX(InGame5,N32)*INDEX(PrBeat,C32,N32)+INDEX(InGame5,O32)*INDEX(PrBeat,C32,O32)+INDEX(InGame5,P32)*INDEX(PrBeat,C32,P32)+INDEX(InGame5,Q32)*INDEX(PrBeat,C32,Q32)+INDEX(InGame5,R32)*INDEX(PrBeat,C32,R32)+INDEX(InGame5,S32)*INDEX(PrBeat,C32,S32)+INDEX(InGame5,T32)*INDEX(PrBeat,C32,T32)+INDEX(InGame5,U32)*INDEX(PrBeat,C32,U32))","v":2.0951586059670188E-5},35,36,37,38,39,40,41,42,43,44,45,46,47,48,49,50,51,52,53,54,55,56,57,58,59,60,61,62,63,64,65,66,67,68,{"$f":"INDEX(InGame6,C32)*(INDEX(InGame6,W32)*INDEX(PrBeat,C32,W32)+INDEX(InGame6,X32)*INDEX(PrBeat,C32,X32)+INDEX(InGame6,Y32)*INDEX(PrBeat,C32,Y32)+INDEX(InGame6,Z32)*INDEX(PrBeat,C32,Z32)+INDEX(InGame6,AA32)*INDEX(PrBeat,C32,AA32)+INDEX(InGame6,AB32)*INDEX(PrBeat,C32,AB32)+INDEX(InGame6,AC32)*INDEX(PrBeat,C32,AC32)+INDEX(InGame6,AD32)*INDEX(PrBeat,C32,AD32)+INDEX(InGame6,AE32)*INDEX(PrBeat,C32,AE32)+INDEX(InGame6,AF32)*INDEX(PrBeat,C32,AF32)+INDEX(InGame6,AG32)*INDEX(PrBeat,C32,AG32)+INDEX(InGame6,AH32)*INDEX(PrBeat,C32,AH32)+INDEX(InGame6,AI32)*INDEX(PrBeat,C32,AI32)+INDEX(InGame6,AJ32)*INDEX(PrBeat,C32,AJ32)+INDEX(InGame6,AK32)*INDEX(PrBeat,C32,AK32)+INDEX(InGame6,AL32)*INDEX(PrBeat,C32,AL32)+INDEX(InGame6,AM32)*INDEX(PrBeat,C32,AM32)+INDEX(InGame6,AN32)*INDEX(PrBeat,C32,AN32)+INDEX(InGame6,AO32)*INDEX(PrBeat,C32,AO32)+INDEX(InGame6,AP32)*INDEX(PrBeat,C32,AP32)+INDEX(InGame6,AQ32)*INDEX(PrBeat,C32,AQ32)+INDEX(InGame6,AR32)*INDEX(PrBeat,C32,AR32)+INDEX(InGame6,AS32)*INDEX(PrBeat,C32,AS32)+INDEX(InGame6,AT32)*INDEX(PrBeat,C32,AT32)+INDEX(InGame6,AU32)*INDEX(PrBeat,C32,AU32)+INDEX(InGame6,AV32)*INDEX(PrBeat,C32,AV32)+INDEX(InGame6,AW32)*INDEX(PrBeat,C32,AW32)+INDEX(InGame6,AX32)*INDEX(PrBeat,C32,AX32)+INDEX(InGame6,AY32)*INDEX(PrBeat,C32,AY32)+INDEX(InGame6,AZ32)*INDEX(PrBeat,C32,AZ32)+INDEX(InGame6,BA32)*INDEX(PrBeat,C32,BA32)+INDEX(InGame6,BB32)*INDEX(PrBeat,C32,BB32)+INDEX(InGame6,BC32)*INDEX(PrBeat,C32,BC32)+INDEX(InGame6,BD32)*INDEX(PrBeat,C32,BD32))","v":1.4652650214985367E-6}]
[null,"Michigan St",31,{"$f":"East!AA16","v":4.4425788925551497E-2},1,2,3,4,5,6,7,8,9,10,11,12,13,14,15,16,17,{"$f":"INDEX(InGame5,C33)*(INDEX(InGame5,E33)*INDEX(PrBeat,C33,E33)+INDEX(InGame5,F33)*INDEX(PrBeat,C33,F33)+INDEX(InGame5,G33)*INDEX(PrBeat,C33,G33)+INDEX(InGame5,H33)*INDEX(PrBeat,C33,H33)+INDEX(InGame5,I33)*INDEX(PrBeat,C33,I33)+INDEX(InGame5,J33)*INDEX(PrBeat,C33,J33)+INDEX(InGame5,K33)*INDEX(PrBeat,C33,K33)+INDEX(InGame5,L33)*INDEX(PrBeat,C33,L33)+INDEX(InGame5,M33)*INDEX(PrBeat,C33,M33)+INDEX(InGame5,N33)*INDEX(PrBeat,C33,N33)+INDEX(InGame5,O33)*INDEX(PrBeat,C33,O33)+INDEX(InGame5,P33)*INDEX(PrBeat,C33,P33)+INDEX(InGame5,Q33)*INDEX(PrBeat,C33,Q33)+INDEX(InGame5,R33)*INDEX(PrBeat,C33,R33)+INDEX(InGame5,S33)*INDEX(PrBeat,C33,S33)+INDEX(InGame5,T33)*INDEX(PrBeat,C33,T33)+INDEX(InGame5,U33)*INDEX(PrBeat,C33,U33))","v":1.4331118964146398E-2},35,36,37,38,39,40,41,42,43,44,45,46,47,48,49,50,51,52,53,54,55,56,57,58,59,60,61,62,63,64,65,66,67,68,{"$f":"INDEX(InGame6,C33)*(INDEX(InGame6,W33)*INDEX(PrBeat,C33,W33)+INDEX(InGame6,X33)*INDEX(PrBeat,C33,X33)+INDEX(InGame6,Y33)*INDEX(PrBeat,C33,Y33)+INDEX(InGame6,Z33)*INDEX(PrBeat,C33,Z33)+INDEX(InGame6,AA33)*INDEX(PrBeat,C33,AA33)+INDEX(InGame6,AB33)*INDEX(PrBeat,C33,AB33)+INDEX(InGame6,AC33)*INDEX(PrBeat,C33,AC33)+INDEX(InGame6,AD33)*INDEX(PrBeat,C33,AD33)+INDEX(InGame6,AE33)*INDEX(PrBeat,C33,AE33)+INDEX(InGame6,AF33)*INDEX(PrBeat,C33,AF33)+INDEX(InGame6,AG33)*INDEX(PrBeat,C33,AG33)+INDEX(InGame6,AH33)*INDEX(PrBeat,C33,AH33)+INDEX(InGame6,AI33)*INDEX(PrBeat,C33,AI33)+INDEX(InGame6,AJ33)*INDEX(PrBeat,C33,AJ33)+INDEX(InGame6,AK33)*INDEX(PrBeat,C33,AK33)+INDEX(InGame6,AL33)*INDEX(PrBeat,C33,AL33)+INDEX(InGame6,AM33)*INDEX(PrBeat,C33,AM33)+INDEX(InGame6,AN33)*INDEX(PrBeat,C33,AN33)+INDEX(InGame6,AO33)*INDEX(PrBeat,C33,AO33)+INDEX(InGame6,AP33)*INDEX(PrBeat,C33,AP33)+INDEX(InGame6,AQ33)*INDEX(PrBeat,C33,AQ33)+INDEX(InGame6,AR33)*INDEX(PrBeat,C33,AR33)+INDEX(InGame6,AS33)*INDEX(PrBeat,C33,AS33)+INDEX(InGame6,AT33)*INDEX(PrBeat,C33,AT33)+INDEX(InGame6,AU33)*INDEX(PrBeat,C33,AU33)+INDEX(InGame6,AV33)*INDEX(PrBeat,C33,AV33)+INDEX(InGame6,AW33)*INDEX(PrBeat,C33,AW33)+INDEX(InGame6,AX33)*INDEX(PrBeat,C33,AX33)+INDEX(InGame6,AY33)*INDEX(PrBeat,C33,AY33)+INDEX(InGame6,AZ33)*INDEX(PrBeat,C33,AZ33)+INDEX(InGame6,BA33)*INDEX(PrBeat,C33,BA33)+INDEX(InGame6,BB33)*INDEX(PrBeat,C33,BB33)+INDEX(InGame6,BC33)*INDEX(PrBeat,C33,BC33)+INDEX(InGame6,BD33)*INDEX(PrBeat,C33,BD33))","v":4.4968468946440096E-3}]
[null,"USC",32,{"$f":"East!AA17","v":3.1387979350838903E-2},1,2,3,4,5,6,7,8,9,10,11,12,13,14,15,16,17,{"$f":"INDEX(InGame5,C34)*(INDEX(InGame5,E34)*INDEX(PrBeat,C34,E34)+INDEX(InGame5,F34)*INDEX(PrBeat,C34,F34)+INDEX(InGame5,G34)*INDEX(PrBeat,C34,G34)+INDEX(InGame5,H34)*INDEX(PrBeat,C34,H34)+INDEX(InGame5,I34)*INDEX(PrBeat,C34,I34)+INDEX(InGame5,J34)*INDEX(PrBeat,C34,J34)+INDEX(InGame5,K34)*INDEX(PrBeat,C34,K34)+INDEX(InGame5,L34)*INDEX(PrBeat,C34,L34)+INDEX(InGame5,M34)*INDEX(PrBeat,C34,M34)+INDEX(InGame5,N34)*INDEX(PrBeat,C34,N34)+INDEX(InGame5,O34)*INDEX(PrBeat,C34,O34)+INDEX(InGame5,P34)*INDEX(PrBeat,C34,P34)+INDEX(InGame5,Q34)*INDEX(PrBeat,C34,Q34)+INDEX(InGame5,R34)*INDEX(PrBeat,C34,R34)+INDEX(InGame5,S34)*INDEX(PrBeat,C34,S34)+INDEX(InGame5,T34)*INDEX(PrBeat,C34,T34)+INDEX(InGame5,U34)*INDEX(PrBeat,C34,U34))","v":9.2766612376584869E-3},35,36,37,38,39,40,41,42,43,44,45,46,47,48,49,50,51,52,53,54,55,56,57,58,59,60,61,62,63,64,65,66,67,68,{"$f":"INDEX(InGame6,C34)*(INDEX(InGame6,W34)*INDEX(PrBeat,C34,W34)+INDEX(InGame6,X34)*INDEX(PrBeat,C34,X34)+INDEX(InGame6,Y34)*INDEX(PrBeat,C34,Y34)+INDEX(InGame6,Z34)*INDEX(PrBeat,C34,Z34)+INDEX(InGame6,AA34)*INDEX(PrBeat,C34,AA34)+INDEX(InGame6,AB34)*INDEX(PrBeat,C34,AB34)+INDEX(InGame6,AC34)*INDEX(PrBeat,C34,AC34)+INDEX(InGame6,AD34)*INDEX(PrBeat,C34,AD34)+INDEX(InGame6,AE34)*INDEX(PrBeat,C34,AE34)+INDEX(InGame6,AF34)*INDEX(PrBeat,C34,AF34)+INDEX(InGame6,AG34)*INDEX(PrBeat,C34,AG34)+INDEX(InGame6,AH34)*INDEX(PrBeat,C34,AH34)+INDEX(InGame6,AI34)*INDEX(PrBeat,C34,AI34)+INDEX(InGame6,AJ34)*INDEX(PrBeat,C34,AJ34)+INDEX(InGame6,AK34)*INDEX(PrBeat,C34,AK34)+INDEX(InGame6,AL34)*INDEX(PrBeat,C34,AL34)+INDEX(InGame6,AM34)*INDEX(PrBeat,C34,AM34)+INDEX(InGame6,AN34)*INDEX(PrBeat,C34,AN34)+INDEX(InGame6,AO34)*INDEX(PrBeat,C34,AO34)+INDEX(InGame6,AP34)*INDEX(PrBeat,C34,AP34)+INDEX(InGame6,AQ34)*INDEX(PrBeat,C34,AQ34)+INDEX(InGame6,AR34)*INDEX(PrBeat,C34,AR34)+INDEX(InGame6,AS34)*INDEX(PrBeat,C34,AS34)+INDEX(InGame6,AT34)*INDEX(PrBeat,C34,AT34)+INDEX(InGame6,AU34)*INDEX(PrBeat,C34,AU34)+INDEX(InGame6,AV34)*INDEX(PrBeat,C34,AV34)+INDEX(InGame6,AW34)*INDEX(PrBeat,C34,AW34)+INDEX(InGame6,AX34)*INDEX(PrBeat,C34,AX34)+INDEX(InGame6,AY34)*INDEX(PrBeat,C34,AY34)+INDEX(InGame6,AZ34)*INDEX(PrBeat,C34,AZ34)+INDEX(InGame6,BA34)*INDEX(PrBeat,C34,BA34)+INDEX(InGame6,BB34)*INDEX(PrBeat,C34,BB34)+INDEX(InGame6,BC34)*INDEX(PrBeat,C34,BC34)+INDEX(InGame6,BD34)*INDEX(PrBeat,C34,BD34))","v":2.6565929306671342E-3}]
[null,"Marquette",33,{"$f":"East!AA18","v":0.14848509001452015},1,2,3,4,5,6,7,8,9,10,11,12,13,14,15,16,17,{"$f":"INDEX(InGame5,C35)*(INDEX(InGame5,E35)*INDEX(PrBeat,C35,E35)+INDEX(InGame5,F35)*INDEX(PrBeat,C35,F35)+INDEX(InGame5,G35)*INDEX(PrBeat,C35,G35)+INDEX(InGame5,H35)*INDEX(PrBeat,C35,H35)+INDEX(InGame5,I35)*INDEX(PrBeat,C35,I35)+INDEX(InGame5,J35)*INDEX(PrBeat,C35,J35)+INDEX(InGame5,K35)*INDEX(PrBeat,C35,K35)+INDEX(InGame5,L35)*INDEX(PrBeat,C35,L35)+INDEX(InGame5,M35)*INDEX(PrBeat,C35,M35)+INDEX(InGame5,N35)*INDEX(PrBeat,C35,N35)+INDEX(InGame5,O35)*INDEX(PrBeat,C35,O35)+INDEX(InGame5,P35)*INDEX(PrBeat,C35,P35)+INDEX(InGame5,Q35)*INDEX(PrBeat,C35,Q35)+INDEX(InGame5,R35)*INDEX(PrBeat,C35,R35)+INDEX(InGame5,S35)*INDEX(PrBeat,C35,S35)+INDEX(InGame5,T35)*INDEX(PrBeat,C35,T35)+INDEX(InGame5,U35)*INDEX(PrBeat,C35,U35))","v":6.156067314194226E-2},35,36,37,38,39,40,41,42,43,44,45,46,47,48,49,50,51,52,53,54,55,56,57,58,59,60,61,62,63,64,65,66,67,68,{"$f":"INDEX(InGame6,C35)*(INDEX(InGame6,W35)*INDEX(PrBeat,C35,W35)+INDEX(InGame6,X35)*INDEX(PrBeat,C35,X35)+INDEX(InGame6,Y35)*INDEX(PrBeat,C35,Y35)+INDEX(InGame6,Z35)*INDEX(PrBeat,C35,Z35)+INDEX(InGame6,AA35)*INDEX(PrBeat,C35,AA35)+INDEX(InGame6,AB35)*INDEX(PrBeat,C35,AB35)+INDEX(InGame6,AC35)*INDEX(PrBeat,C35,AC35)+INDEX(InGame6,AD35)*INDEX(PrBeat,C35,AD35)+INDEX(InGame6,AE35)*INDEX(PrBeat,C35,AE35)+INDEX(InGame6,AF35)*INDEX(PrBeat,C35,AF35)+INDEX(InGame6,AG35)*INDEX(PrBeat,C35,AG35)+INDEX(InGame6,AH35)*INDEX(PrBeat,C35,AH35)+INDEX(InGame6,AI35)*INDEX(PrBeat,C35,AI35)+INDEX(InGame6,AJ35)*INDEX(PrBeat,C35,AJ35)+INDEX(InGame6,AK35)*INDEX(PrBeat,C35,AK35)+INDEX(InGame6,AL35)*INDEX(PrBeat,C35,AL35)+INDEX(InGame6,AM35)*INDEX(PrBeat,C35,AM35)+INDEX(InGame6,AN35)*INDEX(PrBeat,C35,AN35)+INDEX(InGame6,AO35)*INDEX(PrBeat,C35,AO35)+INDEX(InGame6,AP35)*INDEX(PrBeat,C35,AP35)+INDEX(InGame6,AQ35)*INDEX(PrBeat,C35,AQ35)+INDEX(InGame6,AR35)*INDEX(PrBeat,C35,AR35)+INDEX(InGame6,AS35)*INDEX(PrBeat,C35,AS35)+INDEX(InGame6,AT35)*INDEX(PrBeat,C35,AT35)+INDEX(InGame6,AU35)*INDEX(PrBeat,C35,AU35)+INDEX(InGame6,AV35)*INDEX(PrBeat,C35,AV35)+INDEX(InGame6,AW35)*INDEX(PrBeat,C35,AW35)+INDEX(InGame6,AX35)*INDEX(PrBeat,C35,AX35)+INDEX(InGame6,AY35)*INDEX(PrBeat,C35,AY35)+INDEX(InGame6,AZ35)*INDEX(PrBeat,C35,AZ35)+INDEX(InGame6,BA35)*INDEX(PrBeat,C35,BA35)+INDEX(InGame6,BB35)*INDEX(PrBeat,C35,BB35)+INDEX(InGame6,BC35)*INDEX(PrBeat,C35,BC35)+INDEX(InGame6,BD35)*INDEX(PrBeat,C35,BD35))","v":2.5091298385778525E-2}]
[null,"Vermont",34,{"$f":"East!AA19","v":8.1319832221636709E-4},1,2,3,4,5,6,7,8,9,10,11,12,13,14,15,16,17,{"$f":"INDEX(InGame5,C36)*(INDEX(InGame5,E36)*INDEX(PrBeat,C36,E36)+INDEX(InGame5,F36)*INDEX(PrBeat,C36,F36)+INDEX(InGame5,G36)*INDEX(PrBeat,C36,G36)+INDEX(InGame5,H36)*INDEX(PrBeat,C36,H36)+INDEX(InGame5,I36)*INDEX(PrBeat,C36,I36)+INDEX(InGame5,J36)*INDEX(PrBeat,C36,J36)+INDEX(InGame5,K36)*INDEX(PrBeat,C36,K36)+INDEX(InGame5,L36)*INDEX(PrBeat,C36,L36)+INDEX(InGame5,M36)*INDEX(PrBeat,C36,M36)+INDEX(InGame5,N36)*INDEX(PrBeat,C36,N36)+INDEX(InGame5,O36)*INDEX(PrBeat,C36,O36)+INDEX(InGame5,P36)*INDEX(PrBeat,C36,P36)+INDEX(InGame5,Q36)*INDEX(PrBeat,C36,Q36)+INDEX(InGame5,R36)*INDEX(PrBeat,C36,R36)+INDEX(InGame5,S36)*INDEX(PrBeat,C36,S36)+INDEX(InGame5,T36)*INDEX(PrBeat,C36,T36)+INDEX(InGame5,U36)*INDEX(PrBeat,C36,U36))","v":8.8097347505753252E-5},35,36,37,38,39,40,41,42,43,44,45,46,47,48,49,50,51,52,53,54,55,56,57,58,59,60,61,62,63,64,65,66,67,68,{"$f":"INDEX(InGame6,C36)*(INDEX(InGame6,W36)*INDEX(PrBeat,C36,W36)+INDEX(InGame6,X36)*INDEX(PrBeat,C36,X36)+INDEX(InGame6,Y36)*INDEX(PrBeat,C36,Y36)+INDEX(InGame6,Z36)*INDEX(PrBeat,C36,Z36)+INDEX(InGame6,AA36)*INDEX(PrBeat,C36,AA36)+INDEX(InGame6,AB36)*INDEX(PrBeat,C36,AB36)+INDEX(InGame6,AC36)*INDEX(PrBeat,C36,AC36)+INDEX(InGame6,AD36)*INDEX(PrBeat,C36,AD36)+INDEX(InGame6,AE36)*INDEX(PrBeat,C36,AE36)+INDEX(InGame6,AF36)*INDEX(PrBeat,C36,AF36)+INDEX(InGame6,AG36)*INDEX(PrBeat,C36,AG36)+INDEX(InGame6,AH36)*INDEX(PrBeat,C36,AH36)+INDEX(InGame6,AI36)*INDEX(PrBeat,C36,AI36)+INDEX(InGame6,AJ36)*INDEX(PrBeat,C36,AJ36)+INDEX(InGame6,AK36)*INDEX(PrBeat,C36,AK36)+INDEX(InGame6,AL36)*INDEX(PrBeat,C36,AL36)+INDEX(InGame6,AM36)*INDEX(PrBeat,C36,AM36)+INDEX(InGame6,AN36)*INDEX(PrBeat,C36,AN36)+INDEX(InGame6,AO36)*INDEX(PrBeat,C36,AO36)+INDEX(InGame6,AP36)*INDEX(PrBeat,C36,AP36)+INDEX(InGame6,AQ36)*INDEX(PrBeat,C36,AQ36)+INDEX(InGame6,AR36)*INDEX(PrBeat,C36,AR36)+INDEX(InGame6,AS36)*INDEX(PrBeat,C36,AS36)+INDEX(InGame6,AT36)*INDEX(PrBeat,C36,AT36)+INDEX(InGame6,AU36)*INDEX(PrBeat,C36,AU36)+INDEX(InGame6,AV36)*INDEX(PrBeat,C36,AV36)+INDEX(InGame6,AW36)*INDEX(PrBeat,C36,AW36)+INDEX(InGame6,AX36)*INDEX(PrBeat,C36,AX36)+INDEX(InGame6,AY36)*INDEX(PrBeat,C36,AY36)+INDEX(InGame6,AZ36)*INDEX(PrBeat,C36,AZ36)+INDEX(InGame6,BA36)*INDEX(PrBeat,C36,BA36)+INDEX(InGame6,BB36)*INDEX(PrBeat,C36,BB36)+INDEX(InGame6,BC36)*INDEX(PrBeat,C36,BC36)+INDEX(InGame6,BD36)*INDEX(PrBeat,C36,BD36))","v":8.8233187148206248E-6}]
[null,"Houston",35,{"$f":"Midwest!AA3","v":0.36863225811068173},52,53,54,55,56,57,58,59,60,61,62,63,64,65,66,67,68,{"$f":"INDEX(InGame5,C37)*(INDEX(InGame5,E37)*INDEX(PrBeat,C37,E37)+INDEX(InGame5,F37)*INDEX(PrBeat,C37,F37)+INDEX(InGame5,G37)*INDEX(PrBeat,C37,G37)+INDEX(InGame5,H37)*INDEX(PrBeat,C37,H37)+INDEX(InGame5,I37)*INDEX(PrBeat,C37,I37)+INDEX(InGame5,J37)*INDEX(PrBeat,C37,J37)+INDEX(InGame5,K37)*INDEX(PrBeat,C37,K37)+INDEX(InGame5,L37)*INDEX(PrBeat,C37,L37)+INDEX(InGame5,M37)*INDEX(PrBeat,C37,M37)+INDEX(InGame5,N37)*INDEX(PrBeat,C37,N37)+INDEX(InGame5,O37)*INDEX(PrBeat,C37,O37)+INDEX(InGame5,P37)*INDEX(PrBeat,C37,P37)+INDEX(InGame5,Q37)*INDEX(PrBeat,C37,Q37)+INDEX(InGame5,R37)*INDEX(PrBeat,C37,R37)+INDEX(InGame5,S37)*INDEX(PrBeat,C37,S37)+INDEX(InGame5,T37)*INDEX(PrBeat,C37,T37)+INDEX(InGame5,U37)*INDEX(PrBeat,C37,U37))","v":0.2150899293370665},1,2,3,4,5,6,7,8,9,10,11,12,13,14,15,16,17,18,19,20,21,22,23,24,25,26,27,28,29,30,31,32,33,34,{"$f":"INDEX(InGame6,C37)*(INDEX(InGame6,W37)*INDEX(PrBeat,C37,W37)+INDEX(InGame6,X37)*INDEX(PrBeat,C37,X37)+INDEX(InGame6,Y37)*INDEX(PrBeat,C37,Y37)+INDEX(InGame6,Z37)*INDEX(PrBeat,C37,Z37)+INDEX(InGame6,AA37)*INDEX(PrBeat,C37,AA37)+INDEX(InGame6,AB37)*INDEX(PrBeat,C37,AB37)+INDEX(InGame6,AC37)*INDEX(PrBeat,C37,AC37)+INDEX(InGame6,AD37)*INDEX(PrBeat,C37,AD37)+INDEX(InGame6,AE37)*INDEX(PrBeat,C37,AE37)+INDEX(InGame6,AF37)*INDEX(PrBeat,C37,AF37)+INDEX(InGame6,AG37)*INDEX(PrBeat,C37,AG37)+INDEX(InGame6,AH37)*INDEX(PrBeat,C37,AH37)+INDEX(InGame6,AI37)*INDEX(PrBeat,C37,AI37)+INDEX(InGame6,AJ37)*INDEX(PrBeat,C37,AJ37)+INDEX(InGame6,AK37)*INDEX(PrBeat,C37,AK37)+INDEX(InGame6,AL37)*INDEX(PrBeat,C37,AL37)+INDEX(InGame6,AM37)*INDEX(PrBeat,C37,AM37)+INDEX(InGame6,AN37)*INDEX(PrBeat,C37,AN37)+INDEX(InGame6,AO37)*INDEX(PrBeat,C37,AO37)+INDEX(InGame6,AP37)*INDEX(PrBeat,C37,AP37)+INDEX(InGame6,AQ37)*INDEX(PrBeat,C37,AQ37)+INDEX(InGame6,AR37)*INDEX(PrBeat,C37,AR37)+INDEX(InGame6,AS37)*INDEX(PrBeat,C37,AS37)+INDEX(InGame6,AT37)*INDEX(PrBeat,C37,AT37)+INDEX(InGame6,AU37)*INDEX(PrBeat,C37,AU37)+INDEX(InGame6,AV37)*INDEX(PrBeat,C37,AV37)+INDEX(InGame6,AW37)*INDEX(PrBeat,C37,AW37)+INDEX(InGame6,AX37)*INDEX(PrBeat,C37,AX37)+INDEX(InGame6,AY37)*INDEX(PrBeat,C37,AY37)+INDEX(InGame6,AZ37)*INDEX(PrBeat,C37,AZ37)+INDEX(InGame6,BA37)*INDEX(PrBeat,C37,BA37)+INDEX(InGame6,BB37)*INDEX(PrBeat,C37,BB37)+INDEX(InGame6,BC37)*INDEX(PrBeat,C37,BC37)+INDEX(InGame6,BD37)*INDEX(PrBeat,C37,BD37))","v":0.12823631691433182}]
[null,"Northern Kentucky",36,{"$f":"Midwest!AA4","v":2.6832837826407176E-5},52,53,54,55,56,57,58,59,60,61,62,63,64,65,66,67,68,{"$f":"INDEX(InGame5,C38)*(INDEX(InGame5,E38)*INDEX(PrBeat,C38,E38)+INDEX(InGame5,F38)*INDEX(PrBeat,C38,F38)+INDEX(InGame5,G38)*INDEX(PrBeat,C38,G38)+INDEX(InGame5,H38)*INDEX(PrBeat,C38,H38)+INDEX(InGame5,I38)*INDEX(PrBeat,C38,I38)+INDEX(InGame5,J38)*INDEX(PrBeat,C38,J38)+INDEX(InGame5,K38)*INDEX(PrBeat,C38,K38)+INDEX(InGame5,L38)*INDEX(PrBeat,C38,L38)+INDEX(InGame5,M38)*INDEX(PrBeat,C38,M38)+INDEX(InGame5,N38)*INDEX(PrBeat,C38,N38)+INDEX(InGame5,O38)*INDEX(PrBeat,C38,O38)+INDEX(InGame5,P38)*INDEX(PrBeat,C38,P38)+INDEX(InGame5,Q38)*INDEX(PrBeat,C38,Q38)+INDEX(InGame5,R38)*INDEX(PrBeat,C38,R38)+INDEX(InGame5,S38)*INDEX(PrBeat,C38,S38)+INDEX(InGame5,T38)*INDEX(PrBeat,C38,T38)+INDEX(InGame5,U38)*INDEX(PrBeat,C38,U38))","v":1.2843394752370541E-6},1,2,3,4,5,6,7,8,9,10,11,12,13,14,15,16,17,18,19,20,21,22,23,24,25,26,27,28,29,30,31,32,33,34,{"$f":"INDEX(InGame6,C38)*(INDEX(InGame6,W38)*INDEX(PrBeat,C38,W38)+INDEX(InGame6,X38)*INDEX(PrBeat,C38,X38)+INDEX(InGame6,Y38)*INDEX(PrBeat,C38,Y38)+INDEX(InGame6,Z38)*INDEX(PrBeat,C38,Z38)+INDEX(InGame6,AA38)*INDEX(PrBeat,C38,AA38)+INDEX(InGame6,AB38)*INDEX(PrBeat,C38,AB38)+INDEX(InGame6,AC38)*INDEX(PrBeat,C38,AC38)+INDEX(InGame6,AD38)*INDEX(PrBeat,C38,AD38)+INDEX(InGame6,AE38)*INDEX(PrBeat,C38,AE38)+INDEX(InGame6,AF38)*INDEX(PrBeat,C38,AF38)+INDEX(InGame6,AG38)*INDEX(PrBeat,C38,AG38)+INDEX(InGame6,AH38)*INDEX(PrBeat,C38,AH38)+INDEX(InGame6,AI38)*INDEX(PrBeat,C38,AI38)+INDEX(InGame6,AJ38)*INDEX(PrBeat,C38,AJ38)+INDEX(InGame6,AK38)*INDEX(PrBeat,C38,AK38)+INDEX(InGame6,AL38)*INDEX(PrBeat,C38,AL38)+INDEX(InGame6,AM38)*INDEX(PrBeat,C38,AM38)+INDEX(InGame6,AN38)*INDEX(PrBeat,C38,AN38)+INDEX(InGame6,AO38)*INDEX(PrBeat,C38,AO38)+INDEX(InGame6,AP38)*INDEX(PrBeat,C38,AP38)+INDEX(InGame6,AQ38)*INDEX(PrBeat,C38,AQ38)+INDEX(InGame6,AR38)*INDEX(PrBeat,C38,AR38)+INDEX(InGame6,AS38)*INDEX(PrBeat,C38,AS38)+INDEX(InGame6,AT38)*INDEX(PrBeat,C38,AT38)+INDEX(InGame6,AU38)*INDEX(PrBeat,C38,AU38)+INDEX(InGame6,AV38)*INDEX(PrBeat,C38,AV38)+INDEX(InGame6,AW38)*INDEX(PrBeat,C38,AW38)+INDEX(InGame6,AX38)*INDEX(PrBeat,C38,AX38)+INDEX(InGame6,AY38)*INDEX(PrBeat,C38,AY38)+INDEX(InGame6,AZ38)*INDEX(PrBeat,C38,AZ38)+INDEX(InGame6,BA38)*INDEX(PrBeat,C38,BA38)+INDEX(InGame6,BB38)*INDEX(PrBeat,C38,BB38)+INDEX(InGame6,BC38)*INDEX(PrBeat,C38,BC38)+INDEX(InGame6,BD38)*INDEX(PrBeat,C38,BD38))","v":6.9779282019094011E-8}]
[null,"Iowa",37,{"$f":"Midwest!AA5","v":2.5528879305529436E-2},52,53,54,55,56,57,58,59,60,61,62,63,64,65,66,67,68,{"$f":"INDEX(InGame5,C39)*(INDEX(InGame5,E39)*INDEX(PrBeat,C39,E39)+INDEX(InGame5,F39)*INDEX(PrBeat,C39,F39)+INDEX(InGame5,G39)*INDEX(PrBeat,C39,G39)+INDEX(InGame5,H39)*INDEX(PrBeat,C39,H39)+INDEX(InGame5,I39)*INDEX(PrBeat,C39,I39)+INDEX(InGame5,J39)*INDEX(PrBeat,C39,J39)+INDEX(InGame5,K39)*INDEX(PrBeat,C39,K39)+INDEX(InGame5,L39)*INDEX(PrBeat,C39,L39)+INDEX(InGame5,M39)*INDEX(PrBeat,C39,M39)+INDEX(InGame5,N39)*INDEX(PrBeat,C39,N39)+INDEX(InGame5,O39)*INDEX(PrBeat,C39,O39)+INDEX(InGame5,P39)*INDEX(PrBeat,C39,P39)+INDEX(InGame5,Q39)*INDEX(PrBeat,C39,Q39)+INDEX(InGame5,R39)*INDEX(PrBeat,C39,R39)+INDEX(InGame5,S39)*INDEX(PrBeat,C39,S39)+INDEX(InGame5,T39)*INDEX(PrBeat,C39,T39)+INDEX(InGame5,U39)*INDEX(PrBeat,C39,U39))","v":8.1032806562785949E-3},1,2,3,4,5,6,7,8,9,10,11,12,13,14,15,16,17,18,19,20,21,22,23,24,25,26,27,28,29,30,31,32,33,34,{"$f":"INDEX(InGame6,C39)*(INDEX(InGame6,W39)*INDEX(PrBeat,C39,W39)+INDEX(InGame6,X39)*INDEX(PrBeat,C39,X39)+INDEX(InGame6,Y39)*INDEX(PrBeat,C39,Y39)+INDEX(InGame6,Z39)*INDEX(PrBeat,C39,Z39)+INDEX(InGame6,AA39)*INDEX(PrBeat,C39,AA39)+INDEX(InGame6,AB39)*INDEX(PrBeat,C39,AB39)+INDEX(InGame6,AC39)*INDEX(PrBeat,C39,AC39)+INDEX(InGame6,AD39)*INDEX(PrBeat,C39,AD39)+INDEX(InGame6,AE39)*INDEX(PrBeat,C39,AE39)+INDEX(InGame6,AF39)*INDEX(PrBeat,C39,AF39)+INDEX(InGame6,AG39)*INDEX(PrBeat,C39,AG39)+INDEX(InGame6,AH39)*INDEX(PrBeat,C39,AH39)+INDEX(InGame6,AI39)*INDEX(PrBeat,C39,AI39)+INDEX(InGame6,AJ39)*INDEX(PrBeat,C39,AJ39)+INDEX(InGame6,AK39)*INDEX(PrBeat,C39,AK39)+INDEX(InGame6,AL39)*INDEX(PrBeat,C39,AL39)+INDEX(InGame6,AM39)*INDEX(PrBeat,C39,AM39)+INDEX(InGame6,AN39)*INDEX(PrBeat,C39,AN39)+INDEX(InGame6,AO39)*INDEX(PrBeat,C39,AO39)+INDEX(InGame6,AP39)*INDEX(PrBeat,C39,AP39)+INDEX(InGame6,AQ39)*INDEX(PrBeat,C39,AQ39)+INDEX(InGame6,AR39)*INDEX(PrBeat,C39,AR39)+INDEX(InGame6,AS39)*INDEX(PrBeat,C39,AS39)+INDEX(InGame6,AT39)*INDEX(PrBeat,C39,AT39)+INDEX(InGame6,AU39)*INDEX(PrBeat,C39,AU39)+INDEX(InGame6,AV39)*INDEX(PrBeat,C39,AV39)+INDEX(InGame6,AW39)*INDEX(PrBeat,C39,AW39)+INDEX(InGame6,AX39)*INDEX(PrBeat,C39,AX39)+INDEX(InGame6,AY39)*INDEX(PrBeat,C39,AY39)+INDEX(InGame6,AZ39)*INDEX(PrBeat,C39,AZ39)+INDEX(InGame6,BA39)*INDEX(PrBeat,C39,BA39)+INDEX(InGame6,BB39)*INDEX(PrBeat,C39,BB39)+INDEX(InGame6,BC39)*INDEX(PrBeat,C39,BC39)+INDEX(InGame6,BD39)*INDEX(PrBeat,C39,BD39))","v":2.7054260925785311E-3}]
[null,"Auburn",38,{"$f":"Midwest!AA6","v":3.1446027852789347E-2},52,53,54,55,56,57,58,59,60,61,62,63,64,65,66,67,68,{"$f":"INDEX(InGame5,C40)*(INDEX(InGame5,E40)*INDEX(PrBeat,C40,E40)+INDEX(InGame5,F40)*INDEX(PrBeat,C40,F40)+INDEX(InGame5,G40)*INDEX(PrBeat,C40,G40)+INDEX(InGame5,H40)*INDEX(PrBeat,C40,H40)+INDEX(InGame5,I40)*INDEX(PrBeat,C40,I40)+INDEX(InGame5,J40)*INDEX(PrBeat,C40,J40)+INDEX(InGame5,K40)*INDEX(PrBeat,C40,K40)+INDEX(InGame5,L40)*INDEX(PrBeat,C40,L40)+INDEX(InGame5,M40)*INDEX(PrBeat,C40,M40)+INDEX(InGame5,N40)*INDEX(PrBeat,C40,N40)+INDEX(InGame5,O40)*INDEX(PrBeat,C40,O40)+INDEX(InGame5,P40)*INDEX(PrBeat,C40,P40)+INDEX(InGame5,Q40)*INDEX(PrBeat,C40,Q40)+INDEX(InGame5,R40)*INDEX(PrBeat,C40,R40)+INDEX(InGame5,S40)*INDEX(PrBeat,C40,S40)+INDEX(InGame5,T40)*INDEX(PrBeat,C40,T40)+INDEX(InGame5,U40)*INDEX(PrBeat,C40,U40))","v":1.0502026823631383E-2},1,2,3,4,5,6,7,8,9,10,11,12,13,14,15,16,17,18,19,20,21,22,23,24,25,26,27,28,29,30,31,32,33,34,{"$f":"INDEX(InGame6,C40)*(INDEX(InGame6,W40)*INDEX(PrBeat,C40,W40)+INDEX(InGame6,X40)*INDEX(PrBeat,C40,X40)+INDEX(InGame6,Y40)*INDEX(PrBeat,C40,Y40)+INDEX(InGame6,Z40)*INDEX(PrBeat,C40,Z40)+INDEX(InGame6,AA40)*INDEX(PrBeat,C40,AA40)+INDEX(InGame6,AB40)*INDEX(PrBeat,C40,AB40)+INDEX(InGame6,AC40)*INDEX(PrBeat,C40,AC40)+INDEX(InGame6,AD40)*INDEX(PrBeat,C40,AD40)+INDEX(InGame6,AE40)*INDEX(PrBeat,C40,AE40)+INDEX(InGame6,AF40)*INDEX(PrBeat,C40,AF40)+INDEX(InGame6,AG40)*INDEX(PrBeat,C40,AG40)+INDEX(InGame6,AH40)*INDEX(PrBeat,C40,AH40)+INDEX(InGame6,AI40)*INDEX(PrBeat,C40,AI40)+INDEX(InGame6,AJ40)*INDEX(PrBeat,C40,AJ40)+INDEX(InGame6,AK40)*INDEX(PrBeat,C40,AK40)+INDEX(InGame6,AL40)*INDEX(PrBeat,C40,AL40)+INDEX(InGame6,AM40)*INDEX(PrBeat,C40,AM40)+INDEX(InGame6,AN40)*INDEX(PrBeat,C40,AN40)+INDEX(InGame6,AO40)*INDEX(PrBeat,C40,AO40)+INDEX(InGame6,AP40)*INDEX(PrBeat,C40,AP40)+INDEX(InGame6,AQ40)*INDEX(PrBeat,C40,AQ40)+INDEX(InGame6,AR40)*INDEX(PrBeat,C40,AR40)+INDEX(InGame6,AS40)*INDEX(PrBeat,C40,AS40)+INDEX(InGame6,AT40)*INDEX(PrBeat,C40,AT40)+INDEX(InGame6,AU40)*INDEX(PrBeat,C40,AU40)+INDEX(InGame6,AV40)*INDEX(PrBeat,C40,AV40)+INDEX(InGame6,AW40)*INDEX(PrBeat,C40,AW40)+INDEX(InGame6,AX40)*INDEX(PrBeat,C40,AX40)+INDEX(InGame6,AY40)*INDEX(PrBeat,C40,AY40)+INDEX(InGame6,AZ40)*INDEX(PrBeat,C40,AZ40)+INDEX(InGame6,BA40)*INDEX(PrBeat,C40,BA40)+INDEX(InGame6,BB40)*INDEX(PrBeat,C40,BB40)+INDEX(InGame6,BC40)*INDEX(PrBeat,C40,BC40)+INDEX(InGame6,BD40)*INDEX(PrBeat,C40,BD40))","v":3.6804672349328143E-3}]
[null,"Miami (FL)",39,{"$f":"Midwest!AA7","v":3.0024190981508443E-2},52,53,54,55,56,57,58,59,60,61,62,63,64,65,66,67,68,{"$f":"INDEX(InGame5,C41)*(INDEX(InGame5,E41)*INDEX(PrBeat,C41,E41)+INDEX(InGame5,F41)*INDEX(PrBeat,C41,F41)+INDEX(InGame5,G41)*INDEX(PrBeat,C41,G41)+INDEX(InGame5,H41)*INDEX(PrBeat,C41,H41)+INDEX(InGame5,I41)*INDEX(PrBeat,C41,I41)+INDEX(InGame5,J41)*INDEX(PrBeat,C41,J41)+INDEX(InGame5,K41)*INDEX(PrBeat,C41,K41)+INDEX(InGame5,L41)*INDEX(PrBeat,C41,L41)+INDEX(InGame5,M41)*INDEX(PrBeat,C41,M41)+INDEX(InGame5,N41)*INDEX(PrBeat,C41,N41)+INDEX(InGame5,O41)*INDEX(PrBeat,C41,O41)+INDEX(InGame5,P41)*INDEX(PrBeat,C41,P41)+INDEX(InGame5,Q41)*INDEX(PrBeat,C41,Q41)+INDEX(InGame5,R41)*INDEX(PrBeat,C41,R41)+INDEX(InGame5,S41)*INDEX(PrBeat,C41,S41)+INDEX(InGame5,T41)*INDEX(PrBeat,C41,T41)+INDEX(InGame5,U41)*INDEX(PrBeat,C41,U41))","v":8.8406314145061671E-3},1,2,3,4,5,6,7,8,9,10,11,12,13,14,15,16,17,18,19,20,21,22,23,24,25,26,27,28,29,30,31,32,33,34,{"$f":"INDEX(InGame6,C41)*(INDEX(InGame6,W41)*INDEX(PrBeat,C41,W41)+INDEX(InGame6,X41)*INDEX(PrBeat,C41,X41)+INDEX(InGame6,Y41)*INDEX(PrBeat,C41,Y41)+INDEX(InGame6,Z41)*INDEX(PrBeat,C41,Z41)+INDEX(InGame6,AA41)*INDEX(PrBeat,C41,AA41)+INDEX(InGame6,AB41)*INDEX(PrBeat,C41,AB41)+INDEX(InGame6,AC41)*INDEX(PrBeat,C41,AC41)+INDEX(InGame6,AD41)*INDEX(PrBeat,C41,AD41)+INDEX(InGame6,AE41)*INDEX(PrBeat,C41,AE41)+INDEX(InGame6,AF41)*INDEX(PrBeat,C41,AF41)+INDEX(InGame6,AG41)*INDEX(PrBeat,C41,AG41)+INDEX(InGame6,AH41)*INDEX(PrBeat,C41,AH41)+INDEX(InGame6,AI41)*INDEX(PrBeat,C41,AI41)+INDEX(InGame6,AJ41)*INDEX(PrBeat,C41,AJ41)+INDEX(InGame6,AK41)*INDEX(PrBeat,C41,AK41)+INDEX(InGame6,AL41)*INDEX(PrBeat,C41,AL41)+INDEX(InGame6,AM41)*INDEX(PrBeat,C41,AM41)+INDEX(InGame6,AN41)*INDEX(PrBeat,C41,AN41)+INDEX(InGame6,AO41)*INDEX(PrBeat,C41,AO41)+INDEX(InGame6,AP41)*INDEX(PrBeat,C41,AP41)+INDEX(InGame6,AQ41)*INDEX(PrBeat,C41,AQ41)+INDEX(InGame6,AR41)*INDEX(PrBeat,C41,AR41)+INDEX(InGame6,AS41)*INDEX(PrBeat,C41,AS41)+INDEX(InGame6,AT41)*INDEX(PrBeat,C41,AT41)+INDEX(InGame6,AU41)*INDEX(PrBeat,C41,AU41)+INDEX(InGame6,AV41)*INDEX(PrBeat,C41,AV41)+INDEX(InGame6,AW41)*INDEX(PrBeat,C41,AW41)+INDEX(InGame6,AX41)*INDEX(PrBeat,C41,AX41)+INDEX(InGame6,AY41)*INDEX(PrBeat,C41,AY41)+INDEX(InGame6,AZ41)*INDEX(PrBeat,C41,AZ41)+INDEX(InGame6,BA41)*INDEX(PrBeat,C41,BA41)+INDEX(InGame6,BB41)*INDEX(PrBeat,C41,BB41)+INDEX(InGame6,BC41)*INDEX(PrBeat,C41,BC41)+INDEX(InGame6,BD41)*INDEX(PrBeat,C41,BD41))","v":2.7475190898836499E-3}]
[null,"Drake",40,{"$f":"Midwest!AA8","v":1.0194034089208879E-2},52,53,54,55,56,57,58,59,60,61,62,63,64,65,66,67,68,{"$f":"INDEX(InGame5,C42)*(INDEX(InGame5,E42)*INDEX(PrBeat,C42,E42)+INDEX(InGame5,F42)*INDEX(PrBeat,C42,F42)+INDEX(InGame5,G42)*INDEX(PrBeat,C42,G42)+INDEX(InGame5,H42)*INDEX(PrBeat,C42,H42)+INDEX(InGame5,I42)*INDEX(PrBeat,C42,I42)+INDEX(InGame5,J42)*INDEX(PrBeat,C42,J42)+INDEX(InGame5,K42)*INDEX(PrBeat,C42,K42)+INDEX(InGame5,L42)*INDEX(PrBeat,C42,L42)+INDEX(InGame5,M42)*INDEX(PrBeat,C42,M42)+INDEX(InGame5,N42)*INDEX(PrBeat,C42,N42)+INDEX(InGame5,O42)*INDEX(PrBeat,C42,O42)+INDEX(InGame5,P42)*INDEX(PrBeat,C42,P42)+INDEX(InGame5,Q42)*INDEX(PrBeat,C42,Q42)+INDEX(InGame5,R42)*INDEX(PrBeat,C42,R42)+INDEX(InGame5,S42)*INDEX(PrBeat,C42,S42)+INDEX(InGame5,T42)*INDEX(PrBeat,C42,T42)+INDEX(InGame5,U42)*INDEX(PrBeat,C42,U42))","v":2.2702199539248345E-3},1,2,3,4,5,6,7,8,9,10,11,12,13,14,15,16,17,18,19,20,21,22,23,24,25,26,27,28,29,30,31,32,33,34,{"$f":"INDEX(InGame6,C42)*(INDEX(InGame6,W42)*INDEX(PrBeat,C42,W42)+INDEX(InGame6,X42)*INDEX(PrBeat,C42,X42)+INDEX(InGame6,Y42)*INDEX(PrBeat,C42,Y42)+INDEX(InGame6,Z42)*INDEX(PrBeat,C42,Z42)+INDEX(InGame6,AA42)*INDEX(PrBeat,C42,AA42)+INDEX(InGame6,AB42)*INDEX(PrBeat,C42,AB42)+INDEX(InGame6,AC42)*INDEX(PrBeat,C42,AC42)+INDEX(InGame6,AD42)*INDEX(PrBeat,C42,AD42)+INDEX(InGame6,AE42)*INDEX(PrBeat,C42,AE42)+INDEX(InGame6,AF42)*INDEX(PrBeat,C42,AF42)+INDEX(InGame6,AG42)*INDEX(PrBeat,C42,AG42)+INDEX(InGame6,AH42)*INDEX(PrBeat,C42,AH42)+INDEX(InGame6,AI42)*INDEX(PrBeat,C42,AI42)+INDEX(InGame6,AJ42)*INDEX(PrBeat,C42,AJ42)+INDEX(InGame6,AK42)*INDEX(PrBeat,C42,AK42)+INDEX(InGame6,AL42)*INDEX(PrBeat,C42,AL42)+INDEX(InGame6,AM42)*INDEX(PrBeat,C42,AM42)+INDEX(InGame6,AN42)*INDEX(PrBeat,C42,AN42)+INDEX(InGame6,AO42)*INDEX(PrBeat,C42,AO42)+INDEX(InGame6,AP42)*INDEX(PrBeat,C42,AP42)+INDEX(InGame6,AQ42)*INDEX(PrBeat,C42,AQ42)+INDEX(InGame6,AR42)*INDEX(PrBeat,C42,AR42)+INDEX(InGame6,AS42)*INDEX(PrBeat,C42,AS42)+INDEX(InGame6,AT42)*INDEX(PrBeat,C42,AT42)+INDEX(InGame6,AU42)*INDEX(PrBeat,C42,AU42)+INDEX(InGame6,AV42)*INDEX(PrBeat,C42,AV42)+INDEX(InGame6,AW42)*INDEX(PrBeat,C42,AW42)+INDEX(InGame6,AX42)*INDEX(PrBeat,C42,AX42)+INDEX(InGame6,AY42)*INDEX(PrBeat,C42,AY42)+INDEX(InGame6,AZ42)*INDEX(PrBeat,C42,AZ42)+INDEX(InGame6,BA42)*INDEX(PrBeat,C42,BA42)+INDEX(InGame6,BB42)*INDEX(PrBeat,C42,BB42)+INDEX(InGame6,BC42)*INDEX(PrBeat,C42,BC42)+INDEX(InGame6,BD42)*INDEX(PrBeat,C42,BD42))","v":5.4035977970040506E-4}]
[null,"Indiana",41,{"$f":"Midwest!AA9","v":6.7734391323041945E-2},52,53,54,55,56,57,58,59,60,61,62,63,64,65,66,67,68,{"$f":"INDEX(InGame5,C43)*(INDEX(InGame5,E43)*INDEX(PrBeat,C43,E43)+INDEX(InGame5,F43)*INDEX(PrBeat,C43,F43)+INDEX(InGame5,G43)*INDEX(PrBeat,C43,G43)+INDEX(InGame5,H43)*INDEX(PrBeat,C43,H43)+INDEX(InGame5,I43)*INDEX(PrBeat,C43,I43)+INDEX(InGame5,J43)*INDEX(PrBeat,C43,J43)+INDEX(InGame5,K43)*INDEX(PrBeat,C43,K43)+INDEX(InGame5,L43)*INDEX(PrBeat,C43,L43)+INDEX(InGame5,M43)*INDEX(PrBeat,C43,M43)+INDEX(InGame5,N43)*INDEX(PrBeat,C43,N43)+INDEX(InGame5,O43)*INDEX(PrBeat,C43,O43)+INDEX(InGame5,P43)*INDEX(PrBeat,C43,P43)+INDEX(InGame5,Q43)*INDEX(PrBeat,C43,Q43)+INDEX(InGame5,R43)*INDEX(PrBeat,C43,R43)+INDEX(InGame5,S43)*INDEX(PrBeat,C43,S43)+INDEX(InGame5,T43)*INDEX(PrBeat,C43,T43)+INDEX(InGame5,U43)*INDEX(PrBeat,C43,U43))","v":2.4804864336545124E-2},1,2,3,4,5,6,7,8,9,10,11,12,13,14,15,16,17,18,19,20,21,22,23,24,25,26,27,28,29,30,31,32,33,34,{"$f":"INDEX(InGame6,C43)*(INDEX(InGame6,W43)*INDEX(PrBeat,C43,W43)+INDEX(InGame6,X43)*INDEX(PrBeat,C43,X43)+INDEX(InGame6,Y43)*INDEX(PrBeat,C43,Y43)+INDEX(InGame6,Z43)*INDEX(PrBeat,C43,Z43)+INDEX(InGame6,AA43)*INDEX(PrBeat,C43,AA43)+INDEX(InGame6,AB43)*INDEX(PrBeat,C43,AB43)+INDEX(InGame6,AC43)*INDEX(PrBeat,C43,AC43)+INDEX(InGame6,AD43)*INDEX(PrBeat,C43,AD43)+INDEX(InGame6,AE43)*INDEX(PrBeat,C43,AE43)+INDEX(InGame6,AF43)*INDEX(PrBeat,C43,AF43)+INDEX(InGame6,AG43)*INDEX(PrBeat,C43,AG43)+INDEX(InGame6,AH43)*INDEX(PrBeat,C43,AH43)+INDEX(InGame6,AI43)*INDEX(PrBeat,C43,AI43)+INDEX(InGame6,AJ43)*INDEX(PrBeat,C43,AJ43)+INDEX(InGame6,AK43)*INDEX(PrBeat,C43,AK43)+INDEX(InGame6,AL43)*INDEX(PrBeat,C43,AL43)+INDEX(InGame6,AM43)*INDEX(PrBeat,C43,AM43)+INDEX(InGame6,AN43)*INDEX(PrBeat,C43,AN43)+INDEX(InGame6,AO43)*INDEX(PrBeat,C43,AO43)+INDEX(InGame6,AP43)*INDEX(PrBeat,C43,AP43)+INDEX(InGame6,AQ43)*INDEX(PrBeat,C43,AQ43)+INDEX(InGame6,AR43)*INDEX(PrBeat,C43,AR43)+INDEX(InGame6,AS43)*INDEX(PrBeat,C43,AS43)+INDEX(InGame6,AT43)*INDEX(PrBeat,C43,AT43)+INDEX(InGame6,AU43)*INDEX(PrBeat,C43,AU43)+INDEX(InGame6,AV43)*INDEX(PrBeat,C43,AV43)+INDEX(InGame6,AW43)*INDEX(PrBeat,C43,AW43)+INDEX(InGame6,AX43)*INDEX(PrBeat,C43,AX43)+INDEX(InGame6,AY43)*INDEX(PrBeat,C43,AY43)+INDEX(InGame6,AZ43)*INDEX(PrBeat,C43,AZ43)+INDEX(InGame6,BA43)*INDEX(PrBeat,C43,BA43)+INDEX(InGame6,BB43)*INDEX(PrBeat,C43,BB43)+INDEX(InGame6,BC43)*INDEX(PrBeat,C43,BC43)+INDEX(InGame6,BD43)*INDEX(PrBeat,C43,BD43))","v":9.4911022485619292E-3}]
[null,"Kent St",42,{"$f":"Midwest!AA10","v":6.533652204505927E-3},52,53,54,55,56,57,58,59,60,61,62,63,64,65,66,67,68,{"$f":"INDEX(InGame5,C44)*(INDEX(InGame5,E44)*INDEX(PrBeat,C44,E44)+INDEX(InGame5,F44)*INDEX(PrBeat,C44,F44)+INDEX(InGame5,G44)*INDEX(PrBeat,C44,G44)+INDEX(InGame5,H44)*INDEX(PrBeat,C44,H44)+INDEX(InGame5,I44)*INDEX(PrBeat,C44,I44)+INDEX(InGame5,J44)*INDEX(PrBeat,C44,J44)+INDEX(InGame5,K44)*INDEX(PrBeat,C44,K44)+INDEX(InGame5,L44)*INDEX(PrBeat,C44,L44)+INDEX(InGame5,M44)*INDEX(PrBeat,C44,M44)+INDEX(InGame5,N44)*INDEX(PrBeat,C44,N44)+INDEX(InGame5,O44)*INDEX(PrBeat,C44,O44)+INDEX(InGame5,P44)*INDEX(PrBeat,C44,P44)+INDEX(InGame5,Q44)*INDEX(PrBeat,C44,Q44)+INDEX(InGame5,R44)*INDEX(PrBeat,C44,R44)+INDEX(InGame5,S44)*INDEX(PrBeat,C44,S44)+INDEX(InGame5,T44)*INDEX(PrBeat,C44,T44)+INDEX(InGame5,U44)*INDEX(PrBeat,C44,U44))","v":1.3057921540469612E-3},1,2,3,4,5,6,7,8,9,10,11,12,13,14,15,16,17,18,19,20,21,22,23,24,25,26,27,28,29,30,31,32,33,34,{"$f":"INDEX(InGame6,C44)*(INDEX(InGame6,W44)*INDEX(PrBeat,C44,W44)+INDEX(InGame6,X44)*INDEX(PrBeat,C44,X44)+INDEX(InGame6,Y44)*INDEX(PrBeat,C44,Y44)+INDEX(InGame6,Z44)*INDEX(PrBeat,C44,Z44)+INDEX(InGame6,AA44)*INDEX(PrBeat,C44,AA44)+INDEX(InGame6,AB44)*INDEX(PrBeat,C44,AB44)+INDEX(InGame6,AC44)*INDEX(PrBeat,C44,AC44)+INDEX(InGame6,AD44)*INDEX(PrBeat,C44,AD44)+INDEX(InGame6,AE44)*INDEX(PrBeat,C44,AE44)+INDEX(InGame6,AF44)*INDEX(PrBeat,C44,AF44)+INDEX(InGame6,AG44)*INDEX(PrBeat,C44,AG44)+INDEX(InGame6,AH44)*INDEX(PrBeat,C44,AH44)+INDEX(InGame6,AI44)*INDEX(PrBeat,C44,AI44)+INDEX(InGame6,AJ44)*INDEX(PrBeat,C44,AJ44)+INDEX(InGame6,AK44)*INDEX(PrBeat,C44,AK44)+INDEX(InGame6,AL44)*INDEX(PrBeat,C44,AL44)+INDEX(InGame6,AM44)*INDEX(PrBeat,C44,AM44)+INDEX(InGame6,AN44)*INDEX(PrBeat,C44,AN44)+INDEX(InGame6,AO44)*INDEX(PrBeat,C44,AO44)+INDEX(InGame6,AP44)*INDEX(PrBeat,C44,AP44)+INDEX(InGame6,AQ44)*INDEX(PrBeat,C44,AQ44)+INDEX(InGame6,AR44)*INDEX(PrBeat,C44,AR44)+INDEX(InGame6,AS44)*INDEX(PrBeat,C44,AS44)+INDEX(InGame6,AT44)*INDEX(PrBeat,C44,AT44)+INDEX(InGame6,AU44)*INDEX(PrBeat,C44,AU44)+INDEX(InGame6,AV44)*INDEX(PrBeat,C44,AV44)+INDEX(InGame6,AW44)*INDEX(PrBeat,C44,AW44)+INDEX(InGame6,AX44)*INDEX(PrBeat,C44,AX44)+INDEX(InGame6,AY44)*INDEX(PrBeat,C44,AY44)+INDEX(InGame6,AZ44)*INDEX(PrBeat,C44,AZ44)+INDEX(InGame6,BA44)*INDEX(PrBeat,C44,BA44)+INDEX(InGame6,BB44)*INDEX(PrBeat,C44,BB44)+INDEX(InGame6,BC44)*INDEX(PrBeat,C44,BC44)+INDEX(InGame6,BD44)*INDEX(PrBeat,C44,BD44))","v":2.8024617517031559E-4}]
[null,"Iowa St",43,{"$f":"Midwest!AA11","v":3.2273395913622369E-2},52,53,54,55,56,57,58,59,60,61,62,63,64,65,66,67,68,{"$f":"INDEX(InGame5,C45)*(INDEX(InGame5,E45)*INDEX(PrBeat,C45,E45)+INDEX(InGame5,F45)*INDEX(PrBeat,C45,F45)+INDEX(InGame5,G45)*INDEX(PrBeat,C45,G45)+INDEX(InGame5,H45)*INDEX(PrBeat,C45,H45)+INDEX(InGame5,I45)*INDEX(PrBeat,C45,I45)+INDEX(InGame5,J45)*INDEX(PrBeat,C45,J45)+INDEX(InGame5,K45)*INDEX(PrBeat,C45,K45)+INDEX(InGame5,L45)*INDEX(PrBeat,C45,L45)+INDEX(InGame5,M45)*INDEX(PrBeat,C45,M45)+INDEX(InGame5,N45)*INDEX(PrBeat,C45,N45)+INDEX(InGame5,O45)*INDEX(PrBeat,C45,O45)+INDEX(InGame5,P45)*INDEX(PrBeat,C45,P45)+INDEX(InGame5,Q45)*INDEX(PrBeat,C45,Q45)+INDEX(InGame5,R45)*INDEX(PrBeat,C45,R45)+INDEX(InGame5,S45)*INDEX(PrBeat,C45,S45)+INDEX(InGame5,T45)*INDEX(PrBeat,C45,T45)+INDEX(InGame5,U45)*INDEX(PrBeat,C45,U45))","v":9.7655317564985383E-3},1,2,3,4,5,6,7,8,9,10,11,12,13,14,15,16,17,18,19,20,21,22,23,24,25,26,27,28,29,30,31,32,33,34,{"$f":"INDEX(InGame6,C45)*(INDEX(InGame6,W45)*INDEX(PrBeat,C45,W45)+INDEX(InGame6,X45)*INDEX(PrBeat,C45,X45)+INDEX(InGame6,Y45)*INDEX(PrBeat,C45,Y45)+INDEX(InGame6,Z45)*INDEX(PrBeat,C45,Z45)+INDEX(InGame6,AA45)*INDEX(PrBeat,C45,AA45)+INDEX(InGame6,AB45)*INDEX(PrBeat,C45,AB45)+INDEX(InGame6,AC45)*INDEX(PrBeat,C45,AC45)+INDEX(InGame6,AD45)*INDEX(PrBeat,C45,AD45)+INDEX(InGame6,AE45)*INDEX(PrBeat,C45,AE45)+INDEX(InGame6,AF45)*INDEX(PrBeat,C45,AF45)+INDEX(InGame6,AG45)*INDEX(PrBeat,C45,AG45)+INDEX(InGame6,AH45)*INDEX(PrBeat,C45,AH45)+INDEX(InGame6,AI45)*INDEX(PrBeat,C45,AI45)+INDEX(InGame6,AJ45)*INDEX(PrBeat,C45,AJ45)+INDEX(InGame6,AK45)*INDEX(PrBeat,C45,AK45)+INDEX(InGame6,AL45)*INDEX(PrBeat,C45,AL45)+INDEX(InGame6,AM45)*INDEX(PrBeat,C45,AM45)+INDEX(InGame6,AN45)*INDEX(PrBeat,C45,AN45)+INDEX(InGame6,AO45)*INDEX(PrBeat,C45,AO45)+INDEX(InGame6,AP45)*INDEX(PrBeat,C45,AP45)+INDEX(InGame6,AQ45)*INDEX(PrBeat,C45,AQ45)+INDEX(InGame6,AR45)*INDEX(PrBeat,C45,AR45)+INDEX(InGame6,AS45)*INDEX(PrBeat,C45,AS45)+INDEX(InGame6,AT45)*INDEX(PrBeat,C45,AT45)+INDEX(InGame6,AU45)*INDEX(PrBeat,C45,AU45)+INDEX(InGame6,AV45)*INDEX(PrBeat,C45,AV45)+INDEX(InGame6,AW45)*INDEX(PrBeat,C45,AW45)+INDEX(InGame6,AX45)*INDEX(PrBeat,C45,AX45)+INDEX(InGame6,AY45)*INDEX(PrBeat,C45,AY45)+INDEX(InGame6,AZ45)*INDEX(PrBeat,C45,AZ45)+INDEX(InGame6,BA45)*INDEX(PrBeat,C45,BA45)+INDEX(InGame6,BB45)*INDEX(PrBeat,C45,BB45)+INDEX(InGame6,BC45)*INDEX(PrBeat,C45,BC45)+INDEX(InGame6,BD45)*INDEX(PrBeat,C45,BD45))","v":3.1149411524792892E-3}]
[null,"Mississippi St",44,{"$f":"Midwest!AA12","v":6.122795659481664E-3},52,53,54,55,56,57,58,59,60,61,62,63,64,65,66,67,68,{"$f":"INDEX(InGame5,C46)*(INDEX(InGame5,E46)*INDEX(PrBeat,C46,E46)+INDEX(InGame5,F46)*INDEX(PrBeat,C46,F46)+INDEX(InGame5,G46)*INDEX(PrBeat,C46,G46)+INDEX(InGame5,H46)*INDEX(PrBeat,C46,H46)+INDEX(InGame5,I46)*INDEX(PrBeat,C46,I46)+INDEX(InGame5,J46)*INDEX(PrBeat,C46,J46)+INDEX(InGame5,K46)*INDEX(PrBeat,C46,K46)+INDEX(InGame5,L46)*INDEX(PrBeat,C46,L46)+INDEX(InGame5,M46)*INDEX(PrBeat,C46,M46)+INDEX(InGame5,N46)*INDEX(PrBeat,C46,N46)+INDEX(InGame5,O46)*INDEX(PrBeat,C46,O46)+INDEX(InGame5,P46)*INDEX(PrBeat,C46,P46)+INDEX(InGame5,Q46)*INDEX(PrBeat,C46,Q46)+INDEX(InGame5,R46)*INDEX(PrBeat,C46,R46)+INDEX(InGame5,S46)*INDEX(PrBeat,C46,S46)+INDEX(InGame5,T46)*INDEX(PrBeat,C46,T46)+INDEX(InGame5,U46)*INDEX(PrBeat,C46,U46))","v":1.4285543699684262E-3},1,2,3,4,5,6,7,8,9,10,11,12,13,14,15,16,17,18,19,20,21,22,23,24,25,26,27,28,29,30,31,32,33,34,{"$f":"INDEX(InGame6,C46)*(INDEX(InGame6,W46)*INDEX(PrBeat,C46,W46)+INDEX(InGame6,X46)*INDEX(PrBeat,C46,X46)+INDEX(InGame6,Y46)*INDEX(PrBeat,C46,Y46)+INDEX(InGame6,Z46)*INDEX(PrBeat,C46,Z46)+INDEX(InGame6,AA46)*INDEX(PrBeat,C46,AA46)+INDEX(InGame6,AB46)*INDEX(PrBeat,C46,AB46)+INDEX(InGame6,AC46)*INDEX(PrBeat,C46,AC46)+INDEX(InGame6,AD46)*INDEX(PrBeat,C46,AD46)+INDEX(InGame6,AE46)*INDEX(PrBeat,C46,AE46)+INDEX(InGame6,AF46)*INDEX(PrBeat,C46,AF46)+INDEX(InGame6,AG46)*INDEX(PrBeat,C46,AG46)+INDEX(InGame6,AH46)*INDEX(PrBeat,C46,AH46)+INDEX(InGame6,AI46)*INDEX(PrBeat,C46,AI46)+INDEX(InGame6,AJ46)*INDEX(PrBeat,C46,AJ46)+INDEX(InGame6,AK46)*INDEX(PrBeat,C46,AK46)+INDEX(InGame6,AL46)*INDEX(PrBeat,C46,AL46)+INDEX(InGame6,AM46)*INDEX(PrBeat,C46,AM46)+INDEX(InGame6,AN46)*INDEX(PrBeat,C46,AN46)+INDEX(InGame6,AO46)*INDEX(PrBeat,C46,AO46)+INDEX(InGame6,AP46)*INDEX(PrBeat,C46,AP46)+INDEX(InGame6,AQ46)*INDEX(PrBeat,C46,AQ46)+INDEX(InGame6,AR46)*INDEX(PrBeat,C46,AR46)+INDEX(InGame6,AS46)*INDEX(PrBeat,C46,AS46)+INDEX(InGame6,AT46)*INDEX(PrBeat,C46,AT46)+INDEX(InGame6,AU46)*INDEX(PrBeat,C46,AU46)+INDEX(InGame6,AV46)*INDEX(PrBeat,C46,AV46)+INDEX(InGame6,AW46)*INDEX(PrBeat,C46,AW46)+INDEX(InGame6,AX46)*INDEX(PrBeat,C46,AX46)+INDEX(InGame6,AY46)*INDEX(PrBeat,C46,AY46)+INDEX(InGame6,AZ46)*INDEX(PrBeat,C46,AZ46)+INDEX(InGame6,BA46)*INDEX(PrBeat,C46,BA46)+INDEX(InGame6,BB46)*INDEX(PrBeat,C46,BB46)+INDEX(InGame6,BC46)*INDEX(PrBeat,C46,BC46)+INDEX(InGame6,BD46)*INDEX(PrBeat,C46,BD46))","v":3.5550289807160992E-4}]
[null,"Pittsburgh",45,{"$f":"Midwest!AA13","v":4.0114346559407092E-3},52,53,54,55,56,57,58,59,60,61,62,63,64,65,66,67,68,{"$f":"INDEX(InGame5,C47)*(INDEX(InGame5,E47)*INDEX(PrBeat,C47,E47)+INDEX(InGame5,F47)*INDEX(PrBeat,C47,F47)+INDEX(InGame5,G47)*INDEX(PrBeat,C47,G47)+INDEX(InGame5,H47)*INDEX(PrBeat,C47,H47)+INDEX(InGame5,I47)*INDEX(PrBeat,C47,I47)+INDEX(InGame5,J47)*INDEX(PrBeat,C47,J47)+INDEX(InGame5,K47)*INDEX(PrBeat,C47,K47)+INDEX(InGame5,L47)*INDEX(PrBeat,C47,L47)+INDEX(InGame5,M47)*INDEX(PrBeat,C47,M47)+INDEX(InGame5,N47)*INDEX(PrBeat,C47,N47)+INDEX(InGame5,O47)*INDEX(PrBeat,C47,O47)+INDEX(InGame5,P47)*INDEX(PrBeat,C47,P47)+INDEX(InGame5,Q47)*INDEX(PrBeat,C47,Q47)+INDEX(InGame5,R47)*INDEX(PrBeat,C47,R47)+INDEX(InGame5,S47)*INDEX(PrBeat,C47,S47)+INDEX(InGame5,T47)*INDEX(PrBeat,C47,T47)+INDEX(InGame5,U47)*INDEX(PrBeat,C47,U47))","v":8.518985019793006E-4},1,2,3,4,5,6,7,8,9,10,11,12,13,14,15,16,17,18,19,20,21,22,23,24,25,26,27,28,29,30,31,32,33,34,{"$f":"INDEX(InGame6,C47)*(INDEX(InGame6,W47)*INDEX(PrBeat,C47,W47)+INDEX(InGame6,X47)*INDEX(PrBeat,C47,X47)+INDEX(InGame6,Y47)*INDEX(PrBeat,C47,Y47)+INDEX(InGame6,Z47)*INDEX(PrBeat,C47,Z47)+INDEX(InGame6,AA47)*INDEX(PrBeat,C47,AA47)+INDEX(InGame6,AB47)*INDEX(PrBeat,C47,AB47)+INDEX(InGame6,AC47)*INDEX(PrBeat,C47,AC47)+INDEX(InGame6,AD47)*INDEX(PrBeat,C47,AD47)+INDEX(InGame6,AE47)*INDEX(PrBeat,C47,AE47)+INDEX(InGame6,AF47)*INDEX(PrBeat,C47,AF47)+INDEX(InGame6,AG47)*INDEX(PrBeat,C47,AG47)+INDEX(InGame6,AH47)*INDEX(PrBeat,C47,AH47)+INDEX(InGame6,AI47)*INDEX(PrBeat,C47,AI47)+INDEX(InGame6,AJ47)*INDEX(PrBeat,C47,AJ47)+INDEX(InGame6,AK47)*INDEX(PrBeat,C47,AK47)+INDEX(InGame6,AL47)*INDEX(PrBeat,C47,AL47)+INDEX(InGame6,AM47)*INDEX(PrBeat,C47,AM47)+INDEX(InGame6,AN47)*INDEX(PrBeat,C47,AN47)+INDEX(InGame6,AO47)*INDEX(PrBeat,C47,AO47)+INDEX(InGame6,AP47)*INDEX(PrBeat,C47,AP47)+INDEX(InGame6,AQ47)*INDEX(PrBeat,C47,AQ47)+INDEX(InGame6,AR47)*INDEX(PrBeat,C47,AR47)+INDEX(InGame6,AS47)*INDEX(PrBeat,C47,AS47)+INDEX(InGame6,AT47)*INDEX(PrBeat,C47,AT47)+INDEX(InGame6,AU47)*INDEX(PrBeat,C47,AU47)+INDEX(InGame6,AV47)*INDEX(PrBeat,C47,AV47)+INDEX(InGame6,AW47)*INDEX(PrBeat,C47,AW47)+INDEX(InGame6,AX47)*INDEX(PrBeat,C47,AX47)+INDEX(InGame6,AY47)*INDEX(PrBeat,C47,AY47)+INDEX(InGame6,AZ47)*INDEX(PrBeat,C47,AZ47)+INDEX(InGame6,BA47)*INDEX(PrBeat,C47,BA47)+INDEX(InGame6,BB47)*INDEX(PrBeat,C47,BB47)+INDEX(InGame6,BC47)*INDEX(PrBeat,C47,BC47)+INDEX(InGame6,BD47)*INDEX(PrBeat,C47,BD47))","v":1.9376485669408074E-4}]
[null,"Xavier",46,{"$f":"Midwest!AA14","v":9.845341441487164E-2},52,53,54,55,56,57,58,59,60,61,62,63,64,65,66,67,68,{"$f":"INDEX(InGame5,C48)*(INDEX(InGame5,E48)*INDEX(PrBeat,C48,E48)+INDEX(InGame5,F48)*INDEX(PrBeat,C48,F48)+INDEX(InGame5,G48)*INDEX(PrBeat,C48,G48)+INDEX(InGame5,H48)*INDEX(PrBeat,C48,H48)+INDEX(InGame5,I48)*INDEX(PrBeat,C48,I48)+INDEX(InGame5,J48)*INDEX(PrBeat,C48,J48)+INDEX(InGame5,K48)*INDEX(PrBeat,C48,K48)+INDEX(InGame5,L48)*INDEX(PrBeat,C48,L48)+INDEX(InGame5,M48)*INDEX(PrBeat,C48,M48)+INDEX(InGame5,N48)*INDEX(PrBeat,C48,N48)+INDEX(InGame5,O48)*INDEX(PrBeat,C48,O48)+INDEX(InGame5,P48)*INDEX(PrBeat,C48,P48)+INDEX(InGame5,Q48)*INDEX(PrBeat,C48,Q48)+INDEX(InGame5,R48)*INDEX(PrBeat,C48,R48)+INDEX(InGame5,S48)*INDEX(PrBeat,C48,S48)+INDEX(InGame5,T48)*INDEX(PrBeat,C48,T48)+INDEX(InGame5,U48)*INDEX(PrBeat,C48,U48))","v":3.7110732852344799E-2},1,2,3,4,5,6,7,8,9,10,11,12,13,14,15,16,17,18,19,20,21,22,23,24,25,26,27,28,29,30,31,32,33,34,{"$f":"INDEX(InGame6,C48)*(INDEX(InGame6,W48)*INDEX(PrBeat,C48,W48)+INDEX(InGame6,X48)*INDEX(PrBeat,C48,X48)+INDEX(InGame6,Y48)*INDEX(PrBeat,C48,Y48)+INDEX(InGame6,Z48)*INDEX(PrBeat,C48,Z48)+INDEX(InGame6,AA48)*INDEX(PrBeat,C48,AA48)+INDEX(InGame6,AB48)*INDEX(PrBeat,C48,AB48)+INDEX(InGame6,AC48)*INDEX(PrBeat,C48,AC48)+INDEX(InGame6,AD48)*INDEX(PrBeat,C48,AD48)+INDEX(InGame6,AE48)*INDEX(PrBeat,C48,AE48)+INDEX(InGame6,AF48)*INDEX(PrBeat,C48,AF48)+INDEX(InGame6,AG48)*INDEX(PrBeat,C48,AG48)+INDEX(InGame6,AH48)*INDEX(PrBeat,C48,AH48)+INDEX(InGame6,AI48)*INDEX(PrBeat,C48,AI48)+INDEX(InGame6,AJ48)*INDEX(PrBeat,C48,AJ48)+INDEX(InGame6,AK48)*INDEX(PrBeat,C48,AK48)+INDEX(InGame6,AL48)*INDEX(PrBeat,C48,AL48)+INDEX(InGame6,AM48)*INDEX(PrBeat,C48,AM48)+INDEX(InGame6,AN48)*INDEX(PrBeat,C48,AN48)+INDEX(InGame6,AO48)*INDEX(PrBeat,C48,AO48)+INDEX(InGame6,AP48)*INDEX(PrBeat,C48,AP48)+INDEX(InGame6,AQ48)*INDEX(PrBeat,C48,AQ48)+INDEX(InGame6,AR48)*INDEX(PrBeat,C48,AR48)+INDEX(InGame6,AS48)*INDEX(PrBeat,C48,AS48)+INDEX(InGame6,AT48)*INDEX(PrBeat,C48,AT48)+INDEX(InGame6,AU48)*INDEX(PrBeat,C48,AU48)+INDEX(InGame6,AV48)*INDEX(PrBeat,C48,AV48)+INDEX(InGame6,AW48)*INDEX(PrBeat,C48,AW48)+INDEX(InGame6,AX48)*INDEX(PrBeat,C48,AX48)+INDEX(InGame6,AY48)*INDEX(PrBeat,C48,AY48)+INDEX(InGame6,AZ48)*INDEX(PrBeat,C48,AZ48)+INDEX(InGame6,BA48)*INDEX(PrBeat,C48,BA48)+INDEX(InGame6,BB48)*INDEX(PrBeat,C48,BB48)+INDEX(InGame6,BC48)*INDEX(PrBeat,C48,BC48)+INDEX(InGame6,BD48)*INDEX(PrBeat,C48,BD48))","v":1.4595882651847506E-2}]
[null,"Kennesaw St",47,{"$f":"Midwest!AA15","v":6.8787067278233783E-5},52,53,54,55,56,57,58,59,60,61,62,63,64,65,66,67,68,{"$f":"INDEX(InGame5,C49)*(INDEX(InGame5,E49)*INDEX(PrBeat,C49,E49)+INDEX(InGame5,F49)*INDEX(PrBeat,C49,F49)+INDEX(InGame5,G49)*INDEX(PrBeat,C49,G49)+INDEX(InGame5,H49)*INDEX(PrBeat,C49,H49)+INDEX(InGame5,I49)*INDEX(PrBeat,C49,I49)+INDEX(InGame5,J49)*INDEX(PrBeat,C49,J49)+INDEX(InGame5,K49)*INDEX(PrBeat,C49,K49)+INDEX(InGame5,L49)*INDEX(PrBeat,C49,L49)+INDEX(InGame5,M49)*INDEX(PrBeat,C49,M49)+INDEX(InGame5,N49)*INDEX(PrBeat,C49,N49)+INDEX(InGame5,O49)*INDEX(PrBeat,C49,O49)+INDEX(InGame5,P49)*INDEX(PrBeat,C49,P49)+INDEX(InGame5,Q49)*INDEX(PrBeat,C49,Q49)+INDEX(InGame5,R49)*INDEX(PrBeat,C49,R49)+INDEX(InGame5,S49)*INDEX(PrBeat,C49,S49)+INDEX(InGame5,T49)*INDEX(PrBeat,C49,T49)+INDEX(InGame5,U49)*INDEX(PrBeat,C49,U49))","v":3.6239460038262945E-6},1,2,3,4,5,6,7,8,9,10,11,12,13,14,15,16,17,18,19,20,21,22,23,24,25,26,27,28,29,30,31,32,33,34,{"$f":"INDEX(InGame6,C49)*(INDEX(InGame6,W49)*INDEX(PrBeat,C49,W49)+INDEX(InGame6,X49)*INDEX(PrBeat,C49,X49)+INDEX(InGame6,Y49)*INDEX(PrBeat,C49,Y49)+INDEX(InGame6,Z49)*INDEX(PrBeat,C49,Z49)+INDEX(InGame6,AA49)*INDEX(PrBeat,C49,AA49)+INDEX(InGame6,AB49)*INDEX(PrBeat,C49,AB49)+INDEX(InGame6,AC49)*INDEX(PrBeat,C49,AC49)+INDEX(InGame6,AD49)*INDEX(PrBeat,C49,AD49)+INDEX(InGame6,AE49)*INDEX(PrBeat,C49,AE49)+INDEX(InGame6,AF49)*INDEX(PrBeat,C49,AF49)+INDEX(InGame6,AG49)*INDEX(PrBeat,C49,AG49)+INDEX(InGame6,AH49)*INDEX(PrBeat,C49,AH49)+INDEX(InGame6,AI49)*INDEX(PrBeat,C49,AI49)+INDEX(InGame6,AJ49)*INDEX(PrBeat,C49,AJ49)+INDEX(InGame6,AK49)*INDEX(PrBeat,C49,AK49)+INDEX(InGame6,AL49)*INDEX(PrBeat,C49,AL49)+INDEX(InGame6,AM49)*INDEX(PrBeat,C49,AM49)+INDEX(InGame6,AN49)*INDEX(PrBeat,C49,AN49)+INDEX(InGame6,AO49)*INDEX(PrBeat,C49,AO49)+INDEX(InGame6,AP49)*INDEX(PrBeat,C49,AP49)+INDEX(InGame6,AQ49)*INDEX(PrBeat,C49,AQ49)+INDEX(InGame6,AR49)*INDEX(PrBeat,C49,AR49)+INDEX(InGame6,AS49)*INDEX(PrBeat,C49,AS49)+INDEX(InGame6,AT49)*INDEX(PrBeat,C49,AT49)+INDEX(InGame6,AU49)*INDEX(PrBeat,C49,AU49)+INDEX(InGame6,AV49)*INDEX(PrBeat,C49,AV49)+INDEX(InGame6,AW49)*INDEX(PrBeat,C49,AW49)+INDEX(InGame6,AX49)*INDEX(PrBeat,C49,AX49)+INDEX(InGame6,AY49)*INDEX(PrBeat,C49,AY49)+INDEX(InGame6,AZ49)*INDEX(PrBeat,C49,AZ49)+INDEX(InGame6,BA49)*INDEX(PrBeat,C49,BA49)+INDEX(InGame6,BB49)*INDEX(PrBeat,C49,BB49)+INDEX(InGame6,BC49)*INDEX(PrBeat,C49,BC49)+INDEX(InGame6,BD49)*INDEX(PrBeat,C49,BD49))","v":2.1599697326329657E-7}]
[null,"Texas A&M",48,{"$f":"Midwest!AA16","v":4.6521316865004068E-2},52,53,54,55,56,57,58,59,60,61,62,63,64,65,66,67,68,{"$f":"INDEX(InGame5,C50)*(INDEX(InGame5,E50)*INDEX(PrBeat,C50,E50)+INDEX(InGame5,F50)*INDEX(PrBeat,C50,F50)+INDEX(InGame5,G50)*INDEX(PrBeat,C50,G50)+INDEX(InGame5,H50)*INDEX(PrBeat,C50,H50)+INDEX(InGame5,I50)*INDEX(PrBeat,C50,I50)+INDEX(InGame5,J50)*INDEX(PrBeat,C50,J50)+INDEX(InGame5,K50)*INDEX(PrBeat,C50,K50)+INDEX(InGame5,L50)*INDEX(PrBeat,C50,L50)+INDEX(InGame5,M50)*INDEX(PrBeat,C50,M50)+INDEX(InGame5,N50)*INDEX(PrBeat,C50,N50)+INDEX(InGame5,O50)*INDEX(PrBeat,C50,O50)+INDEX(InGame5,P50)*INDEX(PrBeat,C50,P50)+INDEX(InGame5,Q50)*INDEX(PrBeat,C50,Q50)+INDEX(InGame5,R50)*INDEX(PrBeat,C50,R50)+INDEX(InGame5,S50)*INDEX(PrBeat,C50,S50)+INDEX(InGame5,T50)*INDEX(PrBeat,C50,T50)+INDEX(InGame5,U50)*INDEX(PrBeat,C50,U50))","v":1.6814290629951455E-2},1,2,3,4,5,6,7,8,9,10,11,12,13,14,15,16,17,18,19,20,21,22,23,24,25,26,27,28,29,30,31,32,33,34,{"$f":"INDEX(InGame6,C50)*(INDEX(InGame6,W50)*INDEX(PrBeat,C50,W50)+INDEX(InGame6,X50)*INDEX(PrBeat,C50,X50)+INDEX(InGame6,Y50)*INDEX(PrBeat,C50,Y50)+INDEX(InGame6,Z50)*INDEX(PrBeat,C50,Z50)+INDEX(InGame6,AA50)*INDEX(PrBeat,C50,AA50)+INDEX(InGame6,AB50)*INDEX(PrBeat,C50,AB50)+INDEX(InGame6,AC50)*INDEX(PrBeat,C50,AC50)+INDEX(InGame6,AD50)*INDEX(PrBeat,C50,AD50)+INDEX(InGame6,AE50)*INDEX(PrBeat,C50,AE50)+INDEX(InGame6,AF50)*INDEX(PrBeat,C50,AF50)+INDEX(InGame6,AG50)*INDEX(PrBeat,C50,AG50)+INDEX(InGame6,AH50)*INDEX(PrBeat,C50,AH50)+INDEX(InGame6,AI50)*INDEX(PrBeat,C50,AI50)+INDEX(InGame6,AJ50)*INDEX(PrBeat,C50,AJ50)+INDEX(InGame6,AK50)*INDEX(PrBeat,C50,AK50)+INDEX(InGame6,AL50)*INDEX(PrBeat,C50,AL50)+INDEX(InGame6,AM50)*INDEX(PrBeat,C50,AM50)+INDEX(InGame6,AN50)*INDEX(PrBeat,C50,AN50)+INDEX(InGame6,AO50)*INDEX(PrBeat,C50,AO50)+INDEX(InGame6,AP50)*INDEX(PrBeat,C50,AP50)+INDEX(InGame6,AQ50)*INDEX(PrBeat,C50,AQ50)+INDEX(InGame6,AR50)*INDEX(PrBeat,C50,AR50)+INDEX(InGame6,AS50)*INDEX(PrBeat,C50,AS50)+INDEX(InGame6,AT50)*INDEX(PrBeat,C50,AT50)+INDEX(InGame6,AU50)*INDEX(PrBeat,C50,AU50)+INDEX(InGame6,AV50)*INDEX(PrBeat,C50,AV50)+INDEX(InGame6,AW50)*INDEX(PrBeat,C50,AW50)+INDEX(InGame6,AX50)*INDEX(PrBeat,C50,AX50)+INDEX(InGame6,AY50)*INDEX(PrBeat,C50,AY50)+INDEX(InGame6,AZ50)*INDEX(PrBeat,C50,AZ50)+INDEX(InGame6,BA50)*INDEX(PrBeat,C50,BA50)+INDEX(InGame6,BB50)*INDEX(PrBeat,C50,BB50)+INDEX(InGame6,BC50)*INDEX(PrBeat,C50,BC50)+INDEX(InGame6,BD50)*INDEX(PrBeat,C50,BD50))","v":6.3536736883697334E-3}]
[null,"Penn St",49,{"$f":"Midwest!AA17","v":1.7745268981513417E-2},52,53,54,55,56,57,58,59,60,61,62,63,64,65,66,67,68,{"$f":"INDEX(InGame5,C51)*(INDEX(InGame5,E51)*INDEX(PrBeat,C51,E51)+INDEX(InGame5,F51)*INDEX(PrBeat,C51,F51)+INDEX(InGame5,G51)*INDEX(PrBeat,C51,G51)+INDEX(InGame5,H51)*INDEX(PrBeat,C51,H51)+INDEX(InGame5,I51)*INDEX(PrBeat,C51,I51)+INDEX(InGame5,J51)*INDEX(PrBeat,C51,J51)+INDEX(InGame5,K51)*INDEX(PrBeat,C51,K51)+INDEX(InGame5,L51)*INDEX(PrBeat,C51,L51)+INDEX(InGame5,M51)*INDEX(PrBeat,C51,M51)+INDEX(InGame5,N51)*INDEX(PrBeat,C51,N51)+INDEX(InGame5,O51)*INDEX(PrBeat,C51,O51)+INDEX(InGame5,P51)*INDEX(PrBeat,C51,P51)+INDEX(InGame5,Q51)*INDEX(PrBeat,C51,Q51)+INDEX(InGame5,R51)*INDEX(PrBeat,C51,R51)+INDEX(InGame5,S51)*INDEX(PrBeat,C51,S51)+INDEX(InGame5,T51)*INDEX(PrBeat,C51,T51)+INDEX(InGame5,U51)*INDEX(PrBeat,C51,U51))","v":5.0471921987395845E-3},1,2,3,4,5,6,7,8,9,10,11,12,13,14,15,16,17,18,19,20,21,22,23,24,25,26,27,28,29,30,31,32,33,34,{"$f":"INDEX(InGame6,C51)*(INDEX(InGame6,W51)*INDEX(PrBeat,C51,W51)+INDEX(InGame6,X51)*INDEX(PrBeat,C51,X51)+INDEX(InGame6,Y51)*INDEX(PrBeat,C51,Y51)+INDEX(InGame6,Z51)*INDEX(PrBeat,C51,Z51)+INDEX(InGame6,AA51)*INDEX(PrBeat,C51,AA51)+INDEX(InGame6,AB51)*INDEX(PrBeat,C51,AB51)+INDEX(InGame6,AC51)*INDEX(PrBeat,C51,AC51)+INDEX(InGame6,AD51)*INDEX(PrBeat,C51,AD51)+INDEX(InGame6,AE51)*INDEX(PrBeat,C51,AE51)+INDEX(InGame6,AF51)*INDEX(PrBeat,C51,AF51)+INDEX(InGame6,AG51)*INDEX(PrBeat,C51,AG51)+INDEX(InGame6,AH51)*INDEX(PrBeat,C51,AH51)+INDEX(InGame6,AI51)*INDEX(PrBeat,C51,AI51)+INDEX(InGame6,AJ51)*INDEX(PrBeat,C51,AJ51)+INDEX(InGame6,AK51)*INDEX(PrBeat,C51,AK51)+INDEX(InGame6,AL51)*INDEX(PrBeat,C51,AL51)+INDEX(InGame6,AM51)*INDEX(PrBeat,C51,AM51)+INDEX(InGame6,AN51)*INDEX(PrBeat,C51,AN51)+INDEX(InGame6,AO51)*INDEX(PrBeat,C51,AO51)+INDEX(InGame6,AP51)*INDEX(PrBeat,C51,AP51)+INDEX(InGame6,AQ51)*INDEX(PrBeat,C51,AQ51)+INDEX(InGame6,AR51)*INDEX(PrBeat,C51,AR51)+INDEX(InGame6,AS51)*INDEX(PrBeat,C51,AS51)+INDEX(InGame6,AT51)*INDEX(PrBeat,C51,AT51)+INDEX(InGame6,AU51)*INDEX(PrBeat,C51,AU51)+INDEX(InGame6,AV51)*INDEX(PrBeat,C51,AV51)+INDEX(InGame6,AW51)*INDEX(PrBeat,C51,AW51)+INDEX(InGame6,AX51)*INDEX(PrBeat,C51,AX51)+INDEX(InGame6,AY51)*INDEX(PrBeat,C51,AY51)+INDEX(InGame6,AZ51)*INDEX(PrBeat,C51,AZ51)+INDEX(InGame6,BA51)*INDEX(PrBeat,C51,BA51)+INDEX(InGame6,BB51)*INDEX(PrBeat,C51,BB51)+INDEX(InGame6,BC51)*INDEX(PrBeat,C51,BC51)+INDEX(InGame6,BD51)*INDEX(PrBeat,C51,BD51))","v":1.5175727020316303E-3}]
[null,"Texas",50,{"$f":"Midwest!AA18","v":0.25436895588993064},52,53,54,55,56,57,58,59,60,61,62,63,64,65,66,67,68,{"$f":"INDEX(InGame5,C52)*(INDEX(InGame5,E52)*INDEX(PrBeat,C52,E52)+INDEX(InGame5,F52)*INDEX(PrBeat,C52,F52)+INDEX(InGame5,G52)*INDEX(PrBeat,C52,G52)+INDEX(InGame5,H52)*INDEX(PrBeat,C52,H52)+INDEX(InGame5,I52)*INDEX(PrBeat,C52,I52)+INDEX(InGame5,J52)*INDEX(PrBeat,C52,J52)+INDEX(InGame5,K52)*INDEX(PrBeat,C52,K52)+INDEX(InGame5,L52)*INDEX(PrBeat,C52,L52)+INDEX(InGame5,M52)*INDEX(PrBeat,C52,M52)+INDEX(InGame5,N52)*INDEX(PrBeat,C52,N52)+INDEX(InGame5,O52)*INDEX(PrBeat,C52,O52)+INDEX(InGame5,P52)*INDEX(PrBeat,C52,P52)+INDEX(InGame5,Q52)*INDEX(PrBeat,C52,Q52)+INDEX(InGame5,R52)*INDEX(PrBeat,C52,R52)+INDEX(InGame5,S52)*INDEX(PrBeat,C52,S52)+INDEX(InGame5,T52)*INDEX(PrBeat,C52,T52)+INDEX(InGame5,U52)*INDEX(PrBeat,C52,U52))","v":0.13473097505322423},1,2,3,4,5,6,7,8,9,10,11,12,13,14,15,16,17,18,19,20,21,22,23,24,25,26,27,28,29,30,31,32,33,34,{"$f":"INDEX(InGame6,C52)*(INDEX(InGame6,W52)*INDEX(PrBeat,C52,W52)+INDEX(InGame6,X52)*INDEX(PrBeat,C52,X52)+INDEX(InGame6,Y52)*INDEX(PrBeat,C52,Y52)+INDEX(InGame6,Z52)*INDEX(PrBeat,C52,Z52)+INDEX(InGame6,AA52)*INDEX(PrBeat,C52,AA52)+INDEX(InGame6,AB52)*INDEX(PrBeat,C52,AB52)+INDEX(InGame6,AC52)*INDEX(PrBeat,C52,AC52)+INDEX(InGame6,AD52)*INDEX(PrBeat,C52,AD52)+INDEX(InGame6,AE52)*INDEX(PrBeat,C52,AE52)+INDEX(InGame6,AF52)*INDEX(PrBeat,C52,AF52)+INDEX(InGame6,AG52)*INDEX(PrBeat,C52,AG52)+INDEX(InGame6,AH52)*INDEX(PrBeat,C52,AH52)+INDEX(InGame6,AI52)*INDEX(PrBeat,C52,AI52)+INDEX(InGame6,AJ52)*INDEX(PrBeat,C52,AJ52)+INDEX(InGame6,AK52)*INDEX(PrBeat,C52,AK52)+INDEX(InGame6,AL52)*INDEX(PrBeat,C52,AL52)+INDEX(InGame6,AM52)*INDEX(PrBeat,C52,AM52)+INDEX(InGame6,AN52)*INDEX(PrBeat,C52,AN52)+INDEX(InGame6,AO52)*INDEX(PrBeat,C52,AO52)+INDEX(InGame6,AP52)*INDEX(PrBeat,C52,AP52)+INDEX(InGame6,AQ52)*INDEX(PrBeat,C52,AQ52)+INDEX(InGame6,AR52)*INDEX(PrBeat,C52,AR52)+INDEX(InGame6,AS52)*INDEX(PrBeat,C52,AS52)+INDEX(InGame6,AT52)*INDEX(PrBeat,C52,AT52)+INDEX(InGame6,AU52)*INDEX(PrBeat,C52,AU52)+INDEX(InGame6,AV52)*INDEX(PrBeat,C52,AV52)+INDEX(InGame6,AW52)*INDEX(PrBeat,C52,AW52)+INDEX(InGame6,AX52)*INDEX(PrBeat,C52,AX52)+INDEX(InGame6,AY52)*INDEX(PrBeat,C52,AY52)+INDEX(InGame6,AZ52)*INDEX(PrBeat,C52,AZ52)+INDEX(InGame6,BA52)*INDEX(PrBeat,C52,BA52)+INDEX(InGame6,BB52)*INDEX(PrBeat,C52,BB52)+INDEX(InGame6,BC52)*INDEX(PrBeat,C52,BC52)+INDEX(InGame6,BD52)*INDEX(PrBeat,C52,BD52))","v":7.3259982866057075E-2}]
[null,"Colgate",51,{"$f":"Midwest!AA19","v":3.1436384726522295E-4},52,53,54,55,56,57,58,59,60,61,62,63,64,65,66,67,68,{"$f":"INDEX(InGame5,C53)*(INDEX(InGame5,E53)*INDEX(PrBeat,C53,E53)+INDEX(InGame5,F53)*INDEX(PrBeat,C53,F53)+INDEX(InGame5,G53)*INDEX(PrBeat,C53,G53)+INDEX(InGame5,H53)*INDEX(PrBeat,C53,H53)+INDEX(InGame5,I53)*INDEX(PrBeat,C53,I53)+INDEX(InGame5,J53)*INDEX(PrBeat,C53,J53)+INDEX(InGame5,K53)*INDEX(PrBeat,C53,K53)+INDEX(InGame5,L53)*INDEX(PrBeat,C53,L53)+INDEX(InGame5,M53)*INDEX(PrBeat,C53,M53)+INDEX(InGame5,N53)*INDEX(PrBeat,C53,N53)+INDEX(InGame5,O53)*INDEX(PrBeat,C53,O53)+INDEX(InGame5,P53)*INDEX(PrBeat,C53,P53)+INDEX(InGame5,Q53)*INDEX(PrBeat,C53,Q53)+INDEX(InGame5,R53)*INDEX(PrBeat,C53,R53)+INDEX(InGame5,S53)*INDEX(PrBeat,C53,S53)+INDEX(InGame5,T53)*INDEX(PrBeat,C53,T53)+INDEX(InGame5,U53)*INDEX(PrBeat,C53,U53))","v":2.9098046218758982E-5},1,2,3,4,5,6,7,8,9,10,11,12,13,14,15,16,17,18,19,20,21,22,23,24,25,26,27,28,29,30,31,32,33,34,{"$f":"INDEX(InGame6,C53)*(INDEX(InGame6,W53)*INDEX(PrBeat,C53,W53)+INDEX(InGame6,X53)*INDEX(PrBeat,C53,X53)+INDEX(InGame6,Y53)*INDEX(PrBeat,C53,Y53)+INDEX(InGame6,Z53)*INDEX(PrBeat,C53,Z53)+INDEX(InGame6,AA53)*INDEX(PrBeat,C53,AA53)+INDEX(InGame6,AB53)*INDEX(PrBeat,C53,AB53)+INDEX(InGame6,AC53)*INDEX(PrBeat,C53,AC53)+INDEX(InGame6,AD53)*INDEX(PrBeat,C53,AD53)+INDEX(InGame6,AE53)*INDEX(PrBeat,C53,AE53)+INDEX(InGame6,AF53)*INDEX(PrBeat,C53,AF53)+INDEX(InGame6,AG53)*INDEX(PrBeat,C53,AG53)+INDEX(InGame6,AH53)*INDEX(PrBeat,C53,AH53)+INDEX(InGame6,AI53)*INDEX(PrBeat,C53,AI53)+INDEX(InGame6,AJ53)*INDEX(PrBeat,C53,AJ53)+INDEX(InGame6,AK53)*INDEX(PrBeat,C53,AK53)+INDEX(InGame6,AL53)*INDEX(PrBeat,C53,AL53)+INDEX(InGame6,AM53)*INDEX(PrBeat,C53,AM53)+INDEX(InGame6,AN53)*INDEX(PrBeat,C53,AN53)+INDEX(InGame6,AO53)*INDEX(PrBeat,C53,AO53)+INDEX(InGame6,AP53)*INDEX(PrBeat,C53,AP53)+INDEX(InGame6,AQ53)*INDEX(PrBeat,C53,AQ53)+INDEX(InGame6,AR53)*INDEX(PrBeat,C53,AR53)+INDEX(InGame6,AS53)*INDEX(PrBeat,C53,AS53)+INDEX(InGame6,AT53)*INDEX(PrBeat,C53,AT53)+INDEX(InGame6,AU53)*INDEX(PrBeat,C53,AU53)+INDEX(InGame6,AV53)*INDEX(PrBeat,C53,AV53)+INDEX(InGame6,AW53)*INDEX(PrBeat,C53,AW53)+INDEX(InGame6,AX53)*INDEX(PrBeat,C53,AX53)+INDEX(InGame6,AY53)*INDEX(PrBeat,C53,AY53)+INDEX(InGame6,AZ53)*INDEX(PrBeat,C53,AZ53)+INDEX(InGame6,BA53)*INDEX(PrBeat,C53,BA53)+INDEX(InGame6,BB53)*INDEX(PrBeat,C53,BB53)+INDEX(InGame6,BC53)*INDEX(PrBeat,C53,BC53)+INDEX(InGame6,BD53)*INDEX(PrBeat,C53,BD53))","v":2.9847830078496474E-6}]
[null,"Kansas",52,{"$f":"West!AA3","v":0.1922251328799022},35,36,37,38,39,40,41,42,43,44,45,46,47,48,49,50,51,{"$f":"INDEX(InGame5,C54)*(INDEX(InGame5,E54)*INDEX(PrBeat,C54,E54)+INDEX(InGame5,F54)*INDEX(PrBeat,C54,F54)+INDEX(InGame5,G54)*INDEX(PrBeat,C54,G54)+INDEX(InGame5,H54)*INDEX(PrBeat,C54,H54)+INDEX(InGame5,I54)*INDEX(PrBeat,C54,I54)+INDEX(InGame5,J54)*INDEX(PrBeat,C54,J54)+INDEX(InGame5,K54)*INDEX(PrBeat,C54,K54)+INDEX(InGame5,L54)*INDEX(PrBeat,C54,L54)+INDEX(InGame5,M54)*INDEX(PrBeat,C54,M54)+INDEX(InGame5,N54)*INDEX(PrBeat,C54,N54)+INDEX(InGame5,O54)*INDEX(PrBeat,C54,O54)+INDEX(InGame5,P54)*INDEX(PrBeat,C54,P54)+INDEX(InGame5,Q54)*INDEX(PrBeat,C54,Q54)+INDEX(InGame5,R54)*INDEX(PrBeat,C54,R54)+INDEX(InGame5,S54)*INDEX(PrBeat,C54,S54)+INDEX(InGame5,T54)*INDEX(PrBeat,C54,T54)+INDEX(InGame5,U54)*INDEX(PrBeat,C54,U54))","v":0.10250412542911561},1,2,3,4,5,6,7,8,9,10,11,12,13,14,15,16,17,18,19,20,21,22,23,24,25,26,27,28,29,30,31,32,33,34,{"$f":"INDEX(InGame6,C54)*(INDEX(InGame6,W54)*INDEX(PrBeat,C54,W54)+INDEX(InGame6,X54)*INDEX(PrBeat,C54,X54)+INDEX(InGame6,Y54)*INDEX(PrBeat,C54,Y54)+INDEX(InGame6,Z54)*INDEX(PrBeat,C54,Z54)+INDEX(InGame6,AA54)*INDEX(PrBeat,C54,AA54)+INDEX(InGame6,AB54)*INDEX(PrBeat,C54,AB54)+INDEX(InGame6,AC54)*INDEX(PrBeat,C54,AC54)+INDEX(InGame6,AD54)*INDEX(PrBeat,C54,AD54)+INDEX(InGame6,AE54)*INDEX(PrBeat,C54,AE54)+INDEX(InGame6,AF54)*INDEX(PrBeat,C54,AF54)+INDEX(InGame6,AG54)*INDEX(PrBeat,C54,AG54)+INDEX(InGame6,AH54)*INDEX(PrBeat,C54,AH54)+INDEX(InGame6,AI54)*INDEX(PrBeat,C54,AI54)+INDEX(InGame6,AJ54)*INDEX(PrBeat,C54,AJ54)+INDEX(InGame6,AK54)*INDEX(PrBeat,C54,AK54)+INDEX(InGame6,AL54)*INDEX(PrBeat,C54,AL54)+INDEX(InGame6,AM54)*INDEX(PrBeat,C54,AM54)+INDEX(InGame6,AN54)*INDEX(PrBeat,C54,AN54)+INDEX(InGame6,AO54)*INDEX(PrBeat,C54,AO54)+INDEX(InGame6,AP54)*INDEX(PrBeat,C54,AP54)+INDEX(InGame6,AQ54)*INDEX(PrBeat,C54,AQ54)+INDEX(InGame6,AR54)*INDEX(PrBeat,C54,AR54)+INDEX(InGame6,AS54)*INDEX(PrBeat,C54,AS54)+INDEX(InGame6,AT54)*INDEX(PrBeat,C54,AT54)+INDEX(InGame6,AU54)*INDEX(PrBeat,C54,AU54)+INDEX(InGame6,AV54)*INDEX(PrBeat,C54,AV54)+INDEX(InGame6,AW54)*INDEX(PrBeat,C54,AW54)+INDEX(InGame6,AX54)*INDEX(PrBeat,C54,AX54)+INDEX(InGame6,AY54)*INDEX(PrBeat,C54,AY54)+INDEX(InGame6,AZ54)*INDEX(PrBeat,C54,AZ54)+INDEX(InGame6,BA54)*INDEX(PrBeat,C54,BA54)+INDEX(InGame6,BB54)*INDEX(PrBeat,C54,BB54)+INDEX(InGame6,BC54)*INDEX(PrBeat,C54,BC54)+INDEX(InGame6,BD54)*INDEX(PrBeat,C54,BD54))","v":5.3739321207527176E-2}]
[null,"Howard",53,{"$f":"West!AA4","v":7.4536111881886982E-7},35,36,37,38,39,40,41,42,43,44,45,46,47,48,49,50,51,{"$f":"INDEX(InGame5,C55)*(INDEX(InGame5,E55)*INDEX(PrBeat,C55,E55)+INDEX(InGame5,F55)*INDEX(PrBeat,C55,F55)+INDEX(InGame5,G55)*INDEX(PrBeat,C55,G55)+INDEX(InGame5,H55)*INDEX(PrBeat,C55,H55)+INDEX(InGame5,I55)*INDEX(PrBeat,C55,I55)+INDEX(InGame5,J55)*INDEX(PrBeat,C55,J55)+INDEX(InGame5,K55)*INDEX(PrBeat,C55,K55)+INDEX(InGame5,L55)*INDEX(PrBeat,C55,L55)+INDEX(InGame5,M55)*INDEX(PrBeat,C55,M55)+INDEX(InGame5,N55)*INDEX(PrBeat,C55,N55)+INDEX(InGame5,O55)*INDEX(PrBeat,C55,O55)+INDEX(InGame5,P55)*INDEX(PrBeat,C55,P55)+INDEX(InGame5,Q55)*INDEX(PrBeat,C55,Q55)+INDEX(InGame5,R55)*INDEX(PrBeat,C55,R55)+INDEX(InGame5,S55)*INDEX(PrBeat,C55,S55)+INDEX(InGame5,T55)*INDEX(PrBeat,C55,T55)+INDEX(InGame5,U55)*INDEX(PrBeat,C55,U55))","v":2.0920772383771384E-8},1,2,3,4,5,6,7,8,9,10,11,12,13,14,15,16,17,18,19,20,21,22,23,24,25,26,27,28,29,30,31,32,33,34,{"$f":"INDEX(InGame6,C55)*(INDEX(InGame6,W55)*INDEX(PrBeat,C55,W55)+INDEX(InGame6,X55)*INDEX(PrBeat,C55,X55)+INDEX(InGame6,Y55)*INDEX(PrBeat,C55,Y55)+INDEX(InGame6,Z55)*INDEX(PrBeat,C55,Z55)+INDEX(InGame6,AA55)*INDEX(PrBeat,C55,AA55)+INDEX(InGame6,AB55)*INDEX(PrBeat,C55,AB55)+INDEX(InGame6,AC55)*INDEX(PrBeat,C55,AC55)+INDEX(InGame6,AD55)*INDEX(PrBeat,C55,AD55)+INDEX(InGame6,AE55)*INDEX(PrBeat,C55,AE55)+INDEX(InGame6,AF55)*INDEX(PrBeat,C55,AF55)+INDEX(InGame6,AG55)*INDEX(PrBeat,C55,AG55)+INDEX(InGame6,AH55)*INDEX(PrBeat,C55,AH55)+INDEX(InGame6,AI55)*INDEX(PrBeat,C55,AI55)+INDEX(InGame6,AJ55)*INDEX(PrBeat,C55,AJ55)+INDEX(InGame6,AK55)*INDEX(PrBeat,C55,AK55)+INDEX(InGame6,AL55)*INDEX(PrBeat,C55,AL55)+INDEX(InGame6,AM55)*INDEX(PrBeat,C55,AM55)+INDEX(InGame6,AN55)*INDEX(PrBeat,C55,AN55)+INDEX(InGame6,AO55)*INDEX(PrBeat,C55,AO55)+INDEX(InGame6,AP55)*INDEX(PrBeat,C55,AP55)+INDEX(InGame6,AQ55)*INDEX(PrBeat,C55,AQ55)+INDEX(InGame6,AR55)*INDEX(PrBeat,C55,AR55)+INDEX(InGame6,AS55)*INDEX(PrBeat,C55,AS55)+INDEX(InGame6,AT55)*INDEX(PrBeat,C55,AT55)+INDEX(InGame6,AU55)*INDEX(PrBeat,C55,AU55)+INDEX(InGame6,AV55)*INDEX(PrBeat,C55,AV55)+INDEX(InGame6,AW55)*INDEX(PrBeat,C55,AW55)+INDEX(InGame6,AX55)*INDEX(PrBeat,C55,AX55)+INDEX(InGame6,AY55)*INDEX(PrBeat,C55,AY55)+INDEX(InGame6,AZ55)*INDEX(PrBeat,C55,AZ55)+INDEX(InGame6,BA55)*INDEX(PrBeat,C55,BA55)+INDEX(InGame6,BB55)*INDEX(PrBeat,C55,BB55)+INDEX(InGame6,BC55)*INDEX(PrBeat,C55,BC55)+INDEX(InGame6,BD55)*INDEX(PrBeat,C55,BD55))","v":5.3271741243591005E-10}]
[null,"Arkansas",54,{"$f":"West!AA5","v":2.6293288342572049E-2},35,36,37,38,39,40,41,42,43,44,45,46,47,48,49,50,51,{"$f":"INDEX(InGame5,C56)*(INDEX(InGame5,E56)*INDEX(PrBeat,C56,E56)+INDEX(InGame5,F56)*INDEX(PrBeat,C56,F56)+INDEX(InGame5,G56)*INDEX(PrBeat,C56,G56)+INDEX(InGame5,H56)*INDEX(PrBeat,C56,H56)+INDEX(InGame5,I56)*INDEX(PrBeat,C56,I56)+INDEX(InGame5,J56)*INDEX(PrBeat,C56,J56)+INDEX(InGame5,K56)*INDEX(PrBeat,C56,K56)+INDEX(InGame5,L56)*INDEX(PrBeat,C56,L56)+INDEX(InGame5,M56)*INDEX(PrBeat,C56,M56)+INDEX(InGame5,N56)*INDEX(PrBeat,C56,N56)+INDEX(InGame5,O56)*INDEX(PrBeat,C56,O56)+INDEX(InGame5,P56)*INDEX(PrBeat,C56,P56)+INDEX(InGame5,Q56)*INDEX(PrBeat,C56,Q56)+INDEX(InGame5,R56)*INDEX(PrBeat,C56,R56)+INDEX(InGame5,S56)*INDEX(PrBeat,C56,S56)+INDEX(InGame5,T56)*INDEX(PrBeat,C56,T56)+INDEX(InGame5,U56)*INDEX(PrBeat,C56,U56))","v":9.8788771779539132E-3},1,2,3,4,5,6,7,8,9,10,11,12,13,14,15,16,17,18,19,20,21,22,23,24,25,26,27,28,29,30,31,32,33,34,{"$f":"INDEX(InGame6,C56)*(INDEX(InGame6,W56)*INDEX(PrBeat,C56,W56)+INDEX(InGame6,X56)*INDEX(PrBeat,C56,X56)+INDEX(InGame6,Y56)*INDEX(PrBeat,C56,Y56)+INDEX(InGame6,Z56)*INDEX(PrBeat,C56,Z56)+INDEX(InGame6,AA56)*INDEX(PrBeat,C56,AA56)+INDEX(InGame6,AB56)*INDEX(PrBeat,C56,AB56)+INDEX(InGame6,AC56)*INDEX(PrBeat,C56,AC56)+INDEX(InGame6,AD56)*INDEX(PrBeat,C56,AD56)+INDEX(InGame6,AE56)*INDEX(PrBeat,C56,AE56)+INDEX(InGame6,AF56)*INDEX(PrBeat,C56,AF56)+INDEX(InGame6,AG56)*INDEX(PrBeat,C56,AG56)+INDEX(InGame6,AH56)*INDEX(PrBeat,C56,AH56)+INDEX(InGame6,AI56)*INDEX(PrBeat,C56,AI56)+INDEX(InGame6,AJ56)*INDEX(PrBeat,C56,AJ56)+INDEX(InGame6,AK56)*INDEX(PrBeat,C56,AK56)+INDEX(InGame6,AL56)*INDEX(PrBeat,C56,AL56)+INDEX(InGame6,AM56)*INDEX(PrBeat,C56,AM56)+INDEX(InGame6,AN56)*INDEX(PrBeat,C56,AN56)+INDEX(InGame6,AO56)*INDEX(PrBeat,C56,AO56)+INDEX(InGame6,AP56)*INDEX(PrBeat,C56,AP56)+INDEX(InGame6,AQ56)*INDEX(PrBeat,C56,AQ56)+INDEX(InGame6,AR56)*INDEX(PrBeat,C56,AR56)+INDEX(InGame6,AS56)*INDEX(PrBeat,C56,AS56)+INDEX(InGame6,AT56)*INDEX(PrBeat,C56,AT56)+INDEX(InGame6,AU56)*INDEX(PrBeat,C56,AU56)+INDEX(InGame6,AV56)*INDEX(PrBeat,C56,AV56)+INDEX(InGame6,AW56)*INDEX(PrBeat,C56,AW56)+INDEX(InGame6,AX56)*INDEX(PrBeat,C56,AX56)+INDEX(InGame6,AY56)*INDEX(PrBeat,C56,AY56)+INDEX(InGame6,AZ56)*INDEX(PrBeat,C56,AZ56)+INDEX(InGame6,BA56)*INDEX(PrBeat,C56,BA56)+INDEX(InGame6,BB56)*INDEX(PrBeat,C56,BB56)+INDEX(InGame6,BC56)*INDEX(PrBeat,C56,BC56)+INDEX(InGame6,BD56)*INDEX(PrBeat,C56,BD56))","v":3.618073830161547E-3}]
[null,"Illinois",55,{"$f":"West!AA6","v":2.1285012996007002E-2},35,36,37,38,39,40,41,42,43,44,45,46,47,48,49,50,51,{"$f":"INDEX(InGame5,C57)*(INDEX(InGame5,E57)*INDEX(PrBeat,C57,E57)+INDEX(InGame5,F57)*INDEX(PrBeat,C57,F57)+INDEX(InGame5,G57)*INDEX(PrBeat,C57,G57)+INDEX(InGame5,H57)*INDEX(PrBeat,C57,H57)+INDEX(InGame5,I57)*INDEX(PrBeat,C57,I57)+INDEX(InGame5,J57)*INDEX(PrBeat,C57,J57)+INDEX(InGame5,K57)*INDEX(PrBeat,C57,K57)+INDEX(InGame5,L57)*INDEX(PrBeat,C57,L57)+INDEX(InGame5,M57)*INDEX(PrBeat,C57,M57)+INDEX(InGame5,N57)*INDEX(PrBeat,C57,N57)+INDEX(InGame5,O57)*INDEX(PrBeat,C57,O57)+INDEX(InGame5,P57)*INDEX(PrBeat,C57,P57)+INDEX(InGame5,Q57)*INDEX(PrBeat,C57,Q57)+INDEX(InGame5,R57)*INDEX(PrBeat,C57,R57)+INDEX(InGame5,S57)*INDEX(PrBeat,C57,S57)+INDEX(InGame5,T57)*INDEX(PrBeat,C57,T57)+INDEX(InGame5,U57)*INDEX(PrBeat,C57,U57))","v":7.6454024111267619E-3},1,2,3,4,5,6,7,8,9,10,11,12,13,14,15,16,17,18,19,20,21,22,23,24,25,26,27,28,29,30,31,32,33,34,{"$f":"INDEX(InGame6,C57)*(INDEX(InGame6,W57)*INDEX(PrBeat,C57,W57)+INDEX(InGame6,X57)*INDEX(PrBeat,C57,X57)+INDEX(InGame6,Y57)*INDEX(PrBeat,C57,Y57)+INDEX(InGame6,Z57)*INDEX(PrBeat,C57,Z57)+INDEX(InGame6,AA57)*INDEX(PrBeat,C57,AA57)+INDEX(InGame6,AB57)*INDEX(PrBeat,C57,AB57)+INDEX(InGame6,AC57)*INDEX(PrBeat,C57,AC57)+INDEX(InGame6,AD57)*INDEX(PrBeat,C57,AD57)+INDEX(InGame6,AE57)*INDEX(PrBeat,C57,AE57)+INDEX(InGame6,AF57)*INDEX(PrBeat,C57,AF57)+INDEX(InGame6,AG57)*INDEX(PrBeat,C57,AG57)+INDEX(InGame6,AH57)*INDEX(PrBeat,C57,AH57)+INDEX(InGame6,AI57)*INDEX(PrBeat,C57,AI57)+INDEX(InGame6,AJ57)*INDEX(PrBeat,C57,AJ57)+INDEX(InGame6,AK57)*INDEX(PrBeat,C57,AK57)+INDEX(InGame6,AL57)*INDEX(PrBeat,C57,AL57)+INDEX(InGame6,AM57)*INDEX(PrBeat,C57,AM57)+INDEX(InGame6,AN57)*INDEX(PrBeat,C57,AN57)+INDEX(InGame6,AO57)*INDEX(PrBeat,C57,AO57)+INDEX(InGame6,AP57)*INDEX(PrBeat,C57,AP57)+INDEX(InGame6,AQ57)*INDEX(PrBeat,C57,AQ57)+INDEX(InGame6,AR57)*INDEX(PrBeat,C57,AR57)+INDEX(InGame6,AS57)*INDEX(PrBeat,C57,AS57)+INDEX(InGame6,AT57)*INDEX(PrBeat,C57,AT57)+INDEX(InGame6,AU57)*INDEX(PrBeat,C57,AU57)+INDEX(InGame6,AV57)*INDEX(PrBeat,C57,AV57)+INDEX(InGame6,AW57)*INDEX(PrBeat,C57,AW57)+INDEX(InGame6,AX57)*INDEX(PrBeat,C57,AX57)+INDEX(InGame6,AY57)*INDEX(PrBeat,C57,AY57)+INDEX(InGame6,AZ57)*INDEX(PrBeat,C57,AZ57)+INDEX(InGame6,BA57)*INDEX(PrBeat,C57,BA57)+INDEX(InGame6,BB57)*INDEX(PrBeat,C57,BB57)+INDEX(InGame6,BC57)*INDEX(PrBeat,C57,BC57)+INDEX(InGame6,BD57)*INDEX(PrBeat,C57,BD57))","v":2.6739119729050453E-3}]
[null,"Saint Mary's",56,{"$f":"West!AA7","v":4.0431684989408932E-2},35,36,37,38,39,40,41,42,43,44,45,46,47,48,49,50,51,{"$f":"INDEX(InGame5,C58)*(INDEX(InGame5,E58)*INDEX(PrBeat,C58,E58)+INDEX(InGame5,F58)*INDEX(PrBeat,C58,F58)+INDEX(InGame5,G58)*INDEX(PrBeat,C58,G58)+INDEX(InGame5,H58)*INDEX(PrBeat,C58,H58)+INDEX(InGame5,I58)*INDEX(PrBeat,C58,I58)+INDEX(InGame5,J58)*INDEX(PrBeat,C58,J58)+INDEX(InGame5,K58)*INDEX(PrBeat,C58,K58)+INDEX(InGame5,L58)*INDEX(PrBeat,C58,L58)+INDEX(InGame5,M58)*INDEX(PrBeat,C58,M58)+INDEX(InGame5,N58)*INDEX(PrBeat,C58,N58)+INDEX(InGame5,O58)*INDEX(PrBeat,C58,O58)+INDEX(InGame5,P58)*INDEX(PrBeat,C58,P58)+INDEX(InGame5,Q58)*INDEX(PrBeat,C58,Q58)+INDEX(InGame5,R58)*INDEX(PrBeat,C58,R58)+INDEX(InGame5,S58)*INDEX(PrBeat,C58,S58)+INDEX(InGame5,T58)*INDEX(PrBeat,C58,T58)+INDEX(InGame5,U58)*INDEX(PrBeat,C58,U58))","v":1.618091179889657E-2},1,2,3,4,5,6,7,8,9,10,11,12,13,14,15,16,17,18,19,20,21,22,23,24,25,26,27,28,29,30,31,32,33,34,{"$f":"INDEX(InGame6,C58)*(INDEX(InGame6,W58)*INDEX(PrBeat,C58,W58)+INDEX(InGame6,X58)*INDEX(PrBeat,C58,X58)+INDEX(InGame6,Y58)*INDEX(PrBeat,C58,Y58)+INDEX(InGame6,Z58)*INDEX(PrBeat,C58,Z58)+INDEX(InGame6,AA58)*INDEX(PrBeat,C58,AA58)+INDEX(InGame6,AB58)*INDEX(PrBeat,C58,AB58)+INDEX(InGame6,AC58)*INDEX(PrBeat,C58,AC58)+INDEX(InGame6,AD58)*INDEX(PrBeat,C58,AD58)+INDEX(InGame6,AE58)*INDEX(PrBeat,C58,AE58)+INDEX(InGame6,AF58)*INDEX(PrBeat,C58,AF58)+INDEX(InGame6,AG58)*INDEX(PrBeat,C58,AG58)+INDEX(InGame6,AH58)*INDEX(PrBeat,C58,AH58)+INDEX(InGame6,AI58)*INDEX(PrBeat,C58,AI58)+INDEX(InGame6,AJ58)*INDEX(PrBeat,C58,AJ58)+INDEX(InGame6,AK58)*INDEX(PrBeat,C58,AK58)+INDEX(InGame6,AL58)*INDEX(PrBeat,C58,AL58)+INDEX(InGame6,AM58)*INDEX(PrBeat,C58,AM58)+INDEX(InGame6,AN58)*INDEX(PrBeat,C58,AN58)+INDEX(InGame6,AO58)*INDEX(PrBeat,C58,AO58)+INDEX(InGame6,AP58)*INDEX(PrBeat,C58,AP58)+INDEX(InGame6,AQ58)*INDEX(PrBeat,C58,AQ58)+INDEX(InGame6,AR58)*INDEX(PrBeat,C58,AR58)+INDEX(InGame6,AS58)*INDEX(PrBeat,C58,AS58)+INDEX(InGame6,AT58)*INDEX(PrBeat,C58,AT58)+INDEX(InGame6,AU58)*INDEX(PrBeat,C58,AU58)+INDEX(InGame6,AV58)*INDEX(PrBeat,C58,AV58)+INDEX(InGame6,AW58)*INDEX(PrBeat,C58,AW58)+INDEX(InGame6,AX58)*INDEX(PrBeat,C58,AX58)+INDEX(InGame6,AY58)*INDEX(PrBeat,C58,AY58)+INDEX(InGame6,AZ58)*INDEX(PrBeat,C58,AZ58)+INDEX(InGame6,BA58)*INDEX(PrBeat,C58,BA58)+INDEX(InGame6,BB58)*INDEX(PrBeat,C58,BB58)+INDEX(InGame6,BC58)*INDEX(PrBeat,C58,BC58)+INDEX(InGame6,BD58)*INDEX(PrBeat,C58,BD58))","v":6.3222328051453459E-3}]
[null,"VCU",57,{"$f":"West!AA8","v":1.0123982557410743E-2},35,36,37,38,39,40,41,42,43,44,45,46,47,48,49,50,51,{"$f":"INDEX(InGame5,C59)*(INDEX(InGame5,E59)*INDEX(PrBeat,C59,E59)+INDEX(InGame5,F59)*INDEX(PrBeat,C59,F59)+INDEX(InGame5,G59)*INDEX(PrBeat,C59,G59)+INDEX(InGame5,H59)*INDEX(PrBeat,C59,H59)+INDEX(InGame5,I59)*INDEX(PrBeat,C59,I59)+INDEX(InGame5,J59)*INDEX(PrBeat,C59,J59)+INDEX(InGame5,K59)*INDEX(PrBeat,C59,K59)+INDEX(InGame5,L59)*INDEX(PrBeat,C59,L59)+INDEX(InGame5,M59)*INDEX(PrBeat,C59,M59)+INDEX(InGame5,N59)*INDEX(PrBeat,C59,N59)+INDEX(InGame5,O59)*INDEX(PrBeat,C59,O59)+INDEX(InGame5,P59)*INDEX(PrBeat,C59,P59)+INDEX(InGame5,Q59)*INDEX(PrBeat,C59,Q59)+INDEX(InGame5,R59)*INDEX(PrBeat,C59,R59)+INDEX(InGame5,S59)*INDEX(PrBeat,C59,S59)+INDEX(InGame5,T59)*INDEX(PrBeat,C59,T59)+INDEX(InGame5,U59)*INDEX(PrBeat,C59,U59))","v":2.9931180994598057E-3},1,2,3,4,5,6,7,8,9,10,11,12,13,14,15,16,17,18,19,20,21,22,23,24,25,26,27,28,29,30,31,32,33,34,{"$f":"INDEX(InGame6,C59)*(INDEX(InGame6,W59)*INDEX(PrBeat,C59,W59)+INDEX(InGame6,X59)*INDEX(PrBeat,C59,X59)+INDEX(InGame6,Y59)*INDEX(PrBeat,C59,Y59)+INDEX(InGame6,Z59)*INDEX(PrBeat,C59,Z59)+INDEX(InGame6,AA59)*INDEX(PrBeat,C59,AA59)+INDEX(InGame6,AB59)*INDEX(PrBeat,C59,AB59)+INDEX(InGame6,AC59)*INDEX(PrBeat,C59,AC59)+INDEX(InGame6,AD59)*INDEX(PrBeat,C59,AD59)+INDEX(InGame6,AE59)*INDEX(PrBeat,C59,AE59)+INDEX(InGame6,AF59)*INDEX(PrBeat,C59,AF59)+INDEX(InGame6,AG59)*INDEX(PrBeat,C59,AG59)+INDEX(InGame6,AH59)*INDEX(PrBeat,C59,AH59)+INDEX(InGame6,AI59)*INDEX(PrBeat,C59,AI59)+INDEX(InGame6,AJ59)*INDEX(PrBeat,C59,AJ59)+INDEX(InGame6,AK59)*INDEX(PrBeat,C59,AK59)+INDEX(InGame6,AL59)*INDEX(PrBeat,C59,AL59)+INDEX(InGame6,AM59)*INDEX(PrBeat,C59,AM59)+INDEX(InGame6,AN59)*INDEX(PrBeat,C59,AN59)+INDEX(InGame6,AO59)*INDEX(PrBeat,C59,AO59)+INDEX(InGame6,AP59)*INDEX(PrBeat,C59,AP59)+INDEX(InGame6,AQ59)*INDEX(PrBeat,C59,AQ59)+INDEX(InGame6,AR59)*INDEX(PrBeat,C59,AR59)+INDEX(InGame6,AS59)*INDEX(PrBeat,C59,AS59)+INDEX(InGame6,AT59)*INDEX(PrBeat,C59,AT59)+INDEX(InGame6,AU59)*INDEX(PrBeat,C59,AU59)+INDEX(InGame6,AV59)*INDEX(PrBeat,C59,AV59)+INDEX(InGame6,AW59)*INDEX(PrBeat,C59,AW59)+INDEX(InGame6,AX59)*INDEX(PrBeat,C59,AX59)+INDEX(InGame6,AY59)*INDEX(PrBeat,C59,AY59)+INDEX(InGame6,AZ59)*INDEX(PrBeat,C59,AZ59)+INDEX(InGame6,BA59)*INDEX(PrBeat,C59,BA59)+INDEX(InGame6,BB59)*INDEX(PrBeat,C59,BB59)+INDEX(InGame6,BC59)*INDEX(PrBeat,C59,BC59)+INDEX(InGame6,BD59)*INDEX(PrBeat,C59,BD59))","v":8.5739592268777953E-4}]
[null,"UConn",58,{"$f":"West!AA9","v":0.16684306841721269},35,36,37,38,39,40,41,42,43,44,45,46,47,48,49,50,51,{"$f":"INDEX(InGame5,C60)*(INDEX(InGame5,E60)*INDEX(PrBeat,C60,E60)+INDEX(InGame5,F60)*INDEX(PrBeat,C60,F60)+INDEX(InGame5,G60)*INDEX(PrBeat,C60,G60)+INDEX(InGame5,H60)*INDEX(PrBeat,C60,H60)+INDEX(InGame5,I60)*INDEX(PrBeat,C60,I60)+INDEX(InGame5,J60)*INDEX(PrBeat,C60,J60)+INDEX(InGame5,K60)*INDEX(PrBeat,C60,K60)+INDEX(InGame5,L60)*INDEX(PrBeat,C60,L60)+INDEX(InGame5,M60)*INDEX(PrBeat,C60,M60)+INDEX(InGame5,N60)*INDEX(PrBeat,C60,N60)+INDEX(InGame5,O60)*INDEX(PrBeat,C60,O60)+INDEX(InGame5,P60)*INDEX(PrBeat,C60,P60)+INDEX(InGame5,Q60)*INDEX(PrBeat,C60,Q60)+INDEX(InGame5,R60)*INDEX(PrBeat,C60,R60)+INDEX(InGame5,S60)*INDEX(PrBeat,C60,S60)+INDEX(InGame5,T60)*INDEX(PrBeat,C60,T60)+INDEX(InGame5,U60)*INDEX(PrBeat,C60,U60))","v":8.9729974077332686E-2},1,2,3,4,5,6,7,8,9,10,11,12,13,14,15,16,17,18,19,20,21,22,23,24,25,26,27,28,29,30,31,32,33,34,{"$f":"INDEX(InGame6,C60)*(INDEX(InGame6,W60)*INDEX(PrBeat,C60,W60)+INDEX(InGame6,X60)*INDEX(PrBeat,C60,X60)+INDEX(InGame6,Y60)*INDEX(PrBeat,C60,Y60)+INDEX(InGame6,Z60)*INDEX(PrBeat,C60,Z60)+INDEX(InGame6,AA60)*INDEX(PrBeat,C60,AA60)+INDEX(InGame6,AB60)*INDEX(PrBeat,C60,AB60)+INDEX(InGame6,AC60)*INDEX(PrBeat,C60,AC60)+INDEX(InGame6,AD60)*INDEX(PrBeat,C60,AD60)+INDEX(InGame6,AE60)*INDEX(PrBeat,C60,AE60)+INDEX(InGame6,AF60)*INDEX(PrBeat,C60,AF60)+INDEX(InGame6,AG60)*INDEX(PrBeat,C60,AG60)+INDEX(InGame6,AH60)*INDEX(PrBeat,C60,AH60)+INDEX(InGame6,AI60)*INDEX(PrBeat,C60,AI60)+INDEX(InGame6,AJ60)*INDEX(PrBeat,C60,AJ60)+INDEX(InGame6,AK60)*INDEX(PrBeat,C60,AK60)+INDEX(InGame6,AL60)*INDEX(PrBeat,C60,AL60)+INDEX(InGame6,AM60)*INDEX(PrBeat,C60,AM60)+INDEX(InGame6,AN60)*INDEX(PrBeat,C60,AN60)+INDEX(InGame6,AO60)*INDEX(PrBeat,C60,AO60)+INDEX(InGame6,AP60)*INDEX(PrBeat,C60,AP60)+INDEX(InGame6,AQ60)*INDEX(PrBeat,C60,AQ60)+INDEX(InGame6,AR60)*INDEX(PrBeat,C60,AR60)+INDEX(InGame6,AS60)*INDEX(PrBeat,C60,AS60)+INDEX(InGame6,AT60)*INDEX(PrBeat,C60,AT60)+INDEX(InGame6,AU60)*INDEX(PrBeat,C60,AU60)+INDEX(InGame6,AV60)*INDEX(PrBeat,C60,AV60)+INDEX(InGame6,AW60)*INDEX(PrBeat,C60,AW60)+INDEX(InGame6,AX60)*INDEX(PrBeat,C60,AX60)+INDEX(InGame6,AY60)*INDEX(PrBeat,C60,AY60)+INDEX(InGame6,AZ60)*INDEX(PrBeat,C60,AZ60)+INDEX(InGame6,BA60)*INDEX(PrBeat,C60,BA60)+INDEX(InGame6,BB60)*INDEX(PrBeat,C60,BB60)+INDEX(InGame6,BC60)*INDEX(PrBeat,C60,BC60)+INDEX(InGame6,BD60)*INDEX(PrBeat,C60,BD60))","v":4.7454285687787701E-2}]
[null,"Iona",59,{"$f":"West!AA10","v":1.4078236239100531E-3},35,36,37,38,39,40,41,42,43,44,45,46,47,48,49,50,51,{"$f":"INDEX(InGame5,C61)*(INDEX(InGame5,E61)*INDEX(PrBeat,C61,E61)+INDEX(InGame5,F61)*INDEX(PrBeat,C61,F61)+INDEX(InGame5,G61)*INDEX(PrBeat,C61,G61)+INDEX(InGame5,H61)*INDEX(PrBeat,C61,H61)+INDEX(InGame5,I61)*INDEX(PrBeat,C61,I61)+INDEX(InGame5,J61)*INDEX(PrBeat,C61,J61)+INDEX(InGame5,K61)*INDEX(PrBeat,C61,K61)+INDEX(InGame5,L61)*INDEX(PrBeat,C61,L61)+INDEX(InGame5,M61)*INDEX(PrBeat,C61,M61)+INDEX(InGame5,N61)*INDEX(PrBeat,C61,N61)+INDEX(InGame5,O61)*INDEX(PrBeat,C61,O61)+INDEX(InGame5,P61)*INDEX(PrBeat,C61,P61)+INDEX(InGame5,Q61)*INDEX(PrBeat,C61,Q61)+INDEX(InGame5,R61)*INDEX(PrBeat,C61,R61)+INDEX(InGame5,S61)*INDEX(PrBeat,C61,S61)+INDEX(InGame5,T61)*INDEX(PrBeat,C61,T61)+INDEX(InGame5,U61)*INDEX(PrBeat,C61,U61))","v":2.6104682826480447E-4},1,2,3,4,5,6,7,8,9,10,11,12,13,14,15,16,17,18,19,20,21,22,23,24,25,26,27,28,29,30,31,32,33,34,{"$f":"INDEX(InGame6,C61)*(INDEX(InGame6,W61)*INDEX(PrBeat,C61,W61)+INDEX(InGame6,X61)*INDEX(PrBeat,C61,X61)+INDEX(InGame6,Y61)*INDEX(PrBeat,C61,Y61)+INDEX(InGame6,Z61)*INDEX(PrBeat,C61,Z61)+INDEX(InGame6,AA61)*INDEX(PrBeat,C61,AA61)+INDEX(InGame6,AB61)*INDEX(PrBeat,C61,AB61)+INDEX(InGame6,AC61)*INDEX(PrBeat,C61,AC61)+INDEX(InGame6,AD61)*INDEX(PrBeat,C61,AD61)+INDEX(InGame6,AE61)*INDEX(PrBeat,C61,AE61)+INDEX(InGame6,AF61)*INDEX(PrBeat,C61,AF61)+INDEX(InGame6,AG61)*INDEX(PrBeat,C61,AG61)+INDEX(InGame6,AH61)*INDEX(PrBeat,C61,AH61)+INDEX(InGame6,AI61)*INDEX(PrBeat,C61,AI61)+INDEX(InGame6,AJ61)*INDEX(PrBeat,C61,AJ61)+INDEX(InGame6,AK61)*INDEX(PrBeat,C61,AK61)+INDEX(InGame6,AL61)*INDEX(PrBeat,C61,AL61)+INDEX(InGame6,AM61)*INDEX(PrBeat,C61,AM61)+INDEX(InGame6,AN61)*INDEX(PrBeat,C61,AN61)+INDEX(InGame6,AO61)*INDEX(PrBeat,C61,AO61)+INDEX(InGame6,AP61)*INDEX(PrBeat,C61,AP61)+INDEX(InGame6,AQ61)*INDEX(PrBeat,C61,AQ61)+INDEX(InGame6,AR61)*INDEX(PrBeat,C61,AR61)+INDEX(InGame6,AS61)*INDEX(PrBeat,C61,AS61)+INDEX(InGame6,AT61)*INDEX(PrBeat,C61,AT61)+INDEX(InGame6,AU61)*INDEX(PrBeat,C61,AU61)+INDEX(InGame6,AV61)*INDEX(PrBeat,C61,AV61)+INDEX(InGame6,AW61)*INDEX(PrBeat,C61,AW61)+INDEX(InGame6,AX61)*INDEX(PrBeat,C61,AX61)+INDEX(InGame6,AY61)*INDEX(PrBeat,C61,AY61)+INDEX(InGame6,AZ61)*INDEX(PrBeat,C61,AZ61)+INDEX(InGame6,BA61)*INDEX(PrBeat,C61,BA61)+INDEX(InGame6,BB61)*INDEX(PrBeat,C61,BB61)+INDEX(InGame6,BC61)*INDEX(PrBeat,C61,BC61)+INDEX(InGame6,BD61)*INDEX(PrBeat,C61,BD61))","v":4.6331544314348152E-5}]
[null,"TCU",60,{"$f":"West!AA11","v":3.837490612908287E-2},35,36,37,38,39,40,41,42,43,44,45,46,47,48,49,50,51,{"$f":"INDEX(InGame5,C62)*(INDEX(InGame5,E62)*INDEX(PrBeat,C62,E62)+INDEX(InGame5,F62)*INDEX(PrBeat,C62,F62)+INDEX(InGame5,G62)*INDEX(PrBeat,C62,G62)+INDEX(InGame5,H62)*INDEX(PrBeat,C62,H62)+INDEX(InGame5,I62)*INDEX(PrBeat,C62,I62)+INDEX(InGame5,J62)*INDEX(PrBeat,C62,J62)+INDEX(InGame5,K62)*INDEX(PrBeat,C62,K62)+INDEX(InGame5,L62)*INDEX(PrBeat,C62,L62)+INDEX(InGame5,M62)*INDEX(PrBeat,C62,M62)+INDEX(InGame5,N62)*INDEX(PrBeat,C62,N62)+INDEX(InGame5,O62)*INDEX(PrBeat,C62,O62)+INDEX(InGame5,P62)*INDEX(PrBeat,C62,P62)+INDEX(InGame5,Q62)*INDEX(PrBeat,C62,Q62)+INDEX(InGame5,R62)*INDEX(PrBeat,C62,R62)+INDEX(InGame5,S62)*INDEX(PrBeat,C62,S62)+INDEX(InGame5,T62)*INDEX(PrBeat,C62,T62)+INDEX(InGame5,U62)*INDEX(PrBeat,C62,U62))","v":1.4682824450331788E-2},1,2,3,4,5,6,7,8,9,10,11,12,13,14,15,16,17,18,19,20,21,22,23,24,25,26,27,28,29,30,31,32,33,34,{"$f":"INDEX(InGame6,C62)*(INDEX(InGame6,W62)*INDEX(PrBeat,C62,W62)+INDEX(InGame6,X62)*INDEX(PrBeat,C62,X62)+INDEX(InGame6,Y62)*INDEX(PrBeat,C62,Y62)+INDEX(InGame6,Z62)*INDEX(PrBeat,C62,Z62)+INDEX(InGame6,AA62)*INDEX(PrBeat,C62,AA62)+INDEX(InGame6,AB62)*INDEX(PrBeat,C62,AB62)+INDEX(InGame6,AC62)*INDEX(PrBeat,C62,AC62)+INDEX(InGame6,AD62)*INDEX(PrBeat,C62,AD62)+INDEX(InGame6,AE62)*INDEX(PrBeat,C62,AE62)+INDEX(InGame6,AF62)*INDEX(PrBeat,C62,AF62)+INDEX(InGame6,AG62)*INDEX(PrBeat,C62,AG62)+INDEX(InGame6,AH62)*INDEX(PrBeat,C62,AH62)+INDEX(InGame6,AI62)*INDEX(PrBeat,C62,AI62)+INDEX(InGame6,AJ62)*INDEX(PrBeat,C62,AJ62)+INDEX(InGame6,AK62)*INDEX(PrBeat,C62,AK62)+INDEX(InGame6,AL62)*INDEX(PrBeat,C62,AL62)+INDEX(InGame6,AM62)*INDEX(PrBeat,C62,AM62)+INDEX(InGame6,AN62)*INDEX(PrBeat,C62,AN62)+INDEX(InGame6,AO62)*INDEX(PrBeat,C62,AO62)+INDEX(InGame6,AP62)*INDEX(PrBeat,C62,AP62)+INDEX(InGame6,AQ62)*INDEX(PrBeat,C62,AQ62)+INDEX(InGame6,AR62)*INDEX(PrBeat,C62,AR62)+INDEX(InGame6,AS62)*INDEX(PrBeat,C62,AS62)+INDEX(InGame6,AT62)*INDEX(PrBeat,C62,AT62)+INDEX(InGame6,AU62)*INDEX(PrBeat,C62,AU62)+INDEX(InGame6,AV62)*INDEX(PrBeat,C62,AV62)+INDEX(InGame6,AW62)*INDEX(PrBeat,C62,AW62)+INDEX(InGame6,AX62)*INDEX(PrBeat,C62,AX62)+INDEX(InGame6,AY62)*INDEX(PrBeat,C62,AY62)+INDEX(InGame6,AZ62)*INDEX(PrBeat,C62,AZ62)+INDEX(InGame6,BA62)*INDEX(PrBeat,C62,BA62)+INDEX(InGame6,BB62)*INDEX(PrBeat,C62,BB62)+INDEX(InGame6,BC62)*INDEX(PrBeat,C62,BC62)+INDEX(InGame6,BD62)*INDEX(PrBeat,C62,BD62))","v":5.4786708415988546E-3}]
[null,"Arizona St",61,{"$f":"West!AA12","v":1.8205976134433905E-3},35,36,37,38,39,40,41,42,43,44,45,46,47,48,49,50,51,{"$f":"INDEX(InGame5,C63)*(INDEX(InGame5,E63)*INDEX(PrBeat,C63,E63)+INDEX(InGame5,F63)*INDEX(PrBeat,C63,F63)+INDEX(InGame5,G63)*INDEX(PrBeat,C63,G63)+INDEX(InGame5,H63)*INDEX(PrBeat,C63,H63)+INDEX(InGame5,I63)*INDEX(PrBeat,C63,I63)+INDEX(InGame5,J63)*INDEX(PrBeat,C63,J63)+INDEX(InGame5,K63)*INDEX(PrBeat,C63,K63)+INDEX(InGame5,L63)*INDEX(PrBeat,C63,L63)+INDEX(InGame5,M63)*INDEX(PrBeat,C63,M63)+INDEX(InGame5,N63)*INDEX(PrBeat,C63,N63)+INDEX(InGame5,O63)*INDEX(PrBeat,C63,O63)+INDEX(InGame5,P63)*INDEX(PrBeat,C63,P63)+INDEX(InGame5,Q63)*INDEX(PrBeat,C63,Q63)+INDEX(InGame5,R63)*INDEX(PrBeat,C63,R63)+INDEX(InGame5,S63)*INDEX(PrBeat,C63,S63)+INDEX(InGame5,T63)*INDEX(PrBeat,C63,T63)+INDEX(InGame5,U63)*INDEX(PrBeat,C63,U63))","v":4.0106668598290161E-4},1,2,3,4,5,6,7,8,9,10,11,12,13,14,15,16,17,18,19,20,21,22,23,24,25,26,27,28,29,30,31,32,33,34,{"$f":"INDEX(InGame6,C63)*(INDEX(InGame6,W63)*INDEX(PrBeat,C63,W63)+INDEX(InGame6,X63)*INDEX(PrBeat,C63,X63)+INDEX(InGame6,Y63)*INDEX(PrBeat,C63,Y63)+INDEX(InGame6,Z63)*INDEX(PrBeat,C63,Z63)+INDEX(InGame6,AA63)*INDEX(PrBeat,C63,AA63)+INDEX(InGame6,AB63)*INDEX(PrBeat,C63,AB63)+INDEX(InGame6,AC63)*INDEX(PrBeat,C63,AC63)+INDEX(InGame6,AD63)*INDEX(PrBeat,C63,AD63)+INDEX(InGame6,AE63)*INDEX(PrBeat,C63,AE63)+INDEX(InGame6,AF63)*INDEX(PrBeat,C63,AF63)+INDEX(InGame6,AG63)*INDEX(PrBeat,C63,AG63)+INDEX(InGame6,AH63)*INDEX(PrBeat,C63,AH63)+INDEX(InGame6,AI63)*INDEX(PrBeat,C63,AI63)+INDEX(InGame6,AJ63)*INDEX(PrBeat,C63,AJ63)+INDEX(InGame6,AK63)*INDEX(PrBeat,C63,AK63)+INDEX(InGame6,AL63)*INDEX(PrBeat,C63,AL63)+INDEX(InGame6,AM63)*INDEX(PrBeat,C63,AM63)+INDEX(InGame6,AN63)*INDEX(PrBeat,C63,AN63)+INDEX(InGame6,AO63)*INDEX(PrBeat,C63,AO63)+INDEX(InGame6,AP63)*INDEX(PrBeat,C63,AP63)+INDEX(InGame6,AQ63)*INDEX(PrBeat,C63,AQ63)+INDEX(InGame6,AR63)*INDEX(PrBeat,C63,AR63)+INDEX(InGame6,AS63)*INDEX(PrBeat,C63,AS63)+INDEX(InGame6,AT63)*INDEX(PrBeat,C63,AT63)+INDEX(InGame6,AU63)*INDEX(PrBeat,C63,AU63)+INDEX(InGame6,AV63)*INDEX(PrBeat,C63,AV63)+INDEX(InGame6,AW63)*INDEX(PrBeat,C63,AW63)+INDEX(InGame6,AX63)*INDEX(PrBeat,C63,AX63)+INDEX(InGame6,AY63)*INDEX(PrBeat,C63,AY63)+INDEX(InGame6,AZ63)*INDEX(PrBeat,C63,AZ63)+INDEX(InGame6,BA63)*INDEX(PrBeat,C63,BA63)+INDEX(InGame6,BB63)*INDEX(PrBeat,C63,BB63)+INDEX(InGame6,BC63)*INDEX(PrBeat,C63,BC63)+INDEX(InGame6,BD63)*INDEX(PrBeat,C63,BD63))","v":8.4955648733817387E-5}]
[null,"Nevada",62,{"$f":"West!AA13","v":5.4582558848663995E-4},35,36,37,38,39,40,41,42,43,44,45,46,47,48,49,50,51,{"$f":"INDEX(InGame5,C64)*(INDEX(InGame5,E64)*INDEX(PrBeat,C64,E64)+INDEX(InGame5,F64)*INDEX(PrBeat,C64,F64)+INDEX(InGame5,G64)*INDEX(PrBeat,C64,G64)+INDEX(InGame5,H64)*INDEX(PrBeat,C64,H64)+INDEX(InGame5,I64)*INDEX(PrBeat,C64,I64)+INDEX(InGame5,J64)*INDEX(PrBeat,C64,J64)+INDEX(InGame5,K64)*INDEX(PrBeat,C64,K64)+INDEX(InGame5,L64)*INDEX(PrBeat,C64,L64)+INDEX(InGame5,M64)*INDEX(PrBeat,C64,M64)+INDEX(InGame5,N64)*INDEX(PrBeat,C64,N64)+INDEX(InGame5,O64)*INDEX(PrBeat,C64,O64)+INDEX(InGame5,P64)*INDEX(PrBeat,C64,P64)+INDEX(InGame5,Q64)*INDEX(PrBeat,C64,Q64)+INDEX(InGame5,R64)*INDEX(PrBeat,C64,R64)+INDEX(InGame5,S64)*INDEX(PrBeat,C64,S64)+INDEX(InGame5,T64)*INDEX(PrBeat,C64,T64)+INDEX(InGame5,U64)*INDEX(PrBeat,C64,U64))","v":9.468615921214696E-5},1,2,3,4,5,6,7,8,9,10,11,12,13,14,15,16,17,18,19,20,21,22,23,24,25,26,27,28,29,30,31,32,33,34,{"$f":"INDEX(InGame6,C64)*(INDEX(InGame6,W64)*INDEX(PrBeat,C64,W64)+INDEX(InGame6,X64)*INDEX(PrBeat,C64,X64)+INDEX(InGame6,Y64)*INDEX(PrBeat,C64,Y64)+INDEX(InGame6,Z64)*INDEX(PrBeat,C64,Z64)+INDEX(InGame6,AA64)*INDEX(PrBeat,C64,AA64)+INDEX(InGame6,AB64)*INDEX(PrBeat,C64,AB64)+INDEX(InGame6,AC64)*INDEX(PrBeat,C64,AC64)+INDEX(InGame6,AD64)*INDEX(PrBeat,C64,AD64)+INDEX(InGame6,AE64)*INDEX(PrBeat,C64,AE64)+INDEX(InGame6,AF64)*INDEX(PrBeat,C64,AF64)+INDEX(InGame6,AG64)*INDEX(PrBeat,C64,AG64)+INDEX(InGame6,AH64)*INDEX(PrBeat,C64,AH64)+INDEX(InGame6,AI64)*INDEX(PrBeat,C64,AI64)+INDEX(InGame6,AJ64)*INDEX(PrBeat,C64,AJ64)+INDEX(InGame6,AK64)*INDEX(PrBeat,C64,AK64)+INDEX(InGame6,AL64)*INDEX(PrBeat,C64,AL64)+INDEX(InGame6,AM64)*INDEX(PrBeat,C64,AM64)+INDEX(InGame6,AN64)*INDEX(PrBeat,C64,AN64)+INDEX(InGame6,AO64)*INDEX(PrBeat,C64,AO64)+INDEX(InGame6,AP64)*INDEX(PrBeat,C64,AP64)+INDEX(InGame6,AQ64)*INDEX(PrBeat,C64,AQ64)+INDEX(InGame6,AR64)*INDEX(PrBeat,C64,AR64)+INDEX(InGame6,AS64)*INDEX(PrBeat,C64,AS64)+INDEX(InGame6,AT64)*INDEX(PrBeat,C64,AT64)+INDEX(InGame6,AU64)*INDEX(PrBeat,C64,AU64)+INDEX(InGame6,AV64)*INDEX(PrBeat,C64,AV64)+INDEX(InGame6,AW64)*INDEX(PrBeat,C64,AW64)+INDEX(InGame6,AX64)*INDEX(PrBeat,C64,AX64)+INDEX(InGame6,AY64)*INDEX(PrBeat,C64,AY64)+INDEX(InGame6,AZ64)*INDEX(PrBeat,C64,AZ64)+INDEX(InGame6,BA64)*INDEX(PrBeat,C64,BA64)+INDEX(InGame6,BB64)*INDEX(PrBeat,C64,BB64)+INDEX(InGame6,BC64)*INDEX(PrBeat,C64,BC64)+INDEX(InGame6,BD64)*INDEX(PrBeat,C64,BD64))","v":1.5693918796330204E-5}]
[null,"Gonzaga",63,{"$f":"West!AA14","v":0.20601166451583741},35,36,37,38,39,40,41,42,43,44,45,46,47,48,49,50,51,{"$f":"INDEX(InGame5,C65)*(INDEX(InGame5,E65)*INDEX(PrBeat,C65,E65)+INDEX(InGame5,F65)*INDEX(PrBeat,C65,F65)+INDEX(InGame5,G65)*INDEX(PrBeat,C65,G65)+INDEX(InGame5,H65)*INDEX(PrBeat,C65,H65)+INDEX(InGame5,I65)*INDEX(PrBeat,C65,I65)+INDEX(InGame5,J65)*INDEX(PrBeat,C65,J65)+INDEX(InGame5,K65)*INDEX(PrBeat,C65,K65)+INDEX(InGame5,L65)*INDEX(PrBeat,C65,L65)+INDEX(InGame5,M65)*INDEX(PrBeat,C65,M65)+INDEX(InGame5,N65)*INDEX(PrBeat,C65,N65)+INDEX(InGame5,O65)*INDEX(PrBeat,C65,O65)+INDEX(InGame5,P65)*INDEX(PrBeat,C65,P65)+INDEX(InGame5,Q65)*INDEX(PrBeat,C65,Q65)+INDEX(InGame5,R65)*INDEX(PrBeat,C65,R65)+INDEX(InGame5,S65)*INDEX(PrBeat,C65,S65)+INDEX(InGame5,T65)*INDEX(PrBeat,C65,T65)+INDEX(InGame5,U65)*INDEX(PrBeat,C65,U65))","v":0.11391924885273549},1,2,3,4,5,6,7,8,9,10,11,12,13,14,15,16,17,18,19,20,21,22,23,24,25,26,27,28,29,30,31,32,33,34,{"$f":"INDEX(InGame6,C65)*(INDEX(InGame6,W65)*INDEX(PrBeat,C65,W65)+INDEX(InGame6,X65)*INDEX(PrBeat,C65,X65)+INDEX(InGame6,Y65)*INDEX(PrBeat,C65,Y65)+INDEX(InGame6,Z65)*INDEX(PrBeat,C65,Z65)+INDEX(InGame6,AA65)*INDEX(PrBeat,C65,AA65)+INDEX(InGame6,AB65)*INDEX(PrBeat,C65,AB65)+INDEX(InGame6,AC65)*INDEX(PrBeat,C65,AC65)+INDEX(InGame6,AD65)*INDEX(PrBeat,C65,AD65)+INDEX(InGame6,AE65)*INDEX(PrBeat,C65,AE65)+INDEX(InGame6,AF65)*INDEX(PrBeat,C65,AF65)+INDEX(InGame6,AG65)*INDEX(PrBeat,C65,AG65)+INDEX(InGame6,AH65)*INDEX(PrBeat,C65,AH65)+INDEX(InGame6,AI65)*INDEX(PrBeat,C65,AI65)+INDEX(InGame6,AJ65)*INDEX(PrBeat,C65,AJ65)+INDEX(InGame6,AK65)*INDEX(PrBeat,C65,AK65)+INDEX(InGame6,AL65)*INDEX(PrBeat,C65,AL65)+INDEX(InGame6,AM65)*INDEX(PrBeat,C65,AM65)+INDEX(InGame6,AN65)*INDEX(PrBeat,C65,AN65)+INDEX(InGame6,AO65)*INDEX(PrBeat,C65,AO65)+INDEX(InGame6,AP65)*INDEX(PrBeat,C65,AP65)+INDEX(InGame6,AQ65)*INDEX(PrBeat,C65,AQ65)+INDEX(InGame6,AR65)*INDEX(PrBeat,C65,AR65)+INDEX(InGame6,AS65)*INDEX(PrBeat,C65,AS65)+INDEX(InGame6,AT65)*INDEX(PrBeat,C65,AT65)+INDEX(InGame6,AU65)*INDEX(PrBeat,C65,AU65)+INDEX(InGame6,AV65)*INDEX(PrBeat,C65,AV65)+INDEX(InGame6,AW65)*INDEX(PrBeat,C65,AW65)+INDEX(InGame6,AX65)*INDEX(PrBeat,C65,AX65)+INDEX(InGame6,AY65)*INDEX(PrBeat,C65,AY65)+INDEX(InGame6,AZ65)*INDEX(PrBeat,C65,AZ65)+INDEX(InGame6,BA65)*INDEX(PrBeat,C65,BA65)+INDEX(InGame6,BB65)*INDEX(PrBeat,C65,BB65)+INDEX(InGame6,BC65)*INDEX(PrBeat,C65,BC65)+INDEX(InGame6,BD65)*INDEX(PrBeat,C65,BD65))","v":6.1987027932025617E-2}]
[null,"Grand Canyon",64,{"$f":"West!AA15","v":1.7898099521247945E-4},35,36,37,38,39,40,41,42,43,44,45,46,47,48,49,50,51,{"$f":"INDEX(InGame5,C66)*(INDEX(InGame5,E66)*INDEX(PrBeat,C66,E66)+INDEX(InGame5,F66)*INDEX(PrBeat,C66,F66)+INDEX(InGame5,G66)*INDEX(PrBeat,C66,G66)+INDEX(InGame5,H66)*INDEX(PrBeat,C66,H66)+INDEX(InGame5,I66)*INDEX(PrBeat,C66,I66)+INDEX(InGame5,J66)*INDEX(PrBeat,C66,J66)+INDEX(InGame5,K66)*INDEX(PrBeat,C66,K66)+INDEX(InGame5,L66)*INDEX(PrBeat,C66,L66)+INDEX(InGame5,M66)*INDEX(PrBeat,C66,M66)+INDEX(InGame5,N66)*INDEX(PrBeat,C66,N66)+INDEX(InGame5,O66)*INDEX(PrBeat,C66,O66)+INDEX(InGame5,P66)*INDEX(PrBeat,C66,P66)+INDEX(InGame5,Q66)*INDEX(PrBeat,C66,Q66)+INDEX(InGame5,R66)*INDEX(PrBeat,C66,R66)+INDEX(InGame5,S66)*INDEX(PrBeat,C66,S66)+INDEX(InGame5,T66)*INDEX(PrBeat,C66,T66)+INDEX(InGame5,U66)*INDEX(PrBeat,C66,U66))","v":1.9053511141478026E-5},1,2,3,4,5,6,7,8,9,10,11,12,13,14,15,16,17,18,19,20,21,22,23,24,25,26,27,28,29,30,31,32,33,34,{"$f":"INDEX(InGame6,C66)*(INDEX(InGame6,W66)*INDEX(PrBeat,C66,W66)+INDEX(InGame6,X66)*INDEX(PrBeat,C66,X66)+INDEX(InGame6,Y66)*INDEX(PrBeat,C66,Y66)+INDEX(InGame6,Z66)*INDEX(PrBeat,C66,Z66)+INDEX(InGame6,AA66)*INDEX(PrBeat,C66,AA66)+INDEX(InGame6,AB66)*INDEX(PrBeat,C66,AB66)+INDEX(InGame6,AC66)*INDEX(PrBeat,C66,AC66)+INDEX(InGame6,AD66)*INDEX(PrBeat,C66,AD66)+INDEX(InGame6,AE66)*INDEX(PrBeat,C66,AE66)+INDEX(InGame6,AF66)*INDEX(PrBeat,C66,AF66)+INDEX(InGame6,AG66)*INDEX(PrBeat,C66,AG66)+INDEX(InGame6,AH66)*INDEX(PrBeat,C66,AH66)+INDEX(InGame6,AI66)*INDEX(PrBeat,C66,AI66)+INDEX(InGame6,AJ66)*INDEX(PrBeat,C66,AJ66)+INDEX(InGame6,AK66)*INDEX(PrBeat,C66,AK66)+INDEX(InGame6,AL66)*INDEX(PrBeat,C66,AL66)+INDEX(InGame6,AM66)*INDEX(PrBeat,C66,AM66)+INDEX(InGame6,AN66)*INDEX(PrBeat,C66,AN66)+INDEX(InGame6,AO66)*INDEX(PrBeat,C66,AO66)+INDEX(InGame6,AP66)*INDEX(PrBeat,C66,AP66)+INDEX(InGame6,AQ66)*INDEX(PrBeat,C66,AQ66)+INDEX(InGame6,AR66)*INDEX(PrBeat,C66,AR66)+INDEX(InGame6,AS66)*INDEX(PrBeat,C66,AS66)+INDEX(InGame6,AT66)*INDEX(PrBeat,C66,AT66)+INDEX(InGame6,AU66)*INDEX(PrBeat,C66,AU66)+INDEX(InGame6,AV66)*INDEX(PrBeat,C66,AV66)+INDEX(InGame6,AW66)*INDEX(PrBeat,C66,AW66)+INDEX(InGame6,AX66)*INDEX(PrBeat,C66,AX66)+INDEX(InGame6,AY66)*INDEX(PrBeat,C66,AY66)+INDEX(InGame6,AZ66)*INDEX(PrBeat,C66,AZ66)+INDEX(InGame6,BA66)*INDEX(PrBeat,C66,BA66)+INDEX(InGame6,BB66)*INDEX(PrBeat,C66,BB66)+INDEX(InGame6,BC66)*INDEX(PrBeat,C66,BC66)+INDEX(InGame6,BD66)*INDEX(PrBeat,C66,BD66))","v":1.9122390065441517E-6}]
[null,"Northwestern",65,{"$f":"West!AA16","v":1.5573957704821131E-2},35,36,37,38,39,40,41,42,43,44,45,46,47,48,49,50,51,{"$f":"INDEX(InGame5,C67)*(INDEX(InGame5,E67)*INDEX(PrBeat,C67,E67)+INDEX(InGame5,F67)*INDEX(PrBeat,C67,F67)+INDEX(InGame5,G67)*INDEX(PrBeat,C67,G67)+INDEX(InGame5,H67)*INDEX(PrBeat,C67,H67)+INDEX(InGame5,I67)*INDEX(PrBeat,C67,I67)+INDEX(InGame5,J67)*INDEX(PrBeat,C67,J67)+INDEX(InGame5,K67)*INDEX(PrBeat,C67,K67)+INDEX(InGame5,L67)*INDEX(PrBeat,C67,L67)+INDEX(InGame5,M67)*INDEX(PrBeat,C67,M67)+INDEX(InGame5,N67)*INDEX(PrBeat,C67,N67)+INDEX(InGame5,O67)*INDEX(PrBeat,C67,O67)+INDEX(InGame5,P67)*INDEX(PrBeat,C67,P67)+INDEX(InGame5,Q67)*INDEX(PrBeat,C67,Q67)+INDEX(InGame5,R67)*INDEX(PrBeat,C67,R67)+INDEX(InGame5,S67)*INDEX(PrBeat,C67,S67)+INDEX(InGame5,T67)*INDEX(PrBeat,C67,T67)+INDEX(InGame5,U67)*INDEX(PrBeat,C67,U67))","v":4.853363130927003E-3},1,2,3,4,5,6,7,8,9,10,11,12,13,14,15,16,17,18,19,20,21,22,23,24,25,26,27,28,29,30,31,32,33,34,{"$f":"INDEX(InGame6,C67)*(INDEX(InGame6,W67)*INDEX(PrBeat,C67,W67)+INDEX(InGame6,X67)*INDEX(PrBeat,C67,X67)+INDEX(InGame6,Y67)*INDEX(PrBeat,C67,Y67)+INDEX(InGame6,Z67)*INDEX(PrBeat,C67,Z67)+INDEX(InGame6,AA67)*INDEX(PrBeat,C67,AA67)+INDEX(InGame6,AB67)*INDEX(PrBeat,C67,AB67)+INDEX(InGame6,AC67)*INDEX(PrBeat,C67,AC67)+INDEX(InGame6,AD67)*INDEX(PrBeat,C67,AD67)+INDEX(InGame6,AE67)*INDEX(PrBeat,C67,AE67)+INDEX(InGame6,AF67)*INDEX(PrBeat,C67,AF67)+INDEX(InGame6,AG67)*INDEX(PrBeat,C67,AG67)+INDEX(InGame6,AH67)*INDEX(PrBeat,C67,AH67)+INDEX(InGame6,AI67)*INDEX(PrBeat,C67,AI67)+INDEX(InGame6,AJ67)*INDEX(PrBeat,C67,AJ67)+INDEX(InGame6,AK67)*INDEX(PrBeat,C67,AK67)+INDEX(InGame6,AL67)*INDEX(PrBeat,C67,AL67)+INDEX(InGame6,AM67)*INDEX(PrBeat,C67,AM67)+INDEX(InGame6,AN67)*INDEX(PrBeat,C67,AN67)+INDEX(InGame6,AO67)*INDEX(PrBeat,C67,AO67)+INDEX(InGame6,AP67)*INDEX(PrBeat,C67,AP67)+INDEX(InGame6,AQ67)*INDEX(PrBeat,C67,AQ67)+INDEX(InGame6,AR67)*INDEX(PrBeat,C67,AR67)+INDEX(InGame6,AS67)*INDEX(PrBeat,C67,AS67)+INDEX(InGame6,AT67)*INDEX(PrBeat,C67,AT67)+INDEX(InGame6,AU67)*INDEX(PrBeat,C67,AU67)+INDEX(InGame6,AV67)*INDEX(PrBeat,C67,AV67)+INDEX(InGame6,AW67)*INDEX(PrBeat,C67,AW67)+INDEX(InGame6,AX67)*INDEX(PrBeat,C67,AX67)+INDEX(InGame6,AY67)*INDEX(PrBeat,C67,AY67)+INDEX(InGame6,AZ67)*INDEX(PrBeat,C67,AZ67)+INDEX(InGame6,BA67)*INDEX(PrBeat,C67,BA67)+INDEX(InGame6,BB67)*INDEX(PrBeat,C67,BB67)+INDEX(InGame6,BC67)*INDEX(PrBeat,C67,BC67)+INDEX(InGame6,BD67)*INDEX(PrBeat,C67,BD67))","v":1.4674177641142005E-3}]
[null,"Boise St",66,{"$f":"West!AA17","v":5.4834253786300892E-3},35,36,37,38,39,40,41,42,43,44,45,46,47,48,49,50,51,{"$f":"INDEX(InGame5,C68)*(INDEX(InGame5,E68)*INDEX(PrBeat,C68,E68)+INDEX(InGame5,F68)*INDEX(PrBeat,C68,F68)+INDEX(InGame5,G68)*INDEX(PrBeat,C68,G68)+INDEX(InGame5,H68)*INDEX(PrBeat,C68,H68)+INDEX(InGame5,I68)*INDEX(PrBeat,C68,I68)+INDEX(InGame5,J68)*INDEX(PrBeat,C68,J68)+INDEX(InGame5,K68)*INDEX(PrBeat,C68,K68)+INDEX(InGame5,L68)*INDEX(PrBeat,C68,L68)+INDEX(InGame5,M68)*INDEX(PrBeat,C68,M68)+INDEX(InGame5,N68)*INDEX(PrBeat,C68,N68)+INDEX(InGame5,O68)*INDEX(PrBeat,C68,O68)+INDEX(InGame5,P68)*INDEX(PrBeat,C68,P68)+INDEX(InGame5,Q68)*INDEX(PrBeat,C68,Q68)+INDEX(InGame5,R68)*INDEX(PrBeat,C68,R68)+INDEX(InGame5,S68)*INDEX(PrBeat,C68,S68)+INDEX(InGame5,T68)*INDEX(PrBeat,C68,T68)+INDEX(InGame5,U68)*INDEX(PrBeat,C68,U68))","v":1.351680408041451E-3},1,2,3,4,5,6,7,8,9,10,11,12,13,14,15,16,17,18,19,20,21,22,23,24,25,26,27,28,29,30,31,32,33,34,{"$f":"INDEX(InGame6,C68)*(INDEX(InGame6,W68)*INDEX(PrBeat,C68,W68)+INDEX(InGame6,X68)*INDEX(PrBeat,C68,X68)+INDEX(InGame6,Y68)*INDEX(PrBeat,C68,Y68)+INDEX(InGame6,Z68)*INDEX(PrBeat,C68,Z68)+INDEX(InGame6,AA68)*INDEX(PrBeat,C68,AA68)+INDEX(InGame6,AB68)*INDEX(PrBeat,C68,AB68)+INDEX(InGame6,AC68)*INDEX(PrBeat,C68,AC68)+INDEX(InGame6,AD68)*INDEX(PrBeat,C68,AD68)+INDEX(InGame6,AE68)*INDEX(PrBeat,C68,AE68)+INDEX(InGame6,AF68)*INDEX(PrBeat,C68,AF68)+INDEX(InGame6,AG68)*INDEX(PrBeat,C68,AG68)+INDEX(InGame6,AH68)*INDEX(PrBeat,C68,AH68)+INDEX(InGame6,AI68)*INDEX(PrBeat,C68,AI68)+INDEX(InGame6,AJ68)*INDEX(PrBeat,C68,AJ68)+INDEX(InGame6,AK68)*INDEX(PrBeat,C68,AK68)+INDEX(InGame6,AL68)*INDEX(PrBeat,C68,AL68)+INDEX(InGame6,AM68)*INDEX(PrBeat,C68,AM68)+INDEX(InGame6,AN68)*INDEX(PrBeat,C68,AN68)+INDEX(InGame6,AO68)*INDEX(PrBeat,C68,AO68)+INDEX(InGame6,AP68)*INDEX(PrBeat,C68,AP68)+INDEX(InGame6,AQ68)*INDEX(PrBeat,C68,AQ68)+INDEX(InGame6,AR68)*INDEX(PrBeat,C68,AR68)+INDEX(InGame6,AS68)*INDEX(PrBeat,C68,AS68)+INDEX(InGame6,AT68)*INDEX(PrBeat,C68,AT68)+INDEX(InGame6,AU68)*INDEX(PrBeat,C68,AU68)+INDEX(InGame6,AV68)*INDEX(PrBeat,C68,AV68)+INDEX(InGame6,AW68)*INDEX(PrBeat,C68,AW68)+INDEX(InGame6,AX68)*INDEX(PrBeat,C68,AX68)+INDEX(InGame6,AY68)*INDEX(PrBeat,C68,AY68)+INDEX(InGame6,AZ68)*INDEX(PrBeat,C68,AZ68)+INDEX(InGame6,BA68)*INDEX(PrBeat,C68,BA68)+INDEX(InGame6,BB68)*INDEX(PrBeat,C68,BB68)+INDEX(InGame6,BC68)*INDEX(PrBeat,C68,BC68)+INDEX(InGame6,BD68)*INDEX(PrBeat,C68,BD68))","v":3.2132644414741159E-4}]
[null,"UCLA",67,{"$f":"West!AA18","v":0.27337820880564107},35,36,37,38,39,40,41,42,43,44,45,46,47,48,49,50,51,{"$f":"INDEX(InGame5,C69)*(INDEX(InGame5,E69)*INDEX(PrBeat,C69,E69)+INDEX(InGame5,F69)*INDEX(PrBeat,C69,F69)+INDEX(InGame5,G69)*INDEX(PrBeat,C69,G69)+INDEX(InGame5,H69)*INDEX(PrBeat,C69,H69)+INDEX(InGame5,I69)*INDEX(PrBeat,C69,I69)+INDEX(InGame5,J69)*INDEX(PrBeat,C69,J69)+INDEX(InGame5,K69)*INDEX(PrBeat,C69,K69)+INDEX(InGame5,L69)*INDEX(PrBeat,C69,L69)+INDEX(InGame5,M69)*INDEX(PrBeat,C69,M69)+INDEX(InGame5,N69)*INDEX(PrBeat,C69,N69)+INDEX(InGame5,O69)*INDEX(PrBeat,C69,O69)+INDEX(InGame5,P69)*INDEX(PrBeat,C69,P69)+INDEX(InGame5,Q69)*INDEX(PrBeat,C69,Q69)+INDEX(InGame5,R69)*INDEX(PrBeat,C69,R69)+INDEX(InGame5,S69)*INDEX(PrBeat,C69,S69)+INDEX(InGame5,T69)*INDEX(PrBeat,C69,T69)+INDEX(InGame5,U69)*INDEX(PrBeat,C69,U69))","v":0.15878334825772136},1,2,3,4,5,6,7,8,9,10,11,12,13,14,15,16,17,18,19,20,21,22,23,24,25,26,27,28,29,30,31,32,33,34,{"$f":"INDEX(InGame6,C69)*(INDEX(InGame6,W69)*INDEX(PrBeat,C69,W69)+INDEX(InGame6,X69)*INDEX(PrBeat,C69,X69)+INDEX(InGame6,Y69)*INDEX(PrBeat,C69,Y69)+INDEX(InGame6,Z69)*INDEX(PrBeat,C69,Z69)+INDEX(InGame6,AA69)*INDEX(PrBeat,C69,AA69)+INDEX(InGame6,AB69)*INDEX(PrBeat,C69,AB69)+INDEX(InGame6,AC69)*INDEX(PrBeat,C69,AC69)+INDEX(InGame6,AD69)*INDEX(PrBeat,C69,AD69)+INDEX(InGame6,AE69)*INDEX(PrBeat,C69,AE69)+INDEX(InGame6,AF69)*INDEX(PrBeat,C69,AF69)+INDEX(InGame6,AG69)*INDEX(PrBeat,C69,AG69)+INDEX(InGame6,AH69)*INDEX(PrBeat,C69,AH69)+INDEX(InGame6,AI69)*INDEX(PrBeat,C69,AI69)+INDEX(InGame6,AJ69)*INDEX(PrBeat,C69,AJ69)+INDEX(InGame6,AK69)*INDEX(PrBeat,C69,AK69)+INDEX(InGame6,AL69)*INDEX(PrBeat,C69,AL69)+INDEX(InGame6,AM69)*INDEX(PrBeat,C69,AM69)+INDEX(InGame6,AN69)*INDEX(PrBeat,C69,AN69)+INDEX(InGame6,AO69)*INDEX(PrBeat,C69,AO69)+INDEX(InGame6,AP69)*INDEX(PrBeat,C69,AP69)+INDEX(InGame6,AQ69)*INDEX(PrBeat,C69,AQ69)+INDEX(InGame6,AR69)*INDEX(PrBeat,C69,AR69)+INDEX(InGame6,AS69)*INDEX(PrBeat,C69,AS69)+INDEX(InGame6,AT69)*INDEX(PrBeat,C69,AT69)+INDEX(InGame6,AU69)*INDEX(PrBeat,C69,AU69)+INDEX(InGame6,AV69)*INDEX(PrBeat,C69,AV69)+INDEX(InGame6,AW69)*INDEX(PrBeat,C69,AW69)+INDEX(InGame6,AX69)*INDEX(PrBeat,C69,AX69)+INDEX(InGame6,AY69)*INDEX(PrBeat,C69,AY69)+INDEX(InGame6,AZ69)*INDEX(PrBeat,C69,AZ69)+INDEX(InGame6,BA69)*INDEX(PrBeat,C69,BA69)+INDEX(InGame6,BB69)*INDEX(PrBeat,C69,BB69)+INDEX(InGame6,BC69)*INDEX(PrBeat,C69,BC69)+INDEX(InGame6,BD69)*INDEX(PrBeat,C69,BD69))","v":9.0856426479463612E-2}]
[null,"UNC Asheville",68,{"$f":"West!AA19","v":2.1694101302640348E-5},35,36,37,38,39,40,41,42,43,44,45,46,47,48,49,50,51,{"$f":"INDEX(InGame5,C70)*(INDEX(InGame5,E70)*INDEX(PrBeat,C70,E70)+INDEX(InGame5,F70)*INDEX(PrBeat,C70,F70)+INDEX(InGame5,G70)*INDEX(PrBeat,C70,G70)+INDEX(InGame5,H70)*INDEX(PrBeat,C70,H70)+INDEX(InGame5,I70)*INDEX(PrBeat,C70,I70)+INDEX(InGame5,J70)*INDEX(PrBeat,C70,J70)+INDEX(InGame5,K70)*INDEX(PrBeat,C70,K70)+INDEX(InGame5,L70)*INDEX(PrBeat,C70,L70)+INDEX(InGame5,M70)*INDEX(PrBeat,C70,M70)+INDEX(InGame5,N70)*INDEX(PrBeat,C70,N70)+INDEX(InGame5,O70)*INDEX(PrBeat,C70,O70)+INDEX(InGame5,P70)*INDEX(PrBeat,C70,P70)+INDEX(InGame5,Q70)*INDEX(PrBeat,C70,Q70)+INDEX(InGame5,R70)*INDEX(PrBeat,C70,R70)+INDEX(InGame5,S70)*INDEX(PrBeat,C70,S70)+INDEX(InGame5,T70)*INDEX(PrBeat,C70,T70)+INDEX(InGame5,U70)*INDEX(PrBeat,C70,U70))","v":1.3254305803956152E-6},1,2,3,4,5,6,7,8,9,10,11,12,13,14,15,16,17,18,19,20,21,22,23,24,25,26,27,28,29,30,31,32,33,34,{"$f":"INDEX(InGame6,C70)*(INDEX(InGame6,W70)*INDEX(PrBeat,C70,W70)+INDEX(InGame6,X70)*INDEX(PrBeat,C70,X70)+INDEX(InGame6,Y70)*INDEX(PrBeat,C70,Y70)+INDEX(InGame6,Z70)*INDEX(PrBeat,C70,Z70)+INDEX(InGame6,AA70)*INDEX(PrBeat,C70,AA70)+INDEX(InGame6,AB70)*INDEX(PrBeat,C70,AB70)+INDEX(InGame6,AC70)*INDEX(PrBeat,C70,AC70)+INDEX(InGame6,AD70)*INDEX(PrBeat,C70,AD70)+INDEX(InGame6,AE70)*INDEX(PrBeat,C70,AE70)+INDEX(InGame6,AF70)*INDEX(PrBeat,C70,AF70)+INDEX(InGame6,AG70)*INDEX(PrBeat,C70,AG70)+INDEX(InGame6,AH70)*INDEX(PrBeat,C70,AH70)+INDEX(InGame6,AI70)*INDEX(PrBeat,C70,AI70)+INDEX(InGame6,AJ70)*INDEX(PrBeat,C70,AJ70)+INDEX(InGame6,AK70)*INDEX(PrBeat,C70,AK70)+INDEX(InGame6,AL70)*INDEX(PrBeat,C70,AL70)+INDEX(InGame6,AM70)*INDEX(PrBeat,C70,AM70)+INDEX(InGame6,AN70)*INDEX(PrBeat,C70,AN70)+INDEX(InGame6,AO70)*INDEX(PrBeat,C70,AO70)+INDEX(InGame6,AP70)*INDEX(PrBeat,C70,AP70)+INDEX(InGame6,AQ70)*INDEX(PrBeat,C70,AQ70)+INDEX(InGame6,AR70)*INDEX(PrBeat,C70,AR70)+INDEX(InGame6,AS70)*INDEX(PrBeat,C70,AS70)+INDEX(InGame6,AT70)*INDEX(PrBeat,C70,AT70)+INDEX(InGame6,AU70)*INDEX(PrBeat,C70,AU70)+INDEX(InGame6,AV70)*INDEX(PrBeat,C70,AV70)+INDEX(InGame6,AW70)*INDEX(PrBeat,C70,AW70)+INDEX(InGame6,AX70)*INDEX(PrBeat,C70,AX70)+INDEX(InGame6,AY70)*INDEX(PrBeat,C70,AY70)+INDEX(InGame6,AZ70)*INDEX(PrBeat,C70,AZ70)+INDEX(InGame6,BA70)*INDEX(PrBeat,C70,BA70)+INDEX(InGame6,BB70)*INDEX(PrBeat,C70,BB70)+INDEX(InGame6,BC70)*INDEX(PrBeat,C70,BC70)+INDEX(InGame6,BD70)*INDEX(PrBeat,C70,BD70))","v":7.5151191972632727E-8}]

{"sheet":"TreeDT","index":6,"n_rows":9,"n_cols":7,"rows_kept":9,"cut":false,"hidden":true,"merged":[]}
[1,9,2,2,3,"No","Yes"]
[2,4]
[3,9,2,4,5,"No","Yes"]
[4,4]
[5,9,2,6,7,"No","Yes"]
[6,4]
[7,9,2,8,9,"No","Yes"]
[8,4]
[9,4]

{"sheet":"Sheet1DT","index":7,"n_rows":5,"n_cols":7,"rows_kept":5,"cut":false,"hidden":true,"merged":[]}
[1,9,2,2,3,"No","Yes"]
[2,4]
[3,9,2,4,5,"No","Yes"]
[4,4]
[5,4]